{"text_format":"3","workbook":"xlsx","n_sheets":8,"sheets":["Setup","1_Lister les activités","2-Programmer les activités","3_Imprimer Planning","4-Faire le suivi de l'execution","5-Voir la synthèse","Param","Param deadline"],"not_rendered":{"images":1,"macros":1,"defined_names":6},"read":"whole","date_system":"1900"}

{"sheet":"Setup","index":0,"n_rows":38,"n_cols":9,"rows_kept":38,"merged":[[0,1,0,3]]}
[null,{"$f":"UPPER(\"Guide d'utilisation du fichier de programmation et de suivi trimestriel des activites\")","v":"GUIDE D'UTILISATION DU FICHIER DE PROGRAMMATION ET DE SUIVI TRIMESTRIEL DES ACTIVITES"}]
[null,"Sélectionner ici l'année de depart",null,2021]
[]
[null,"1-Etablir la liste des activités à exécuter dans le trimestre",null,"Feuille d'impression et de synthese",null,"Liste des structures de mise en oeuvre",null,null,"Typologie activités"]
[]
[null,"Il faut se referer la Feuille \"1-Lister les activités\"",{"$nulls":3},"Selectionner",null,{"$f":"IF(F6=\"\",\"\",F6)","v":"Selectionner"}]
[null,"a) Mettre le numéro de l'activité figurant dans le plan de travail (Colonne B)",null,"1) Imprimer le Planning trimestriel",null,"Ministère de la santé",null,{"$f":"IF(F7=\"\",\"\",F7)","v":"Ministère de la santé"},"Evaluation"]
[null,"b) Choisir le domaine de l'activité (Colonne C)",null,"a) Se rendre à la feuille \"3_Imprimer Planning\"",null,"PNLSH",null,"PNLSH"]
[null,"c) Ecrire l'intitulé de l'activité (Colonne D)",null,"b) Demander un apercu d'impression pour verifier",null,"ICN",null,"ICN"]
[{"$nulls":3},"c) Imprimer ensuite sur papier ou sur pdf",null,"ONUSIDA",null,"ONUSIDA"]
[null,"2-Programmer les activites du trimestre",{"$nulls":5},""]
[{"$nulls":3},"2) Imprimer la synthese budgétaire",{"$nulls":3},""]
[null,"Il faut se référer au fichier de la subvention pour identifier et prorgammer les activités (Feuille \"2-Programmer les activités\")",null,"a) Se rendre à la feuille \"5_Voir la synthese\"",{"$nulls":3},""]
[null,"Pour chaque activité, il faut définir:",null,"b) Aller dans le menu pour cliquer sur Données==> Tableau croisé dynamique",{"$nulls":3},""]
[null,"a) Choisir la période de mise en œuvre dans la liste déroulante (Cellule D4)",null,"c) Cliquer sur \"Actualiser tout\"",{"$nulls":3},""]
[null,"b) Choisir le pays dans la liste déroulante (Cellule D5)",null,"d) Demander un apercu d'impression pour vérifier",{"$nulls":3},""]
[null,"c) Choisir la structure responsable de l'ensemble des activités (Cellule D6)",null,"e) Imprimer ensuite sur papier ou sur pdf",{"$nulls":3},""]
[null,"d) Sélectionner au fur et à mesure les activités parmi la liste déroulante (à partir de la Colonne D12)",{"$nulls":5},""]
[null,"e) Choisir la monnaie à utiliser (Cellule K4)"]
[null,"f) Définir (si nécessaire la monnaie à convertir (Cellule K6) et le taux de change (Cellule J6)",null,"@ Copyright",{"$nulls":3},""]
[null,"g) Inscrire le montant de chaque activité (Colonne H)",{"$nulls":5},{"$f":"IF(F21=\"\",\"\",F21)","v":""}]
[null,"h) Choisir le Responsable de mise en oeuvre dans la liste de choix (Colonne I)",{"$nulls":5},""]
[null,"i) Définir la date de début de l'activité (Colonne J)",{"$nulls":5},""]
[null,"k) La date de fin de l'activité (Colonne K)",{"$nulls":5},""]
[]
[null,"3-Assurer le suivi de la mise en œuvre du Plan de travail trimestriel",{"$nulls":5},""]
[{"$nulls":7},""]
[null,"La feuille \"4-Faire le suivi de l'exécution\" doit être mise à jour périodiquement",{"$nulls":5},""]
[null,"Pour la remplir, il faut",{"$nulls":5},""]
[null,"a) Mettre ou actualiser la date de mise à jour (Colonne N)",{"$nulls":5},""]
[null,"b) Sélectionner ou mettre à jour la situation d'exécution (Colonne O)",{"$nulls":5},""]
[null,"c) Actualiser ou mettre à jour le montant total depensé effectivement (Colonne U)",null,"Pour toute question ou requete",{"$nulls":3},""]
[null,"d) Remplir/ actualiser les commentaires (Colonne W)",null,"direction@sapsapservices.com ",{"$nulls":3},""]
[{"$nulls":3},"zidabou@sapsapservices.com",{"$nulls":3},""]
[{"$nulls":7},""]
[{"$nulls":7},""]
[{"$nulls":7},""]
[{"$nulls":7},""]

{"sheet":"1_Lister les activités","index":1,"n_rows":481,"n_cols":27,"rows_kept":481,"merged":[[1,0,1,3],[2,0,5,0],[2,1,5,1],[2,2,5,2],[2,3,5,3],[2,5,2,22],[4,5,4,9],[4,11,4,15],[4,17,4,21],[4,22,5,22]]}
[{"$nulls":6},{"$f":"Setup!D2","v":2021}]
["LISTE COMPLETE DES ACTIVITES DU TRIMESTRE"]
["Num","Numero dans le Plan de travail","Domaines de l'activite","Intutile des activites",null,"Budget"]
[{"$nulls":5},{"$f":"F481","v":{"v":0,"d":"0.00"}},{"$f":"G481","v":{"v":0,"d":"0.00"}},{"v":0,"d":"0.00"},{"v":0,"d":"0.00"},{"v":0,"d":"0.00"},null,{"v":0,"d":"0.00"},{"v":0,"d":"0.00"},{"v":0,"d":"0.00"},{"v":0,"d":"0.00"},{"v":0,"d":"0.00"},null,{"$f":"R481","v":{"v":0,"d":"0.00"}},{"v":0,"d":"0.00"},{"v":0,"d":"0.00"},{"v":0,"d":"0.00"},{"v":0,"d":"0.00"},{"v":0,"d":"0.00"}]
[{"$nulls":5},{"$f":"IF(G1=\"Selectionner\",\"\",CONCATENATE(\"Annee\",\"-\",G1))","v":"Annee-2021"},{"$nulls":5},{"$f":"IF(G1=\"Selectionner\",\"\",G1+1)","v":2022},{"$nulls":5},{"$f":"IF(G1=\"Selectionner\",\"\",G1+2)","v":2023},{"$nulls":4},"Total global"]
[{"$nulls":5},"T1-2017","T2-2017","T3-2017","T4-2017","Total 2017",null,"T1-2018","T2-2018","T3-2017","T4-2017","Total-2018",null,"T1-2018","T2-2018","T3-2018","T4-2018","Total-2019"]
[{"$f":"IF(D7=\"\",\"\",AA7)","v":1},12,"Evaluation","Planifier",{"$nulls":5},{"$f":"SUM(F7:I7)","v":{"v":0,"d":"0.00"}},{"$nulls":5},{"$f":"SUM(L7:O7)","v":{"v":0,"d":"0.00"}},{"$nulls":5},{"$f":"SUM(R7:U7)","v":{"v":0,"d":"0.00"}},{"$f":"V7+P7+J7","v":{"v":0,"d":"0.00"}},{"$nulls":3},1]
[{"$f":"IF(D8=\"\",\"\",AA8)","v":2},1,"Evaluation","Executer",{"$nulls":5},{"$f":"SUM(F8:I8)","v":{"v":0,"d":"0.00"}},{"$nulls":5},{"$f":"SUM(L8:O8)","v":{"v":0,"d":"0.00"}},{"$nulls":5},{"$f":"SUM(R8:U8)","v":{"v":0,"d":"0.00"}},{"$f":"V8+P8+J8","v":{"v":0,"d":"0.00"}},{"$nulls":3},2]
[3,2,"Evaluation","Suivre",{"$nulls":5},{"v":0,"d":"0.00"},{"$nulls":5},{"v":0,"d":"0.00"},{"$nulls":5},{"v":0,"d":"0.00"},{"v":0,"d":"0.00"},{"$nulls":3},3]
[4,null,"Selectionner","Evaluer",{"$nulls":5},{"v":0,"d":"0.00"},{"$nulls":5},{"v":0,"d":"0.00"},{"$nulls":5},{"v":0,"d":"0.00"},{"v":0,"d":"0.00"},{"$nulls":3},4]
[5,null,"Selectionner","Rendre compte",{"$nulls":5},{"v":0,"d":"0.00"},{"$nulls":5},{"v":0,"d":"0.00"},{"$nulls":5},{"v":0,"d":"0.00"},{"v":0,"d":"0.00"},{"$nulls":3},5]
["",null,"Selectionner",{"$nulls":6},{"v":0,"d":"0.00"},{"$nulls":5},{"v":0,"d":"0.00"},{"$nulls":5},{"v":0,"d":"0.00"},{"v":0,"d":"0.00"},{"$nulls":3},6]
["",null,"Selectionner",{"$nulls":6},{"v":0,"d":"0.00"},{"$nulls":5},{"v":0,"d":"0.00"},{"$nulls":5},{"v":0,"d":"0.00"},{"v":0,"d":"0.00"},{"$nulls":3},7]
["",null,"Selectionner",{"$nulls":6},{"v":0,"d":"0.00"},{"$nulls":5},{"v":0,"d":"0.00"},{"$nulls":5},{"v":0,"d":"0.00"},{"v":0,"d":"0.00"},{"$nulls":3},8]
["",null,"Selectionner",{"$nulls":6},{"v":0,"d":"0.00"},{"$nulls":5},{"v":0,"d":"0.00"},{"$nulls":5},{"v":0,"d":"0.00"},{"v":0,"d":"0.00"},{"$nulls":3},9]
["",null,"Selectionner",{"$nulls":6},{"v":0,"d":"0.00"},{"$nulls":5},{"v":0,"d":"0.00"},{"$nulls":5},{"v":0,"d":"0.00"},{"v":0,"d":"0.00"},{"$nulls":3},10]
["",null,"Selectionner",{"$nulls":6},{"v":0,"d":"0.00"},{"$nulls":5},{"v":0,"d":"0.00"},{"$nulls":5},{"v":0,"d":"0.00"},{"v":0,"d":"0.00"},{"$nulls":3},11]
["",null,"Selectionner",{"$nulls":6},{"v":0,"d":"0.00"},{"$nulls":5},{"v":0,"d":"0.00"},{"$nulls":5},{"v":0,"d":"0.00"},{"v":0,"d":"0.00"},{"$nulls":3},12]
["",null,"Selectionner",{"$nulls":6},{"v":0,"d":"0.00"},{"$nulls":5},{"v":0,"d":"0.00"},{"$nulls":5},{"v":0,"d":"0.00"},{"v":0,"d":"0.00"},{"$nulls":3},13]
["",null,"Selectionner",{"$nulls":6},{"v":0,"d":"0.00"},{"$nulls":5},{"v":0,"d":"0.00"},{"$nulls":5},{"v":0,"d":"0.00"},{"v":0,"d":"0.00"},{"$nulls":3},14]
["",null,"Selectionner",{"$nulls":6},{"v":0,"d":"0.00"},{"$nulls":5},{"v":0,"d":"0.00"},{"$nulls":5},{"v":0,"d":"0.00"},{"v":0,"d":"0.00"},{"$nulls":3},15]
["",null,"Selectionner",{"$nulls":6},{"v":0,"d":"0.00"},{"$nulls":5},{"v":0,"d":"0.00"},{"$nulls":5},{"v":0,"d":"0.00"},{"v":0,"d":"0.00"},{"$nulls":3},16]
["",null,"Selectionner",{"$nulls":6},{"v":0,"d":"0.00"},{"$nulls":5},{"v":0,"d":"0.00"},{"$nulls":5},{"v":0,"d":"0.00"},{"v":0,"d":"0.00"},{"$nulls":3},17]
["",null,"Selectionner",{"$nulls":6},{"v":0,"d":"0.00"},{"$nulls":5},{"v":0,"d":"0.00"},{"$nulls":5},{"v":0,"d":"0.00"},{"v":0,"d":"0.00"},{"$nulls":3},18]
["",null,"Selectionner",{"$nulls":6},{"v":0,"d":"0.00"},{"$nulls":5},{"v":0,"d":"0.00"},{"$nulls":5},{"v":0,"d":"0.00"},{"v":0,"d":"0.00"},{"$nulls":3},19]
["",null,"Selectionner",{"$nulls":6},{"v":0,"d":"0.00"},{"$nulls":5},{"v":0,"d":"0.00"},{"$nulls":5},{"v":0,"d":"0.00"},{"v":0,"d":"0.00"},{"$nulls":3},20]
["",null,"Selectionner",{"$nulls":6},{"v":0,"d":"0.00"},{"$nulls":5},{"v":0,"d":"0.00"},{"$nulls":5},{"v":0,"d":"0.00"},{"v":0,"d":"0.00"},{"$nulls":3},21]
["",null,"Selectionner",{"$nulls":6},{"v":0,"d":"0.00"},{"$nulls":5},{"v":0,"d":"0.00"},{"$nulls":5},{"v":0,"d":"0.00"},{"v":0,"d":"0.00"},{"$nulls":3},22]
["",null,"Selectionner",{"$nulls":6},{"v":0,"d":"0.00"},{"$nulls":5},{"v":0,"d":"0.00"},{"$nulls":5},{"v":0,"d":"0.00"},{"v":0,"d":"0.00"},{"$nulls":3},23]
["",null,"Selectionner",{"$nulls":6},{"v":0,"d":"0.00"},{"$nulls":5},{"v":0,"d":"0.00"},{"$nulls":5},{"v":0,"d":"0.00"},{"v":0,"d":"0.00"},{"$nulls":3},24]
["",null,"Selectionner",{"$nulls":6},{"v":0,"d":"0.00"},{"$nulls":5},{"v":0,"d":"0.00"},{"$nulls":5},{"v":0,"d":"0.00"},{"v":0,"d":"0.00"},{"$nulls":3},25]
["",null,"Selectionner",{"$nulls":6},{"v":0,"d":"0.00"},{"$nulls":5},{"v":0,"d":"0.00"},{"$nulls":5},{"v":0,"d":"0.00"},{"v":0,"d":"0.00"},{"$nulls":3},26]
["",null,"Selectionner",{"$nulls":6},{"v":0,"d":"0.00"},{"$nulls":5},{"v":0,"d":"0.00"},{"$nulls":5},{"v":0,"d":"0.00"},{"v":0,"d":"0.00"},{"$nulls":3},27]
["",null,"Selectionner",{"$nulls":6},{"v":0,"d":"0.00"},{"$nulls":5},{"v":0,"d":"0.00"},{"$nulls":5},{"v":0,"d":"0.00"},{"v":0,"d":"0.00"},{"$nulls":3},28]
["",null,"Selectionner",{"$nulls":6},{"v":0,"d":"0.00"},{"$nulls":5},{"v":0,"d":"0.00"},{"$nulls":5},{"v":0,"d":"0.00"},{"v":0,"d":"0.00"},{"$nulls":3},29]
["",null,"Selectionner",{"$nulls":6},{"v":0,"d":"0.00"},{"$nulls":5},{"v":0,"d":"0.00"},{"$nulls":5},{"v":0,"d":"0.00"},{"v":0,"d":"0.00"},{"$nulls":3},30]
["",null,"Selectionner",{"$nulls":6},{"v":0,"d":"0.00"},{"$nulls":5},{"v":0,"d":"0.00"},{"$nulls":5},{"v":0,"d":"0.00"},{"v":0,"d":"0.00"},{"$nulls":3},31]
["",null,"Selectionner",{"$nulls":6},{"v":0,"d":"0.00"},{"$nulls":5},{"v":0,"d":"0.00"},{"$nulls":5},{"v":0,"d":"0.00"},{"v":0,"d":"0.00"},{"$nulls":3},32]
["",null,"Selectionner",{"$nulls":6},{"v":0,"d":"0.00"},{"$nulls":5},{"v":0,"d":"0.00"},{"$nulls":5},{"v":0,"d":"0.00"},{"v":0,"d":"0.00"},{"$nulls":3},33]
["",null,"Selectionner",{"$nulls":6},{"v":0,"d":"0.00"},{"$nulls":5},{"v":0,"d":"0.00"},{"$nulls":5},{"v":0,"d":"0.00"},{"v":0,"d":"0.00"},{"$nulls":3},34]
["",null,"Selectionner",{"$nulls":6},{"v":0,"d":"0.00"},{"$nulls":5},{"v":0,"d":"0.00"},{"$nulls":5},{"v":0,"d":"0.00"},{"v":0,"d":"0.00"},{"$nulls":3},35]
["",null,"Selectionner",{"$nulls":6},{"v":0,"d":"0.00"},{"$nulls":5},{"v":0,"d":"0.00"},{"$nulls":5},{"v":0,"d":"0.00"},{"v":0,"d":"0.00"},{"$nulls":3},36]
["",null,"Selectionner",{"$nulls":6},{"v":0,"d":"0.00"},{"$nulls":5},{"v":0,"d":"0.00"},{"$nulls":5},{"v":0,"d":"0.00"},{"v":0,"d":"0.00"},{"$nulls":3},37]
["",null,"Selectionner",{"$nulls":6},{"v":0,"d":"0.00"},{"$nulls":5},{"v":0,"d":"0.00"},{"$nulls":5},{"v":0,"d":"0.00"},{"v":0,"d":"0.00"},{"$nulls":3},38]
["",null,"Selectionner",{"$nulls":6},{"v":0,"d":"0.00"},{"$nulls":5},{"v":0,"d":"0.00"},{"$nulls":5},{"v":0,"d":"0.00"},{"v":0,"d":"0.00"},{"$nulls":3},39]
["",null,"Selectionner",{"$nulls":6},{"v":0,"d":"0.00"},{"$nulls":5},{"v":0,"d":"0.00"},{"$nulls":5},{"v":0,"d":"0.00"},{"v":0,"d":"0.00"},{"$nulls":3},40]
["",null,"Selectionner",{"$nulls":6},{"v":0,"d":"0.00"},{"$nulls":5},{"v":0,"d":"0.00"},{"$nulls":5},{"v":0,"d":"0.00"},{"v":0,"d":"0.00"},{"$nulls":3},41]
["",null,"Selectionner",{"$nulls":6},{"v":0,"d":"0.00"},{"$nulls":5},{"v":0,"d":"0.00"},{"$nulls":5},{"v":0,"d":"0.00"},{"v":0,"d":"0.00"},{"$nulls":3},42]
["",null,"Selectionner",{"$nulls":6},{"v":0,"d":"0.00"},{"$nulls":5},{"v":0,"d":"0.00"},{"$nulls":5},{"v":0,"d":"0.00"},{"v":0,"d":"0.00"},{"$nulls":3},43]
["",null,"Selectionner",{"$nulls":6},{"v":0,"d":"0.00"},{"$nulls":5},{"v":0,"d":"0.00"},{"$nulls":5},{"v":0,"d":"0.00"},{"v":0,"d":"0.00"},{"$nulls":3},44]
["",null,"Selectionner",{"$nulls":6},{"v":0,"d":"0.00"},{"$nulls":5},{"v":0,"d":"0.00"},{"$nulls":5},{"v":0,"d":"0.00"},{"v":0,"d":"0.00"},{"$nulls":3},45]
["",null,"Selectionner",{"$nulls":6},{"v":0,"d":"0.00"},{"$nulls":5},{"v":0,"d":"0.00"},{"$nulls":5},{"v":0,"d":"0.00"},{"v":0,"d":"0.00"},{"$nulls":3},46]
["",null,"Selectionner",{"$nulls":6},{"v":0,"d":"0.00"},{"$nulls":5},{"v":0,"d":"0.00"},{"$nulls":5},{"v":0,"d":"0.00"},{"v":0,"d":"0.00"},{"$nulls":3},47]
["",null,"Selectionner",{"$nulls":6},{"v":0,"d":"0.00"},{"$nulls":5},{"v":0,"d":"0.00"},{"$nulls":5},{"v":0,"d":"0.00"},{"v":0,"d":"0.00"},{"$nulls":3},48]
["",null,"Selectionner",{"$nulls":6},{"v":0,"d":"0.00"},{"$nulls":5},{"v":0,"d":"0.00"},{"$nulls":5},{"v":0,"d":"0.00"},{"v":0,"d":"0.00"},{"$nulls":3},49]
["",null,"Selectionner",{"$nulls":6},{"v":0,"d":"0.00"},{"$nulls":5},{"v":0,"d":"0.00"},{"$nulls":5},{"v":0,"d":"0.00"},{"v":0,"d":"0.00"},{"$nulls":3},50]
["",null,"Selectionner",{"$nulls":6},{"v":0,"d":"0.00"},{"$nulls":5},{"v":0,"d":"0.00"},{"$nulls":5},{"v":0,"d":"0.00"},{"v":0,"d":"0.00"},{"$nulls":3},51]
["",null,"Selectionner",{"$nulls":6},{"v":0,"d":"0.00"},{"$nulls":5},{"v":0,"d":"0.00"},{"$nulls":5},{"v":0,"d":"0.00"},{"v":0,"d":"0.00"},{"$nulls":3},52]
["",null,"Selectionner",{"$nulls":6},{"v":0,"d":"0.00"},{"$nulls":5},{"v":0,"d":"0.00"},{"$nulls":5},{"v":0,"d":"0.00"},{"v":0,"d":"0.00"},{"$nulls":3},53]
["",null,"Selectionner",{"$nulls":6},{"v":0,"d":"0.00"},{"$nulls":5},{"v":0,"d":"0.00"},{"$nulls":5},{"v":0,"d":"0.00"},{"v":0,"d":"0.00"},{"$nulls":3},54]
["",null,"Selectionner",{"$nulls":6},{"v":0,"d":"0.00"},{"$nulls":5},{"v":0,"d":"0.00"},{"$nulls":5},{"v":0,"d":"0.00"},{"v":0,"d":"0.00"},{"$nulls":3},55]
["",null,"Selectionner",{"$nulls":6},{"v":0,"d":"0.00"},{"$nulls":5},{"v":0,"d":"0.00"},{"$nulls":5},{"v":0,"d":"0.00"},{"v":0,"d":"0.00"},{"$nulls":3},56]
["",null,"Selectionner",{"$nulls":6},{"v":0,"d":"0.00"},{"$nulls":5},{"v":0,"d":"0.00"},{"$nulls":5},{"v":0,"d":"0.00"},{"v":0,"d":"0.00"},{"$nulls":3},57]
["",null,"Selectionner",{"$nulls":6},{"v":0,"d":"0.00"},{"$nulls":5},{"v":0,"d":"0.00"},{"$nulls":5},{"v":0,"d":"0.00"},{"v":0,"d":"0.00"},{"$nulls":3},58]
["",null,"Selectionner",{"$nulls":6},{"v":0,"d":"0.00"},{"$nulls":5},{"v":0,"d":"0.00"},{"$nulls":5},{"v":0,"d":"0.00"},{"v":0,"d":"0.00"},{"$nulls":3},59]
["",null,"Selectionner",{"$nulls":6},{"v":0,"d":"0.00"},{"$nulls":5},{"v":0,"d":"0.00"},{"$nulls":5},{"v":0,"d":"0.00"},{"v":0,"d":"0.00"},{"$nulls":3},60]
["",null,"Selectionner",{"$nulls":6},{"v":0,"d":"0.00"},{"$nulls":5},{"v":0,"d":"0.00"},{"$nulls":5},{"v":0,"d":"0.00"},{"v":0,"d":"0.00"},{"$nulls":3},61]
["",null,"Selectionner",{"$nulls":6},{"v":0,"d":"0.00"},{"$nulls":5},{"v":0,"d":"0.00"},{"$nulls":5},{"v":0,"d":"0.00"},{"v":0,"d":"0.00"},{"$nulls":3},62]
["",null,"Selectionner",{"$nulls":6},{"v":0,"d":"0.00"},{"$nulls":5},{"v":0,"d":"0.00"},{"$nulls":5},{"v":0,"d":"0.00"},{"v":0,"d":"0.00"},{"$nulls":3},63]
["",null,"Selectionner",{"$nulls":6},{"v":0,"d":"0.00"},{"$nulls":5},{"v":0,"d":"0.00"},{"$nulls":5},{"v":0,"d":"0.00"},{"v":0,"d":"0.00"},{"$nulls":3},64]
["",null,"Selectionner",{"$nulls":6},{"v":0,"d":"0.00"},{"$nulls":5},{"v":0,"d":"0.00"},{"$nulls":5},{"v":0,"d":"0.00"},{"v":0,"d":"0.00"},{"$nulls":3},65]
[{"$f":"IF(D72=\"\",\"\",AA72)","v":""},null,"Selectionner",{"$nulls":6},{"$f":"SUM(F72:I72)","v":{"v":0,"d":"0.00"}},{"$nulls":5},{"$f":"SUM(L72:O72)","v":{"v":0,"d":"0.00"}},{"$nulls":5},{"$f":"SUM(R72:U72)","v":{"v":0,"d":"0.00"}},{"$f":"V72+P72+J72","v":{"v":0,"d":"0.00"}},{"$nulls":3},66]
["",null,"Selectionner",{"$nulls":6},{"v":0,"d":"0.00"},{"$nulls":5},{"v":0,"d":"0.00"},{"$nulls":5},{"v":0,"d":"0.00"},{"v":0,"d":"0.00"},{"$nulls":3},67]
["",null,"Selectionner",{"$nulls":6},{"v":0,"d":"0.00"},{"$nulls":5},{"v":0,"d":"0.00"},{"$nulls":5},{"v":0,"d":"0.00"},{"v":0,"d":"0.00"},{"$nulls":3},68]
["",null,"Selectionner",{"$nulls":6},{"v":0,"d":"0.00"},{"$nulls":5},{"v":0,"d":"0.00"},{"$nulls":5},{"v":0,"d":"0.00"},{"v":0,"d":"0.00"},{"$nulls":3},69]
["",null,"Selectionner",{"$nulls":6},{"v":0,"d":"0.00"},{"$nulls":5},{"v":0,"d":"0.00"},{"$nulls":5},{"v":0,"d":"0.00"},{"v":0,"d":"0.00"},{"$nulls":3},70]
["",null,"Selectionner",{"$nulls":6},{"v":0,"d":"0.00"},{"$nulls":5},{"v":0,"d":"0.00"},{"$nulls":5},{"v":0,"d":"0.00"},{"v":0,"d":"0.00"},{"$nulls":3},71]
["",null,"Selectionner",{"$nulls":6},{"v":0,"d":"0.00"},{"$nulls":5},{"v":0,"d":"0.00"},{"$nulls":5},{"v":0,"d":"0.00"},{"v":0,"d":"0.00"},{"$nulls":3},72]
["",null,"Selectionner",{"$nulls":6},{"v":0,"d":"0.00"},{"$nulls":5},{"v":0,"d":"0.00"},{"$nulls":5},{"v":0,"d":"0.00"},{"v":0,"d":"0.00"},{"$nulls":3},73]
["",null,"Selectionner",{"$nulls":6},{"v":0,"d":"0.00"},{"$nulls":5},{"v":0,"d":"0.00"},{"$nulls":5},{"v":0,"d":"0.00"},{"v":0,"d":"0.00"},{"$nulls":3},74]
["",null,"Selectionner",{"$nulls":6},{"v":0,"d":"0.00"},{"$nulls":5},{"v":0,"d":"0.00"},{"$nulls":5},{"v":0,"d":"0.00"},{"v":0,"d":"0.00"},{"$nulls":3},75]
["",null,"Selectionner",{"$nulls":6},{"v":0,"d":"0.00"},{"$nulls":5},{"v":0,"d":"0.00"},{"$nulls":5},{"v":0,"d":"0.00"},{"v":0,"d":"0.00"},{"$nulls":3},76]
["",null,"Selectionner",{"$nulls":6},{"v":0,"d":"0.00"},{"$nulls":5},{"v":0,"d":"0.00"},{"$nulls":5},{"v":0,"d":"0.00"},{"v":0,"d":"0.00"},{"$nulls":3},77]
["",null,"Selectionner",{"$nulls":6},{"v":0,"d":"0.00"},{"$nulls":5},{"v":0,"d":"0.00"},{"$nulls":5},{"v":0,"d":"0.00"},{"v":0,"d":"0.00"},{"$nulls":3},78]
["",null,"Selectionner",{"$nulls":6},{"v":0,"d":"0.00"},{"$nulls":5},{"v":0,"d":"0.00"},{"$nulls":5},{"v":0,"d":"0.00"},{"v":0,"d":"0.00"},{"$nulls":3},79]
["",null,"Selectionner",{"$nulls":6},{"v":0,"d":"0.00"},{"$nulls":5},{"v":0,"d":"0.00"},{"$nulls":5},{"v":0,"d":"0.00"},{"v":0,"d":"0.00"},{"$nulls":3},80]
["",null,"Selectionner",{"$nulls":6},{"v":0,"d":"0.00"},{"$nulls":5},{"v":0,"d":"0.00"},{"$nulls":5},{"v":0,"d":"0.00"},{"v":0,"d":"0.00"},{"$nulls":3},81]
["",null,"Selectionner",{"$nulls":6},{"v":0,"d":"0.00"},{"$nulls":5},{"v":0,"d":"0.00"},{"$nulls":5},{"v":0,"d":"0.00"},{"v":0,"d":"0.00"},{"$nulls":3},82]
["",null,"Selectionner",{"$nulls":6},{"v":0,"d":"0.00"},{"$nulls":5},{"v":0,"d":"0.00"},{"$nulls":5},{"v":0,"d":"0.00"},{"v":0,"d":"0.00"},{"$nulls":3},83]
["",null,"Selectionner",{"$nulls":6},{"v":0,"d":"0.00"},{"$nulls":5},{"v":0,"d":"0.00"},{"$nulls":5},{"v":0,"d":"0.00"},{"v":0,"d":"0.00"},{"$nulls":3},84]
["",null,"Selectionner",{"$nulls":6},{"v":0,"d":"0.00"},{"$nulls":5},{"v":0,"d":"0.00"},{"$nulls":5},{"v":0,"d":"0.00"},{"v":0,"d":"0.00"},{"$nulls":3},85]
["",null,"Selectionner",{"$nulls":6},{"v":0,"d":"0.00"},{"$nulls":5},{"v":0,"d":"0.00"},{"$nulls":5},{"v":0,"d":"0.00"},{"v":0,"d":"0.00"},{"$nulls":3},86]
["",null,"Selectionner",{"$nulls":6},{"v":0,"d":"0.00"},{"$nulls":5},{"v":0,"d":"0.00"},{"$nulls":5},{"v":0,"d":"0.00"},{"v":0,"d":"0.00"},{"$nulls":3},87]
["",null,"Selectionner",{"$nulls":6},{"v":0,"d":"0.00"},{"$nulls":5},{"v":0,"d":"0.00"},{"$nulls":5},{"v":0,"d":"0.00"},{"v":0,"d":"0.00"},{"$nulls":3},88]
["",null,"Selectionner",{"$nulls":6},{"v":0,"d":"0.00"},{"$nulls":5},{"v":0,"d":"0.00"},{"$nulls":5},{"v":0,"d":"0.00"},{"v":0,"d":"0.00"},{"$nulls":3},89]
["",null,"Selectionner",{"$nulls":6},{"v":0,"d":"0.00"},{"$nulls":5},{"v":0,"d":"0.00"},{"$nulls":5},{"v":0,"d":"0.00"},{"v":0,"d":"0.00"},{"$nulls":3},90]
["",null,"Selectionner",{"$nulls":6},{"v":0,"d":"0.00"},{"$nulls":5},{"v":0,"d":"0.00"},{"$nulls":5},{"v":0,"d":"0.00"},{"v":0,"d":"0.00"},{"$nulls":3},91]
["",null,"Selectionner",{"$nulls":6},{"v":0,"d":"0.00"},{"$nulls":5},{"v":0,"d":"0.00"},{"$nulls":5},{"v":0,"d":"0.00"},{"v":0,"d":"0.00"},{"$nulls":3},92]
["",null,"Selectionner",{"$nulls":6},{"v":0,"d":"0.00"},{"$nulls":5},{"v":0,"d":"0.00"},{"$nulls":5},{"v":0,"d":"0.00"},{"v":0,"d":"0.00"},{"$nulls":3},93]
["",null,"Selectionner",{"$nulls":6},{"v":0,"d":"0.00"},{"$nulls":5},{"v":0,"d":"0.00"},{"$nulls":5},{"v":0,"d":"0.00"},{"v":0,"d":"0.00"},{"$nulls":3},94]
["",null,"Selectionner",{"$nulls":6},{"v":0,"d":"0.00"},{"$nulls":5},{"v":0,"d":"0.00"},{"$nulls":5},{"v":0,"d":"0.00"},{"v":0,"d":"0.00"},{"$nulls":3},95]
["",null,"Selectionner",{"$nulls":6},{"v":0,"d":"0.00"},{"$nulls":5},{"v":0,"d":"0.00"},{"$nulls":5},{"v":0,"d":"0.00"},{"v":0,"d":"0.00"},{"$nulls":3},96]
["",null,"Selectionner",{"$nulls":6},{"v":0,"d":"0.00"},{"$nulls":5},{"v":0,"d":"0.00"},{"$nulls":5},{"v":0,"d":"0.00"},{"v":0,"d":"0.00"},{"$nulls":3},97]
["",null,"Selectionner",{"$nulls":6},{"v":0,"d":"0.00"},{"$nulls":5},{"v":0,"d":"0.00"},{"$nulls":5},{"v":0,"d":"0.00"},{"v":0,"d":"0.00"},{"$nulls":3},98]
["",null,"Selectionner",{"$nulls":6},{"v":0,"d":"0.00"},{"$nulls":5},{"v":0,"d":"0.00"},{"$nulls":5},{"v":0,"d":"0.00"},{"v":0,"d":"0.00"},{"$nulls":3},99]
["",null,"Selectionner",{"$nulls":6},{"v":0,"d":"0.00"},{"$nulls":5},{"v":0,"d":"0.00"},{"$nulls":5},{"v":0,"d":"0.00"},{"v":0,"d":"0.00"},{"$nulls":3},100]
["",null,"Selectionner",{"$nulls":6},{"v":0,"d":"0.00"},{"$nulls":5},{"v":0,"d":"0.00"},{"$nulls":5},{"v":0,"d":"0.00"},{"v":0,"d":"0.00"},{"$nulls":3},101]
["",null,"Selectionner",{"$nulls":6},{"v":0,"d":"0.00"},{"$nulls":5},{"v":0,"d":"0.00"},{"$nulls":5},{"v":0,"d":"0.00"},{"v":0,"d":"0.00"},{"$nulls":3},102]
["",null,"Selectionner",{"$nulls":6},{"v":0,"d":"0.00"},{"$nulls":5},{"v":0,"d":"0.00"},{"$nulls":5},{"v":0,"d":"0.00"},{"v":0,"d":"0.00"},{"$nulls":3},103]
["",null,"Selectionner",{"$nulls":6},{"v":0,"d":"0.00"},{"$nulls":5},{"v":0,"d":"0.00"},{"$nulls":5},{"v":0,"d":"0.00"},{"v":0,"d":"0.00"},{"$nulls":3},104]
["",null,"Selectionner",{"$nulls":6},{"v":0,"d":"0.00"},{"$nulls":5},{"v":0,"d":"0.00"},{"$nulls":5},{"v":0,"d":"0.00"},{"v":0,"d":"0.00"},{"$nulls":3},105]
["",null,"Selectionner",{"$nulls":6},{"v":0,"d":"0.00"},{"$nulls":5},{"v":0,"d":"0.00"},{"$nulls":5},{"v":0,"d":"0.00"},{"v":0,"d":"0.00"},{"$nulls":3},106]
["",null,"Selectionner",{"$nulls":6},{"v":0,"d":"0.00"},{"$nulls":5},{"v":0,"d":"0.00"},{"$nulls":5},{"v":0,"d":"0.00"},{"v":0,"d":"0.00"},{"$nulls":3},107]
["",null,"Selectionner",{"$nulls":6},{"v":0,"d":"0.00"},{"$nulls":5},{"v":0,"d":"0.00"},{"$nulls":5},{"v":0,"d":"0.00"},{"v":0,"d":"0.00"},{"$nulls":3},108]
["",null,"Selectionner",{"$nulls":6},{"v":0,"d":"0.00"},{"$nulls":5},{"v":0,"d":"0.00"},{"$nulls":5},{"v":0,"d":"0.00"},{"v":0,"d":"0.00"},{"$nulls":3},109]
["",null,"Selectionner",{"$nulls":6},{"v":0,"d":"0.00"},{"$nulls":5},{"v":0,"d":"0.00"},{"$nulls":5},{"v":0,"d":"0.00"},{"v":0,"d":"0.00"},{"$nulls":3},110]
["",null,"Selectionner",{"$nulls":6},{"v":0,"d":"0.00"},{"$nulls":5},{"v":0,"d":"0.00"},{"$nulls":5},{"v":0,"d":"0.00"},{"v":0,"d":"0.00"},{"$nulls":3},111]
["",null,"Selectionner",{"$nulls":6},{"v":0,"d":"0.00"},{"$nulls":5},{"v":0,"d":"0.00"},{"$nulls":5},{"v":0,"d":"0.00"},{"v":0,"d":"0.00"},{"$nulls":3},112]
["",null,"Selectionner",{"$nulls":6},{"v":0,"d":"0.00"},{"$nulls":5},{"v":0,"d":"0.00"},{"$nulls":5},{"v":0,"d":"0.00"},{"v":0,"d":"0.00"},{"$nulls":3},113]
["",null,"Selectionner",{"$nulls":6},{"v":0,"d":"0.00"},{"$nulls":5},{"v":0,"d":"0.00"},{"$nulls":5},{"v":0,"d":"0.00"},{"v":0,"d":"0.00"},{"$nulls":3},114]
["",null,"Selectionner",{"$nulls":6},{"v":0,"d":"0.00"},{"$nulls":5},{"v":0,"d":"0.00"},{"$nulls":5},{"v":0,"d":"0.00"},{"v":0,"d":"0.00"},{"$nulls":3},115]
["",null,"Selectionner",{"$nulls":6},{"v":0,"d":"0.00"},{"$nulls":5},{"v":0,"d":"0.00"},{"$nulls":5},{"v":0,"d":"0.00"},{"v":0,"d":"0.00"},{"$nulls":3},116]
["",null,"Selectionner",{"$nulls":6},{"v":0,"d":"0.00"},{"$nulls":5},{"v":0,"d":"0.00"},{"$nulls":5},{"v":0,"d":"0.00"},{"v":0,"d":"0.00"},{"$nulls":3},117]
["",null,"Selectionner",{"$nulls":6},{"v":0,"d":"0.00"},{"$nulls":5},{"v":0,"d":"0.00"},{"$nulls":5},{"v":0,"d":"0.00"},{"v":0,"d":"0.00"},{"$nulls":3},118]
["",null,"Selectionner",{"$nulls":6},{"v":0,"d":"0.00"},{"$nulls":5},{"v":0,"d":"0.00"},{"$nulls":5},{"v":0,"d":"0.00"},{"v":0,"d":"0.00"},{"$nulls":3},119]
["",null,"Selectionner",{"$nulls":6},{"v":0,"d":"0.00"},{"$nulls":5},{"v":0,"d":"0.00"},{"$nulls":5},{"v":0,"d":"0.00"},{"v":0,"d":"0.00"},{"$nulls":3},120]
["",null,"Selectionner",{"$nulls":6},{"v":0,"d":"0.00"},{"$nulls":5},{"v":0,"d":"0.00"},{"$nulls":5},{"v":0,"d":"0.00"},{"v":0,"d":"0.00"},{"$nulls":3},121]
["",null,"Selectionner",{"$nulls":6},{"v":0,"d":"0.00"},{"$nulls":5},{"v":0,"d":"0.00"},{"$nulls":5},{"v":0,"d":"0.00"},{"v":0,"d":"0.00"},{"$nulls":3},122]
["",null,"Selectionner",{"$nulls":6},{"v":0,"d":"0.00"},{"$nulls":5},{"v":0,"d":"0.00"},{"$nulls":5},{"v":0,"d":"0.00"},{"v":0,"d":"0.00"},{"$nulls":3},123]
["",null,"Selectionner",{"$nulls":6},{"v":0,"d":"0.00"},{"$nulls":5},{"v":0,"d":"0.00"},{"$nulls":5},{"v":0,"d":"0.00"},{"v":0,"d":"0.00"},{"$nulls":3},124]
["",null,"Selectionner",{"$nulls":6},{"v":0,"d":"0.00"},{"$nulls":5},{"v":0,"d":"0.00"},{"$nulls":5},{"v":0,"d":"0.00"},{"v":0,"d":"0.00"},{"$nulls":3},125]
["",null,"Selectionner",{"$nulls":6},{"v":0,"d":"0.00"},{"$nulls":5},{"v":0,"d":"0.00"},{"$nulls":5},{"v":0,"d":"0.00"},{"v":0,"d":"0.00"},{"$nulls":3},126]
["",null,"Selectionner",{"$nulls":6},{"v":0,"d":"0.00"},{"$nulls":5},{"v":0,"d":"0.00"},{"$nulls":5},{"v":0,"d":"0.00"},{"v":0,"d":"0.00"},{"$nulls":3},127]
["",null,"Selectionner",{"$nulls":6},{"v":0,"d":"0.00"},{"$nulls":5},{"v":0,"d":"0.00"},{"$nulls":5},{"v":0,"d":"0.00"},{"v":0,"d":"0.00"},{"$nulls":3},128]
["",null,"Selectionner",{"$nulls":6},{"v":0,"d":"0.00"},{"$nulls":5},{"v":0,"d":"0.00"},{"$nulls":5},{"v":0,"d":"0.00"},{"v":0,"d":"0.00"},{"$nulls":3},129]
[{"$f":"IF(D136=\"\",\"\",AA136)","v":""},null,"Selectionner",{"$nulls":6},{"$f":"SUM(F136:I136)","v":{"v":0,"d":"0.00"}},{"$nulls":5},{"$f":"SUM(L136:O136)","v":{"v":0,"d":"0.00"}},{"$nulls":5},{"$f":"SUM(R136:U136)","v":{"v":0,"d":"0.00"}},{"$f":"V136+P136+J136","v":{"v":0,"d":"0.00"}},{"$nulls":3},130]
["",null,"Selectionner",{"$nulls":6},{"v":0,"d":"0.00"},{"$nulls":5},{"v":0,"d":"0.00"},{"$nulls":5},{"v":0,"d":"0.00"},{"v":0,"d":"0.00"},{"$nulls":3},131]
["",null,"Selectionner",{"$nulls":6},{"v":0,"d":"0.00"},{"$nulls":5},{"v":0,"d":"0.00"},{"$nulls":5},{"v":0,"d":"0.00"},{"v":0,"d":"0.00"},{"$nulls":3},132]
["",null,"Selectionner",{"$nulls":6},{"v":0,"d":"0.00"},{"$nulls":5},{"v":0,"d":"0.00"},{"$nulls":5},{"v":0,"d":"0.00"},{"v":0,"d":"0.00"},{"$nulls":3},133]
["",null,"Selectionner",{"$nulls":6},{"v":0,"d":"0.00"},{"$nulls":5},{"v":0,"d":"0.00"},{"$nulls":5},{"v":0,"d":"0.00"},{"v":0,"d":"0.00"},{"$nulls":3},134]
["",null,"Selectionner",{"$nulls":6},{"v":0,"d":"0.00"},{"$nulls":5},{"v":0,"d":"0.00"},{"$nulls":5},{"v":0,"d":"0.00"},{"v":0,"d":"0.00"},{"$nulls":3},135]
["",null,"Selectionner",{"$nulls":6},{"v":0,"d":"0.00"},{"$nulls":5},{"v":0,"d":"0.00"},{"$nulls":5},{"v":0,"d":"0.00"},{"v":0,"d":"0.00"},{"$nulls":3},136]
["",null,"Selectionner",{"$nulls":6},{"v":0,"d":"0.00"},{"$nulls":5},{"v":0,"d":"0.00"},{"$nulls":5},{"v":0,"d":"0.00"},{"v":0,"d":"0.00"},{"$nulls":3},137]
["",null,"Selectionner",{"$nulls":6},{"v":0,"d":"0.00"},{"$nulls":5},{"v":0,"d":"0.00"},{"$nulls":5},{"v":0,"d":"0.00"},{"v":0,"d":"0.00"},{"$nulls":3},138]
["",null,"Selectionner",{"$nulls":6},{"v":0,"d":"0.00"},{"$nulls":5},{"v":0,"d":"0.00"},{"$nulls":5},{"v":0,"d":"0.00"},{"v":0,"d":"0.00"},{"$nulls":3},139]
["",null,"Selectionner",{"$nulls":6},{"v":0,"d":"0.00"},{"$nulls":5},{"v":0,"d":"0.00"},{"$nulls":5},{"v":0,"d":"0.00"},{"v":0,"d":"0.00"},{"$nulls":3},140]
["",null,"Selectionner",{"$nulls":6},{"v":0,"d":"0.00"},{"$nulls":5},{"v":0,"d":"0.00"},{"$nulls":5},{"v":0,"d":"0.00"},{"v":0,"d":"0.00"},{"$nulls":3},141]
["",null,"Selectionner",{"$nulls":6},{"v":0,"d":"0.00"},{"$nulls":5},{"v":0,"d":"0.00"},{"$nulls":5},{"v":0,"d":"0.00"},{"v":0,"d":"0.00"},{"$nulls":3},142]
["",null,"Selectionner",{"$nulls":6},{"v":0,"d":"0.00"},{"$nulls":5},{"v":0,"d":"0.00"},{"$nulls":5},{"v":0,"d":"0.00"},{"v":0,"d":"0.00"},{"$nulls":3},143]
["",null,"Selectionner",{"$nulls":6},{"v":0,"d":"0.00"},{"$nulls":5},{"v":0,"d":"0.00"},{"$nulls":5},{"v":0,"d":"0.00"},{"v":0,"d":"0.00"},{"$nulls":3},144]
["",null,"Selectionner",{"$nulls":6},{"v":0,"d":"0.00"},{"$nulls":5},{"v":0,"d":"0.00"},{"$nulls":5},{"v":0,"d":"0.00"},{"v":0,"d":"0.00"},{"$nulls":3},145]
["",null,"Selectionner",{"$nulls":6},{"v":0,"d":"0.00"},{"$nulls":5},{"v":0,"d":"0.00"},{"$nulls":5},{"v":0,"d":"0.00"},{"v":0,"d":"0.00"},{"$nulls":3},146]
["",null,"Selectionner",{"$nulls":6},{"v":0,"d":"0.00"},{"$nulls":5},{"v":0,"d":"0.00"},{"$nulls":5},{"v":0,"d":"0.00"},{"v":0,"d":"0.00"},{"$nulls":3},147]
["",null,"Selectionner",{"$nulls":6},{"v":0,"d":"0.00"},{"$nulls":5},{"v":0,"d":"0.00"},{"$nulls":5},{"v":0,"d":"0.00"},{"v":0,"d":"0.00"},{"$nulls":3},148]
["",null,"Selectionner",{"$nulls":6},{"v":0,"d":"0.00"},{"$nulls":5},{"v":0,"d":"0.00"},{"$nulls":5},{"v":0,"d":"0.00"},{"v":0,"d":"0.00"},{"$nulls":3},149]
["",null,"Selectionner",{"$nulls":6},{"v":0,"d":"0.00"},{"$nulls":5},{"v":0,"d":"0.00"},{"$nulls":5},{"v":0,"d":"0.00"},{"v":0,"d":"0.00"},{"$nulls":3},150]
["",null,"Selectionner",{"$nulls":6},{"v":0,"d":"0.00"},{"$nulls":5},{"v":0,"d":"0.00"},{"$nulls":5},{"v":0,"d":"0.00"},{"v":0,"d":"0.00"},{"$nulls":3},151]
["",null,"Selectionner",{"$nulls":6},{"v":0,"d":"0.00"},{"$nulls":5},{"v":0,"d":"0.00"},{"$nulls":5},{"v":0,"d":"0.00"},{"v":0,"d":"0.00"},{"$nulls":3},152]
["",null,"Selectionner",{"$nulls":6},{"v":0,"d":"0.00"},{"$nulls":5},{"v":0,"d":"0.00"},{"$nulls":5},{"v":0,"d":"0.00"},{"v":0,"d":"0.00"},{"$nulls":3},153]
["",null,"Selectionner",{"$nulls":6},{"v":0,"d":"0.00"},{"$nulls":5},{"v":0,"d":"0.00"},{"$nulls":5},{"v":0,"d":"0.00"},{"v":0,"d":"0.00"},{"$nulls":3},154]
["",null,"Selectionner",{"$nulls":6},{"v":0,"d":"0.00"},{"$nulls":5},{"v":0,"d":"0.00"},{"$nulls":5},{"v":0,"d":"0.00"},{"v":0,"d":"0.00"},{"$nulls":3},155]
["",null,"Selectionner",{"$nulls":6},{"v":0,"d":"0.00"},{"$nulls":5},{"v":0,"d":"0.00"},{"$nulls":5},{"v":0,"d":"0.00"},{"v":0,"d":"0.00"},{"$nulls":3},156]
["",null,"Selectionner",{"$nulls":6},{"v":0,"d":"0.00"},{"$nulls":5},{"v":0,"d":"0.00"},{"$nulls":5},{"v":0,"d":"0.00"},{"v":0,"d":"0.00"},{"$nulls":3},157]
["",null,"Selectionner",{"$nulls":6},{"v":0,"d":"0.00"},{"$nulls":5},{"v":0,"d":"0.00"},{"$nulls":5},{"v":0,"d":"0.00"},{"v":0,"d":"0.00"},{"$nulls":3},158]
["",null,"Selectionner",{"$nulls":6},{"v":0,"d":"0.00"},{"$nulls":5},{"v":0,"d":"0.00"},{"$nulls":5},{"v":0,"d":"0.00"},{"v":0,"d":"0.00"},{"$nulls":3},159]
["",null,"Selectionner",{"$nulls":6},{"v":0,"d":"0.00"},{"$nulls":5},{"v":0,"d":"0.00"},{"$nulls":5},{"v":0,"d":"0.00"},{"v":0,"d":"0.00"},{"$nulls":3},160]
["",null,"Selectionner",{"$nulls":6},{"v":0,"d":"0.00"},{"$nulls":5},{"v":0,"d":"0.00"},{"$nulls":5},{"v":0,"d":"0.00"},{"v":0,"d":"0.00"},{"$nulls":3},161]
["",null,"Selectionner",{"$nulls":6},{"v":0,"d":"0.00"},{"$nulls":5},{"v":0,"d":"0.00"},{"$nulls":5},{"v":0,"d":"0.00"},{"v":0,"d":"0.00"},{"$nulls":3},162]
["",null,"Selectionner",{"$nulls":6},{"v":0,"d":"0.00"},{"$nulls":5},{"v":0,"d":"0.00"},{"$nulls":5},{"v":0,"d":"0.00"},{"v":0,"d":"0.00"},{"$nulls":3},163]
["",null,"Selectionner",{"$nulls":6},{"v":0,"d":"0.00"},{"$nulls":5},{"v":0,"d":"0.00"},{"$nulls":5},{"v":0,"d":"0.00"},{"v":0,"d":"0.00"},{"$nulls":3},164]
["",null,"Selectionner",{"$nulls":6},{"v":0,"d":"0.00"},{"$nulls":5},{"v":0,"d":"0.00"},{"$nulls":5},{"v":0,"d":"0.00"},{"v":0,"d":"0.00"},{"$nulls":3},165]
["",null,"Selectionner",{"$nulls":6},{"v":0,"d":"0.00"},{"$nulls":5},{"v":0,"d":"0.00"},{"$nulls":5},{"v":0,"d":"0.00"},{"v":0,"d":"0.00"},{"$nulls":3},166]
["",null,"Selectionner",{"$nulls":6},{"v":0,"d":"0.00"},{"$nulls":5},{"v":0,"d":"0.00"},{"$nulls":5},{"v":0,"d":"0.00"},{"v":0,"d":"0.00"},{"$nulls":3},167]
["",null,"Selectionner",{"$nulls":6},{"v":0,"d":"0.00"},{"$nulls":5},{"v":0,"d":"0.00"},{"$nulls":5},{"v":0,"d":"0.00"},{"v":0,"d":"0.00"},{"$nulls":3},168]
["",null,"Selectionner",{"$nulls":6},{"v":0,"d":"0.00"},{"$nulls":5},{"v":0,"d":"0.00"},{"$nulls":5},{"v":0,"d":"0.00"},{"v":0,"d":"0.00"},{"$nulls":3},169]
["",null,"Selectionner",{"$nulls":6},{"v":0,"d":"0.00"},{"$nulls":5},{"v":0,"d":"0.00"},{"$nulls":5},{"v":0,"d":"0.00"},{"v":0,"d":"0.00"},{"$nulls":3},170]
["",null,"Selectionner",{"$nulls":6},{"v":0,"d":"0.00"},{"$nulls":5},{"v":0,"d":"0.00"},{"$nulls":5},{"v":0,"d":"0.00"},{"v":0,"d":"0.00"},{"$nulls":3},171]
["",null,"Selectionner",{"$nulls":6},{"v":0,"d":"0.00"},{"$nulls":5},{"v":0,"d":"0.00"},{"$nulls":5},{"v":0,"d":"0.00"},{"v":0,"d":"0.00"},{"$nulls":3},172]
["",null,"Selectionner",{"$nulls":6},{"v":0,"d":"0.00"},{"$nulls":5},{"v":0,"d":"0.00"},{"$nulls":5},{"v":0,"d":"0.00"},{"v":0,"d":"0.00"},{"$nulls":3},173]
["",null,"Selectionner",{"$nulls":6},{"v":0,"d":"0.00"},{"$nulls":5},{"v":0,"d":"0.00"},{"$nulls":5},{"v":0,"d":"0.00"},{"v":0,"d":"0.00"},{"$nulls":3},174]
["",null,"Selectionner",{"$nulls":6},{"v":0,"d":"0.00"},{"$nulls":5},{"v":0,"d":"0.00"},{"$nulls":5},{"v":0,"d":"0.00"},{"v":0,"d":"0.00"},{"$nulls":3},175]
["",null,"Selectionner",{"$nulls":6},{"v":0,"d":"0.00"},{"$nulls":5},{"v":0,"d":"0.00"},{"$nulls":5},{"v":0,"d":"0.00"},{"v":0,"d":"0.00"},{"$nulls":3},176]
["",null,"Selectionner",{"$nulls":6},{"v":0,"d":"0.00"},{"$nulls":5},{"v":0,"d":"0.00"},{"$nulls":5},{"v":0,"d":"0.00"},{"v":0,"d":"0.00"},{"$nulls":3},177]
["",null,"Selectionner",{"$nulls":6},{"v":0,"d":"0.00"},{"$nulls":5},{"v":0,"d":"0.00"},{"$nulls":5},{"v":0,"d":"0.00"},{"v":0,"d":"0.00"},{"$nulls":3},178]
["",null,"Selectionner",{"$nulls":6},{"v":0,"d":"0.00"},{"$nulls":5},{"v":0,"d":"0.00"},{"$nulls":5},{"v":0,"d":"0.00"},{"v":0,"d":"0.00"},{"$nulls":3},179]
["",null,"Selectionner",{"$nulls":6},{"v":0,"d":"0.00"},{"$nulls":5},{"v":0,"d":"0.00"},{"$nulls":5},{"v":0,"d":"0.00"},{"v":0,"d":"0.00"},{"$nulls":3},180]
["",null,"Selectionner",{"$nulls":6},{"v":0,"d":"0.00"},{"$nulls":5},{"v":0,"d":"0.00"},{"$nulls":5},{"v":0,"d":"0.00"},{"v":0,"d":"0.00"},{"$nulls":3},181]
["",null,"Selectionner",{"$nulls":6},{"v":0,"d":"0.00"},{"$nulls":5},{"v":0,"d":"0.00"},{"$nulls":5},{"v":0,"d":"0.00"},{"v":0,"d":"0.00"},{"$nulls":3},182]
["",null,"Selectionner",{"$nulls":6},{"v":0,"d":"0.00"},{"$nulls":5},{"v":0,"d":"0.00"},{"$nulls":5},{"v":0,"d":"0.00"},{"v":0,"d":"0.00"},{"$nulls":3},183]
["",null,"Selectionner",{"$nulls":6},{"v":0,"d":"0.00"},{"$nulls":5},{"v":0,"d":"0.00"},{"$nulls":5},{"v":0,"d":"0.00"},{"v":0,"d":"0.00"},{"$nulls":3},184]
["",null,"Selectionner",{"$nulls":6},{"v":0,"d":"0.00"},{"$nulls":5},{"v":0,"d":"0.00"},{"$nulls":5},{"v":0,"d":"0.00"},{"v":0,"d":"0.00"},{"$nulls":3},185]
["",null,"Selectionner",{"$nulls":6},{"v":0,"d":"0.00"},{"$nulls":5},{"v":0,"d":"0.00"},{"$nulls":5},{"v":0,"d":"0.00"},{"v":0,"d":"0.00"},{"$nulls":3},186]
["",null,"Selectionner",{"$nulls":6},{"v":0,"d":"0.00"},{"$nulls":5},{"v":0,"d":"0.00"},{"$nulls":5},{"v":0,"d":"0.00"},{"v":0,"d":"0.00"},{"$nulls":3},187]
["",null,"Selectionner",{"$nulls":6},{"v":0,"d":"0.00"},{"$nulls":5},{"v":0,"d":"0.00"},{"$nulls":5},{"v":0,"d":"0.00"},{"v":0,"d":"0.00"},{"$nulls":3},188]
["",null,"Selectionner",{"$nulls":6},{"v":0,"d":"0.00"},{"$nulls":5},{"v":0,"d":"0.00"},{"$nulls":5},{"v":0,"d":"0.00"},{"v":0,"d":"0.00"},{"$nulls":3},189]
["",null,"Selectionner",{"$nulls":6},{"v":0,"d":"0.00"},{"$nulls":5},{"v":0,"d":"0.00"},{"$nulls":5},{"v":0,"d":"0.00"},{"v":0,"d":"0.00"},{"$nulls":3},190]
["",null,"Selectionner",{"$nulls":6},{"v":0,"d":"0.00"},{"$nulls":5},{"v":0,"d":"0.00"},{"$nulls":5},{"v":0,"d":"0.00"},{"v":0,"d":"0.00"},{"$nulls":3},191]
["",null,"Selectionner",{"$nulls":6},{"v":0,"d":"0.00"},{"$nulls":5},{"v":0,"d":"0.00"},{"$nulls":5},{"v":0,"d":"0.00"},{"v":0,"d":"0.00"},{"$nulls":3},192]
["",null,"Selectionner",{"$nulls":6},{"v":0,"d":"0.00"},{"$nulls":5},{"v":0,"d":"0.00"},{"$nulls":5},{"v":0,"d":"0.00"},{"v":0,"d":"0.00"},{"$nulls":3},193]
[{"$f":"IF(D200=\"\",\"\",AA200)","v":""},null,"Selectionner",{"$nulls":6},{"$f":"SUM(F200:I200)","v":{"v":0,"d":"0.00"}},{"$nulls":5},{"$f":"SUM(L200:O200)","v":{"v":0,"d":"0.00"}},{"$nulls":5},{"$f":"SUM(R200:U200)","v":{"v":0,"d":"0.00"}},{"$f":"V200+P200+J200","v":{"v":0,"d":"0.00"}},{"$nulls":3},194]
["",null,"Selectionner",{"$nulls":6},{"v":0,"d":"0.00"},{"$nulls":5},{"v":0,"d":"0.00"},{"$nulls":5},{"v":0,"d":"0.00"},{"v":0,"d":"0.00"},{"$nulls":3},195]
["",null,"Selectionner",{"$nulls":6},{"v":0,"d":"0.00"},{"$nulls":5},{"v":0,"d":"0.00"},{"$nulls":5},{"v":0,"d":"0.00"},{"v":0,"d":"0.00"},{"$nulls":3},196]
["",null,"Selectionner",{"$nulls":6},{"v":0,"d":"0.00"},{"$nulls":5},{"v":0,"d":"0.00"},{"$nulls":5},{"v":0,"d":"0.00"},{"v":0,"d":"0.00"},{"$nulls":3},197]
["",null,"Selectionner",{"$nulls":6},{"v":0,"d":"0.00"},{"$nulls":5},{"v":0,"d":"0.00"},{"$nulls":5},{"v":0,"d":"0.00"},{"v":0,"d":"0.00"},{"$nulls":3},198]
["",null,"Selectionner",{"$nulls":6},{"v":0,"d":"0.00"},{"$nulls":5},{"v":0,"d":"0.00"},{"$nulls":5},{"v":0,"d":"0.00"},{"v":0,"d":"0.00"},{"$nulls":3},199]
["",null,"Selectionner",{"$nulls":6},{"v":0,"d":"0.00"},{"$nulls":5},{"v":0,"d":"0.00"},{"$nulls":5},{"v":0,"d":"0.00"},{"v":0,"d":"0.00"},{"$nulls":3},200]
["",null,"Selectionner",{"$nulls":6},{"v":0,"d":"0.00"},{"$nulls":5},{"v":0,"d":"0.00"},{"$nulls":5},{"v":0,"d":"0.00"},{"v":0,"d":"0.00"},{"$nulls":3},201]
["",null,"Selectionner",{"$nulls":6},{"v":0,"d":"0.00"},{"$nulls":5},{"v":0,"d":"0.00"},{"$nulls":5},{"v":0,"d":"0.00"},{"v":0,"d":"0.00"},{"$nulls":3},202]
["",null,"Selectionner",{"$nulls":6},{"v":0,"d":"0.00"},{"$nulls":5},{"v":0,"d":"0.00"},{"$nulls":5},{"v":0,"d":"0.00"},{"v":0,"d":"0.00"},{"$nulls":3},203]
["",null,"Selectionner",{"$nulls":6},{"v":0,"d":"0.00"},{"$nulls":5},{"v":0,"d":"0.00"},{"$nulls":5},{"v":0,"d":"0.00"},{"v":0,"d":"0.00"},{"$nulls":3},204]
["",null,"Selectionner",{"$nulls":6},{"v":0,"d":"0.00"},{"$nulls":5},{"v":0,"d":"0.00"},{"$nulls":5},{"v":0,"d":"0.00"},{"v":0,"d":"0.00"},{"$nulls":3},205]
["",null,"Selectionner",{"$nulls":6},{"v":0,"d":"0.00"},{"$nulls":5},{"v":0,"d":"0.00"},{"$nulls":5},{"v":0,"d":"0.00"},{"v":0,"d":"0.00"},{"$nulls":3},206]
["",null,"Selectionner",{"$nulls":6},{"v":0,"d":"0.00"},{"$nulls":5},{"v":0,"d":"0.00"},{"$nulls":5},{"v":0,"d":"0.00"},{"v":0,"d":"0.00"},{"$nulls":3},207]
["",null,"Selectionner",{"$nulls":6},{"v":0,"d":"0.00"},{"$nulls":5},{"v":0,"d":"0.00"},{"$nulls":5},{"v":0,"d":"0.00"},{"v":0,"d":"0.00"},{"$nulls":3},208]
["",null,"Selectionner",{"$nulls":6},{"v":0,"d":"0.00"},{"$nulls":5},{"v":0,"d":"0.00"},{"$nulls":5},{"v":0,"d":"0.00"},{"v":0,"d":"0.00"},{"$nulls":3},209]
["",null,"Selectionner",{"$nulls":6},{"v":0,"d":"0.00"},{"$nulls":5},{"v":0,"d":"0.00"},{"$nulls":5},{"v":0,"d":"0.00"},{"v":0,"d":"0.00"},{"$nulls":3},210]
["",null,"Selectionner",{"$nulls":6},{"v":0,"d":"0.00"},{"$nulls":5},{"v":0,"d":"0.00"},{"$nulls":5},{"v":0,"d":"0.00"},{"v":0,"d":"0.00"},{"$nulls":3},211]
["",null,"Selectionner",{"$nulls":6},{"v":0,"d":"0.00"},{"$nulls":5},{"v":0,"d":"0.00"},{"$nulls":5},{"v":0,"d":"0.00"},{"v":0,"d":"0.00"},{"$nulls":3},212]
["",null,"Selectionner",{"$nulls":6},{"v":0,"d":"0.00"},{"$nulls":5},{"v":0,"d":"0.00"},{"$nulls":5},{"v":0,"d":"0.00"},{"v":0,"d":"0.00"},{"$nulls":3},213]
["",null,"Selectionner",{"$nulls":6},{"v":0,"d":"0.00"},{"$nulls":5},{"v":0,"d":"0.00"},{"$nulls":5},{"v":0,"d":"0.00"},{"v":0,"d":"0.00"},{"$nulls":3},214]
["",null,"Selectionner",{"$nulls":6},{"v":0,"d":"0.00"},{"$nulls":5},{"v":0,"d":"0.00"},{"$nulls":5},{"v":0,"d":"0.00"},{"v":0,"d":"0.00"},{"$nulls":3},215]
["",null,"Selectionner",{"$nulls":6},{"v":0,"d":"0.00"},{"$nulls":5},{"v":0,"d":"0.00"},{"$nulls":5},{"v":0,"d":"0.00"},{"v":0,"d":"0.00"},{"$nulls":3},216]
["",null,"Selectionner",{"$nulls":6},{"v":0,"d":"0.00"},{"$nulls":5},{"v":0,"d":"0.00"},{"$nulls":5},{"v":0,"d":"0.00"},{"v":0,"d":"0.00"},{"$nulls":3},217]
["",null,"Selectionner",{"$nulls":6},{"v":0,"d":"0.00"},{"$nulls":5},{"v":0,"d":"0.00"},{"$nulls":5},{"v":0,"d":"0.00"},{"v":0,"d":"0.00"},{"$nulls":3},218]
["",null,"Selectionner",{"$nulls":6},{"v":0,"d":"0.00"},{"$nulls":5},{"v":0,"d":"0.00"},{"$nulls":5},{"v":0,"d":"0.00"},{"v":0,"d":"0.00"},{"$nulls":3},219]
["",null,"Selectionner",{"$nulls":6},{"v":0,"d":"0.00"},{"$nulls":5},{"v":0,"d":"0.00"},{"$nulls":5},{"v":0,"d":"0.00"},{"v":0,"d":"0.00"},{"$nulls":3},220]
["",null,"Selectionner",{"$nulls":6},{"v":0,"d":"0.00"},{"$nulls":5},{"v":0,"d":"0.00"},{"$nulls":5},{"v":0,"d":"0.00"},{"v":0,"d":"0.00"},{"$nulls":3},221]
["",null,"Selectionner",{"$nulls":6},{"v":0,"d":"0.00"},{"$nulls":5},{"v":0,"d":"0.00"},{"$nulls":5},{"v":0,"d":"0.00"},{"v":0,"d":"0.00"},{"$nulls":3},222]
["",null,"Selectionner",{"$nulls":6},{"v":0,"d":"0.00"},{"$nulls":5},{"v":0,"d":"0.00"},{"$nulls":5},{"v":0,"d":"0.00"},{"v":0,"d":"0.00"},{"$nulls":3},223]
["",null,"Selectionner",{"$nulls":6},{"v":0,"d":"0.00"},{"$nulls":5},{"v":0,"d":"0.00"},{"$nulls":5},{"v":0,"d":"0.00"},{"v":0,"d":"0.00"},{"$nulls":3},224]
["",null,"Selectionner",{"$nulls":6},{"v":0,"d":"0.00"},{"$nulls":5},{"v":0,"d":"0.00"},{"$nulls":5},{"v":0,"d":"0.00"},{"v":0,"d":"0.00"},{"$nulls":3},225]
["",null,"Selectionner",{"$nulls":6},{"v":0,"d":"0.00"},{"$nulls":5},{"v":0,"d":"0.00"},{"$nulls":5},{"v":0,"d":"0.00"},{"v":0,"d":"0.00"},{"$nulls":3},226]
["",null,"Selectionner",{"$nulls":6},{"v":0,"d":"0.00"},{"$nulls":5},{"v":0,"d":"0.00"},{"$nulls":5},{"v":0,"d":"0.00"},{"v":0,"d":"0.00"},{"$nulls":3},227]
["",null,"Selectionner",{"$nulls":6},{"v":0,"d":"0.00"},{"$nulls":5},{"v":0,"d":"0.00"},{"$nulls":5},{"v":0,"d":"0.00"},{"v":0,"d":"0.00"},{"$nulls":3},228]
["",null,"Selectionner",{"$nulls":6},{"v":0,"d":"0.00"},{"$nulls":5},{"v":0,"d":"0.00"},{"$nulls":5},{"v":0,"d":"0.00"},{"v":0,"d":"0.00"},{"$nulls":3},229]
["",null,"Selectionner",{"$nulls":6},{"v":0,"d":"0.00"},{"$nulls":5},{"v":0,"d":"0.00"},{"$nulls":5},{"v":0,"d":"0.00"},{"v":0,"d":"0.00"},{"$nulls":3},230]
["",null,"Selectionner",{"$nulls":6},{"v":0,"d":"0.00"},{"$nulls":5},{"v":0,"d":"0.00"},{"$nulls":5},{"v":0,"d":"0.00"},{"v":0,"d":"0.00"},{"$nulls":3},231]
["",null,"Selectionner",{"$nulls":6},{"v":0,"d":"0.00"},{"$nulls":5},{"v":0,"d":"0.00"},{"$nulls":5},{"v":0,"d":"0.00"},{"v":0,"d":"0.00"},{"$nulls":3},232]
["",null,"Selectionner",{"$nulls":6},{"v":0,"d":"0.00"},{"$nulls":5},{"v":0,"d":"0.00"},{"$nulls":5},{"v":0,"d":"0.00"},{"v":0,"d":"0.00"},{"$nulls":3},233]
["",null,"Selectionner",{"$nulls":6},{"v":0,"d":"0.00"},{"$nulls":5},{"v":0,"d":"0.00"},{"$nulls":5},{"v":0,"d":"0.00"},{"v":0,"d":"0.00"},{"$nulls":3},234]
["",null,"Selectionner",{"$nulls":6},{"v":0,"d":"0.00"},{"$nulls":5},{"v":0,"d":"0.00"},{"$nulls":5},{"v":0,"d":"0.00"},{"v":0,"d":"0.00"},{"$nulls":3},235]
["",null,"Selectionner",{"$nulls":6},{"v":0,"d":"0.00"},{"$nulls":5},{"v":0,"d":"0.00"},{"$nulls":5},{"v":0,"d":"0.00"},{"v":0,"d":"0.00"},{"$nulls":3},236]
["",null,"Selectionner",{"$nulls":6},{"v":0,"d":"0.00"},{"$nulls":5},{"v":0,"d":"0.00"},{"$nulls":5},{"v":0,"d":"0.00"},{"v":0,"d":"0.00"},{"$nulls":3},237]
["",null,"Selectionner",{"$nulls":6},{"v":0,"d":"0.00"},{"$nulls":5},{"v":0,"d":"0.00"},{"$nulls":5},{"v":0,"d":"0.00"},{"v":0,"d":"0.00"},{"$nulls":3},238]
["",null,"Selectionner",{"$nulls":6},{"v":0,"d":"0.00"},{"$nulls":5},{"v":0,"d":"0.00"},{"$nulls":5},{"v":0,"d":"0.00"},{"v":0,"d":"0.00"},{"$nulls":3},239]
["",null,"Selectionner",{"$nulls":6},{"v":0,"d":"0.00"},{"$nulls":5},{"v":0,"d":"0.00"},{"$nulls":5},{"v":0,"d":"0.00"},{"v":0,"d":"0.00"},{"$nulls":3},240]
["",null,"Selectionner",{"$nulls":6},{"v":0,"d":"0.00"},{"$nulls":5},{"v":0,"d":"0.00"},{"$nulls":5},{"v":0,"d":"0.00"},{"v":0,"d":"0.00"},{"$nulls":3},241]
["",null,"Selectionner",{"$nulls":6},{"v":0,"d":"0.00"},{"$nulls":5},{"v":0,"d":"0.00"},{"$nulls":5},{"v":0,"d":"0.00"},{"v":0,"d":"0.00"},{"$nulls":3},242]
["",null,"Selectionner",{"$nulls":6},{"v":0,"d":"0.00"},{"$nulls":5},{"v":0,"d":"0.00"},{"$nulls":5},{"v":0,"d":"0.00"},{"v":0,"d":"0.00"},{"$nulls":3},243]
["",null,"Selectionner",{"$nulls":6},{"v":0,"d":"0.00"},{"$nulls":5},{"v":0,"d":"0.00"},{"$nulls":5},{"v":0,"d":"0.00"},{"v":0,"d":"0.00"},{"$nulls":3},244]
["",null,"Selectionner",{"$nulls":6},{"v":0,"d":"0.00"},{"$nulls":5},{"v":0,"d":"0.00"},{"$nulls":5},{"v":0,"d":"0.00"},{"v":0,"d":"0.00"},{"$nulls":3},245]
["",null,"Selectionner",{"$nulls":6},{"v":0,"d":"0.00"},{"$nulls":5},{"v":0,"d":"0.00"},{"$nulls":5},{"v":0,"d":"0.00"},{"v":0,"d":"0.00"},{"$nulls":3},246]
["",null,"Selectionner",{"$nulls":6},{"v":0,"d":"0.00"},{"$nulls":5},{"v":0,"d":"0.00"},{"$nulls":5},{"v":0,"d":"0.00"},{"v":0,"d":"0.00"},{"$nulls":3},247]
["",null,"Selectionner",{"$nulls":6},{"v":0,"d":"0.00"},{"$nulls":5},{"v":0,"d":"0.00"},{"$nulls":5},{"v":0,"d":"0.00"},{"v":0,"d":"0.00"},{"$nulls":3},248]
["",null,"Selectionner",{"$nulls":6},{"v":0,"d":"0.00"},{"$nulls":5},{"v":0,"d":"0.00"},{"$nulls":5},{"v":0,"d":"0.00"},{"v":0,"d":"0.00"},{"$nulls":3},249]
["",null,"Selectionner",{"$nulls":6},{"v":0,"d":"0.00"},{"$nulls":5},{"v":0,"d":"0.00"},{"$nulls":5},{"v":0,"d":"0.00"},{"v":0,"d":"0.00"},{"$nulls":3},250]
["",null,"Selectionner",{"$nulls":6},{"v":0,"d":"0.00"},{"$nulls":5},{"v":0,"d":"0.00"},{"$nulls":5},{"v":0,"d":"0.00"},{"v":0,"d":"0.00"},{"$nulls":3},251]
["",null,"Selectionner",{"$nulls":6},{"v":0,"d":"0.00"},{"$nulls":5},{"v":0,"d":"0.00"},{"$nulls":5},{"v":0,"d":"0.00"},{"v":0,"d":"0.00"},{"$nulls":3},252]
["",null,"Selectionner",{"$nulls":6},{"v":0,"d":"0.00"},{"$nulls":5},{"v":0,"d":"0.00"},{"$nulls":5},{"v":0,"d":"0.00"},{"v":0,"d":"0.00"},{"$nulls":3},253]
["",null,"Selectionner",{"$nulls":6},{"v":0,"d":"0.00"},{"$nulls":5},{"v":0,"d":"0.00"},{"$nulls":5},{"v":0,"d":"0.00"},{"v":0,"d":"0.00"},{"$nulls":3},254]
["",null,"Selectionner",{"$nulls":6},{"v":0,"d":"0.00"},{"$nulls":5},{"v":0,"d":"0.00"},{"$nulls":5},{"v":0,"d":"0.00"},{"v":0,"d":"0.00"},{"$nulls":3},255]
["",null,"Selectionner",{"$nulls":6},{"v":0,"d":"0.00"},{"$nulls":5},{"v":0,"d":"0.00"},{"$nulls":5},{"v":0,"d":"0.00"},{"v":0,"d":"0.00"},{"$nulls":3},256]
["",null,"Selectionner",{"$nulls":6},{"v":0,"d":"0.00"},{"$nulls":5},{"v":0,"d":"0.00"},{"$nulls":5},{"v":0,"d":"0.00"},{"v":0,"d":"0.00"},{"$nulls":3},257]
[{"$f":"IF(D264=\"\",\"\",AA264)","v":""},null,"Selectionner",{"$nulls":6},{"$f":"SUM(F264:I264)","v":{"v":0,"d":"0.00"}},{"$nulls":5},{"$f":"SUM(L264:O264)","v":{"v":0,"d":"0.00"}},{"$nulls":5},{"$f":"SUM(R264:U264)","v":{"v":0,"d":"0.00"}},{"$f":"V264+P264+J264","v":{"v":0,"d":"0.00"}},{"$nulls":3},258]
["",null,"Selectionner",{"$nulls":6},{"v":0,"d":"0.00"},{"$nulls":5},{"v":0,"d":"0.00"},{"$nulls":5},{"v":0,"d":"0.00"},{"v":0,"d":"0.00"},{"$nulls":3},259]
["",null,"Selectionner",{"$nulls":6},{"v":0,"d":"0.00"},{"$nulls":5},{"v":0,"d":"0.00"},{"$nulls":5},{"v":0,"d":"0.00"},{"v":0,"d":"0.00"},{"$nulls":3},260]
["",null,"Selectionner",{"$nulls":6},{"v":0,"d":"0.00"},{"$nulls":5},{"v":0,"d":"0.00"},{"$nulls":5},{"v":0,"d":"0.00"},{"v":0,"d":"0.00"},{"$nulls":3},261]
["",null,"Selectionner",{"$nulls":6},{"v":0,"d":"0.00"},{"$nulls":5},{"v":0,"d":"0.00"},{"$nulls":5},{"v":0,"d":"0.00"},{"v":0,"d":"0.00"},{"$nulls":3},262]
["",null,"Selectionner",{"$nulls":6},{"v":0,"d":"0.00"},{"$nulls":5},{"v":0,"d":"0.00"},{"$nulls":5},{"v":0,"d":"0.00"},{"v":0,"d":"0.00"},{"$nulls":3},263]
["",null,"Selectionner",{"$nulls":6},{"v":0,"d":"0.00"},{"$nulls":5},{"v":0,"d":"0.00"},{"$nulls":5},{"v":0,"d":"0.00"},{"v":0,"d":"0.00"},{"$nulls":3},264]
["",null,"Selectionner",{"$nulls":6},{"v":0,"d":"0.00"},{"$nulls":5},{"v":0,"d":"0.00"},{"$nulls":5},{"v":0,"d":"0.00"},{"v":0,"d":"0.00"},{"$nulls":3},265]
["",null,"Selectionner",{"$nulls":6},{"v":0,"d":"0.00"},{"$nulls":5},{"v":0,"d":"0.00"},{"$nulls":5},{"v":0,"d":"0.00"},{"v":0,"d":"0.00"},{"$nulls":3},266]
["",null,"Selectionner",{"$nulls":6},{"v":0,"d":"0.00"},{"$nulls":5},{"v":0,"d":"0.00"},{"$nulls":5},{"v":0,"d":"0.00"},{"v":0,"d":"0.00"},{"$nulls":3},267]
["",null,"Selectionner",{"$nulls":6},{"v":0,"d":"0.00"},{"$nulls":5},{"v":0,"d":"0.00"},{"$nulls":5},{"v":0,"d":"0.00"},{"v":0,"d":"0.00"},{"$nulls":3},268]
["",null,"Selectionner",{"$nulls":6},{"v":0,"d":"0.00"},{"$nulls":5},{"v":0,"d":"0.00"},{"$nulls":5},{"v":0,"d":"0.00"},{"v":0,"d":"0.00"},{"$nulls":3},269]
["",null,"Selectionner",{"$nulls":6},{"v":0,"d":"0.00"},{"$nulls":5},{"v":0,"d":"0.00"},{"$nulls":5},{"v":0,"d":"0.00"},{"v":0,"d":"0.00"},{"$nulls":3},270]
["",null,"Selectionner",{"$nulls":6},{"v":0,"d":"0.00"},{"$nulls":5},{"v":0,"d":"0.00"},{"$nulls":5},{"v":0,"d":"0.00"},{"v":0,"d":"0.00"},{"$nulls":3},271]
["",null,"Selectionner",{"$nulls":6},{"v":0,"d":"0.00"},{"$nulls":5},{"v":0,"d":"0.00"},{"$nulls":5},{"v":0,"d":"0.00"},{"v":0,"d":"0.00"},{"$nulls":3},272]
["",null,"Selectionner",{"$nulls":6},{"v":0,"d":"0.00"},{"$nulls":5},{"v":0,"d":"0.00"},{"$nulls":5},{"v":0,"d":"0.00"},{"v":0,"d":"0.00"},{"$nulls":3},273]
["",null,"Selectionner",{"$nulls":6},{"v":0,"d":"0.00"},{"$nulls":5},{"v":0,"d":"0.00"},{"$nulls":5},{"v":0,"d":"0.00"},{"v":0,"d":"0.00"},{"$nulls":3},274]
["",null,"Selectionner",{"$nulls":6},{"v":0,"d":"0.00"},{"$nulls":5},{"v":0,"d":"0.00"},{"$nulls":5},{"v":0,"d":"0.00"},{"v":0,"d":"0.00"},{"$nulls":3},275]
["",null,"Selectionner",{"$nulls":6},{"v":0,"d":"0.00"},{"$nulls":5},{"v":0,"d":"0.00"},{"$nulls":5},{"v":0,"d":"0.00"},{"v":0,"d":"0.00"},{"$nulls":3},276]
["",null,"Selectionner",{"$nulls":6},{"v":0,"d":"0.00"},{"$nulls":5},{"v":0,"d":"0.00"},{"$nulls":5},{"v":0,"d":"0.00"},{"v":0,"d":"0.00"},{"$nulls":3},277]
["",null,"Selectionner",{"$nulls":6},{"v":0,"d":"0.00"},{"$nulls":5},{"v":0,"d":"0.00"},{"$nulls":5},{"v":0,"d":"0.00"},{"v":0,"d":"0.00"},{"$nulls":3},278]
["",null,"Selectionner",{"$nulls":6},{"v":0,"d":"0.00"},{"$nulls":5},{"v":0,"d":"0.00"},{"$nulls":5},{"v":0,"d":"0.00"},{"v":0,"d":"0.00"},{"$nulls":3},279]
["",null,"Selectionner",{"$nulls":6},{"v":0,"d":"0.00"},{"$nulls":5},{"v":0,"d":"0.00"},{"$nulls":5},{"v":0,"d":"0.00"},{"v":0,"d":"0.00"},{"$nulls":3},280]
["",null,"Selectionner",{"$nulls":6},{"v":0,"d":"0.00"},{"$nulls":5},{"v":0,"d":"0.00"},{"$nulls":5},{"v":0,"d":"0.00"},{"v":0,"d":"0.00"},{"$nulls":3},281]
["",null,"Selectionner",{"$nulls":6},{"v":0,"d":"0.00"},{"$nulls":5},{"v":0,"d":"0.00"},{"$nulls":5},{"v":0,"d":"0.00"},{"v":0,"d":"0.00"},{"$nulls":3},282]
["",null,"Selectionner",{"$nulls":6},{"v":0,"d":"0.00"},{"$nulls":5},{"v":0,"d":"0.00"},{"$nulls":5},{"v":0,"d":"0.00"},{"v":0,"d":"0.00"},{"$nulls":3},283]
["",null,"Selectionner",{"$nulls":6},{"v":0,"d":"0.00"},{"$nulls":5},{"v":0,"d":"0.00"},{"$nulls":5},{"v":0,"d":"0.00"},{"v":0,"d":"0.00"},{"$nulls":3},284]
["",null,"Selectionner",{"$nulls":6},{"v":0,"d":"0.00"},{"$nulls":5},{"v":0,"d":"0.00"},{"$nulls":5},{"v":0,"d":"0.00"},{"v":0,"d":"0.00"},{"$nulls":3},285]
["",null,"Selectionner",{"$nulls":6},{"v":0,"d":"0.00"},{"$nulls":5},{"v":0,"d":"0.00"},{"$nulls":5},{"v":0,"d":"0.00"},{"v":0,"d":"0.00"},{"$nulls":3},286]
["",null,"Selectionner",{"$nulls":6},{"v":0,"d":"0.00"},{"$nulls":5},{"v":0,"d":"0.00"},{"$nulls":5},{"v":0,"d":"0.00"},{"v":0,"d":"0.00"},{"$nulls":3},287]
["",null,"Selectionner",{"$nulls":6},{"v":0,"d":"0.00"},{"$nulls":5},{"v":0,"d":"0.00"},{"$nulls":5},{"v":0,"d":"0.00"},{"v":0,"d":"0.00"},{"$nulls":3},288]
["",null,"Selectionner",{"$nulls":6},{"v":0,"d":"0.00"},{"$nulls":5},{"v":0,"d":"0.00"},{"$nulls":5},{"v":0,"d":"0.00"},{"v":0,"d":"0.00"},{"$nulls":3},289]
["",null,"Selectionner",{"$nulls":6},{"v":0,"d":"0.00"},{"$nulls":5},{"v":0,"d":"0.00"},{"$nulls":5},{"v":0,"d":"0.00"},{"v":0,"d":"0.00"},{"$nulls":3},290]
["",null,"Selectionner",{"$nulls":6},{"v":0,"d":"0.00"},{"$nulls":5},{"v":0,"d":"0.00"},{"$nulls":5},{"v":0,"d":"0.00"},{"v":0,"d":"0.00"},{"$nulls":3},291]
["",null,"Selectionner",{"$nulls":6},{"v":0,"d":"0.00"},{"$nulls":5},{"v":0,"d":"0.00"},{"$nulls":5},{"v":0,"d":"0.00"},{"v":0,"d":"0.00"},{"$nulls":3},292]
["",null,"Selectionner",{"$nulls":6},{"v":0,"d":"0.00"},{"$nulls":5},{"v":0,"d":"0.00"},{"$nulls":5},{"v":0,"d":"0.00"},{"v":0,"d":"0.00"},{"$nulls":3},293]
["",null,"Selectionner",{"$nulls":6},{"v":0,"d":"0.00"},{"$nulls":5},{"v":0,"d":"0.00"},{"$nulls":5},{"v":0,"d":"0.00"},{"v":0,"d":"0.00"},{"$nulls":3},294]
["",null,"Selectionner",{"$nulls":6},{"v":0,"d":"0.00"},{"$nulls":5},{"v":0,"d":"0.00"},{"$nulls":5},{"v":0,"d":"0.00"},{"v":0,"d":"0.00"},{"$nulls":3},295]
["",null,"Selectionner",{"$nulls":6},{"v":0,"d":"0.00"},{"$nulls":5},{"v":0,"d":"0.00"},{"$nulls":5},{"v":0,"d":"0.00"},{"v":0,"d":"0.00"},{"$nulls":3},296]
["",null,"Selectionner",{"$nulls":6},{"v":0,"d":"0.00"},{"$nulls":5},{"v":0,"d":"0.00"},{"$nulls":5},{"v":0,"d":"0.00"},{"v":0,"d":"0.00"},{"$nulls":3},297]
["",null,"Selectionner",{"$nulls":6},{"v":0,"d":"0.00"},{"$nulls":5},{"v":0,"d":"0.00"},{"$nulls":5},{"v":0,"d":"0.00"},{"v":0,"d":"0.00"},{"$nulls":3},298]
["",null,"Selectionner",{"$nulls":6},{"v":0,"d":"0.00"},{"$nulls":5},{"v":0,"d":"0.00"},{"$nulls":5},{"v":0,"d":"0.00"},{"v":0,"d":"0.00"},{"$nulls":3},299]
["",null,"Selectionner",{"$nulls":6},{"v":0,"d":"0.00"},{"$nulls":5},{"v":0,"d":"0.00"},{"$nulls":5},{"v":0,"d":"0.00"},{"v":0,"d":"0.00"},{"$nulls":3},300]
["",null,"Selectionner",{"$nulls":6},{"v":0,"d":"0.00"},{"$nulls":5},{"v":0,"d":"0.00"},{"$nulls":5},{"v":0,"d":"0.00"},{"v":0,"d":"0.00"},{"$nulls":3},301]
["",null,"Selectionner",{"$nulls":6},{"v":0,"d":"0.00"},{"$nulls":5},{"v":0,"d":"0.00"},{"$nulls":5},{"v":0,"d":"0.00"},{"v":0,"d":"0.00"},{"$nulls":3},302]
["",null,"Selectionner",{"$nulls":6},{"v":0,"d":"0.00"},{"$nulls":5},{"v":0,"d":"0.00"},{"$nulls":5},{"v":0,"d":"0.00"},{"v":0,"d":"0.00"},{"$nulls":3},303]
["",null,"Selectionner",{"$nulls":6},{"v":0,"d":"0.00"},{"$nulls":5},{"v":0,"d":"0.00"},{"$nulls":5},{"v":0,"d":"0.00"},{"v":0,"d":"0.00"},{"$nulls":3},304]
["",null,"Selectionner",{"$nulls":6},{"v":0,"d":"0.00"},{"$nulls":5},{"v":0,"d":"0.00"},{"$nulls":5},{"v":0,"d":"0.00"},{"v":0,"d":"0.00"},{"$nulls":3},305]
["",null,"Selectionner",{"$nulls":6},{"v":0,"d":"0.00"},{"$nulls":5},{"v":0,"d":"0.00"},{"$nulls":5},{"v":0,"d":"0.00"},{"v":0,"d":"0.00"},{"$nulls":3},306]
["",null,"Selectionner",{"$nulls":6},{"v":0,"d":"0.00"},{"$nulls":5},{"v":0,"d":"0.00"},{"$nulls":5},{"v":0,"d":"0.00"},{"v":0,"d":"0.00"},{"$nulls":3},307]
["",null,"Selectionner",{"$nulls":6},{"v":0,"d":"0.00"},{"$nulls":5},{"v":0,"d":"0.00"},{"$nulls":5},{"v":0,"d":"0.00"},{"v":0,"d":"0.00"},{"$nulls":3},308]
["",null,"Selectionner",{"$nulls":6},{"v":0,"d":"0.00"},{"$nulls":5},{"v":0,"d":"0.00"},{"$nulls":5},{"v":0,"d":"0.00"},{"v":0,"d":"0.00"},{"$nulls":3},309]
["",null,"Selectionner",{"$nulls":6},{"v":0,"d":"0.00"},{"$nulls":5},{"v":0,"d":"0.00"},{"$nulls":5},{"v":0,"d":"0.00"},{"v":0,"d":"0.00"},{"$nulls":3},310]
["",null,"Selectionner",{"$nulls":6},{"v":0,"d":"0.00"},{"$nulls":5},{"v":0,"d":"0.00"},{"$nulls":5},{"v":0,"d":"0.00"},{"v":0,"d":"0.00"},{"$nulls":3},311]
["",null,"Selectionner",{"$nulls":6},{"v":0,"d":"0.00"},{"$nulls":5},{"v":0,"d":"0.00"},{"$nulls":5},{"v":0,"d":"0.00"},{"v":0,"d":"0.00"},{"$nulls":3},312]
["",null,"Selectionner",{"$nulls":6},{"v":0,"d":"0.00"},{"$nulls":5},{"v":0,"d":"0.00"},{"$nulls":5},{"v":0,"d":"0.00"},{"v":0,"d":"0.00"},{"$nulls":3},313]
["",null,"Selectionner",{"$nulls":6},{"v":0,"d":"0.00"},{"$nulls":5},{"v":0,"d":"0.00"},{"$nulls":5},{"v":0,"d":"0.00"},{"v":0,"d":"0.00"},{"$nulls":3},314]
["",null,"Selectionner",{"$nulls":6},{"v":0,"d":"0.00"},{"$nulls":5},{"v":0,"d":"0.00"},{"$nulls":5},{"v":0,"d":"0.00"},{"v":0,"d":"0.00"},{"$nulls":3},315]
["",null,"Selectionner",{"$nulls":6},{"v":0,"d":"0.00"},{"$nulls":5},{"v":0,"d":"0.00"},{"$nulls":5},{"v":0,"d":"0.00"},{"v":0,"d":"0.00"},{"$nulls":3},316]
["",null,"Selectionner",{"$nulls":6},{"v":0,"d":"0.00"},{"$nulls":5},{"v":0,"d":"0.00"},{"$nulls":5},{"v":0,"d":"0.00"},{"v":0,"d":"0.00"},{"$nulls":3},317]
["",null,"Selectionner",{"$nulls":6},{"v":0,"d":"0.00"},{"$nulls":5},{"v":0,"d":"0.00"},{"$nulls":5},{"v":0,"d":"0.00"},{"v":0,"d":"0.00"},{"$nulls":3},318]
["",null,"Selectionner",{"$nulls":6},{"v":0,"d":"0.00"},{"$nulls":5},{"v":0,"d":"0.00"},{"$nulls":5},{"v":0,"d":"0.00"},{"v":0,"d":"0.00"},{"$nulls":3},319]
["",null,"Selectionner",{"$nulls":6},{"v":0,"d":"0.00"},{"$nulls":5},{"v":0,"d":"0.00"},{"$nulls":5},{"v":0,"d":"0.00"},{"v":0,"d":"0.00"},{"$nulls":3},320]
["",null,"Selectionner",{"$nulls":6},{"v":0,"d":"0.00"},{"$nulls":5},{"v":0,"d":"0.00"},{"$nulls":5},{"v":0,"d":"0.00"},{"v":0,"d":"0.00"},{"$nulls":3},321]
[{"$f":"IF(D328=\"\",\"\",AA328)","v":""},null,"Selectionner",{"$nulls":6},{"$f":"SUM(F328:I328)","v":{"v":0,"d":"0.00"}},{"$nulls":5},{"$f":"SUM(L328:O328)","v":{"v":0,"d":"0.00"}},{"$nulls":5},{"$f":"SUM(R328:U328)","v":{"v":0,"d":"0.00"}},{"$f":"V328+P328+J328","v":{"v":0,"d":"0.00"}},{"$nulls":3},322]
["",null,"Selectionner",{"$nulls":6},{"v":0,"d":"0.00"},{"$nulls":5},{"v":0,"d":"0.00"},{"$nulls":5},{"v":0,"d":"0.00"},{"v":0,"d":"0.00"},{"$nulls":3},323]
["",null,"Selectionner",{"$nulls":6},{"v":0,"d":"0.00"},{"$nulls":5},{"v":0,"d":"0.00"},{"$nulls":5},{"v":0,"d":"0.00"},{"v":0,"d":"0.00"},{"$nulls":3},324]
["",null,"Selectionner",{"$nulls":6},{"v":0,"d":"0.00"},{"$nulls":5},{"v":0,"d":"0.00"},{"$nulls":5},{"v":0,"d":"0.00"},{"v":0,"d":"0.00"},{"$nulls":3},325]
["",null,"Selectionner",{"$nulls":6},{"v":0,"d":"0.00"},{"$nulls":5},{"v":0,"d":"0.00"},{"$nulls":5},{"v":0,"d":"0.00"},{"v":0,"d":"0.00"},{"$nulls":3},326]
["",null,"Selectionner",{"$nulls":6},{"v":0,"d":"0.00"},{"$nulls":5},{"v":0,"d":"0.00"},{"$nulls":5},{"v":0,"d":"0.00"},{"v":0,"d":"0.00"},{"$nulls":3},327]
["",null,"Selectionner",{"$nulls":6},{"v":0,"d":"0.00"},{"$nulls":5},{"v":0,"d":"0.00"},{"$nulls":5},{"v":0,"d":"0.00"},{"v":0,"d":"0.00"},{"$nulls":3},328]
["",null,"Selectionner",{"$nulls":6},{"v":0,"d":"0.00"},{"$nulls":5},{"v":0,"d":"0.00"},{"$nulls":5},{"v":0,"d":"0.00"},{"v":0,"d":"0.00"},{"$nulls":3},329]
["",null,"Selectionner",{"$nulls":6},{"v":0,"d":"0.00"},{"$nulls":5},{"v":0,"d":"0.00"},{"$nulls":5},{"v":0,"d":"0.00"},{"v":0,"d":"0.00"},{"$nulls":3},330]
["",null,"Selectionner",{"$nulls":6},{"v":0,"d":"0.00"},{"$nulls":5},{"v":0,"d":"0.00"},{"$nulls":5},{"v":0,"d":"0.00"},{"v":0,"d":"0.00"},{"$nulls":3},331]
["",null,"Selectionner",{"$nulls":6},{"v":0,"d":"0.00"},{"$nulls":5},{"v":0,"d":"0.00"},{"$nulls":5},{"v":0,"d":"0.00"},{"v":0,"d":"0.00"},{"$nulls":3},332]
["",null,"Selectionner",{"$nulls":6},{"v":0,"d":"0.00"},{"$nulls":5},{"v":0,"d":"0.00"},{"$nulls":5},{"v":0,"d":"0.00"},{"v":0,"d":"0.00"},{"$nulls":3},333]
["",null,"Selectionner",{"$nulls":6},{"v":0,"d":"0.00"},{"$nulls":5},{"v":0,"d":"0.00"},{"$nulls":5},{"v":0,"d":"0.00"},{"v":0,"d":"0.00"},{"$nulls":3},334]
["",null,"Selectionner",{"$nulls":6},{"v":0,"d":"0.00"},{"$nulls":5},{"v":0,"d":"0.00"},{"$nulls":5},{"v":0,"d":"0.00"},{"v":0,"d":"0.00"},{"$nulls":3},335]
["",null,"Selectionner",{"$nulls":6},{"v":0,"d":"0.00"},{"$nulls":5},{"v":0,"d":"0.00"},{"$nulls":5},{"v":0,"d":"0.00"},{"v":0,"d":"0.00"},{"$nulls":3},336]
["",null,"Selectionner",{"$nulls":6},{"v":0,"d":"0.00"},{"$nulls":5},{"v":0,"d":"0.00"},{"$nulls":5},{"v":0,"d":"0.00"},{"v":0,"d":"0.00"},{"$nulls":3},337]
["",null,"Selectionner",{"$nulls":6},{"v":0,"d":"0.00"},{"$nulls":5},{"v":0,"d":"0.00"},{"$nulls":5},{"v":0,"d":"0.00"},{"v":0,"d":"0.00"},{"$nulls":3},338]
["",null,"Selectionner",{"$nulls":6},{"v":0,"d":"0.00"},{"$nulls":5},{"v":0,"d":"0.00"},{"$nulls":5},{"v":0,"d":"0.00"},{"v":0,"d":"0.00"},{"$nulls":3},339]
["",null,"Selectionner",{"$nulls":6},{"v":0,"d":"0.00"},{"$nulls":5},{"v":0,"d":"0.00"},{"$nulls":5},{"v":0,"d":"0.00"},{"v":0,"d":"0.00"},{"$nulls":3},340]
["",null,"Selectionner",{"$nulls":6},{"v":0,"d":"0.00"},{"$nulls":5},{"v":0,"d":"0.00"},{"$nulls":5},{"v":0,"d":"0.00"},{"v":0,"d":"0.00"},{"$nulls":3},341]
["",null,"Selectionner",{"$nulls":6},{"v":0,"d":"0.00"},{"$nulls":5},{"v":0,"d":"0.00"},{"$nulls":5},{"v":0,"d":"0.00"},{"v":0,"d":"0.00"},{"$nulls":3},342]
["",null,"Selectionner",{"$nulls":6},{"v":0,"d":"0.00"},{"$nulls":5},{"v":0,"d":"0.00"},{"$nulls":5},{"v":0,"d":"0.00"},{"v":0,"d":"0.00"},{"$nulls":3},343]
["",null,"Selectionner",{"$nulls":6},{"v":0,"d":"0.00"},{"$nulls":5},{"v":0,"d":"0.00"},{"$nulls":5},{"v":0,"d":"0.00"},{"v":0,"d":"0.00"},{"$nulls":3},344]
["",null,"Selectionner",{"$nulls":6},{"v":0,"d":"0.00"},{"$nulls":5},{"v":0,"d":"0.00"},{"$nulls":5},{"v":0,"d":"0.00"},{"v":0,"d":"0.00"},{"$nulls":3},345]
["",null,"Selectionner",{"$nulls":6},{"v":0,"d":"0.00"},{"$nulls":5},{"v":0,"d":"0.00"},{"$nulls":5},{"v":0,"d":"0.00"},{"v":0,"d":"0.00"},{"$nulls":3},346]
["",null,"Selectionner",{"$nulls":6},{"v":0,"d":"0.00"},{"$nulls":5},{"v":0,"d":"0.00"},{"$nulls":5},{"v":0,"d":"0.00"},{"v":0,"d":"0.00"},{"$nulls":3},347]
["",null,"Selectionner",{"$nulls":6},{"v":0,"d":"0.00"},{"$nulls":5},{"v":0,"d":"0.00"},{"$nulls":5},{"v":0,"d":"0.00"},{"v":0,"d":"0.00"},{"$nulls":3},348]
["",null,"Selectionner",{"$nulls":6},{"v":0,"d":"0.00"},{"$nulls":5},{"v":0,"d":"0.00"},{"$nulls":5},{"v":0,"d":"0.00"},{"v":0,"d":"0.00"},{"$nulls":3},349]
["",null,"Selectionner",{"$nulls":6},{"v":0,"d":"0.00"},{"$nulls":5},{"v":0,"d":"0.00"},{"$nulls":5},{"v":0,"d":"0.00"},{"v":0,"d":"0.00"},{"$nulls":3},350]
["",null,"Selectionner",{"$nulls":6},{"v":0,"d":"0.00"},{"$nulls":5},{"v":0,"d":"0.00"},{"$nulls":5},{"v":0,"d":"0.00"},{"v":0,"d":"0.00"},{"$nulls":3},351]
["",null,"Selectionner",{"$nulls":6},{"v":0,"d":"0.00"},{"$nulls":5},{"v":0,"d":"0.00"},{"$nulls":5},{"v":0,"d":"0.00"},{"v":0,"d":"0.00"},{"$nulls":3},352]
["",null,"Selectionner",{"$nulls":6},{"v":0,"d":"0.00"},{"$nulls":5},{"v":0,"d":"0.00"},{"$nulls":5},{"v":0,"d":"0.00"},{"v":0,"d":"0.00"},{"$nulls":3},353]
["",null,"Selectionner",{"$nulls":6},{"v":0,"d":"0.00"},{"$nulls":5},{"v":0,"d":"0.00"},{"$nulls":5},{"v":0,"d":"0.00"},{"v":0,"d":"0.00"},{"$nulls":3},354]
["",null,"Selectionner",{"$nulls":6},{"v":0,"d":"0.00"},{"$nulls":5},{"v":0,"d":"0.00"},{"$nulls":5},{"v":0,"d":"0.00"},{"v":0,"d":"0.00"},{"$nulls":3},355]
["",null,"Selectionner",{"$nulls":6},{"v":0,"d":"0.00"},{"$nulls":5},{"v":0,"d":"0.00"},{"$nulls":5},{"v":0,"d":"0.00"},{"v":0,"d":"0.00"},{"$nulls":3},356]
["",null,"Selectionner",{"$nulls":6},{"v":0,"d":"0.00"},{"$nulls":5},{"v":0,"d":"0.00"},{"$nulls":5},{"v":0,"d":"0.00"},{"v":0,"d":"0.00"},{"$nulls":3},357]
["",null,"Selectionner",{"$nulls":6},{"v":0,"d":"0.00"},{"$nulls":5},{"v":0,"d":"0.00"},{"$nulls":5},{"v":0,"d":"0.00"},{"v":0,"d":"0.00"},{"$nulls":3},358]
["",null,"Selectionner",{"$nulls":6},{"v":0,"d":"0.00"},{"$nulls":5},{"v":0,"d":"0.00"},{"$nulls":5},{"v":0,"d":"0.00"},{"v":0,"d":"0.00"},{"$nulls":3},359]
["",null,"Selectionner",{"$nulls":6},{"v":0,"d":"0.00"},{"$nulls":5},{"v":0,"d":"0.00"},{"$nulls":5},{"v":0,"d":"0.00"},{"v":0,"d":"0.00"},{"$nulls":3},360]
["",null,"Selectionner",{"$nulls":6},{"v":0,"d":"0.00"},{"$nulls":5},{"v":0,"d":"0.00"},{"$nulls":5},{"v":0,"d":"0.00"},{"v":0,"d":"0.00"},{"$nulls":3},361]
["",null,"Selectionner",{"$nulls":6},{"v":0,"d":"0.00"},{"$nulls":5},{"v":0,"d":"0.00"},{"$nulls":5},{"v":0,"d":"0.00"},{"v":0,"d":"0.00"},{"$nulls":3},362]
["",null,"Selectionner",{"$nulls":6},{"v":0,"d":"0.00"},{"$nulls":5},{"v":0,"d":"0.00"},{"$nulls":5},{"v":0,"d":"0.00"},{"v":0,"d":"0.00"},{"$nulls":3},363]
["",null,"Selectionner",{"$nulls":6},{"v":0,"d":"0.00"},{"$nulls":5},{"v":0,"d":"0.00"},{"$nulls":5},{"v":0,"d":"0.00"},{"v":0,"d":"0.00"},{"$nulls":3},364]
["",null,"Selectionner",{"$nulls":6},{"v":0,"d":"0.00"},{"$nulls":5},{"v":0,"d":"0.00"},{"$nulls":5},{"v":0,"d":"0.00"},{"v":0,"d":"0.00"},{"$nulls":3},365]
["",null,"Selectionner",{"$nulls":6},{"v":0,"d":"0.00"},{"$nulls":5},{"v":0,"d":"0.00"},{"$nulls":5},{"v":0,"d":"0.00"},{"v":0,"d":"0.00"},{"$nulls":3},366]
["",null,"Selectionner",{"$nulls":6},{"v":0,"d":"0.00"},{"$nulls":5},{"v":0,"d":"0.00"},{"$nulls":5},{"v":0,"d":"0.00"},{"v":0,"d":"0.00"},{"$nulls":3},367]
["",null,"Selectionner",{"$nulls":6},{"v":0,"d":"0.00"},{"$nulls":5},{"v":0,"d":"0.00"},{"$nulls":5},{"v":0,"d":"0.00"},{"v":0,"d":"0.00"},{"$nulls":3},368]
["",null,"Selectionner",{"$nulls":6},{"v":0,"d":"0.00"},{"$nulls":5},{"v":0,"d":"0.00"},{"$nulls":5},{"v":0,"d":"0.00"},{"v":0,"d":"0.00"},{"$nulls":3},369]
["",null,"Selectionner",{"$nulls":6},{"v":0,"d":"0.00"},{"$nulls":5},{"v":0,"d":"0.00"},{"$nulls":5},{"v":0,"d":"0.00"},{"v":0,"d":"0.00"},{"$nulls":3},370]
["",null,"Selectionner",{"$nulls":6},{"v":0,"d":"0.00"},{"$nulls":5},{"v":0,"d":"0.00"},{"$nulls":5},{"v":0,"d":"0.00"},{"v":0,"d":"0.00"},{"$nulls":3},371]
["",null,"Selectionner",{"$nulls":6},{"v":0,"d":"0.00"},{"$nulls":5},{"v":0,"d":"0.00"},{"$nulls":5},{"v":0,"d":"0.00"},{"v":0,"d":"0.00"},{"$nulls":3},372]
["",null,"Selectionner",{"$nulls":6},{"v":0,"d":"0.00"},{"$nulls":5},{"v":0,"d":"0.00"},{"$nulls":5},{"v":0,"d":"0.00"},{"v":0,"d":"0.00"},{"$nulls":3},373]
["",null,"Selectionner",{"$nulls":6},{"v":0,"d":"0.00"},{"$nulls":5},{"v":0,"d":"0.00"},{"$nulls":5},{"v":0,"d":"0.00"},{"v":0,"d":"0.00"},{"$nulls":3},374]
["",null,"Selectionner",{"$nulls":6},{"v":0,"d":"0.00"},{"$nulls":5},{"v":0,"d":"0.00"},{"$nulls":5},{"v":0,"d":"0.00"},{"v":0,"d":"0.00"},{"$nulls":3},375]
["",null,"Selectionner",{"$nulls":6},{"v":0,"d":"0.00"},{"$nulls":5},{"v":0,"d":"0.00"},{"$nulls":5},{"v":0,"d":"0.00"},{"v":0,"d":"0.00"},{"$nulls":3},376]
["",null,"Selectionner",{"$nulls":6},{"v":0,"d":"0.00"},{"$nulls":5},{"v":0,"d":"0.00"},{"$nulls":5},{"v":0,"d":"0.00"},{"v":0,"d":"0.00"},{"$nulls":3},377]
["",null,"Selectionner",{"$nulls":6},{"v":0,"d":"0.00"},{"$nulls":5},{"v":0,"d":"0.00"},{"$nulls":5},{"v":0,"d":"0.00"},{"v":0,"d":"0.00"},{"$nulls":3},378]
["",null,"Selectionner",{"$nulls":6},{"v":0,"d":"0.00"},{"$nulls":5},{"v":0,"d":"0.00"},{"$nulls":5},{"v":0,"d":"0.00"},{"v":0,"d":"0.00"},{"$nulls":3},379]
["",null,"Selectionner",{"$nulls":6},{"v":0,"d":"0.00"},{"$nulls":5},{"v":0,"d":"0.00"},{"$nulls":5},{"v":0,"d":"0.00"},{"v":0,"d":"0.00"},{"$nulls":3},380]
["",null,"Selectionner",{"$nulls":6},{"v":0,"d":"0.00"},{"$nulls":5},{"v":0,"d":"0.00"},{"$nulls":5},{"v":0,"d":"0.00"},{"v":0,"d":"0.00"},{"$nulls":3},381]
["",null,"Selectionner",{"$nulls":6},{"v":0,"d":"0.00"},{"$nulls":5},{"v":0,"d":"0.00"},{"$nulls":5},{"v":0,"d":"0.00"},{"v":0,"d":"0.00"},{"$nulls":3},382]
["",null,"Selectionner",{"$nulls":6},{"v":0,"d":"0.00"},{"$nulls":5},{"v":0,"d":"0.00"},{"$nulls":5},{"v":0,"d":"0.00"},{"v":0,"d":"0.00"},{"$nulls":3},383]
["",null,"Selectionner",{"$nulls":6},{"v":0,"d":"0.00"},{"$nulls":5},{"v":0,"d":"0.00"},{"$nulls":5},{"v":0,"d":"0.00"},{"v":0,"d":"0.00"},{"$nulls":3},384]
["",null,"Selectionner",{"$nulls":6},{"v":0,"d":"0.00"},{"$nulls":5},{"v":0,"d":"0.00"},{"$nulls":5},{"v":0,"d":"0.00"},{"v":0,"d":"0.00"},{"$nulls":3},385]
[{"$f":"IF(D392=\"\",\"\",AA392)","v":""},null,"Selectionner",{"$nulls":6},{"$f":"SUM(F392:I392)","v":{"v":0,"d":"0.00"}},{"$nulls":5},{"$f":"SUM(L392:O392)","v":{"v":0,"d":"0.00"}},{"$nulls":5},{"$f":"SUM(R392:U392)","v":{"v":0,"d":"0.00"}},{"$f":"V392+P392+J392","v":{"v":0,"d":"0.00"}},{"$nulls":3},386]
["",null,"Selectionner",{"$nulls":6},{"v":0,"d":"0.00"},{"$nulls":5},{"v":0,"d":"0.00"},{"$nulls":5},{"v":0,"d":"0.00"},{"v":0,"d":"0.00"},{"$nulls":3},387]
["",null,"Selectionner",{"$nulls":6},{"v":0,"d":"0.00"},{"$nulls":5},{"v":0,"d":"0.00"},{"$nulls":5},{"v":0,"d":"0.00"},{"v":0,"d":"0.00"},{"$nulls":3},388]
["",null,"Selectionner",{"$nulls":6},{"v":0,"d":"0.00"},{"$nulls":5},{"v":0,"d":"0.00"},{"$nulls":5},{"v":0,"d":"0.00"},{"v":0,"d":"0.00"},{"$nulls":3},389]
["",null,"Selectionner",{"$nulls":6},{"v":0,"d":"0.00"},{"$nulls":5},{"v":0,"d":"0.00"},{"$nulls":5},{"v":0,"d":"0.00"},{"v":0,"d":"0.00"},{"$nulls":3},390]
["",null,"Selectionner",{"$nulls":6},{"v":0,"d":"0.00"},{"$nulls":5},{"v":0,"d":"0.00"},{"$nulls":5},{"v":0,"d":"0.00"},{"v":0,"d":"0.00"},{"$nulls":3},391]
["",null,"Selectionner",{"$nulls":6},{"v":0,"d":"0.00"},{"$nulls":5},{"v":0,"d":"0.00"},{"$nulls":5},{"v":0,"d":"0.00"},{"v":0,"d":"0.00"},{"$nulls":3},392]
["",null,"Selectionner",{"$nulls":6},{"v":0,"d":"0.00"},{"$nulls":5},{"v":0,"d":"0.00"},{"$nulls":5},{"v":0,"d":"0.00"},{"v":0,"d":"0.00"},{"$nulls":3},393]
["",null,"Selectionner",{"$nulls":6},{"v":0,"d":"0.00"},{"$nulls":5},{"v":0,"d":"0.00"},{"$nulls":5},{"v":0,"d":"0.00"},{"v":0,"d":"0.00"},{"$nulls":3},394]
["",null,"Selectionner",{"$nulls":6},{"v":0,"d":"0.00"},{"$nulls":5},{"v":0,"d":"0.00"},{"$nulls":5},{"v":0,"d":"0.00"},{"v":0,"d":"0.00"},{"$nulls":3},395]
["",null,"Selectionner",{"$nulls":6},{"v":0,"d":"0.00"},{"$nulls":5},{"v":0,"d":"0.00"},{"$nulls":5},{"v":0,"d":"0.00"},{"v":0,"d":"0.00"},{"$nulls":3},396]
["",null,"Selectionner",{"$nulls":6},{"v":0,"d":"0.00"},{"$nulls":5},{"v":0,"d":"0.00"},{"$nulls":5},{"v":0,"d":"0.00"},{"v":0,"d":"0.00"},{"$nulls":3},397]
["",null,"Selectionner",{"$nulls":6},{"v":0,"d":"0.00"},{"$nulls":5},{"v":0,"d":"0.00"},{"$nulls":5},{"v":0,"d":"0.00"},{"v":0,"d":"0.00"},{"$nulls":3},398]
["",null,"Selectionner",{"$nulls":6},{"v":0,"d":"0.00"},{"$nulls":5},{"v":0,"d":"0.00"},{"$nulls":5},{"v":0,"d":"0.00"},{"v":0,"d":"0.00"},{"$nulls":3},399]
["",null,"Selectionner",{"$nulls":6},{"v":0,"d":"0.00"},{"$nulls":5},{"v":0,"d":"0.00"},{"$nulls":5},{"v":0,"d":"0.00"},{"v":0,"d":"0.00"},{"$nulls":3},400]
["",null,"Selectionner",{"$nulls":6},{"v":0,"d":"0.00"},{"$nulls":5},{"v":0,"d":"0.00"},{"$nulls":5},{"v":0,"d":"0.00"},{"v":0,"d":"0.00"},{"$nulls":3},401]
["",null,"Selectionner",{"$nulls":6},{"v":0,"d":"0.00"},{"$nulls":5},{"v":0,"d":"0.00"},{"$nulls":5},{"v":0,"d":"0.00"},{"v":0,"d":"0.00"},{"$nulls":3},402]
["",null,"Selectionner",{"$nulls":6},{"v":0,"d":"0.00"},{"$nulls":5},{"v":0,"d":"0.00"},{"$nulls":5},{"v":0,"d":"0.00"},{"v":0,"d":"0.00"},{"$nulls":3},403]
["",null,"Selectionner",{"$nulls":6},{"v":0,"d":"0.00"},{"$nulls":5},{"v":0,"d":"0.00"},{"$nulls":5},{"v":0,"d":"0.00"},{"v":0,"d":"0.00"},{"$nulls":3},404]
["",null,"Selectionner",{"$nulls":6},{"v":0,"d":"0.00"},{"$nulls":5},{"v":0,"d":"0.00"},{"$nulls":5},{"v":0,"d":"0.00"},{"v":0,"d":"0.00"},{"$nulls":3},405]
["",null,"Selectionner",{"$nulls":6},{"v":0,"d":"0.00"},{"$nulls":5},{"v":0,"d":"0.00"},{"$nulls":5},{"v":0,"d":"0.00"},{"v":0,"d":"0.00"},{"$nulls":3},406]
["",null,"Selectionner",{"$nulls":6},{"v":0,"d":"0.00"},{"$nulls":5},{"v":0,"d":"0.00"},{"$nulls":5},{"v":0,"d":"0.00"},{"v":0,"d":"0.00"},{"$nulls":3},407]
["",null,"Selectionner",{"$nulls":6},{"v":0,"d":"0.00"},{"$nulls":5},{"v":0,"d":"0.00"},{"$nulls":5},{"v":0,"d":"0.00"},{"v":0,"d":"0.00"},{"$nulls":3},408]
["",null,"Selectionner",{"$nulls":6},{"v":0,"d":"0.00"},{"$nulls":5},{"v":0,"d":"0.00"},{"$nulls":5},{"v":0,"d":"0.00"},{"v":0,"d":"0.00"},{"$nulls":3},409]
["",null,"Selectionner",{"$nulls":6},{"v":0,"d":"0.00"},{"$nulls":5},{"v":0,"d":"0.00"},{"$nulls":5},{"v":0,"d":"0.00"},{"v":0,"d":"0.00"},{"$nulls":3},410]
["",null,"Selectionner",{"$nulls":6},{"v":0,"d":"0.00"},{"$nulls":5},{"v":0,"d":"0.00"},{"$nulls":5},{"v":0,"d":"0.00"},{"v":0,"d":"0.00"},{"$nulls":3},411]
["",null,"Selectionner",{"$nulls":6},{"v":0,"d":"0.00"},{"$nulls":5},{"v":0,"d":"0.00"},{"$nulls":5},{"v":0,"d":"0.00"},{"v":0,"d":"0.00"},{"$nulls":3},412]
["",null,"Selectionner",{"$nulls":6},{"v":0,"d":"0.00"},{"$nulls":5},{"v":0,"d":"0.00"},{"$nulls":5},{"v":0,"d":"0.00"},{"v":0,"d":"0.00"},{"$nulls":3},413]
["",null,"Selectionner",{"$nulls":6},{"v":0,"d":"0.00"},{"$nulls":5},{"v":0,"d":"0.00"},{"$nulls":5},{"v":0,"d":"0.00"},{"v":0,"d":"0.00"},{"$nulls":3},414]
["",null,"Selectionner",{"$nulls":6},{"v":0,"d":"0.00"},{"$nulls":5},{"v":0,"d":"0.00"},{"$nulls":5},{"v":0,"d":"0.00"},{"v":0,"d":"0.00"},{"$nulls":3},415]
["",null,"Selectionner",{"$nulls":6},{"v":0,"d":"0.00"},{"$nulls":5},{"v":0,"d":"0.00"},{"$nulls":5},{"v":0,"d":"0.00"},{"v":0,"d":"0.00"},{"$nulls":3},416]
["",null,"Selectionner",{"$nulls":6},{"v":0,"d":"0.00"},{"$nulls":5},{"v":0,"d":"0.00"},{"$nulls":5},{"v":0,"d":"0.00"},{"v":0,"d":"0.00"},{"$nulls":3},417]
["",null,"Selectionner",{"$nulls":6},{"v":0,"d":"0.00"},{"$nulls":5},{"v":0,"d":"0.00"},{"$nulls":5},{"v":0,"d":"0.00"},{"v":0,"d":"0.00"},{"$nulls":3},418]
["",null,"Selectionner",{"$nulls":6},{"v":0,"d":"0.00"},{"$nulls":5},{"v":0,"d":"0.00"},{"$nulls":5},{"v":0,"d":"0.00"},{"v":0,"d":"0.00"},{"$nulls":3},419]
["",null,"Selectionner",{"$nulls":6},{"v":0,"d":"0.00"},{"$nulls":5},{"v":0,"d":"0.00"},{"$nulls":5},{"v":0,"d":"0.00"},{"v":0,"d":"0.00"},{"$nulls":3},420]
["",null,"Selectionner",{"$nulls":6},{"v":0,"d":"0.00"},{"$nulls":5},{"v":0,"d":"0.00"},{"$nulls":5},{"v":0,"d":"0.00"},{"v":0,"d":"0.00"},{"$nulls":3},421]
["",null,"Selectionner",{"$nulls":6},{"v":0,"d":"0.00"},{"$nulls":5},{"v":0,"d":"0.00"},{"$nulls":5},{"v":0,"d":"0.00"},{"v":0,"d":"0.00"},{"$nulls":3},422]
["",null,"Selectionner",{"$nulls":6},{"v":0,"d":"0.00"},{"$nulls":5},{"v":0,"d":"0.00"},{"$nulls":5},{"v":0,"d":"0.00"},{"v":0,"d":"0.00"},{"$nulls":3},423]
["",null,"Selectionner",{"$nulls":6},{"v":0,"d":"0.00"},{"$nulls":5},{"v":0,"d":"0.00"},{"$nulls":5},{"v":0,"d":"0.00"},{"v":0,"d":"0.00"},{"$nulls":3},424]
["",null,"Selectionner",{"$nulls":6},{"v":0,"d":"0.00"},{"$nulls":5},{"v":0,"d":"0.00"},{"$nulls":5},{"v":0,"d":"0.00"},{"v":0,"d":"0.00"},{"$nulls":3},425]
["",null,"Selectionner",{"$nulls":6},{"v":0,"d":"0.00"},{"$nulls":5},{"v":0,"d":"0.00"},{"$nulls":5},{"v":0,"d":"0.00"},{"v":0,"d":"0.00"},{"$nulls":3},426]
["",null,"Selectionner",{"$nulls":6},{"v":0,"d":"0.00"},{"$nulls":5},{"v":0,"d":"0.00"},{"$nulls":5},{"v":0,"d":"0.00"},{"v":0,"d":"0.00"},{"$nulls":3},427]
["",null,"Selectionner",{"$nulls":6},{"v":0,"d":"0.00"},{"$nulls":5},{"v":0,"d":"0.00"},{"$nulls":5},{"v":0,"d":"0.00"},{"v":0,"d":"0.00"},{"$nulls":3},428]
["",null,"Selectionner",{"$nulls":6},{"v":0,"d":"0.00"},{"$nulls":5},{"v":0,"d":"0.00"},{"$nulls":5},{"v":0,"d":"0.00"},{"v":0,"d":"0.00"},{"$nulls":3},429]
["",null,"Selectionner",{"$nulls":6},{"v":0,"d":"0.00"},{"$nulls":5},{"v":0,"d":"0.00"},{"$nulls":5},{"v":0,"d":"0.00"},{"v":0,"d":"0.00"},{"$nulls":3},430]
["",null,"Selectionner",{"$nulls":6},{"v":0,"d":"0.00"},{"$nulls":5},{"v":0,"d":"0.00"},{"$nulls":5},{"v":0,"d":"0.00"},{"v":0,"d":"0.00"},{"$nulls":3},431]
["",null,"Selectionner",{"$nulls":6},{"v":0,"d":"0.00"},{"$nulls":5},{"v":0,"d":"0.00"},{"$nulls":5},{"v":0,"d":"0.00"},{"v":0,"d":"0.00"},{"$nulls":3},432]
["",null,"Selectionner",{"$nulls":6},{"v":0,"d":"0.00"},{"$nulls":5},{"v":0,"d":"0.00"},{"$nulls":5},{"v":0,"d":"0.00"},{"v":0,"d":"0.00"},{"$nulls":3},433]
["",null,"Selectionner",{"$nulls":6},{"v":0,"d":"0.00"},{"$nulls":5},{"v":0,"d":"0.00"},{"$nulls":5},{"v":0,"d":"0.00"},{"v":0,"d":"0.00"},{"$nulls":3},434]
["",null,"Selectionner",{"$nulls":6},{"v":0,"d":"0.00"},{"$nulls":5},{"v":0,"d":"0.00"},{"$nulls":5},{"v":0,"d":"0.00"},{"v":0,"d":"0.00"},{"$nulls":3},435]
["",null,"Selectionner",{"$nulls":6},{"v":0,"d":"0.00"},{"$nulls":5},{"v":0,"d":"0.00"},{"$nulls":5},{"v":0,"d":"0.00"},{"v":0,"d":"0.00"},{"$nulls":3},436]
["",null,"Selectionner",{"$nulls":6},{"v":0,"d":"0.00"},{"$nulls":5},{"v":0,"d":"0.00"},{"$nulls":5},{"v":0,"d":"0.00"},{"v":0,"d":"0.00"},{"$nulls":3},437]
["",null,"Selectionner",{"$nulls":6},{"v":0,"d":"0.00"},{"$nulls":5},{"v":0,"d":"0.00"},{"$nulls":5},{"v":0,"d":"0.00"},{"v":0,"d":"0.00"},{"$nulls":3},438]
["",null,"Selectionner",{"$nulls":6},{"v":0,"d":"0.00"},{"$nulls":5},{"v":0,"d":"0.00"},{"$nulls":5},{"v":0,"d":"0.00"},{"v":0,"d":"0.00"},{"$nulls":3},439]
["",null,"Selectionner",{"$nulls":6},{"v":0,"d":"0.00"},{"$nulls":5},{"v":0,"d":"0.00"},{"$nulls":5},{"v":0,"d":"0.00"},{"v":0,"d":"0.00"},{"$nulls":3},440]
["",null,"Selectionner",{"$nulls":6},{"v":0,"d":"0.00"},{"$nulls":5},{"v":0,"d":"0.00"},{"$nulls":5},{"v":0,"d":"0.00"},{"v":0,"d":"0.00"},{"$nulls":3},441]
["",null,"Selectionner",{"$nulls":6},{"v":0,"d":"0.00"},{"$nulls":5},{"v":0,"d":"0.00"},{"$nulls":5},{"v":0,"d":"0.00"},{"v":0,"d":"0.00"},{"$nulls":3},442]
["",null,"Selectionner",{"$nulls":6},{"v":0,"d":"0.00"},{"$nulls":5},{"v":0,"d":"0.00"},{"$nulls":5},{"v":0,"d":"0.00"},{"v":0,"d":"0.00"},{"$nulls":3},443]
["",null,"Selectionner",{"$nulls":6},{"v":0,"d":"0.00"},{"$nulls":5},{"v":0,"d":"0.00"},{"$nulls":5},{"v":0,"d":"0.00"},{"v":0,"d":"0.00"},{"$nulls":3},444]
["",null,"Selectionner",{"$nulls":6},{"v":0,"d":"0.00"},{"$nulls":5},{"v":0,"d":"0.00"},{"$nulls":5},{"v":0,"d":"0.00"},{"v":0,"d":"0.00"},{"$nulls":3},445]
["",null,"Selectionner",{"$nulls":6},{"v":0,"d":"0.00"},{"$nulls":5},{"v":0,"d":"0.00"},{"$nulls":5},{"v":0,"d":"0.00"},{"v":0,"d":"0.00"},{"$nulls":3},446]
["",null,"Selectionner",{"$nulls":6},{"v":0,"d":"0.00"},{"$nulls":5},{"v":0,"d":"0.00"},{"$nulls":5},{"v":0,"d":"0.00"},{"v":0,"d":"0.00"},{"$nulls":3},447]
["",null,"Selectionner",{"$nulls":6},{"v":0,"d":"0.00"},{"$nulls":5},{"v":0,"d":"0.00"},{"$nulls":5},{"v":0,"d":"0.00"},{"v":0,"d":"0.00"},{"$nulls":3},448]
["",null,"Selectionner",{"$nulls":6},{"v":0,"d":"0.00"},{"$nulls":5},{"v":0,"d":"0.00"},{"$nulls":5},{"v":0,"d":"0.00"},{"v":0,"d":"0.00"},{"$nulls":3},449]
[{"$f":"IF(D456=\"\",\"\",AA456)","v":""},null,"Selectionner",{"$nulls":6},{"$f":"SUM(F456:I456)","v":{"v":0,"d":"0.00"}},{"$nulls":5},{"$f":"SUM(L456:O456)","v":{"v":0,"d":"0.00"}},{"$nulls":5},{"$f":"SUM(R456:U456)","v":{"v":0,"d":"0.00"}},{"$f":"V456+P456+J456","v":{"v":0,"d":"0.00"}},{"$nulls":3},450]
["",null,"Selectionner",{"$nulls":6},{"v":0,"d":"0.00"},{"$nulls":5},{"v":0,"d":"0.00"},{"$nulls":5},{"v":0,"d":"0.00"},{"v":0,"d":"0.00"},{"$nulls":3},451]
["",null,"Selectionner",{"$nulls":6},{"v":0,"d":"0.00"},{"$nulls":5},{"v":0,"d":"0.00"},{"$nulls":5},{"v":0,"d":"0.00"},{"v":0,"d":"0.00"},{"$nulls":3},452]
["",null,"Selectionner",{"$nulls":6},{"v":0,"d":"0.00"},{"$nulls":5},{"v":0,"d":"0.00"},{"$nulls":5},{"v":0,"d":"0.00"},{"v":0,"d":"0.00"},{"$nulls":3},453]
["",null,"Selectionner",{"$nulls":6},{"v":0,"d":"0.00"},{"$nulls":5},{"v":0,"d":"0.00"},{"$nulls":5},{"v":0,"d":"0.00"},{"v":0,"d":"0.00"},{"$nulls":3},454]
["",null,"Selectionner",{"$nulls":6},{"v":0,"d":"0.00"},{"$nulls":5},{"v":0,"d":"0.00"},{"$nulls":5},{"v":0,"d":"0.00"},{"v":0,"d":"0.00"},{"$nulls":3},455]
["",null,"Selectionner",{"$nulls":6},{"v":0,"d":"0.00"},{"$nulls":5},{"v":0,"d":"0.00"},{"$nulls":5},{"v":0,"d":"0.00"},{"v":0,"d":"0.00"},{"$nulls":3},456]
["",null,"Selectionner",{"$nulls":6},{"v":0,"d":"0.00"},{"$nulls":5},{"v":0,"d":"0.00"},{"$nulls":5},{"v":0,"d":"0.00"},{"v":0,"d":"0.00"},{"$nulls":3},457]
["",null,"Selectionner",{"$nulls":6},{"v":0,"d":"0.00"},{"$nulls":5},{"v":0,"d":"0.00"},{"$nulls":5},{"v":0,"d":"0.00"},{"v":0,"d":"0.00"},{"$nulls":3},458]
["",null,"Selectionner",{"$nulls":6},{"v":0,"d":"0.00"},{"$nulls":5},{"v":0,"d":"0.00"},{"$nulls":5},{"v":0,"d":"0.00"},{"v":0,"d":"0.00"},{"$nulls":3},459]
["",null,"Selectionner",{"$nulls":6},{"v":0,"d":"0.00"},{"$nulls":5},{"v":0,"d":"0.00"},{"$nulls":5},{"v":0,"d":"0.00"},{"v":0,"d":"0.00"},{"$nulls":3},460]
["",null,"Selectionner",{"$nulls":6},{"v":0,"d":"0.00"},{"$nulls":5},{"v":0,"d":"0.00"},{"$nulls":5},{"v":0,"d":"0.00"},{"v":0,"d":"0.00"},{"$nulls":3},461]
["",null,"Selectionner",{"$nulls":6},{"v":0,"d":"0.00"},{"$nulls":5},{"v":0,"d":"0.00"},{"$nulls":5},{"v":0,"d":"0.00"},{"v":0,"d":"0.00"},{"$nulls":3},462]
["",null,"Selectionner",{"$nulls":6},{"v":0,"d":"0.00"},{"$nulls":5},{"v":0,"d":"0.00"},{"$nulls":5},{"v":0,"d":"0.00"},{"v":0,"d":"0.00"},{"$nulls":3},463]
["",null,"Selectionner",{"$nulls":6},{"v":0,"d":"0.00"},{"$nulls":5},{"v":0,"d":"0.00"},{"$nulls":5},{"v":0,"d":"0.00"},{"v":0,"d":"0.00"},{"$nulls":3},464]
["",null,"Selectionner",{"$nulls":6},{"v":0,"d":"0.00"},{"$nulls":5},{"v":0,"d":"0.00"},{"$nulls":5},{"v":0,"d":"0.00"},{"v":0,"d":"0.00"},{"$nulls":3},465]
["",null,"Selectionner",{"$nulls":6},{"v":0,"d":"0.00"},{"$nulls":5},{"v":0,"d":"0.00"},{"$nulls":5},{"v":0,"d":"0.00"},{"v":0,"d":"0.00"},{"$nulls":3},466]
["",null,"Selectionner",{"$nulls":6},{"v":0,"d":"0.00"},{"$nulls":5},{"v":0,"d":"0.00"},{"$nulls":5},{"v":0,"d":"0.00"},{"v":0,"d":"0.00"},{"$nulls":3},467]
["",null,"Selectionner",{"$nulls":6},{"v":0,"d":"0.00"},{"$nulls":5},{"v":0,"d":"0.00"},{"$nulls":5},{"v":0,"d":"0.00"},{"v":0,"d":"0.00"},{"$nulls":3},468]
["",null,"Selectionner",{"$nulls":6},{"v":0,"d":"0.00"},{"$nulls":5},{"v":0,"d":"0.00"},{"$nulls":5},{"v":0,"d":"0.00"},{"v":0,"d":"0.00"},{"$nulls":3},469]
["",null,"Selectionner",{"$nulls":6},{"v":0,"d":"0.00"},{"$nulls":5},{"v":0,"d":"0.00"},{"$nulls":5},{"v":0,"d":"0.00"},{"v":0,"d":"0.00"},{"$nulls":3},470]
["",null,"Selectionner",{"$nulls":6},{"v":0,"d":"0.00"},{"$nulls":5},{"v":0,"d":"0.00"},{"$nulls":5},{"v":0,"d":"0.00"},{"v":0,"d":"0.00"},{"$nulls":3},471]
["",null,"Selectionner",{"$nulls":6},{"v":0,"d":"0.00"},{"$nulls":5},{"v":0,"d":"0.00"},{"$nulls":5},{"v":0,"d":"0.00"},{"v":0,"d":"0.00"},{"$nulls":3},472]
["",null,"Selectionner",{"$nulls":6},{"v":0,"d":"0.00"},{"$nulls":5},{"v":0,"d":"0.00"},{"$nulls":5},{"v":0,"d":"0.00"},{"v":0,"d":"0.00"},{"$nulls":3},473]
["",null,"Selectionner",{"$nulls":6},{"v":0,"d":"0.00"},{"$nulls":5},{"v":0,"d":"0.00"},{"$nulls":5},{"v":0,"d":"0.00"},{"v":0,"d":"0.00"},{"$nulls":3},474]
[475,{"$nulls":4},{"$f":"SUM(F7:F480)","v":{"v":0,"d":"0.00"}},{"$f":"SUM(G7:G480)","v":{"v":0,"d":"0.00"}},{"v":0,"d":"0.00"},{"v":0,"d":"0.00"},{"v":0,"d":"0.00"},null,{"v":0,"d":"0.00"},{"v":0,"d":"0.00"},{"v":0,"d":"0.00"},{"v":0,"d":"0.00"},{"v":0,"d":"0.00"},null,{"v":0,"d":"0.00"},{"v":0,"d":"0.00"},{"v":0,"d":"0.00"},{"v":0,"d":"0.00"},{"v":0,"d":"0.00"},{"v":0,"d":"0.00"},{"$nulls":3},475]

{"sheet":"2-Programmer les activités","index":2,"n_rows":178,"n_cols":23,"rows_kept":178,"merged":[[0,1,0,3],[3,1,3,2],[4,1,4,2],[5,1,5,2]]}
[null,"LISTE DES ACTIVITES DE LA SUBVENTION POUR LE TRIMESTRE"]
[{"$nulls":3},"Informations",{"$nulls":4},"Montant total",null,"Choisir monnaie",{"$nulls":11},"Pays"]
[]
[null,"Periode d'activite (Selectionner)",null,"Janvier-Mars_2021",{"$nulls":4},{"$f":"SUM(H12:H100)","v":{"v":200000,"d":"200,000.00"}},null,"GNF",{"$nulls":11},{"$f":"VLOOKUP(K4,Param!CD3:CE183,2,FALSE)","v":"Guinea Franc"}]
[null,"Pays (Selectionner)",null,"Guinea",{"$nulls":5},"Taux de change","Choisir devise"]
[null,"Nom structure (Selectionner)",null,"ONUSIDA",null,1,null,null,{"$f":"IFERROR(I4/J6,\"\")","v":{"v":22.22222222222222,"d":"22.22"}},9000,"USD",{"$nulls":11},{"$f":"VLOOKUP(K6,Param!CD3:CE183,2,FALSE)","v":"US Dollar"}]
[null,"Section concernee",null,"Selectionner"]
[]
[]
["Num.","Numero dans le Plan de travail","Domaines","Intiule de l'activite",{"$nulls":3},"Montant de l'activite","Responsable execution","Date de debut","Date de fin"]
[{"$nulls":17},"Modules","Montant",null,"Interventions","Montant"]
[{"$f":"IFERROR(VLOOKUP(D12,Param!$BH$4:$BI$450,2,FALSE),0)","v":0},{"$f":"IFERROR(VLOOKUP(D12,Param!$BK$4:$BL$450,2,FALSE),\"\")","v":""},{"$f":"IFERROR(VLOOKUP(D12,Param!$BN$4:$BO$450,2,FALSE),\"\")","v":""},null,null,{"$f":"IF(D12=\"Selectionner\",\"\",D12)","v":0},{"$f":"IF(A12=\"\",\"\",A12)","v":0},{"v":200000,"d":"200,000"},"MS","2021-03-02","2021-03-20",null,null,{"$f":"IF(D12=\"\",\"\",D12)","v":""},{"$f":"IF(H12=\"\",\"\",H12)","v":200000},null,null,{"$f":"B12","v":""},{"$f":"IF(H12=\"\",\"\",H12)","v":200000},null,{"$f":"IF(C12=\"\",\"\",C12)","v":""},{"$f":"S12","v":200000}]
[{"$f":"IFERROR(VLOOKUP(D13,Param!$BH$4:$BI$450,2,FALSE),0)","v":0},{"$f":"IFERROR(VLOOKUP(D13,Param!$BK$4:$BL$450,2,FALSE),\"\")","v":""},{"$f":"IFERROR(VLOOKUP(D13,Param!$BN$4:$BO$450,2,FALSE),\"\")","v":""},null,null,0,{"$f":"IF(A13=\"\",\"\",A13)","v":0},null,"Selectionner",{"$nulls":4},{"$f":"IF(D13=\"\",\"\",D13)","v":""},{"$f":"IF(H13=\"\",\"\",H13)","v":""},null,null,{"$f":"IF(B13=\"\",\"\",B13)","v":""},{"$f":"IF(H13=\"\",\"\",H13)","v":""},null,{"$f":"IF(C13=\"\",\"\",C13)","v":""},{"$f":"S13","v":""}]
[{"$f":"IFERROR(VLOOKUP(D14,Param!$BH$4:$BI$450,2,FALSE),0)","v":0},{"$f":"IFERROR(VLOOKUP(D14,Param!$BK$4:$BL$450,2,FALSE),\"\")","v":""},{"$f":"IFERROR(VLOOKUP(D14,Param!$BN$4:$BO$450,2,FALSE),\"\")","v":""},null,null,0,0,null,"Selectionner",{"$nulls":4},"","",null,null,{"$f":"IF(B14=\"\",\"\",B14)","v":""},"",null,"",""]
[{"$f":"IFERROR(VLOOKUP(D15,Param!$BH$4:$BI$450,2,FALSE),0)","v":0},{"$f":"IFERROR(VLOOKUP(D15,Param!$BK$4:$BL$450,2,FALSE),\"\")","v":""},{"$f":"IFERROR(VLOOKUP(D15,Param!$BN$4:$BO$450,2,FALSE),\"\")","v":""},null,null,0,0,null,"Selectionner",{"$nulls":4},"","",null,null,"","",null,"",""]
[{"$f":"IFERROR(VLOOKUP(D16,Param!$BH$4:$BI$450,2,FALSE),0)","v":0},{"$f":"IFERROR(VLOOKUP(D16,Param!$BK$4:$BL$450,2,FALSE),\"\")","v":""},{"$f":"IFERROR(VLOOKUP(D16,Param!$BN$4:$BO$450,2,FALSE),\"\")","v":""},null,null,0,0,null,"Selectionner",{"$nulls":4},"","",null,null,"","",null,"",""]
[{"$f":"IFERROR(VLOOKUP(D17,Param!$BH$4:$BI$450,2,FALSE),0)","v":0},{"$f":"IFERROR(VLOOKUP(D17,Param!$BK$4:$BL$450,2,FALSE),\"\")","v":""},{"$f":"IFERROR(VLOOKUP(D17,Param!$BN$4:$BO$450,2,FALSE),\"\")","v":""},null,null,0,0,null,"Selectionner",{"$nulls":4},"","",null,null,"","",null,"",""]
[{"$f":"IFERROR(VLOOKUP(D18,Param!$BH$4:$BI$450,2,FALSE),0)","v":0},{"$f":"IFERROR(VLOOKUP(D18,Param!$BK$4:$BL$450,2,FALSE),\"\")","v":""},{"$f":"IFERROR(VLOOKUP(D18,Param!$BN$4:$BO$450,2,FALSE),\"\")","v":""},null,null,0,0,null,"Selectionner",{"$nulls":4},"","",null,null,"","",null,"",""]
[{"$f":"IFERROR(VLOOKUP(D19,Param!$BH$4:$BI$450,2,FALSE),0)","v":0},{"$f":"IFERROR(VLOOKUP(D19,Param!$BK$4:$BL$450,2,FALSE),\"\")","v":""},{"$f":"IFERROR(VLOOKUP(D19,Param!$BN$4:$BO$450,2,FALSE),\"\")","v":""},null,null,0,0,null,"Selectionner",{"$nulls":4},"","",null,null,"","",null,"","","€ "]
[{"$f":"IFERROR(VLOOKUP(D20,Param!$BH$4:$BI$450,2,FALSE),0)","v":0},{"$f":"IFERROR(VLOOKUP(D20,Param!$BK$4:$BL$450,2,FALSE),\"\")","v":""},{"$f":"IFERROR(VLOOKUP(D20,Param!$BN$4:$BO$450,2,FALSE),\"\")","v":""},null,null,0,0,null,"Selectionner",{"$nulls":4},"","",null,null,"","",null,"",""]
[{"$f":"IFERROR(VLOOKUP(D21,Param!$BH$4:$BI$450,2,FALSE),0)","v":0},{"$f":"IFERROR(VLOOKUP(D21,Param!$BK$4:$BL$450,2,FALSE),\"\")","v":""},{"$f":"IFERROR(VLOOKUP(D21,Param!$BN$4:$BO$450,2,FALSE),\"\")","v":""},null,null,0,0,null,"Selectionner",{"$nulls":4},"","",null,null,"","",null,"",""]
[{"$f":"IFERROR(VLOOKUP(D22,Param!$BH$4:$BI$450,2,FALSE),0)","v":0},{"$f":"IFERROR(VLOOKUP(D22,Param!$BK$4:$BL$450,2,FALSE),\"\")","v":""},{"$f":"IFERROR(VLOOKUP(D22,Param!$BN$4:$BO$450,2,FALSE),\"\")","v":""},null,null,0,0,null,"Selectionner",{"$nulls":4},"","",null,null,"","",null,"",""]
[{"$f":"IFERROR(VLOOKUP(D23,Param!$BH$4:$BI$450,2,FALSE),0)","v":0},{"$f":"IFERROR(VLOOKUP(D23,Param!$BK$4:$BL$450,2,FALSE),\"\")","v":""},{"$f":"IFERROR(VLOOKUP(D23,Param!$BN$4:$BO$450,2,FALSE),\"\")","v":""},null,null,0,0,null,"Selectionner",{"$nulls":4},"","",null,null,"","",null,"",""]
[{"$f":"IFERROR(VLOOKUP(D24,Param!$BH$4:$BI$450,2,FALSE),0)","v":0},{"$f":"IFERROR(VLOOKUP(D24,Param!$BK$4:$BL$450,2,FALSE),\"\")","v":""},{"$f":"IFERROR(VLOOKUP(D24,Param!$BN$4:$BO$450,2,FALSE),\"\")","v":""},null,null,0,0,null,"Selectionner",{"$nulls":4},"","",null,null,"","",null,"",""]
[{"$f":"IFERROR(VLOOKUP(D25,Param!$BH$4:$BI$450,2,FALSE),0)","v":0},{"$f":"IFERROR(VLOOKUP(D25,Param!$BK$4:$BL$450,2,FALSE),\"\")","v":""},{"$f":"IFERROR(VLOOKUP(D25,Param!$BN$4:$BO$450,2,FALSE),\"\")","v":""},null,null,0,0,null,"Selectionner",{"$nulls":4},"","",null,null,"","",null,"",""]
[{"$f":"IFERROR(VLOOKUP(D26,Param!$BH$4:$BI$450,2,FALSE),0)","v":0},{"$f":"IFERROR(VLOOKUP(D26,Param!$BK$4:$BL$450,2,FALSE),\"\")","v":""},{"$f":"IFERROR(VLOOKUP(D26,Param!$BN$4:$BO$450,2,FALSE),\"\")","v":""},null,null,0,0,null,"Selectionner",{"$nulls":4},"","",null,null,"","",null,"",""]
[{"$f":"IFERROR(VLOOKUP(D27,Param!$BH$4:$BI$450,2,FALSE),0)","v":0},{"$f":"IFERROR(VLOOKUP(D27,Param!$BK$4:$BL$450,2,FALSE),\"\")","v":""},{"$f":"IFERROR(VLOOKUP(D27,Param!$BN$4:$BO$450,2,FALSE),\"\")","v":""},null,null,0,0,null,"Selectionner",{"$nulls":4},"","",null,null,"","",null,"",""]
[{"$f":"IFERROR(VLOOKUP(D28,Param!$BH$4:$BI$450,2,FALSE),0)","v":0},{"$f":"IFERROR(VLOOKUP(D28,Param!$BK$4:$BL$450,2,FALSE),\"\")","v":""},{"$f":"IFERROR(VLOOKUP(D28,Param!$BN$4:$BO$450,2,FALSE),\"\")","v":""},null,null,0,0,null,"Selectionner",{"$nulls":4},"","",null,null,"","",null,"",""]
[{"$f":"IFERROR(VLOOKUP(D29,Param!$BH$4:$BI$450,2,FALSE),0)","v":0},{"$f":"IFERROR(VLOOKUP(D29,Param!$BK$4:$BL$450,2,FALSE),\"\")","v":""},{"$f":"IFERROR(VLOOKUP(D29,Param!$BN$4:$BO$450,2,FALSE),\"\")","v":""},null,null,0,0,null,"Selectionner",{"$nulls":4},"","",null,null,"","",null,"",""]
[{"$f":"IFERROR(VLOOKUP(D30,Param!$BH$4:$BI$450,2,FALSE),0)","v":0},{"$f":"IFERROR(VLOOKUP(D30,Param!$BK$4:$BL$450,2,FALSE),\"\")","v":""},{"$f":"IFERROR(VLOOKUP(D30,Param!$BN$4:$BO$450,2,FALSE),\"\")","v":""},null,null,0,0,null,"Selectionner",{"$nulls":4},"","",null,null,"","",null,"",""]
[{"$f":"IFERROR(VLOOKUP(D31,Param!$BH$4:$BI$450,2,FALSE),0)","v":0},{"$f":"IFERROR(VLOOKUP(D31,Param!$BK$4:$BL$450,2,FALSE),\"\")","v":""},{"$f":"IFERROR(VLOOKUP(D31,Param!$BN$4:$BO$450,2,FALSE),\"\")","v":""},null,null,0,0,null,"Selectionner",{"$nulls":4},"","",null,null,"","",null,"",""]
[{"$f":"IFERROR(VLOOKUP(D32,Param!$BH$4:$BI$450,2,FALSE),0)","v":0},{"$f":"IFERROR(VLOOKUP(D32,Param!$BK$4:$BL$450,2,FALSE),\"\")","v":""},{"$f":"IFERROR(VLOOKUP(D32,Param!$BN$4:$BO$450,2,FALSE),\"\")","v":""},null,null,0,0,null,"Selectionner",{"$nulls":4},"","",null,null,"","",null,"",""]
[{"$f":"IFERROR(VLOOKUP(D33,Param!$BH$4:$BI$450,2,FALSE),0)","v":0},{"$f":"IFERROR(VLOOKUP(D33,Param!$BK$4:$BL$450,2,FALSE),\"\")","v":""},{"$f":"IFERROR(VLOOKUP(D33,Param!$BN$4:$BO$450,2,FALSE),\"\")","v":""},null,null,0,0,null,"Selectionner",{"$nulls":4},"","",null,null,"","",null,"",""]
[{"$f":"IFERROR(VLOOKUP(D34,Param!$BH$4:$BI$450,2,FALSE),0)","v":0},{"$f":"IFERROR(VLOOKUP(D34,Param!$BK$4:$BL$450,2,FALSE),\"\")","v":""},{"$f":"IFERROR(VLOOKUP(D34,Param!$BN$4:$BO$450,2,FALSE),\"\")","v":""},null,null,0,0,null,"Selectionner",{"$nulls":4},"","",null,null,"","",null,"",""]
[{"$f":"IFERROR(VLOOKUP(D35,Param!$BH$4:$BI$450,2,FALSE),0)","v":0},{"$f":"IFERROR(VLOOKUP(D35,Param!$BK$4:$BL$450,2,FALSE),\"\")","v":""},{"$f":"IFERROR(VLOOKUP(D35,Param!$BN$4:$BO$450,2,FALSE),\"\")","v":""},null,null,0,0,null,"Selectionner",{"$nulls":4},"","",null,null,"","",null,"",""]
[{"$f":"IFERROR(VLOOKUP(D36,Param!$BH$4:$BI$450,2,FALSE),0)","v":0},{"$f":"IFERROR(VLOOKUP(D36,Param!$BK$4:$BL$450,2,FALSE),\"\")","v":""},{"$f":"IFERROR(VLOOKUP(D36,Param!$BN$4:$BO$450,2,FALSE),\"\")","v":""},null,null,0,0,null,"Selectionner",{"$nulls":4},"","",null,null,"","",null,"",""]
[{"$f":"IFERROR(VLOOKUP(D37,Param!$BH$4:$BI$450,2,FALSE),0)","v":0},{"$f":"IFERROR(VLOOKUP(D37,Param!$BK$4:$BL$450,2,FALSE),\"\")","v":""},{"$f":"IFERROR(VLOOKUP(D37,Param!$BN$4:$BO$450,2,FALSE),\"\")","v":""},null,null,0,0,null,"Selectionner",{"$nulls":4},"","",null,null,"","",null,"",""]
[{"$f":"IFERROR(VLOOKUP(D38,Param!$BH$4:$BI$450,2,FALSE),0)","v":0},{"$f":"IFERROR(VLOOKUP(D38,Param!$BK$4:$BL$450,2,FALSE),\"\")","v":""},{"$f":"IFERROR(VLOOKUP(D38,Param!$BN$4:$BO$450,2,FALSE),\"\")","v":""},null,null,0,0,null,"Selectionner",{"$nulls":4},"","",null,null,"","",null,"",""]
[{"$f":"IFERROR(VLOOKUP(D39,Param!$BH$4:$BI$450,2,FALSE),0)","v":0},{"$f":"IFERROR(VLOOKUP(D39,Param!$BK$4:$BL$450,2,FALSE),\"\")","v":""},{"$f":"IFERROR(VLOOKUP(D39,Param!$BN$4:$BO$450,2,FALSE),\"\")","v":""},null,null,0,0,null,"Selectionner",{"$nulls":4},"","",null,null,"","",null,"",""]
[{"$f":"IFERROR(VLOOKUP(D40,Param!$BH$4:$BI$450,2,FALSE),0)","v":0},{"$f":"IFERROR(VLOOKUP(D40,Param!$BK$4:$BL$450,2,FALSE),\"\")","v":""},{"$f":"IFERROR(VLOOKUP(D40,Param!$BN$4:$BO$450,2,FALSE),\"\")","v":""},null,null,0,0,null,"Selectionner",{"$nulls":4},"","",null,null,"","",null,"",""]
[{"$f":"IFERROR(VLOOKUP(D41,Param!$BH$4:$BI$450,2,FALSE),0)","v":0},{"$f":"IFERROR(VLOOKUP(D41,Param!$BK$4:$BL$450,2,FALSE),\"\")","v":""},{"$f":"IFERROR(VLOOKUP(D41,Param!$BN$4:$BO$450,2,FALSE),\"\")","v":""},null,null,0,0,null,"Selectionner",{"$nulls":4},"","",null,null,"","",null,"",""]
[{"$f":"IFERROR(VLOOKUP(D42,Param!$BH$4:$BI$450,2,FALSE),0)","v":0},{"$f":"IFERROR(VLOOKUP(D42,Param!$BK$4:$BL$450,2,FALSE),\"\")","v":""},{"$f":"IFERROR(VLOOKUP(D42,Param!$BN$4:$BO$450,2,FALSE),\"\")","v":""},null,null,0,0,null,"Selectionner",{"$nulls":4},"","",null,null,"","",null,"",""]
[{"$f":"IFERROR(VLOOKUP(D43,Param!$BH$4:$BI$450,2,FALSE),0)","v":0},{"$f":"IFERROR(VLOOKUP(D43,Param!$BK$4:$BL$450,2,FALSE),\"\")","v":""},{"$f":"IFERROR(VLOOKUP(D43,Param!$BN$4:$BO$450,2,FALSE),\"\")","v":""},null,null,0,0,null,"Selectionner",{"$nulls":4},"","",null,null,"","",null,"",""]
[{"$f":"IFERROR(VLOOKUP(D44,Param!$BH$4:$BI$450,2,FALSE),0)","v":0},{"$f":"IFERROR(VLOOKUP(D44,Param!$BK$4:$BL$450,2,FALSE),\"\")","v":""},{"$f":"IFERROR(VLOOKUP(D44,Param!$BN$4:$BO$450,2,FALSE),\"\")","v":""},null,null,0,0,null,"Selectionner",{"$nulls":4},"","",null,null,"","",null,"",""]
[{"$f":"IFERROR(VLOOKUP(D45,Param!$BH$4:$BI$450,2,FALSE),0)","v":0},{"$f":"IFERROR(VLOOKUP(D45,Param!$BK$4:$BL$450,2,FALSE),\"\")","v":""},{"$f":"IFERROR(VLOOKUP(D45,Param!$BN$4:$BO$450,2,FALSE),\"\")","v":""},null,null,0,0,null,"Selectionner",{"$nulls":4},"","",null,null,"","",null,"",""]
[{"$f":"IFERROR(VLOOKUP(D46,Param!$BH$4:$BI$450,2,FALSE),0)","v":0},{"$f":"IFERROR(VLOOKUP(D46,Param!$BK$4:$BL$450,2,FALSE),\"\")","v":""},{"$f":"IFERROR(VLOOKUP(D46,Param!$BN$4:$BO$450,2,FALSE),\"\")","v":""},null,null,0,0,null,"Selectionner",{"$nulls":4},"","",null,null,"","",null,"",""]
[{"$f":"IFERROR(VLOOKUP(D47,Param!$BH$4:$BI$450,2,FALSE),0)","v":0},{"$f":"IFERROR(VLOOKUP(D47,Param!$BK$4:$BL$450,2,FALSE),\"\")","v":""},{"$f":"IFERROR(VLOOKUP(D47,Param!$BN$4:$BO$450,2,FALSE),\"\")","v":""},null,null,0,0,null,"Selectionner",{"$nulls":4},"","",null,null,"","",null,"",""]
[{"$f":"IFERROR(VLOOKUP(D48,Param!$BH$4:$BI$450,2,FALSE),0)","v":0},{"$f":"IFERROR(VLOOKUP(D48,Param!$BK$4:$BL$450,2,FALSE),\"\")","v":""},{"$f":"IFERROR(VLOOKUP(D48,Param!$BN$4:$BO$450,2,FALSE),\"\")","v":""},null,null,0,0,null,"Selectionner",{"$nulls":4},"","",null,null,"","",null,"",""]
[{"$f":"IFERROR(VLOOKUP(D49,Param!$BH$4:$BI$450,2,FALSE),0)","v":0},{"$f":"IFERROR(VLOOKUP(D49,Param!$BK$4:$BL$450,2,FALSE),\"\")","v":""},{"$f":"IFERROR(VLOOKUP(D49,Param!$BN$4:$BO$450,2,FALSE),\"\")","v":""},null,null,0,0,null,"Selectionner",{"$nulls":4},"","",null,null,"","",null,"",""]
[{"$f":"IFERROR(VLOOKUP(D50,Param!$BH$4:$BI$450,2,FALSE),0)","v":0},{"$f":"IFERROR(VLOOKUP(D50,Param!$BK$4:$BL$450,2,FALSE),\"\")","v":""},{"$f":"IFERROR(VLOOKUP(D50,Param!$BN$4:$BO$450,2,FALSE),\"\")","v":""},null,null,0,0,null,"Selectionner",{"$nulls":4},"","",null,null,"","",null,"",""]
[{"$f":"IFERROR(VLOOKUP(D51,Param!$BH$4:$BI$450,2,FALSE),0)","v":0},{"$f":"IFERROR(VLOOKUP(D51,Param!$BK$4:$BL$450,2,FALSE),\"\")","v":""},{"$f":"IFERROR(VLOOKUP(D51,Param!$BN$4:$BO$450,2,FALSE),\"\")","v":""},null,null,0,0,null,"Selectionner",{"$nulls":4},"","",null,null,"","",null,"",""]
[{"$f":"IFERROR(VLOOKUP(D52,Param!$BH$4:$BI$450,2,FALSE),0)","v":0},{"$f":"IFERROR(VLOOKUP(D52,Param!$BK$4:$BL$450,2,FALSE),\"\")","v":""},{"$f":"IFERROR(VLOOKUP(D52,Param!$BN$4:$BO$450,2,FALSE),\"\")","v":""},null,null,0,{"$f":"IF(A52=\"\",\"\",A52)","v":0},null,"Selectionner"]
[{"$f":"IFERROR(VLOOKUP(D53,Param!$BH$4:$BI$450,2,FALSE),0)","v":0},{"$f":"IFERROR(VLOOKUP(D53,Param!$BK$4:$BL$450,2,FALSE),\"\")","v":""},{"$f":"IFERROR(VLOOKUP(D53,Param!$BN$4:$BO$450,2,FALSE),\"\")","v":""},null,null,0,0,null,"Selectionner"]
[{"$f":"IFERROR(VLOOKUP(D54,Param!$BH$4:$BI$450,2,FALSE),0)","v":0},{"$f":"IFERROR(VLOOKUP(D54,Param!$BK$4:$BL$450,2,FALSE),\"\")","v":""},{"$f":"IFERROR(VLOOKUP(D54,Param!$BN$4:$BO$450,2,FALSE),\"\")","v":""},null,null,0,0,null,"Selectionner"]
[{"$f":"IFERROR(VLOOKUP(D55,Param!$BH$4:$BI$450,2,FALSE),0)","v":0},{"$f":"IFERROR(VLOOKUP(D55,Param!$BK$4:$BL$450,2,FALSE),\"\")","v":""},{"$f":"IFERROR(VLOOKUP(D55,Param!$BN$4:$BO$450,2,FALSE),\"\")","v":""},null,null,0,0,null,"Selectionner"]
[{"$f":"IFERROR(VLOOKUP(D56,Param!$BH$4:$BI$450,2,FALSE),0)","v":0},{"$f":"IFERROR(VLOOKUP(D56,Param!$BK$4:$BL$450,2,FALSE),\"\")","v":""},{"$f":"IFERROR(VLOOKUP(D56,Param!$BN$4:$BO$450,2,FALSE),\"\")","v":""},null,null,0,0,null,"Selectionner"]
[{"$f":"IFERROR(VLOOKUP(D57,Param!$BH$4:$BI$450,2,FALSE),0)","v":0},{"$f":"IFERROR(VLOOKUP(D57,Param!$BK$4:$BL$450,2,FALSE),\"\")","v":""},{"$f":"IFERROR(VLOOKUP(D57,Param!$BN$4:$BO$450,2,FALSE),\"\")","v":""},null,null,0,{"$f":"IF(A57=\"\",\"\",A57)","v":0},null,"Selectionner"]
[{"$f":"IFERROR(VLOOKUP(D58,Param!$BH$4:$BI$450,2,FALSE),0)","v":0},{"$f":"IFERROR(VLOOKUP(D58,Param!$BK$4:$BL$450,2,FALSE),\"\")","v":""},{"$f":"IFERROR(VLOOKUP(D58,Param!$BN$4:$BO$450,2,FALSE),\"\")","v":""},null,null,0,0,null,"Selectionner"]
[{"$f":"IFERROR(VLOOKUP(D59,Param!$BH$4:$BI$450,2,FALSE),0)","v":0},{"$f":"IFERROR(VLOOKUP(D59,Param!$BK$4:$BL$450,2,FALSE),\"\")","v":""},{"$f":"IFERROR(VLOOKUP(D59,Param!$BN$4:$BO$450,2,FALSE),\"\")","v":""},null,null,0,0,null,"Selectionner"]
[{"$f":"IFERROR(VLOOKUP(D60,Param!$BH$4:$BI$450,2,FALSE),0)","v":0},{"$f":"IFERROR(VLOOKUP(D60,Param!$BK$4:$BL$450,2,FALSE),\"\")","v":""},{"$f":"IFERROR(VLOOKUP(D60,Param!$BN$4:$BO$450,2,FALSE),\"\")","v":""},null,null,0,0,null,"Selectionner"]
[{"$f":"IFERROR(VLOOKUP(D61,Param!$BH$4:$BI$450,2,FALSE),0)","v":0},{"$f":"IFERROR(VLOOKUP(D61,Param!$BK$4:$BL$450,2,FALSE),\"\")","v":""},{"$f":"IFERROR(VLOOKUP(D61,Param!$BN$4:$BO$450,2,FALSE),\"\")","v":""},null,null,0,0,null,"Selectionner"]
[{"$f":"IFERROR(VLOOKUP(D62,Param!$BH$4:$BI$450,2,FALSE),0)","v":0},{"$f":"IFERROR(VLOOKUP(D62,Param!$BK$4:$BL$450,2,FALSE),\"\")","v":""},{"$f":"IFERROR(VLOOKUP(D62,Param!$BN$4:$BO$450,2,FALSE),\"\")","v":""},null,null,0,0,null,"Selectionner"]
[{"$f":"IFERROR(VLOOKUP(D63,Param!$BH$4:$BI$450,2,FALSE),0)","v":0},{"$f":"IFERROR(VLOOKUP(D63,Param!$BK$4:$BL$450,2,FALSE),\"\")","v":""},{"$f":"IFERROR(VLOOKUP(D63,Param!$BN$4:$BO$450,2,FALSE),\"\")","v":""},null,null,0,0,null,"Selectionner"]
[{"$f":"IFERROR(VLOOKUP(D64,Param!$BH$4:$BI$450,2,FALSE),0)","v":0},{"$f":"IFERROR(VLOOKUP(D64,Param!$BK$4:$BL$450,2,FALSE),\"\")","v":""},{"$f":"IFERROR(VLOOKUP(D64,Param!$BN$4:$BO$450,2,FALSE),\"\")","v":""},null,null,0,0,null,"Selectionner"]
[{"$f":"IFERROR(VLOOKUP(D65,Param!$BH$4:$BI$450,2,FALSE),0)","v":0},{"$f":"IFERROR(VLOOKUP(D65,Param!$BK$4:$BL$450,2,FALSE),\"\")","v":""},{"$f":"IFERROR(VLOOKUP(D65,Param!$BN$4:$BO$450,2,FALSE),\"\")","v":""},null,null,0,0,null,"Selectionner"]
[{"$f":"IFERROR(VLOOKUP(D66,Param!$BH$4:$BI$450,2,FALSE),0)","v":0},{"$f":"IFERROR(VLOOKUP(D66,Param!$BK$4:$BL$450,2,FALSE),\"\")","v":""},{"$f":"IFERROR(VLOOKUP(D66,Param!$BN$4:$BO$450,2,FALSE),\"\")","v":""},null,null,0,0,null,"Selectionner"]
[{"$f":"IFERROR(VLOOKUP(D67,Param!$BH$4:$BI$450,2,FALSE),0)","v":0},{"$f":"IFERROR(VLOOKUP(D67,Param!$BK$4:$BL$450,2,FALSE),\"\")","v":""},{"$f":"IFERROR(VLOOKUP(D67,Param!$BN$4:$BO$450,2,FALSE),\"\")","v":""},null,null,0,0,null,"Selectionner"]
[{"$f":"IFERROR(VLOOKUP(D68,Param!$BH$4:$BI$450,2,FALSE),0)","v":0},{"$f":"IFERROR(VLOOKUP(D68,Param!$BK$4:$BL$450,2,FALSE),\"\")","v":""},{"$f":"IFERROR(VLOOKUP(D68,Param!$BN$4:$BO$450,2,FALSE),\"\")","v":""},null,null,0,0,null,"Selectionner"]
[{"$f":"IFERROR(VLOOKUP(D69,Param!$BH$4:$BI$450,2,FALSE),0)","v":0},{"$f":"IFERROR(VLOOKUP(D69,Param!$BK$4:$BL$450,2,FALSE),\"\")","v":""},{"$f":"IFERROR(VLOOKUP(D69,Param!$BN$4:$BO$450,2,FALSE),\"\")","v":""},null,null,0,0,null,"Selectionner"]
[{"$f":"IFERROR(VLOOKUP(D70,Param!$BH$4:$BI$450,2,FALSE),0)","v":0},{"$f":"IFERROR(VLOOKUP(D70,Param!$BK$4:$BL$450,2,FALSE),\"\")","v":""},{"$f":"IFERROR(VLOOKUP(D70,Param!$BN$4:$BO$450,2,FALSE),\"\")","v":""},null,null,0,0,null,"Selectionner"]
[{"$f":"IFERROR(VLOOKUP(D71,Param!$BH$4:$BI$450,2,FALSE),0)","v":0},{"$f":"IFERROR(VLOOKUP(D71,Param!$BK$4:$BL$450,2,FALSE),\"\")","v":""},{"$f":"IFERROR(VLOOKUP(D71,Param!$BN$4:$BO$450,2,FALSE),\"\")","v":""},null,null,0,0,null,"Selectionner"]
[{"$f":"IFERROR(VLOOKUP(D72,Param!$BH$4:$BI$450,2,FALSE),0)","v":0},{"$f":"IFERROR(VLOOKUP(D72,Param!$BK$4:$BL$450,2,FALSE),\"\")","v":""},{"$f":"IFERROR(VLOOKUP(D72,Param!$BN$4:$BO$450,2,FALSE),\"\")","v":""},null,null,0,0,null,"Selectionner"]
[{"$f":"IFERROR(VLOOKUP(D73,Param!$BH$4:$BI$450,2,FALSE),0)","v":0},{"$f":"IFERROR(VLOOKUP(D73,Param!$BK$4:$BL$450,2,FALSE),\"\")","v":""},{"$f":"IFERROR(VLOOKUP(D73,Param!$BN$4:$BO$450,2,FALSE),\"\")","v":""},null,null,0,0,null,"Selectionner"]
[{"$f":"IFERROR(VLOOKUP(D74,Param!$BH$4:$BI$450,2,FALSE),0)","v":0},{"$f":"IFERROR(VLOOKUP(D74,Param!$BK$4:$BL$450,2,FALSE),\"\")","v":""},{"$f":"IFERROR(VLOOKUP(D74,Param!$BN$4:$BO$450,2,FALSE),\"\")","v":""},null,null,0,0,null,"Selectionner"]
[{"$f":"IFERROR(VLOOKUP(D75,Param!$BH$4:$BI$450,2,FALSE),0)","v":0},{"$f":"IFERROR(VLOOKUP(D75,Param!$BK$4:$BL$450,2,FALSE),\"\")","v":""},{"$f":"IFERROR(VLOOKUP(D75,Param!$BN$4:$BO$450,2,FALSE),\"\")","v":""},null,null,0,0,null,"Selectionner"]
[{"$f":"IFERROR(VLOOKUP(D76,Param!$BH$4:$BI$450,2,FALSE),0)","v":0},{"$f":"IFERROR(VLOOKUP(D76,Param!$BK$4:$BL$450,2,FALSE),\"\")","v":""},{"$f":"IFERROR(VLOOKUP(D76,Param!$BN$4:$BO$450,2,FALSE),\"\")","v":""},null,null,{"$f":"IF(D76=\"Selectionner\",\"\",D76)","v":0},0,null,"Selectionner"]
[{"$f":"IFERROR(VLOOKUP(D77,Param!$BH$4:$BI$450,2,FALSE),0)","v":0},{"$f":"IFERROR(VLOOKUP(D77,Param!$BK$4:$BL$450,2,FALSE),\"\")","v":""},{"$f":"IFERROR(VLOOKUP(D77,Param!$BN$4:$BO$450,2,FALSE),\"\")","v":""},null,null,0,0,null,"Selectionner"]
[{"$f":"IFERROR(VLOOKUP(D78,Param!$BH$4:$BI$450,2,FALSE),0)","v":0},{"$f":"IFERROR(VLOOKUP(D78,Param!$BK$4:$BL$450,2,FALSE),\"\")","v":""},{"$f":"IFERROR(VLOOKUP(D78,Param!$BN$4:$BO$450,2,FALSE),\"\")","v":""},null,null,0,0,null,"Selectionner"]
[{"$f":"IFERROR(VLOOKUP(D79,Param!$BH$4:$BI$450,2,FALSE),0)","v":0},{"$f":"IFERROR(VLOOKUP(D79,Param!$BK$4:$BL$450,2,FALSE),\"\")","v":""},{"$f":"IFERROR(VLOOKUP(D79,Param!$BN$4:$BO$450,2,FALSE),\"\")","v":""},null,null,0,0,null,"Selectionner"]
[{"$f":"IFERROR(VLOOKUP(D80,Param!$BH$4:$BI$450,2,FALSE),0)","v":0},{"$f":"IFERROR(VLOOKUP(D80,Param!$BK$4:$BL$450,2,FALSE),\"\")","v":""},{"$f":"IFERROR(VLOOKUP(D80,Param!$BN$4:$BO$450,2,FALSE),\"\")","v":""},null,null,0,0,null,"Selectionner"]
[{"$f":"IFERROR(VLOOKUP(D81,Param!$BH$4:$BI$450,2,FALSE),0)","v":0},{"$f":"IFERROR(VLOOKUP(D81,Param!$BK$4:$BL$450,2,FALSE),\"\")","v":""},{"$f":"IFERROR(VLOOKUP(D81,Param!$BN$4:$BO$450,2,FALSE),\"\")","v":""},null,null,0,0,null,"Selectionner"]
[{"$f":"IFERROR(VLOOKUP(D82,Param!$BH$4:$BI$450,2,FALSE),0)","v":0},{"$f":"IFERROR(VLOOKUP(D82,Param!$BK$4:$BL$450,2,FALSE),\"\")","v":""},{"$f":"IFERROR(VLOOKUP(D82,Param!$BN$4:$BO$450,2,FALSE),\"\")","v":""},null,null,0,0,null,"Selectionner"]
[{"$f":"IFERROR(VLOOKUP(D83,Param!$BH$4:$BI$450,2,FALSE),0)","v":0},{"$f":"IFERROR(VLOOKUP(D83,Param!$BK$4:$BL$450,2,FALSE),\"\")","v":""},{"$f":"IFERROR(VLOOKUP(D83,Param!$BN$4:$BO$450,2,FALSE),\"\")","v":""},null,null,0,0,null,"Selectionner"]
[{"$f":"IFERROR(VLOOKUP(D84,Param!$BH$4:$BI$450,2,FALSE),0)","v":0},{"$f":"IFERROR(VLOOKUP(D84,Param!$BK$4:$BL$450,2,FALSE),\"\")","v":""},{"$f":"IFERROR(VLOOKUP(D84,Param!$BN$4:$BO$450,2,FALSE),\"\")","v":""},null,null,0,0,null,"Selectionner"]
[{"$f":"IFERROR(VLOOKUP(D85,Param!$BH$4:$BI$450,2,FALSE),0)","v":0},{"$f":"IFERROR(VLOOKUP(D85,Param!$BK$4:$BL$450,2,FALSE),\"\")","v":""},{"$f":"IFERROR(VLOOKUP(D85,Param!$BN$4:$BO$450,2,FALSE),\"\")","v":""},null,null,0,0,null,"Selectionner"]
[{"$f":"IFERROR(VLOOKUP(D86,Param!$BH$4:$BI$450,2,FALSE),0)","v":0},{"$f":"IFERROR(VLOOKUP(D86,Param!$BK$4:$BL$450,2,FALSE),\"\")","v":""},{"$f":"IFERROR(VLOOKUP(D86,Param!$BN$4:$BO$450,2,FALSE),\"\")","v":""},null,null,0,0,null,"Selectionner"]
[{"$f":"IFERROR(VLOOKUP(D87,Param!$BH$4:$BI$450,2,FALSE),0)","v":0},{"$f":"IFERROR(VLOOKUP(D87,Param!$BK$4:$BL$450,2,FALSE),\"\")","v":""},{"$f":"IFERROR(VLOOKUP(D87,Param!$BN$4:$BO$450,2,FALSE),\"\")","v":""},null,null,0,0,null,"Selectionner"]
[{"$f":"IFERROR(VLOOKUP(D88,Param!$BH$4:$BI$450,2,FALSE),0)","v":0},{"$f":"IFERROR(VLOOKUP(D88,Param!$BK$4:$BL$450,2,FALSE),\"\")","v":""},{"$f":"IFERROR(VLOOKUP(D88,Param!$BN$4:$BO$450,2,FALSE),\"\")","v":""},null,null,0,0,null,"Selectionner"]
[{"$f":"IFERROR(VLOOKUP(D89,Param!$BH$4:$BI$450,2,FALSE),0)","v":0},{"$f":"IFERROR(VLOOKUP(D89,Param!$BK$4:$BL$450,2,FALSE),\"\")","v":""},{"$f":"IFERROR(VLOOKUP(D89,Param!$BN$4:$BO$450,2,FALSE),\"\")","v":""},null,null,0,0,null,"Selectionner"]
[{"$f":"IFERROR(VLOOKUP(D90,Param!$BH$4:$BI$450,2,FALSE),0)","v":0},{"$f":"IFERROR(VLOOKUP(D90,Param!$BK$4:$BL$450,2,FALSE),\"\")","v":""},{"$f":"IFERROR(VLOOKUP(D90,Param!$BN$4:$BO$450,2,FALSE),\"\")","v":""},null,null,0,0,null,"Selectionner"]
[{"$f":"IFERROR(VLOOKUP(D91,Param!$BH$4:$BI$450,2,FALSE),0)","v":0},{"$f":"IFERROR(VLOOKUP(D91,Param!$BK$4:$BL$450,2,FALSE),\"\")","v":""},{"$f":"IFERROR(VLOOKUP(D91,Param!$BN$4:$BO$450,2,FALSE),\"\")","v":""},null,null,0,0,null,"Selectionner"]
[{"$f":"IFERROR(VLOOKUP(D92,Param!$BH$4:$BI$450,2,FALSE),0)","v":0},{"$f":"IFERROR(VLOOKUP(D92,Param!$BK$4:$BL$450,2,FALSE),\"\")","v":""},{"$f":"IFERROR(VLOOKUP(D92,Param!$BN$4:$BO$450,2,FALSE),\"\")","v":""},null,null,0,0,null,"Selectionner"]
[{"$f":"IFERROR(VLOOKUP(D93,Param!$BH$4:$BI$450,2,FALSE),0)","v":0},{"$f":"IFERROR(VLOOKUP(D93,Param!$BK$4:$BL$450,2,FALSE),\"\")","v":""},{"$f":"IFERROR(VLOOKUP(D93,Param!$BN$4:$BO$450,2,FALSE),\"\")","v":""},null,null,0,0,null,"Selectionner"]
[{"$f":"IFERROR(VLOOKUP(D94,Param!$BH$4:$BI$450,2,FALSE),0)","v":0},{"$f":"IFERROR(VLOOKUP(D94,Param!$BK$4:$BL$450,2,FALSE),\"\")","v":""},{"$f":"IFERROR(VLOOKUP(D94,Param!$BN$4:$BO$450,2,FALSE),\"\")","v":""},null,null,0,0,null,"Selectionner"]
[{"$f":"IFERROR(VLOOKUP(D95,Param!$BH$4:$BI$450,2,FALSE),0)","v":0},{"$f":"IFERROR(VLOOKUP(D95,Param!$BK$4:$BL$450,2,FALSE),\"\")","v":""},{"$f":"IFERROR(VLOOKUP(D95,Param!$BN$4:$BO$450,2,FALSE),\"\")","v":""},null,null,0,0,null,"Selectionner"]
[{"$f":"IFERROR(VLOOKUP(D96,Param!$BH$4:$BI$450,2,FALSE),0)","v":0},{"$f":"IFERROR(VLOOKUP(D96,Param!$BK$4:$BL$450,2,FALSE),\"\")","v":""},{"$f":"IFERROR(VLOOKUP(D96,Param!$BN$4:$BO$450,2,FALSE),\"\")","v":""},null,null,0,0,null,"Selectionner"]
[{"$f":"IFERROR(VLOOKUP(D97,Param!$BH$4:$BI$450,2,FALSE),0)","v":0},{"$f":"IFERROR(VLOOKUP(D97,Param!$BK$4:$BL$450,2,FALSE),\"\")","v":""},{"$f":"IFERROR(VLOOKUP(D97,Param!$BN$4:$BO$450,2,FALSE),\"\")","v":""},null,null,0,0,null,"Selectionner"]
[{"$f":"IFERROR(VLOOKUP(D98,Param!$BH$4:$BI$450,2,FALSE),0)","v":0},{"$f":"IFERROR(VLOOKUP(D98,Param!$BK$4:$BL$450,2,FALSE),\"\")","v":""},{"$f":"IFERROR(VLOOKUP(D98,Param!$BN$4:$BO$450,2,FALSE),\"\")","v":""},null,null,0,0,null,"Selectionner"]
[{"$f":"IFERROR(VLOOKUP(D99,Param!$BH$4:$BI$450,2,FALSE),0)","v":0},{"$f":"IFERROR(VLOOKUP(D99,Param!$BK$4:$BL$450,2,FALSE),\"\")","v":""},{"$f":"IFERROR(VLOOKUP(D99,Param!$BN$4:$BO$450,2,FALSE),\"\")","v":""},null,null,0,0,null,"Selectionner"]
[{"$f":"IFERROR(VLOOKUP(D100,Param!$BH$4:$BI$450,2,FALSE),0)","v":0},{"$f":"IFERROR(VLOOKUP(D100,Param!$BK$4:$BL$450,2,FALSE),\"\")","v":""},{"$f":"IFERROR(VLOOKUP(D100,Param!$BN$4:$BO$450,2,FALSE),\"\")","v":""},null,null,0,0,null,"Selectionner"]
[{"$f":"IFERROR(VLOOKUP(D101,Param!$BH$4:$BI$450,2,FALSE),0)","v":0},{"$f":"IFERROR(VLOOKUP(D101,Param!$BK$4:$BL$450,2,FALSE),\"\")","v":""},{"$f":"IFERROR(VLOOKUP(D101,Param!$BN$4:$BO$450,2,FALSE),\"\")","v":""},null,null,0,0,null,"Selectionner"]
[{"$f":"IFERROR(VLOOKUP(D102,Param!$BH$4:$BI$450,2,FALSE),0)","v":0},{"$f":"IFERROR(VLOOKUP(D102,Param!$BK$4:$BL$450,2,FALSE),\"\")","v":""},{"$f":"IFERROR(VLOOKUP(D102,Param!$BN$4:$BO$450,2,FALSE),\"\")","v":""},null,null,0,0,null,"Selectionner"]
[{"$f":"IFERROR(VLOOKUP(D103,Param!$BH$4:$BI$450,2,FALSE),0)","v":0},{"$f":"IFERROR(VLOOKUP(D103,Param!$BK$4:$BL$450,2,FALSE),\"\")","v":""},{"$f":"IFERROR(VLOOKUP(D103,Param!$BN$4:$BO$450,2,FALSE),\"\")","v":""},null,null,0,0,null,"Selectionner"]
[{"$f":"IFERROR(VLOOKUP(D104,Param!$BH$4:$BI$450,2,FALSE),0)","v":0},{"$f":"IFERROR(VLOOKUP(D104,Param!$BK$4:$BL$450,2,FALSE),\"\")","v":""},{"$f":"IFERROR(VLOOKUP(D104,Param!$BN$4:$BO$450,2,FALSE),\"\")","v":""},null,null,0,0,null,"Selectionner"]
[{"$f":"IFERROR(VLOOKUP(D105,Param!$BH$4:$BI$450,2,FALSE),0)","v":0},{"$f":"IFERROR(VLOOKUP(D105,Param!$BK$4:$BL$450,2,FALSE),\"\")","v":""},{"$f":"IFERROR(VLOOKUP(D105,Param!$BN$4:$BO$450,2,FALSE),\"\")","v":""},null,null,0,0,null,"Selectionner"]
[{"$f":"IFERROR(VLOOKUP(D106,Param!$BH$4:$BI$450,2,FALSE),0)","v":0},{"$f":"IFERROR(VLOOKUP(D106,Param!$BK$4:$BL$450,2,FALSE),\"\")","v":""},{"$f":"IFERROR(VLOOKUP(D106,Param!$BN$4:$BO$450,2,FALSE),\"\")","v":""},null,null,0,0,null,"Selectionner"]
[{"$f":"IFERROR(VLOOKUP(D107,Param!$BH$4:$BI$450,2,FALSE),0)","v":0},{"$f":"IFERROR(VLOOKUP(D107,Param!$BK$4:$BL$450,2,FALSE),\"\")","v":""},{"$f":"IFERROR(VLOOKUP(D107,Param!$BN$4:$BO$450,2,FALSE),\"\")","v":""},null,null,0,0,null,"Selectionner"]
[{"$f":"IFERROR(VLOOKUP(D108,Param!$BH$4:$BI$450,2,FALSE),0)","v":0},{"$f":"IFERROR(VLOOKUP(D108,Param!$BK$4:$BL$450,2,FALSE),\"\")","v":""},{"$f":"IFERROR(VLOOKUP(D108,Param!$BN$4:$BO$450,2,FALSE),\"\")","v":""},null,null,0,0,null,"Selectionner"]
[{"$f":"IFERROR(VLOOKUP(D109,Param!$BH$4:$BI$450,2,FALSE),0)","v":0},{"$f":"IFERROR(VLOOKUP(D109,Param!$BK$4:$BL$450,2,FALSE),\"\")","v":""},{"$f":"IFERROR(VLOOKUP(D109,Param!$BN$4:$BO$450,2,FALSE),\"\")","v":""},null,null,0,0,null,"Selectionner"]
[{"$f":"IFERROR(VLOOKUP(D110,Param!$BH$4:$BI$450,2,FALSE),0)","v":0},{"$f":"IFERROR(VLOOKUP(D110,Param!$BK$4:$BL$450,2,FALSE),\"\")","v":""},{"$f":"IFERROR(VLOOKUP(D110,Param!$BN$4:$BO$450,2,FALSE),\"\")","v":""},null,null,0,0,null,"Selectionner"]
[{"$f":"IFERROR(VLOOKUP(D111,Param!$BH$4:$BI$450,2,FALSE),0)","v":0},{"$f":"IFERROR(VLOOKUP(D111,Param!$BK$4:$BL$450,2,FALSE),\"\")","v":""},{"$f":"IFERROR(VLOOKUP(D111,Param!$BN$4:$BO$450,2,FALSE),\"\")","v":""},null,null,0,0,null,"Selectionner"]
[{"$f":"IFERROR(VLOOKUP(D112,Param!$BH$4:$BI$450,2,FALSE),0)","v":0},{"$f":"IFERROR(VLOOKUP(D112,Param!$BK$4:$BL$450,2,FALSE),\"\")","v":""},{"$f":"IFERROR(VLOOKUP(D112,Param!$BN$4:$BO$450,2,FALSE),\"\")","v":""},null,null,0,0,null,"Selectionner"]
[{"$f":"IFERROR(VLOOKUP(D113,Param!$BH$4:$BI$450,2,FALSE),0)","v":0},{"$f":"IFERROR(VLOOKUP(D113,Param!$BK$4:$BL$450,2,FALSE),\"\")","v":""},{"$f":"IFERROR(VLOOKUP(D113,Param!$BN$4:$BO$450,2,FALSE),\"\")","v":""},null,null,0,0,null,"Selectionner"]
[{"$f":"IFERROR(VLOOKUP(D114,Param!$BH$4:$BI$450,2,FALSE),0)","v":0},{"$f":"IFERROR(VLOOKUP(D114,Param!$BK$4:$BL$450,2,FALSE),\"\")","v":""},{"$f":"IFERROR(VLOOKUP(D114,Param!$BN$4:$BO$450,2,FALSE),\"\")","v":""},null,null,0,0,null,"Selectionner"]
[{"$f":"IFERROR(VLOOKUP(D115,Param!$BH$4:$BI$450,2,FALSE),0)","v":0},{"$f":"IFERROR(VLOOKUP(D115,Param!$BK$4:$BL$450,2,FALSE),\"\")","v":""},{"$f":"IFERROR(VLOOKUP(D115,Param!$BN$4:$BO$450,2,FALSE),\"\")","v":""},null,null,0,0,null,"Selectionner"]
[{"$f":"IFERROR(VLOOKUP(D116,Param!$BH$4:$BI$450,2,FALSE),0)","v":0},{"$f":"IFERROR(VLOOKUP(D116,Param!$BK$4:$BL$450,2,FALSE),\"\")","v":""},{"$f":"IFERROR(VLOOKUP(D116,Param!$BN$4:$BO$450,2,FALSE),\"\")","v":""},null,null,0,0,null,"Selectionner"]
[{"$f":"IFERROR(VLOOKUP(D117,Param!$BH$4:$BI$450,2,FALSE),0)","v":0},{"$f":"IFERROR(VLOOKUP(D117,Param!$BK$4:$BL$450,2,FALSE),\"\")","v":""},{"$f":"IFERROR(VLOOKUP(D117,Param!$BN$4:$BO$450,2,FALSE),\"\")","v":""},null,null,0,0,null,"Selectionner"]
[{"$f":"IFERROR(VLOOKUP(D118,Param!$BH$4:$BI$450,2,FALSE),0)","v":0},{"$f":"IFERROR(VLOOKUP(D118,Param!$BK$4:$BL$450,2,FALSE),\"\")","v":""},{"$f":"IFERROR(VLOOKUP(D118,Param!$BN$4:$BO$450,2,FALSE),\"\")","v":""},null,null,0,0,null,"Selectionner"]
[{"$f":"IFERROR(VLOOKUP(D119,Param!$BH$4:$BI$450,2,FALSE),0)","v":0},{"$f":"IFERROR(VLOOKUP(D119,Param!$BK$4:$BL$450,2,FALSE),\"\")","v":""},{"$f":"IFERROR(VLOOKUP(D119,Param!$BN$4:$BO$450,2,FALSE),\"\")","v":""},null,null,0,0,null,"Selectionner"]
[{"$f":"IFERROR(VLOOKUP(D120,Param!$BH$4:$BI$450,2,FALSE),0)","v":0},{"$f":"IFERROR(VLOOKUP(D120,Param!$BK$4:$BL$450,2,FALSE),\"\")","v":""},{"$f":"IFERROR(VLOOKUP(D120,Param!$BN$4:$BO$450,2,FALSE),\"\")","v":""},null,null,0,0,null,"Selectionner"]
[{"$f":"IFERROR(VLOOKUP(D121,Param!$BH$4:$BI$450,2,FALSE),0)","v":0},{"$f":"IFERROR(VLOOKUP(D121,Param!$BK$4:$BL$450,2,FALSE),\"\")","v":""},{"$f":"IFERROR(VLOOKUP(D121,Param!$BN$4:$BO$450,2,FALSE),\"\")","v":""},null,null,0,{"$f":"IF(A121=\"\",\"\",A121)","v":0},null,"Selectionner"]
[{"$f":"IFERROR(VLOOKUP(D122,Param!$BH$4:$BI$450,2,FALSE),0)","v":0},{"$f":"IFERROR(VLOOKUP(D122,Param!$BK$4:$BL$450,2,FALSE),\"\")","v":""},{"$f":"IFERROR(VLOOKUP(D122,Param!$BN$4:$BO$450,2,FALSE),\"\")","v":""},null,null,0,0,null,"Selectionner"]
[{"$f":"IFERROR(VLOOKUP(D123,Param!$BH$4:$BI$450,2,FALSE),0)","v":0},{"$f":"IFERROR(VLOOKUP(D123,Param!$BK$4:$BL$450,2,FALSE),\"\")","v":""},{"$f":"IFERROR(VLOOKUP(D123,Param!$BN$4:$BO$450,2,FALSE),\"\")","v":""},null,null,0,0,null,"Selectionner"]
[{"$f":"IFERROR(VLOOKUP(D124,Param!$BH$4:$BI$450,2,FALSE),0)","v":0},{"$f":"IFERROR(VLOOKUP(D124,Param!$BK$4:$BL$450,2,FALSE),\"\")","v":""},{"$f":"IFERROR(VLOOKUP(D124,Param!$BN$4:$BO$450,2,FALSE),\"\")","v":""},null,null,0,0,null,"Selectionner"]
[{"$f":"IFERROR(VLOOKUP(D125,Param!$BH$4:$BI$450,2,FALSE),0)","v":0},{"$f":"IFERROR(VLOOKUP(D125,Param!$BK$4:$BL$450,2,FALSE),\"\")","v":""},{"$f":"IFERROR(VLOOKUP(D125,Param!$BN$4:$BO$450,2,FALSE),\"\")","v":""},null,null,0,0,null,"Selectionner"]
[{"$f":"IFERROR(VLOOKUP(D126,Param!$BH$4:$BI$450,2,FALSE),0)","v":0},{"$f":"IFERROR(VLOOKUP(D126,Param!$BK$4:$BL$450,2,FALSE),\"\")","v":""},{"$f":"IFERROR(VLOOKUP(D126,Param!$BN$4:$BO$450,2,FALSE),\"\")","v":""},null,null,0,0,null,"Selectionner"]
[{"$f":"IFERROR(VLOOKUP(D127,Param!$BH$4:$BI$450,2,FALSE),0)","v":0},{"$f":"IFERROR(VLOOKUP(D127,Param!$BK$4:$BL$450,2,FALSE),\"\")","v":""},{"$f":"IFERROR(VLOOKUP(D127,Param!$BN$4:$BO$450,2,FALSE),\"\")","v":""},null,null,0,0,null,"Selectionner"]
[{"$f":"IFERROR(VLOOKUP(D128,Param!$BH$4:$BI$450,2,FALSE),0)","v":0},{"$f":"IFERROR(VLOOKUP(D128,Param!$BK$4:$BL$450,2,FALSE),\"\")","v":""},{"$f":"IFERROR(VLOOKUP(D128,Param!$BN$4:$BO$450,2,FALSE),\"\")","v":""},null,null,0,0,null,"Selectionner"]
[{"$f":"IFERROR(VLOOKUP(D129,Param!$BH$4:$BI$450,2,FALSE),0)","v":0},{"$f":"IFERROR(VLOOKUP(D129,Param!$BK$4:$BL$450,2,FALSE),\"\")","v":""},{"$f":"IFERROR(VLOOKUP(D129,Param!$BN$4:$BO$450,2,FALSE),\"\")","v":""},null,null,0,0,null,"Selectionner"]
[{"$f":"IFERROR(VLOOKUP(D130,Param!$BH$4:$BI$450,2,FALSE),0)","v":0},{"$f":"IFERROR(VLOOKUP(D130,Param!$BK$4:$BL$450,2,FALSE),\"\")","v":""},{"$f":"IFERROR(VLOOKUP(D130,Param!$BN$4:$BO$450,2,FALSE),\"\")","v":""},null,null,0,0,null,"Selectionner"]
[{"$f":"IFERROR(VLOOKUP(D131,Param!$BH$4:$BI$450,2,FALSE),0)","v":0},{"$f":"IFERROR(VLOOKUP(D131,Param!$BK$4:$BL$450,2,FALSE),\"\")","v":""},{"$f":"IFERROR(VLOOKUP(D131,Param!$BN$4:$BO$450,2,FALSE),\"\")","v":""},null,null,0,0,null,"Selectionner"]
[{"$f":"IFERROR(VLOOKUP(D132,Param!$BH$4:$BI$450,2,FALSE),0)","v":0},{"$f":"IFERROR(VLOOKUP(D132,Param!$BK$4:$BL$450,2,FALSE),\"\")","v":""},{"$f":"IFERROR(VLOOKUP(D132,Param!$BN$4:$BO$450,2,FALSE),\"\")","v":""},null,null,0,0,null,"Selectionner"]
[{"$f":"IFERROR(VLOOKUP(D133,Param!$BH$4:$BI$450,2,FALSE),0)","v":0},{"$f":"IFERROR(VLOOKUP(D133,Param!$BK$4:$BL$450,2,FALSE),\"\")","v":""},{"$f":"IFERROR(VLOOKUP(D133,Param!$BN$4:$BO$450,2,FALSE),\"\")","v":""},null,null,0,0,null,"Selectionner"]
[{"$f":"IFERROR(VLOOKUP(D134,Param!$BH$4:$BI$450,2,FALSE),0)","v":0},{"$f":"IFERROR(VLOOKUP(D134,Param!$BK$4:$BL$450,2,FALSE),\"\")","v":""},{"$f":"IFERROR(VLOOKUP(D134,Param!$BN$4:$BO$450,2,FALSE),\"\")","v":""},null,null,0,0,null,"Selectionner"]
[{"$f":"IFERROR(VLOOKUP(D135,Param!$BH$4:$BI$450,2,FALSE),0)","v":0},{"$f":"IFERROR(VLOOKUP(D135,Param!$BK$4:$BL$450,2,FALSE),\"\")","v":""},{"$f":"IFERROR(VLOOKUP(D135,Param!$BN$4:$BO$450,2,FALSE),\"\")","v":""},null,null,0,0,null,"Selectionner"]
[{"$f":"IFERROR(VLOOKUP(D136,Param!$BH$4:$BI$450,2,FALSE),0)","v":0},{"$f":"IFERROR(VLOOKUP(D136,Param!$BK$4:$BL$450,2,FALSE),\"\")","v":""},{"$f":"IFERROR(VLOOKUP(D136,Param!$BN$4:$BO$450,2,FALSE),\"\")","v":""},null,null,0,0,null,"Selectionner"]
[{"$f":"IFERROR(VLOOKUP(D137,Param!$BH$4:$BI$450,2,FALSE),0)","v":0},{"$f":"IFERROR(VLOOKUP(D137,Param!$BK$4:$BL$450,2,FALSE),\"\")","v":""},{"$f":"IFERROR(VLOOKUP(D137,Param!$BN$4:$BO$450,2,FALSE),\"\")","v":""},null,null,0,0,null,"Selectionner"]
[{"$f":"IFERROR(VLOOKUP(D138,Param!$BH$4:$BI$450,2,FALSE),0)","v":0},{"$f":"IFERROR(VLOOKUP(D138,Param!$BK$4:$BL$450,2,FALSE),\"\")","v":""},{"$f":"IFERROR(VLOOKUP(D138,Param!$BN$4:$BO$450,2,FALSE),\"\")","v":""},null,null,0,0,null,"Selectionner"]
[{"$f":"IFERROR(VLOOKUP(D139,Param!$BH$4:$BI$450,2,FALSE),0)","v":0},{"$f":"IFERROR(VLOOKUP(D139,Param!$BK$4:$BL$450,2,FALSE),\"\")","v":""},{"$f":"IFERROR(VLOOKUP(D139,Param!$BN$4:$BO$450,2,FALSE),\"\")","v":""},null,null,0,0,null,"Selectionner"]
[{"$f":"IFERROR(VLOOKUP(D140,Param!$BH$4:$BI$450,2,FALSE),0)","v":0},{"$f":"IFERROR(VLOOKUP(D140,Param!$BK$4:$BL$450,2,FALSE),\"\")","v":""},{"$f":"IFERROR(VLOOKUP(D140,Param!$BN$4:$BO$450,2,FALSE),\"\")","v":""},null,null,{"$f":"IF(D140=\"Selectionner\",\"\",D140)","v":0},0,null,"Selectionner"]
[{"$f":"IFERROR(VLOOKUP(D141,Param!$BH$4:$BI$450,2,FALSE),0)","v":0},{"$f":"IFERROR(VLOOKUP(D141,Param!$BK$4:$BL$450,2,FALSE),\"\")","v":""},{"$f":"IFERROR(VLOOKUP(D141,Param!$BN$4:$BO$450,2,FALSE),\"\")","v":""},null,null,0,0,null,"Selectionner"]
[{"$f":"IFERROR(VLOOKUP(D142,Param!$BH$4:$BI$450,2,FALSE),0)","v":0},{"$f":"IFERROR(VLOOKUP(D142,Param!$BK$4:$BL$450,2,FALSE),\"\")","v":""},{"$f":"IFERROR(VLOOKUP(D142,Param!$BN$4:$BO$450,2,FALSE),\"\")","v":""},null,null,0,0,null,"Selectionner"]
[{"$f":"IFERROR(VLOOKUP(D143,Param!$BH$4:$BI$450,2,FALSE),0)","v":0},{"$f":"IFERROR(VLOOKUP(D143,Param!$BK$4:$BL$450,2,FALSE),\"\")","v":""},{"$f":"IFERROR(VLOOKUP(D143,Param!$BN$4:$BO$450,2,FALSE),\"\")","v":""},null,null,0,0,null,"Selectionner"]
[{"$f":"IFERROR(VLOOKUP(D144,Param!$BH$4:$BI$450,2,FALSE),0)","v":0},{"$f":"IFERROR(VLOOKUP(D144,Param!$BK$4:$BL$450,2,FALSE),\"\")","v":""},{"$f":"IFERROR(VLOOKUP(D144,Param!$BN$4:$BO$450,2,FALSE),\"\")","v":""},null,null,0,0,null,"Selectionner"]
[{"$f":"IFERROR(VLOOKUP(D145,Param!$BH$4:$BI$450,2,FALSE),0)","v":0},{"$f":"IFERROR(VLOOKUP(D145,Param!$BK$4:$BL$450,2,FALSE),\"\")","v":""},{"$f":"IFERROR(VLOOKUP(D145,Param!$BN$4:$BO$450,2,FALSE),\"\")","v":""},null,null,0,0,null,"Selectionner"]
[{"$f":"IFERROR(VLOOKUP(D146,Param!$BH$4:$BI$450,2,FALSE),0)","v":0},{"$f":"IFERROR(VLOOKUP(D146,Param!$BK$4:$BL$450,2,FALSE),\"\")","v":""},{"$f":"IFERROR(VLOOKUP(D146,Param!$BN$4:$BO$450,2,FALSE),\"\")","v":""},null,null,0,0,null,"Selectionner"]
[{"$f":"IFERROR(VLOOKUP(D147,Param!$BH$4:$BI$450,2,FALSE),0)","v":0},{"$f":"IFERROR(VLOOKUP(D147,Param!$BK$4:$BL$450,2,FALSE),\"\")","v":""},{"$f":"IFERROR(VLOOKUP(D147,Param!$BN$4:$BO$450,2,FALSE),\"\")","v":""},null,null,0,0,null,"Selectionner"]
[{"$f":"IFERROR(VLOOKUP(D148,Param!$BH$4:$BI$450,2,FALSE),0)","v":0},{"$f":"IFERROR(VLOOKUP(D148,Param!$BK$4:$BL$450,2,FALSE),\"\")","v":""},{"$f":"IFERROR(VLOOKUP(D148,Param!$BN$4:$BO$450,2,FALSE),\"\")","v":""},null,null,0,0,null,"Selectionner"]
[{"$f":"IFERROR(VLOOKUP(D149,Param!$BH$4:$BI$450,2,FALSE),0)","v":0},{"$f":"IFERROR(VLOOKUP(D149,Param!$BK$4:$BL$450,2,FALSE),\"\")","v":""},{"$f":"IFERROR(VLOOKUP(D149,Param!$BN$4:$BO$450,2,FALSE),\"\")","v":""},null,null,{"$f":"IF(D149=\"Selectionner\",\"\",D149)","v":0},0,null,"Selectionner"]
[{"$f":"IFERROR(VLOOKUP(D150,Param!$BH$4:$BI$450,2,FALSE),0)","v":0},{"$f":"IFERROR(VLOOKUP(D150,Param!$BK$4:$BL$450,2,FALSE),\"\")","v":""},{"$f":"IFERROR(VLOOKUP(D150,Param!$BN$4:$BO$450,2,FALSE),\"\")","v":""},null,null,{"$f":"IF(D150=\"Selectionner\",\"\",D150)","v":0},0,null,"Selectionner"]
[{"$f":"IFERROR(VLOOKUP(D151,Param!$BH$4:$BI$450,2,FALSE),0)","v":0},{"$f":"IFERROR(VLOOKUP(D151,Param!$BK$4:$BL$450,2,FALSE),\"\")","v":""},{"$f":"IFERROR(VLOOKUP(D151,Param!$BN$4:$BO$450,2,FALSE),\"\")","v":""},null,null,0,0,null,"Selectionner"]
[{"$f":"IFERROR(VLOOKUP(D152,Param!$BH$4:$BI$450,2,FALSE),0)","v":0},{"$f":"IFERROR(VLOOKUP(D152,Param!$BK$4:$BL$450,2,FALSE),\"\")","v":""},{"$f":"IFERROR(VLOOKUP(D152,Param!$BN$4:$BO$450,2,FALSE),\"\")","v":""},null,null,0,0,null,"Selectionner"]
[{"$f":"IFERROR(VLOOKUP(D153,Param!$BH$4:$BI$450,2,FALSE),0)","v":0},{"$f":"IFERROR(VLOOKUP(D153,Param!$BK$4:$BL$450,2,FALSE),\"\")","v":""},{"$f":"IFERROR(VLOOKUP(D153,Param!$BN$4:$BO$450,2,FALSE),\"\")","v":""},null,null,0,0,null,"Selectionner"]
[{"$f":"IFERROR(VLOOKUP(D154,Param!$BH$4:$BI$450,2,FALSE),0)","v":0},{"$f":"IFERROR(VLOOKUP(D154,Param!$BK$4:$BL$450,2,FALSE),\"\")","v":""},{"$f":"IFERROR(VLOOKUP(D154,Param!$BN$4:$BO$450,2,FALSE),\"\")","v":""},null,null,0,0,null,"Selectionner"]
[{"$f":"IFERROR(VLOOKUP(D155,Param!$BH$4:$BI$450,2,FALSE),0)","v":0},{"$f":"IFERROR(VLOOKUP(D155,Param!$BK$4:$BL$450,2,FALSE),\"\")","v":""},{"$f":"IFERROR(VLOOKUP(D155,Param!$BN$4:$BO$450,2,FALSE),\"\")","v":""},null,null,0,0,null,"Selectionner"]
[{"$f":"IFERROR(VLOOKUP(D156,Param!$BH$4:$BI$450,2,FALSE),0)","v":0},{"$f":"IFERROR(VLOOKUP(D156,Param!$BK$4:$BL$450,2,FALSE),\"\")","v":""},{"$f":"IFERROR(VLOOKUP(D156,Param!$BN$4:$BO$450,2,FALSE),\"\")","v":""},null,null,0,0,null,"Selectionner"]
[{"$f":"IFERROR(VLOOKUP(D157,Param!$BH$4:$BI$450,2,FALSE),0)","v":0},{"$f":"IFERROR(VLOOKUP(D157,Param!$BK$4:$BL$450,2,FALSE),\"\")","v":""},{"$f":"IFERROR(VLOOKUP(D157,Param!$BN$4:$BO$450,2,FALSE),\"\")","v":""},null,null,0,0,null,"Selectionner"]
[{"$f":"IFERROR(VLOOKUP(D158,Param!$BH$4:$BI$450,2,FALSE),0)","v":0},{"$f":"IFERROR(VLOOKUP(D158,Param!$BK$4:$BL$450,2,FALSE),\"\")","v":""},{"$f":"IFERROR(VLOOKUP(D158,Param!$BN$4:$BO$450,2,FALSE),\"\")","v":""},null,null,0,0,null,"Selectionner"]
[{"$f":"IFERROR(VLOOKUP(D159,Param!$BH$4:$BI$450,2,FALSE),0)","v":0},{"$f":"IFERROR(VLOOKUP(D159,Param!$BK$4:$BL$450,2,FALSE),\"\")","v":""},{"$f":"IFERROR(VLOOKUP(D159,Param!$BN$4:$BO$450,2,FALSE),\"\")","v":""},null,null,0,0,null,"Selectionner"]
[{"$f":"IFERROR(VLOOKUP(D160,Param!$BH$4:$BI$450,2,FALSE),0)","v":0},{"$f":"IFERROR(VLOOKUP(D160,Param!$BK$4:$BL$450,2,FALSE),\"\")","v":""},{"$f":"IFERROR(VLOOKUP(D160,Param!$BN$4:$BO$450,2,FALSE),\"\")","v":""},null,null,0,0,null,"Selectionner"]
[{"$f":"IFERROR(VLOOKUP(D161,Param!$BH$4:$BI$450,2,FALSE),0)","v":0},{"$f":"IFERROR(VLOOKUP(D161,Param!$BK$4:$BL$450,2,FALSE),\"\")","v":""},{"$f":"IFERROR(VLOOKUP(D161,Param!$BN$4:$BO$450,2,FALSE),\"\")","v":""},null,null,0,0,null,"Selectionner"]
[{"$f":"IFERROR(VLOOKUP(D162,Param!$BH$4:$BI$450,2,FALSE),0)","v":0},{"$f":"IFERROR(VLOOKUP(D162,Param!$BK$4:$BL$450,2,FALSE),\"\")","v":""},{"$f":"IFERROR(VLOOKUP(D162,Param!$BN$4:$BO$450,2,FALSE),\"\")","v":""},null,null,0,0,null,"Selectionner"]
[{"$f":"IFERROR(VLOOKUP(D163,Param!$BH$4:$BI$450,2,FALSE),0)","v":0},{"$f":"IFERROR(VLOOKUP(D163,Param!$BK$4:$BL$450,2,FALSE),\"\")","v":""},{"$f":"IFERROR(VLOOKUP(D163,Param!$BN$4:$BO$450,2,FALSE),\"\")","v":""},null,null,0,0,null,"Selectionner"]
[{"$f":"IFERROR(VLOOKUP(D164,Param!$BH$4:$BI$450,2,FALSE),0)","v":0},{"$f":"IFERROR(VLOOKUP(D164,Param!$BK$4:$BL$450,2,FALSE),\"\")","v":""},{"$f":"IFERROR(VLOOKUP(D164,Param!$BN$4:$BO$450,2,FALSE),\"\")","v":""},null,null,0,0,null,"Selectionner"]
[{"$f":"IFERROR(VLOOKUP(D165,Param!$BH$4:$BI$450,2,FALSE),0)","v":0},{"$f":"IFERROR(VLOOKUP(D165,Param!$BK$4:$BL$450,2,FALSE),\"\")","v":""},{"$f":"IFERROR(VLOOKUP(D165,Param!$BN$4:$BO$450,2,FALSE),\"\")","v":""},null,null,0,0,null,"Selectionner"]
[{"$f":"IFERROR(VLOOKUP(D166,Param!$BH$4:$BI$450,2,FALSE),0)","v":0},{"$f":"IFERROR(VLOOKUP(D166,Param!$BK$4:$BL$450,2,FALSE),\"\")","v":""},{"$f":"IFERROR(VLOOKUP(D166,Param!$BN$4:$BO$450,2,FALSE),\"\")","v":""},null,null,0,0,null,"Selectionner"]
[{"$f":"IFERROR(VLOOKUP(D167,Param!$BH$4:$BI$450,2,FALSE),0)","v":0},{"$f":"IFERROR(VLOOKUP(D167,Param!$BK$4:$BL$450,2,FALSE),\"\")","v":""},{"$f":"IFERROR(VLOOKUP(D167,Param!$BN$4:$BO$450,2,FALSE),\"\")","v":""},null,null,0,0,null,"Selectionner"]
[{"$f":"IFERROR(VLOOKUP(D168,Param!$BH$4:$BI$450,2,FALSE),0)","v":0},{"$f":"IFERROR(VLOOKUP(D168,Param!$BK$4:$BL$450,2,FALSE),\"\")","v":""},{"$f":"IFERROR(VLOOKUP(D168,Param!$BN$4:$BO$450,2,FALSE),\"\")","v":""},null,null,0,0,null,"Selectionner"]
[{"$f":"IFERROR(VLOOKUP(D169,Param!$BH$4:$BI$450,2,FALSE),0)","v":0},{"$f":"IFERROR(VLOOKUP(D169,Param!$BK$4:$BL$450,2,FALSE),\"\")","v":""},{"$f":"IFERROR(VLOOKUP(D169,Param!$BN$4:$BO$450,2,FALSE),\"\")","v":""},null,null,0,0,null,"Selectionner"]
[{"$f":"IFERROR(VLOOKUP(D170,Param!$BH$4:$BI$450,2,FALSE),0)","v":0},{"$f":"IFERROR(VLOOKUP(D170,Param!$BK$4:$BL$450,2,FALSE),\"\")","v":""},{"$f":"IFERROR(VLOOKUP(D170,Param!$BN$4:$BO$450,2,FALSE),\"\")","v":""},null,null,0,0,null,"Selectionner"]
[{"$f":"IFERROR(VLOOKUP(D171,Param!$BH$4:$BI$450,2,FALSE),0)","v":0},{"$f":"IFERROR(VLOOKUP(D171,Param!$BK$4:$BL$450,2,FALSE),\"\")","v":""},{"$f":"IFERROR(VLOOKUP(D171,Param!$BN$4:$BO$450,2,FALSE),\"\")","v":""},null,null,0,0,null,"Selectionner"]
[{"$f":"IFERROR(VLOOKUP(D172,Param!$BH$4:$BI$450,2,FALSE),0)","v":0},{"$f":"IFERROR(VLOOKUP(D172,Param!$BK$4:$BL$450,2,FALSE),\"\")","v":""},{"$f":"IFERROR(VLOOKUP(D172,Param!$BN$4:$BO$450,2,FALSE),\"\")","v":""},null,null,0,0,null,"Selectionner"]
[{"$f":"IFERROR(VLOOKUP(D173,Param!$BH$4:$BI$450,2,FALSE),0)","v":0},{"$f":"IFERROR(VLOOKUP(D173,Param!$BK$4:$BL$450,2,FALSE),\"\")","v":""},{"$f":"IFERROR(VLOOKUP(D173,Param!$BN$4:$BO$450,2,FALSE),\"\")","v":""},null,null,0,0,null,"Selectionner"]
[{"$f":"IFERROR(VLOOKUP(D174,Param!$BH$4:$BI$450,2,FALSE),0)","v":0},{"$f":"IFERROR(VLOOKUP(D174,Param!$BK$4:$BL$450,2,FALSE),\"\")","v":""},{"$f":"IFERROR(VLOOKUP(D174,Param!$BN$4:$BO$450,2,FALSE),\"\")","v":""},null,null,0,0,null,"Selectionner"]
[{"$f":"IFERROR(VLOOKUP(D175,Param!$BH$4:$BI$450,2,FALSE),0)","v":0},{"$f":"IFERROR(VLOOKUP(D175,Param!$BK$4:$BL$450,2,FALSE),\"\")","v":""},{"$f":"IFERROR(VLOOKUP(D175,Param!$BN$4:$BO$450,2,FALSE),\"\")","v":""},null,null,0,0,null,"Selectionner"]
[{"$f":"IFERROR(VLOOKUP(D176,Param!$BH$4:$BI$450,2,FALSE),0)","v":0},{"$f":"IFERROR(VLOOKUP(D176,Param!$BK$4:$BL$450,2,FALSE),\"\")","v":""},{"$f":"IFERROR(VLOOKUP(D176,Param!$BN$4:$BO$450,2,FALSE),\"\")","v":""},null,null,0,0,null,"Selectionner"]
[{"$f":"IFERROR(VLOOKUP(D177,Param!$BH$4:$BI$450,2,FALSE),0)","v":0},{"$f":"IFERROR(VLOOKUP(D177,Param!$BK$4:$BL$450,2,FALSE),\"\")","v":""},{"$f":"IFERROR(VLOOKUP(D177,Param!$BN$4:$BO$450,2,FALSE),\"\")","v":""},null,null,0,0,null,"Selectionner"]
[{"$f":"IFERROR(VLOOKUP(D178,Param!$BH$4:$BI$450,2,FALSE),0)","v":0},{"$f":"IFERROR(VLOOKUP(D178,Param!$BK$4:$BL$450,2,FALSE),\"\")","v":""},{"$f":"IFERROR(VLOOKUP(D178,Param!$BN$4:$BO$450,2,FALSE),\"\")","v":""},null,null,0,0,null,"Selectionner"]

{"sheet":"3_Imprimer Planning","index":3,"n_rows":159,"n_cols":33,"rows_kept":159,"merged":[[0,1,0,32],[5,9,5,32],[7,7,7,14],[7,16,7,23],[7,25,7,32],[9,7,9,8],[9,9,9,10],[9,11,9,12],[9,13,9,14],[9,16,9,17],[9,18,9,19],[9,20,9,21],[9,22,9,23],[9,25,9,26],[9,27,9,28],[9,29,9,30],[9,31,9,32],[11,0,11,32]]}
[null,"TABLEAU DE PLANNING TRIMESTRIEL DES ACTIVITES"]
[{"$nulls":3},"Informations",null,null,"Montant total"]
[]
[null,"Periode d'activite",null,{"$f":"'2-Programmer les activités'!D4","v":"Janvier-Mars_2021"},null,null,{"$f":"SUBTOTAL(9,F12:F301)","v":{"v":200000,"d":"200,000.00"}},{"$f":"'2-Programmer les activités'!K4","v":"GNF"}]
[null,"Pays",null,{"$f":"'2-Programmer les activités'!D5","v":"Guinea"}]
[null,"Nom du PR",null,{"$f":"IF(OR('2-Programmer les activités'!D6=\"\",'2-Programmer les activités'!D6=\"Selectionner\"),\"\",'2-Programmer les activités'!D6)","v":"ONUSIDA"},null,null,{"$f":"IFERROR(G4/'2-Programmer les activités'!J6,\"\")","v":{"v":22.22222222222222,"d":"22.22"}},{"$f":"'2-Programmer les activités'!K6","v":"USD"},null,"Chronogramme de mise en oeuvre"]
[null,"Section concernee",null,"Selectionner"]
[{"$nulls":7},{"$f":"Param!AR4","v":""},{"$nulls":8},{"$f":"Param!AW4","v":""},{"$nulls":8},{"$f":"Param!BB4","v":""}]
[]
["Num.","Modules","Interventions","Intiule de l'activite",null,"Montant de l'activite","Responsable execution",{"$f":"Param!AR5","v":"S1"},null,{"$f":"Param!AS5","v":"S2"},null,{"$f":"Param!AT5","v":"S3"},null,{"$f":"Param!AU5","v":"S4"},null,null,{"$f":"Param!AW5","v":"S1"},null,{"$f":"Param!AX5","v":"S2"},null,{"$f":"Param!AY5","v":"S3"},null,{"$f":"Param!AZ5","v":"S4"},null,null,{"$f":"Param!BB5","v":"S1"},null,{"$f":"Param!BC5","v":"S2"},null,{"$f":"Param!BD5","v":"S3"},null,{"$f":"Param!BE5","v":"S4"}]
[{"$nulls":7},"Début","Fin","Début","Fin","Début","Fin","Début","Fin",null,"Début","Fin","Début","Fin","Début","Fin","Début","Fin",null,"Début","Fin","Début","Fin","Début","Fin","Début","Fin"]
[]
[{"$f":"IF('2-Programmer les activités'!A12=\"\",\"\",'2-Programmer les activités'!A12)","v":0},{"$f":"IF('2-Programmer les activités'!B12=\"Selectionner\",\"\",'2-Programmer les activités'!B12)","v":""},{"$f":"IF('2-Programmer les activités'!C12=\"Selectionner\",\"\",'2-Programmer les activités'!C12)","v":""},{"$f":"IF('2-Programmer les activités'!D12=\"\",\"\",'2-Programmer les activités'!D12)","v":""},null,{"$f":"IF('2-Programmer les activités'!H12=\"\",\"\",'2-Programmer les activités'!H12)","v":{"v":200000,"d":"200,000.0 "}},{"$f":"IF('2-Programmer les activités'!I12=\"Selectionner\",\"\",'2-Programmer les activités'!I12)","v":"MS"},{"$f":"Param!AR6","v":""},{"$f":"'Param deadline'!AR6","v":""},{"$f":"Param!AS6","v":""},{"$f":"'Param deadline'!AS6","v":""},{"$f":"Param!AT6","v":""},{"$f":"'Param deadline'!AT6","v":""},{"$f":"Param!AU6","v":""},{"$f":"'Param deadline'!AU6","v":""},null,{"$f":"Param!AW6","v":""},{"$f":"'Param deadline'!AW6","v":""},{"$f":"Param!AX6","v":""},{"$f":"'Param deadline'!AX6","v":""},{"$f":"Param!AY6","v":""},{"$f":"'Param deadline'!AY6","v":""},{"$f":"Param!AZ6","v":""},{"$f":"'Param deadline'!AZ6","v":""},null,{"$f":"Param!BB6","v":""},{"$f":"'Param deadline'!BB6","v":""},{"$f":"Param!BC6","v":""},{"$f":"'Param deadline'!BC6","v":""},{"$f":"Param!BD6","v":""},{"$f":"'Param deadline'!BD6","v":""},{"$f":"Param!BE6","v":""},{"$f":"'Param deadline'!BE6","v":""}]
[{"$f":"IF('2-Programmer les activités'!A13=\"\",\"\",'2-Programmer les activités'!A13)","v":0},{"$f":"IF('2-Programmer les activités'!B13=\"Selectionner\",\"\",'2-Programmer les activités'!B13)","v":""},{"$f":"IF('2-Programmer les activités'!C13=\"Selectionner\",\"\",'2-Programmer les activités'!C13)","v":""},{"$f":"IF('2-Programmer les activités'!D13=\"\",\"\",'2-Programmer les activités'!D13)","v":""},null,{"$f":"IF('2-Programmer les activités'!H13=\"\",\"\",'2-Programmer les activités'!H13)","v":""},{"$f":"IF('2-Programmer les activités'!I13=\"Selectionner\",\"\",'2-Programmer les activités'!I13)","v":""},{"$f":"Param!AR7","v":""},{"$f":"'Param deadline'!AR7","v":""},{"$f":"Param!AS7","v":""},{"$f":"'Param deadline'!AS7","v":""},{"$f":"Param!AT7","v":""},{"$f":"'Param deadline'!AT7","v":""},{"$f":"Param!AU7","v":""},{"$f":"'Param deadline'!AU7","v":""},null,{"$f":"Param!AW7","v":""},{"$f":"'Param deadline'!AW7","v":""},{"$f":"Param!AX7","v":""},{"$f":"'Param deadline'!AX7","v":""},{"$f":"Param!AY7","v":""},{"$f":"'Param deadline'!AY7","v":""},{"$f":"Param!AZ7","v":""},{"$f":"'Param deadline'!AZ7","v":""},null,{"$f":"Param!BB7","v":""},{"$f":"'Param deadline'!BB7","v":""},{"$f":"Param!BC7","v":""},{"$f":"'Param deadline'!BC7","v":""},{"$f":"Param!BD7","v":""},{"$f":"'Param deadline'!BD7","v":""},{"$f":"Param!BE7","v":""},{"$f":"'Param deadline'!BE7","v":""}]
[{"$f":"IF('2-Programmer les activités'!A14=\"\",\"\",'2-Programmer les activités'!A14)","v":0},{"$f":"IF('2-Programmer les activités'!B14=\"Selectionner\",\"\",'2-Programmer les activités'!B14)","v":""},{"$f":"IF('2-Programmer les activités'!C14=\"Selectionner\",\"\",'2-Programmer les activités'!C14)","v":""},{"$f":"IF('2-Programmer les activités'!D14=\"\",\"\",'2-Programmer les activités'!D14)","v":""},null,{"$f":"IF('2-Programmer les activités'!H14=\"\",\"\",'2-Programmer les activités'!H14)","v":""},{"$f":"IF('2-Programmer les activités'!I14=\"Selectionner\",\"\",'2-Programmer les activités'!I14)","v":""},{"$f":"Param!AR8","v":""},{"$f":"'Param deadline'!AR8","v":""},{"$f":"Param!AS8","v":""},{"$f":"'Param deadline'!AS8","v":""},{"$f":"Param!AT8","v":""},{"$f":"'Param deadline'!AT8","v":""},{"$f":"Param!AU8","v":""},{"$f":"'Param deadline'!AU8","v":""},null,{"$f":"Param!AW8","v":""},{"$f":"'Param deadline'!AW8","v":""},{"$f":"Param!AX8","v":""},{"$f":"'Param deadline'!AX8","v":""},{"$f":"Param!AY8","v":""},{"$f":"'Param deadline'!AY8","v":""},{"$f":"Param!AZ8","v":""},{"$f":"'Param deadline'!AZ8","v":""},null,{"$f":"Param!BB8","v":""},{"$f":"'Param deadline'!BB8","v":""},{"$f":"Param!BC8","v":""},{"$f":"'Param deadline'!BC8","v":""},{"$f":"Param!BD8","v":""},{"$f":"'Param deadline'!BD8","v":""},{"$f":"Param!BE8","v":""},{"$f":"'Param deadline'!BE8","v":""}]
[{"$f":"IF('2-Programmer les activités'!A15=\"\",\"\",'2-Programmer les activités'!A15)","v":0},{"$f":"IF('2-Programmer les activités'!B15=\"Selectionner\",\"\",'2-Programmer les activités'!B15)","v":""},{"$f":"IF('2-Programmer les activités'!C15=\"Selectionner\",\"\",'2-Programmer les activités'!C15)","v":""},{"$f":"IF('2-Programmer les activités'!D15=\"\",\"\",'2-Programmer les activités'!D15)","v":""},null,{"$f":"IF('2-Programmer les activités'!H15=\"\",\"\",'2-Programmer les activités'!H15)","v":""},{"$f":"IF('2-Programmer les activités'!I15=\"Selectionner\",\"\",'2-Programmer les activités'!I15)","v":""},{"$f":"Param!AR9","v":""},{"$f":"'Param deadline'!AR9","v":""},{"$f":"Param!AS9","v":""},{"$f":"'Param deadline'!AS9","v":""},{"$f":"Param!AT9","v":""},{"$f":"'Param deadline'!AT9","v":""},{"$f":"Param!AU9","v":""},{"$f":"'Param deadline'!AU9","v":""},null,{"$f":"Param!AW9","v":""},{"$f":"'Param deadline'!AW9","v":""},{"$f":"Param!AX9","v":""},{"$f":"'Param deadline'!AX9","v":""},{"$f":"Param!AY9","v":""},{"$f":"'Param deadline'!AY9","v":""},{"$f":"Param!AZ9","v":""},{"$f":"'Param deadline'!AZ9","v":""},null,{"$f":"Param!BB9","v":""},{"$f":"'Param deadline'!BB9","v":""},{"$f":"Param!BC9","v":""},{"$f":"'Param deadline'!BC9","v":""},{"$f":"Param!BD9","v":""},{"$f":"'Param deadline'!BD9","v":""},{"$f":"Param!BE9","v":""},{"$f":"'Param deadline'!BE9","v":""}]
[{"$f":"IF('2-Programmer les activités'!A16=\"\",\"\",'2-Programmer les activités'!A16)","v":0},{"$f":"IF('2-Programmer les activités'!B16=\"Selectionner\",\"\",'2-Programmer les activités'!B16)","v":""},{"$f":"IF('2-Programmer les activités'!C16=\"Selectionner\",\"\",'2-Programmer les activités'!C16)","v":""},{"$f":"IF('2-Programmer les activités'!D16=\"\",\"\",'2-Programmer les activités'!D16)","v":""},null,{"$f":"IF('2-Programmer les activités'!H16=\"\",\"\",'2-Programmer les activités'!H16)","v":""},{"$f":"IF('2-Programmer les activités'!I16=\"Selectionner\",\"\",'2-Programmer les activités'!I16)","v":""},{"$f":"Param!AR10","v":""},{"$f":"'Param deadline'!AR10","v":""},{"$f":"Param!AS10","v":""},{"$f":"'Param deadline'!AS10","v":""},{"$f":"Param!AT10","v":""},{"$f":"'Param deadline'!AT10","v":""},{"$f":"Param!AU10","v":""},{"$f":"'Param deadline'!AU10","v":""},null,{"$f":"Param!AW10","v":""},{"$f":"'Param deadline'!AW10","v":""},{"$f":"Param!AX10","v":""},{"$f":"'Param deadline'!AX10","v":""},{"$f":"Param!AY10","v":""},{"$f":"'Param deadline'!AY10","v":""},{"$f":"Param!AZ10","v":""},{"$f":"'Param deadline'!AZ10","v":""},null,{"$f":"Param!BB10","v":""},{"$f":"'Param deadline'!BB10","v":""},{"$f":"Param!BC10","v":""},{"$f":"'Param deadline'!BC10","v":""},{"$f":"Param!BD10","v":""},{"$f":"'Param deadline'!BD10","v":""},{"$f":"Param!BE10","v":""},{"$f":"'Param deadline'!BE10","v":""}]
[{"$f":"IF('2-Programmer les activités'!A17=\"\",\"\",'2-Programmer les activités'!A17)","v":0},{"$f":"IF('2-Programmer les activités'!B17=\"Selectionner\",\"\",'2-Programmer les activités'!B17)","v":""},{"$f":"IF('2-Programmer les activités'!C17=\"Selectionner\",\"\",'2-Programmer les activités'!C17)","v":""},{"$f":"IF('2-Programmer les activités'!D17=\"\",\"\",'2-Programmer les activités'!D17)","v":""},null,{"$f":"IF('2-Programmer les activités'!H17=\"\",\"\",'2-Programmer les activités'!H17)","v":""},{"$f":"IF('2-Programmer les activités'!I17=\"Selectionner\",\"\",'2-Programmer les activités'!I17)","v":""},{"$f":"Param!AR11","v":""},{"$f":"'Param deadline'!AR11","v":""},{"$f":"Param!AS11","v":""},{"$f":"'Param deadline'!AS11","v":""},{"$f":"Param!AT11","v":""},{"$f":"'Param deadline'!AT11","v":""},{"$f":"Param!AU11","v":""},{"$f":"'Param deadline'!AU11","v":""},null,{"$f":"Param!AW11","v":""},{"$f":"'Param deadline'!AW11","v":""},{"$f":"Param!AX11","v":""},{"$f":"'Param deadline'!AX11","v":""},{"$f":"Param!AY11","v":""},{"$f":"'Param deadline'!AY11","v":""},{"$f":"Param!AZ11","v":""},{"$f":"'Param deadline'!AZ11","v":""},null,{"$f":"Param!BB11","v":""},{"$f":"'Param deadline'!BB11","v":""},{"$f":"Param!BC11","v":""},{"$f":"'Param deadline'!BC11","v":""},{"$f":"Param!BD11","v":""},{"$f":"'Param deadline'!BD11","v":""},{"$f":"Param!BE11","v":""},{"$f":"'Param deadline'!BE11","v":""}]
[{"$f":"IF('2-Programmer les activités'!A18=\"\",\"\",'2-Programmer les activités'!A18)","v":0},{"$f":"IF('2-Programmer les activités'!B18=\"Selectionner\",\"\",'2-Programmer les activités'!B18)","v":""},{"$f":"IF('2-Programmer les activités'!C18=\"Selectionner\",\"\",'2-Programmer les activités'!C18)","v":""},{"$f":"IF('2-Programmer les activités'!D18=\"\",\"\",'2-Programmer les activités'!D18)","v":""},null,{"$f":"IF('2-Programmer les activités'!H18=\"\",\"\",'2-Programmer les activités'!H18)","v":""},{"$f":"IF('2-Programmer les activités'!I18=\"Selectionner\",\"\",'2-Programmer les activités'!I18)","v":""},{"$f":"Param!AR12","v":""},{"$f":"'Param deadline'!AR12","v":""},{"$f":"Param!AS12","v":""},{"$f":"'Param deadline'!AS12","v":""},{"$f":"Param!AT12","v":""},{"$f":"'Param deadline'!AT12","v":""},{"$f":"Param!AU12","v":""},{"$f":"'Param deadline'!AU12","v":""},null,{"$f":"Param!AW12","v":""},{"$f":"'Param deadline'!AW12","v":""},{"$f":"Param!AX12","v":""},{"$f":"'Param deadline'!AX12","v":""},{"$f":"Param!AY12","v":""},{"$f":"'Param deadline'!AY12","v":""},{"$f":"Param!AZ12","v":""},{"$f":"'Param deadline'!AZ12","v":""},null,{"$f":"Param!BB12","v":""},{"$f":"'Param deadline'!BB12","v":""},{"$f":"Param!BC12","v":""},{"$f":"'Param deadline'!BC12","v":""},{"$f":"Param!BD12","v":""},{"$f":"'Param deadline'!BD12","v":""},{"$f":"Param!BE12","v":""},{"$f":"'Param deadline'!BE12","v":""}]
[{"$f":"IF('2-Programmer les activités'!A19=\"\",\"\",'2-Programmer les activités'!A19)","v":0},{"$f":"IF('2-Programmer les activités'!B19=\"Selectionner\",\"\",'2-Programmer les activités'!B19)","v":""},{"$f":"IF('2-Programmer les activités'!C19=\"Selectionner\",\"\",'2-Programmer les activités'!C19)","v":""},{"$f":"IF('2-Programmer les activités'!D19=\"\",\"\",'2-Programmer les activités'!D19)","v":""},null,{"$f":"IF('2-Programmer les activités'!H19=\"\",\"\",'2-Programmer les activités'!H19)","v":""},{"$f":"IF('2-Programmer les activités'!I19=\"Selectionner\",\"\",'2-Programmer les activités'!I19)","v":""},{"$f":"Param!AR13","v":""},{"$f":"'Param deadline'!AR13","v":""},{"$f":"Param!AS13","v":""},{"$f":"'Param deadline'!AS13","v":""},{"$f":"Param!AT13","v":""},{"$f":"'Param deadline'!AT13","v":""},{"$f":"Param!AU13","v":""},{"$f":"'Param deadline'!AU13","v":""},null,{"$f":"Param!AW13","v":""},{"$f":"'Param deadline'!AW13","v":""},{"$f":"Param!AX13","v":""},{"$f":"'Param deadline'!AX13","v":""},{"$f":"Param!AY13","v":""},{"$f":"'Param deadline'!AY13","v":""},{"$f":"Param!AZ13","v":""},{"$f":"'Param deadline'!AZ13","v":""},null,{"$f":"Param!BB13","v":""},{"$f":"'Param deadline'!BB13","v":""},{"$f":"Param!BC13","v":""},{"$f":"'Param deadline'!BC13","v":""},{"$f":"Param!BD13","v":""},{"$f":"'Param deadline'!BD13","v":""},{"$f":"Param!BE13","v":""},{"$f":"'Param deadline'!BE13","v":""}]
[{"$f":"IF('2-Programmer les activités'!A20=\"\",\"\",'2-Programmer les activités'!A20)","v":0},{"$f":"IF('2-Programmer les activités'!B20=\"Selectionner\",\"\",'2-Programmer les activités'!B20)","v":""},{"$f":"IF('2-Programmer les activités'!C20=\"Selectionner\",\"\",'2-Programmer les activités'!C20)","v":""},{"$f":"IF('2-Programmer les activités'!D20=\"\",\"\",'2-Programmer les activités'!D20)","v":""},null,{"$f":"IF('2-Programmer les activités'!H20=\"\",\"\",'2-Programmer les activités'!H20)","v":""},{"$f":"IF('2-Programmer les activités'!I20=\"Selectionner\",\"\",'2-Programmer les activités'!I20)","v":""},{"$f":"Param!AR14","v":""},{"$f":"'Param deadline'!AR14","v":""},{"$f":"Param!AS14","v":""},{"$f":"'Param deadline'!AS14","v":""},{"$f":"Param!AT14","v":""},{"$f":"'Param deadline'!AT14","v":""},{"$f":"Param!AU14","v":""},{"$f":"'Param deadline'!AU14","v":""},null,{"$f":"Param!AW14","v":""},{"$f":"'Param deadline'!AW14","v":""},{"$f":"Param!AX14","v":""},{"$f":"'Param deadline'!AX14","v":""},{"$f":"Param!AY14","v":""},{"$f":"'Param deadline'!AY14","v":""},{"$f":"Param!AZ14","v":""},{"$f":"'Param deadline'!AZ14","v":""},null,{"$f":"Param!BB14","v":""},{"$f":"'Param deadline'!BB14","v":""},{"$f":"Param!BC14","v":""},{"$f":"'Param deadline'!BC14","v":""},{"$f":"Param!BD14","v":""},{"$f":"'Param deadline'!BD14","v":""},{"$f":"Param!BE14","v":""},{"$f":"'Param deadline'!BE14","v":""}]
[{"$f":"IF('2-Programmer les activités'!A21=\"\",\"\",'2-Programmer les activités'!A21)","v":0},{"$f":"IF('2-Programmer les activités'!B21=\"Selectionner\",\"\",'2-Programmer les activités'!B21)","v":""},{"$f":"IF('2-Programmer les activités'!C21=\"Selectionner\",\"\",'2-Programmer les activités'!C21)","v":""},{"$f":"IF('2-Programmer les activités'!D21=\"\",\"\",'2-Programmer les activités'!D21)","v":""},null,{"$f":"IF('2-Programmer les activités'!H21=\"\",\"\",'2-Programmer les activités'!H21)","v":""},{"$f":"IF('2-Programmer les activités'!I21=\"Selectionner\",\"\",'2-Programmer les activités'!I21)","v":""},{"$f":"Param!AR15","v":""},{"$f":"'Param deadline'!AR15","v":""},{"$f":"Param!AS15","v":""},{"$f":"'Param deadline'!AS15","v":""},{"$f":"Param!AT15","v":""},{"$f":"'Param deadline'!AT15","v":""},{"$f":"Param!AU15","v":""},{"$f":"'Param deadline'!AU15","v":""},null,{"$f":"Param!AW15","v":""},{"$f":"'Param deadline'!AW15","v":""},{"$f":"Param!AX15","v":""},{"$f":"'Param deadline'!AX15","v":""},{"$f":"Param!AY15","v":""},{"$f":"'Param deadline'!AY15","v":""},{"$f":"Param!AZ15","v":""},{"$f":"'Param deadline'!AZ15","v":""},null,{"$f":"Param!BB15","v":""},{"$f":"'Param deadline'!BB15","v":""},{"$f":"Param!BC15","v":""},{"$f":"'Param deadline'!BC15","v":""},{"$f":"Param!BD15","v":""},{"$f":"'Param deadline'!BD15","v":""},{"$f":"Param!BE15","v":""},{"$f":"'Param deadline'!BE15","v":""}]
[{"$f":"IF('2-Programmer les activités'!A22=\"\",\"\",'2-Programmer les activités'!A22)","v":0},{"$f":"IF('2-Programmer les activités'!B22=\"Selectionner\",\"\",'2-Programmer les activités'!B22)","v":""},{"$f":"IF('2-Programmer les activités'!C22=\"Selectionner\",\"\",'2-Programmer les activités'!C22)","v":""},{"$f":"IF('2-Programmer les activités'!D22=\"\",\"\",'2-Programmer les activités'!D22)","v":""},null,{"$f":"IF('2-Programmer les activités'!H22=\"\",\"\",'2-Programmer les activités'!H22)","v":""},{"$f":"IF('2-Programmer les activités'!I22=\"Selectionner\",\"\",'2-Programmer les activités'!I22)","v":""},{"$f":"Param!AR16","v":""},{"$f":"'Param deadline'!AR16","v":""},{"$f":"Param!AS16","v":""},{"$f":"'Param deadline'!AS16","v":""},{"$f":"Param!AT16","v":""},{"$f":"'Param deadline'!AT16","v":""},{"$f":"Param!AU16","v":""},{"$f":"'Param deadline'!AU16","v":""},null,{"$f":"Param!AW16","v":""},{"$f":"'Param deadline'!AW16","v":""},{"$f":"Param!AX16","v":""},{"$f":"'Param deadline'!AX16","v":""},{"$f":"Param!AY16","v":""},{"$f":"'Param deadline'!AY16","v":""},{"$f":"Param!AZ16","v":""},{"$f":"'Param deadline'!AZ16","v":""},null,{"$f":"Param!BB16","v":""},{"$f":"'Param deadline'!BB16","v":""},{"$f":"Param!BC16","v":""},{"$f":"'Param deadline'!BC16","v":""},{"$f":"Param!BD16","v":""},{"$f":"'Param deadline'!BD16","v":""},{"$f":"Param!BE16","v":""},{"$f":"'Param deadline'!BE16","v":""}]
[{"$f":"IF('2-Programmer les activités'!A23=\"\",\"\",'2-Programmer les activités'!A23)","v":0},{"$f":"IF('2-Programmer les activités'!B23=\"Selectionner\",\"\",'2-Programmer les activités'!B23)","v":""},{"$f":"IF('2-Programmer les activités'!C23=\"Selectionner\",\"\",'2-Programmer les activités'!C23)","v":""},{"$f":"IF('2-Programmer les activités'!D23=\"\",\"\",'2-Programmer les activités'!D23)","v":""},null,{"$f":"IF('2-Programmer les activités'!H23=\"\",\"\",'2-Programmer les activités'!H23)","v":""},{"$f":"IF('2-Programmer les activités'!I23=\"Selectionner\",\"\",'2-Programmer les activités'!I23)","v":""},{"$f":"Param!AR17","v":""},{"$f":"'Param deadline'!AR17","v":""},{"$f":"Param!AS17","v":""},{"$f":"'Param deadline'!AS17","v":""},{"$f":"Param!AT17","v":""},{"$f":"'Param deadline'!AT17","v":""},{"$f":"Param!AU17","v":""},{"$f":"'Param deadline'!AU17","v":""},null,{"$f":"Param!AW17","v":""},{"$f":"'Param deadline'!AW17","v":""},{"$f":"Param!AX17","v":""},{"$f":"'Param deadline'!AX17","v":""},{"$f":"Param!AY17","v":""},{"$f":"'Param deadline'!AY17","v":""},{"$f":"Param!AZ17","v":""},{"$f":"'Param deadline'!AZ17","v":""},null,{"$f":"Param!BB17","v":""},{"$f":"'Param deadline'!BB17","v":""},{"$f":"Param!BC17","v":""},{"$f":"'Param deadline'!BC17","v":""},{"$f":"Param!BD17","v":""},{"$f":"'Param deadline'!BD17","v":""},{"$f":"Param!BE17","v":""},{"$f":"'Param deadline'!BE17","v":""}]
[{"$f":"IF('2-Programmer les activités'!A24=\"\",\"\",'2-Programmer les activités'!A24)","v":0},{"$f":"IF('2-Programmer les activités'!B24=\"Selectionner\",\"\",'2-Programmer les activités'!B24)","v":""},{"$f":"IF('2-Programmer les activités'!C24=\"Selectionner\",\"\",'2-Programmer les activités'!C24)","v":""},{"$f":"IF('2-Programmer les activités'!D24=\"\",\"\",'2-Programmer les activités'!D24)","v":""},null,{"$f":"IF('2-Programmer les activités'!H24=\"\",\"\",'2-Programmer les activités'!H24)","v":""},{"$f":"IF('2-Programmer les activités'!I24=\"Selectionner\",\"\",'2-Programmer les activités'!I24)","v":""},{"$f":"Param!AR18","v":""},{"$f":"'Param deadline'!AR18","v":""},{"$f":"Param!AS18","v":""},{"$f":"'Param deadline'!AS18","v":""},{"$f":"Param!AT18","v":""},{"$f":"'Param deadline'!AT18","v":""},{"$f":"Param!AU18","v":""},{"$f":"'Param deadline'!AU18","v":""},null,{"$f":"Param!AW18","v":""},{"$f":"'Param deadline'!AW18","v":""},{"$f":"Param!AX18","v":""},{"$f":"'Param deadline'!AX18","v":""},{"$f":"Param!AY18","v":""},{"$f":"'Param deadline'!AY18","v":""},{"$f":"Param!AZ18","v":""},{"$f":"'Param deadline'!AZ18","v":""},null,{"$f":"Param!BB18","v":""},{"$f":"'Param deadline'!BB18","v":""},{"$f":"Param!BC18","v":""},{"$f":"'Param deadline'!BC18","v":""},{"$f":"Param!BD18","v":""},{"$f":"'Param deadline'!BD18","v":""},{"$f":"Param!BE18","v":""},{"$f":"'Param deadline'!BE18","v":""}]
[{"$f":"IF('2-Programmer les activités'!A25=\"\",\"\",'2-Programmer les activités'!A25)","v":0},{"$f":"IF('2-Programmer les activités'!B25=\"Selectionner\",\"\",'2-Programmer les activités'!B25)","v":""},{"$f":"IF('2-Programmer les activités'!C25=\"Selectionner\",\"\",'2-Programmer les activités'!C25)","v":""},{"$f":"IF('2-Programmer les activités'!D25=\"\",\"\",'2-Programmer les activités'!D25)","v":""},null,{"$f":"IF('2-Programmer les activités'!H25=\"\",\"\",'2-Programmer les activités'!H25)","v":""},{"$f":"IF('2-Programmer les activités'!I25=\"Selectionner\",\"\",'2-Programmer les activités'!I25)","v":""},{"$f":"Param!AR19","v":""},{"$f":"'Param deadline'!AR19","v":""},{"$f":"Param!AS19","v":""},{"$f":"'Param deadline'!AS19","v":""},{"$f":"Param!AT19","v":""},{"$f":"'Param deadline'!AT19","v":""},{"$f":"Param!AU19","v":""},{"$f":"'Param deadline'!AU19","v":""},null,{"$f":"Param!AW19","v":""},{"$f":"'Param deadline'!AW19","v":""},{"$f":"Param!AX19","v":""},{"$f":"'Param deadline'!AX19","v":""},{"$f":"Param!AY19","v":""},{"$f":"'Param deadline'!AY19","v":""},{"$f":"Param!AZ19","v":""},{"$f":"'Param deadline'!AZ19","v":""},null,{"$f":"Param!BB19","v":""},{"$f":"'Param deadline'!BB19","v":""},{"$f":"Param!BC19","v":""},{"$f":"'Param deadline'!BC19","v":""},{"$f":"Param!BD19","v":""},{"$f":"'Param deadline'!BD19","v":""},{"$f":"Param!BE19","v":""},{"$f":"'Param deadline'!BE19","v":""}]
[{"$f":"IF('2-Programmer les activités'!A26=\"\",\"\",'2-Programmer les activités'!A26)","v":0},{"$f":"IF('2-Programmer les activités'!B26=\"Selectionner\",\"\",'2-Programmer les activités'!B26)","v":""},{"$f":"IF('2-Programmer les activités'!C26=\"Selectionner\",\"\",'2-Programmer les activités'!C26)","v":""},{"$f":"IF('2-Programmer les activités'!D26=\"\",\"\",'2-Programmer les activités'!D26)","v":""},null,{"$f":"IF('2-Programmer les activités'!H26=\"\",\"\",'2-Programmer les activités'!H26)","v":""},{"$f":"IF('2-Programmer les activités'!I26=\"Selectionner\",\"\",'2-Programmer les activités'!I26)","v":""},{"$f":"Param!AR20","v":""},{"$f":"'Param deadline'!AR20","v":""},{"$f":"Param!AS20","v":""},{"$f":"'Param deadline'!AS20","v":""},{"$f":"Param!AT20","v":""},{"$f":"'Param deadline'!AT20","v":""},{"$f":"Param!AU20","v":""},{"$f":"'Param deadline'!AU20","v":""},null,{"$f":"Param!AW20","v":""},{"$f":"'Param deadline'!AW20","v":""},{"$f":"Param!AX20","v":""},{"$f":"'Param deadline'!AX20","v":""},{"$f":"Param!AY20","v":""},{"$f":"'Param deadline'!AY20","v":""},{"$f":"Param!AZ20","v":""},{"$f":"'Param deadline'!AZ20","v":""},null,{"$f":"Param!BB20","v":""},{"$f":"'Param deadline'!BB20","v":""},{"$f":"Param!BC20","v":""},{"$f":"'Param deadline'!BC20","v":""},{"$f":"Param!BD20","v":""},{"$f":"'Param deadline'!BD20","v":""},{"$f":"Param!BE20","v":""},{"$f":"'Param deadline'!BE20","v":""}]
[{"$f":"IF('2-Programmer les activités'!A27=\"\",\"\",'2-Programmer les activités'!A27)","v":0},{"$f":"IF('2-Programmer les activités'!B27=\"Selectionner\",\"\",'2-Programmer les activités'!B27)","v":""},{"$f":"IF('2-Programmer les activités'!C27=\"Selectionner\",\"\",'2-Programmer les activités'!C27)","v":""},{"$f":"IF('2-Programmer les activités'!D27=\"\",\"\",'2-Programmer les activités'!D27)","v":""},null,{"$f":"IF('2-Programmer les activités'!H27=\"\",\"\",'2-Programmer les activités'!H27)","v":""},{"$f":"IF('2-Programmer les activités'!I27=\"Selectionner\",\"\",'2-Programmer les activités'!I27)","v":""},{"$f":"Param!AR21","v":""},{"$f":"'Param deadline'!AR21","v":""},{"$f":"Param!AS21","v":""},{"$f":"'Param deadline'!AS21","v":""},{"$f":"Param!AT21","v":""},{"$f":"'Param deadline'!AT21","v":""},{"$f":"Param!AU21","v":""},{"$f":"'Param deadline'!AU21","v":""},null,{"$f":"Param!AW21","v":""},{"$f":"'Param deadline'!AW21","v":""},{"$f":"Param!AX21","v":""},{"$f":"'Param deadline'!AX21","v":""},{"$f":"Param!AY21","v":""},{"$f":"'Param deadline'!AY21","v":""},{"$f":"Param!AZ21","v":""},{"$f":"'Param deadline'!AZ21","v":""},null,{"$f":"Param!BB21","v":""},{"$f":"'Param deadline'!BB21","v":""},{"$f":"Param!BC21","v":""},{"$f":"'Param deadline'!BC21","v":""},{"$f":"Param!BD21","v":""},{"$f":"'Param deadline'!BD21","v":""},{"$f":"Param!BE21","v":""},{"$f":"'Param deadline'!BE21","v":""}]
[{"$f":"IF('2-Programmer les activités'!A28=\"\",\"\",'2-Programmer les activités'!A28)","v":0},{"$f":"IF('2-Programmer les activités'!B28=\"Selectionner\",\"\",'2-Programmer les activités'!B28)","v":""},{"$f":"IF('2-Programmer les activités'!C28=\"Selectionner\",\"\",'2-Programmer les activités'!C28)","v":""},{"$f":"IF('2-Programmer les activités'!D28=\"\",\"\",'2-Programmer les activités'!D28)","v":""},null,{"$f":"IF('2-Programmer les activités'!H28=\"\",\"\",'2-Programmer les activités'!H28)","v":""},{"$f":"IF('2-Programmer les activités'!I28=\"Selectionner\",\"\",'2-Programmer les activités'!I28)","v":""},{"$f":"Param!AR22","v":""},{"$f":"'Param deadline'!AR22","v":""},{"$f":"Param!AS22","v":""},{"$f":"'Param deadline'!AS22","v":""},{"$f":"Param!AT22","v":""},{"$f":"'Param deadline'!AT22","v":""},{"$f":"Param!AU22","v":""},{"$f":"'Param deadline'!AU22","v":""},null,{"$f":"Param!AW22","v":""},{"$f":"'Param deadline'!AW22","v":""},{"$f":"Param!AX22","v":""},{"$f":"'Param deadline'!AX22","v":""},{"$f":"Param!AY22","v":""},{"$f":"'Param deadline'!AY22","v":""},{"$f":"Param!AZ22","v":""},{"$f":"'Param deadline'!AZ22","v":""},null,{"$f":"Param!BB22","v":""},{"$f":"'Param deadline'!BB22","v":""},{"$f":"Param!BC22","v":""},{"$f":"'Param deadline'!BC22","v":""},{"$f":"Param!BD22","v":""},{"$f":"'Param deadline'!BD22","v":""},{"$f":"Param!BE22","v":""},{"$f":"'Param deadline'!BE22","v":""}]
[{"$f":"IF('2-Programmer les activités'!A29=\"\",\"\",'2-Programmer les activités'!A29)","v":0},{"$f":"IF('2-Programmer les activités'!B29=\"Selectionner\",\"\",'2-Programmer les activités'!B29)","v":""},{"$f":"IF('2-Programmer les activités'!C29=\"Selectionner\",\"\",'2-Programmer les activités'!C29)","v":""},{"$f":"IF('2-Programmer les activités'!D29=\"\",\"\",'2-Programmer les activités'!D29)","v":""},null,{"$f":"IF('2-Programmer les activités'!H29=\"\",\"\",'2-Programmer les activités'!H29)","v":""},{"$f":"IF('2-Programmer les activités'!I29=\"Selectionner\",\"\",'2-Programmer les activités'!I29)","v":""},{"$f":"Param!AR23","v":""},{"$f":"'Param deadline'!AR23","v":""},{"$f":"Param!AS23","v":""},{"$f":"'Param deadline'!AS23","v":""},{"$f":"Param!AT23","v":""},{"$f":"'Param deadline'!AT23","v":""},{"$f":"Param!AU23","v":""},{"$f":"'Param deadline'!AU23","v":""},null,{"$f":"Param!AW23","v":""},{"$f":"'Param deadline'!AW23","v":""},{"$f":"Param!AX23","v":""},{"$f":"'Param deadline'!AX23","v":""},{"$f":"Param!AY23","v":""},{"$f":"'Param deadline'!AY23","v":""},{"$f":"Param!AZ23","v":""},{"$f":"'Param deadline'!AZ23","v":""},null,{"$f":"Param!BB23","v":""},{"$f":"'Param deadline'!BB23","v":""},{"$f":"Param!BC23","v":""},{"$f":"'Param deadline'!BC23","v":""},{"$f":"Param!BD23","v":""},{"$f":"'Param deadline'!BD23","v":""},{"$f":"Param!BE23","v":""},{"$f":"'Param deadline'!BE23","v":""}]
[{"$f":"IF('2-Programmer les activités'!A30=\"\",\"\",'2-Programmer les activités'!A30)","v":0},{"$f":"IF('2-Programmer les activités'!B30=\"Selectionner\",\"\",'2-Programmer les activités'!B30)","v":""},{"$f":"IF('2-Programmer les activités'!C30=\"Selectionner\",\"\",'2-Programmer les activités'!C30)","v":""},{"$f":"IF('2-Programmer les activités'!D30=\"\",\"\",'2-Programmer les activités'!D30)","v":""},null,{"$f":"IF('2-Programmer les activités'!H30=\"\",\"\",'2-Programmer les activités'!H30)","v":""},{"$f":"IF('2-Programmer les activités'!I30=\"Selectionner\",\"\",'2-Programmer les activités'!I30)","v":""},{"$f":"Param!AR24","v":""},{"$f":"'Param deadline'!AR24","v":""},{"$f":"Param!AS24","v":""},{"$f":"'Param deadline'!AS24","v":""},{"$f":"Param!AT24","v":""},{"$f":"'Param deadline'!AT24","v":""},{"$f":"Param!AU24","v":""},{"$f":"'Param deadline'!AU24","v":""},null,{"$f":"Param!AW24","v":""},{"$f":"'Param deadline'!AW24","v":""},{"$f":"Param!AX24","v":""},{"$f":"'Param deadline'!AX24","v":""},{"$f":"Param!AY24","v":""},{"$f":"'Param deadline'!AY24","v":""},{"$f":"Param!AZ24","v":""},{"$f":"'Param deadline'!AZ24","v":""},null,{"$f":"Param!BB24","v":""},{"$f":"'Param deadline'!BB24","v":""},{"$f":"Param!BC24","v":""},{"$f":"'Param deadline'!BC24","v":""},{"$f":"Param!BD24","v":""},{"$f":"'Param deadline'!BD24","v":""},{"$f":"Param!BE24","v":""},{"$f":"'Param deadline'!BE24","v":""}]
[{"$f":"IF('2-Programmer les activités'!A31=\"\",\"\",'2-Programmer les activités'!A31)","v":0},{"$f":"IF('2-Programmer les activités'!B31=\"Selectionner\",\"\",'2-Programmer les activités'!B31)","v":""},{"$f":"IF('2-Programmer les activités'!C31=\"Selectionner\",\"\",'2-Programmer les activités'!C31)","v":""},{"$f":"IF('2-Programmer les activités'!D31=\"\",\"\",'2-Programmer les activités'!D31)","v":""},null,{"$f":"IF('2-Programmer les activités'!H31=\"\",\"\",'2-Programmer les activités'!H31)","v":""},{"$f":"IF('2-Programmer les activités'!I31=\"Selectionner\",\"\",'2-Programmer les activités'!I31)","v":""},{"$f":"Param!AR25","v":""},{"$f":"'Param deadline'!AR25","v":""},{"$f":"Param!AS25","v":""},{"$f":"'Param deadline'!AS25","v":""},{"$f":"Param!AT25","v":""},{"$f":"'Param deadline'!AT25","v":""},{"$f":"Param!AU25","v":""},{"$f":"'Param deadline'!AU25","v":""},null,{"$f":"Param!AW25","v":""},{"$f":"'Param deadline'!AW25","v":""},{"$f":"Param!AX25","v":""},{"$f":"'Param deadline'!AX25","v":""},{"$f":"Param!AY25","v":""},{"$f":"'Param deadline'!AY25","v":""},{"$f":"Param!AZ25","v":""},{"$f":"'Param deadline'!AZ25","v":""},null,{"$f":"Param!BB25","v":""},{"$f":"'Param deadline'!BB25","v":""},{"$f":"Param!BC25","v":""},{"$f":"'Param deadline'!BC25","v":""},{"$f":"Param!BD25","v":""},{"$f":"'Param deadline'!BD25","v":""},{"$f":"Param!BE25","v":""},{"$f":"'Param deadline'!BE25","v":""}]
[{"$f":"IF('2-Programmer les activités'!A32=\"\",\"\",'2-Programmer les activités'!A32)","v":0},{"$f":"IF('2-Programmer les activités'!B32=\"Selectionner\",\"\",'2-Programmer les activités'!B32)","v":""},{"$f":"IF('2-Programmer les activités'!C32=\"Selectionner\",\"\",'2-Programmer les activités'!C32)","v":""},{"$f":"IF('2-Programmer les activités'!D32=\"\",\"\",'2-Programmer les activités'!D32)","v":""},null,{"$f":"IF('2-Programmer les activités'!H32=\"\",\"\",'2-Programmer les activités'!H32)","v":""},{"$f":"IF('2-Programmer les activités'!I32=\"Selectionner\",\"\",'2-Programmer les activités'!I32)","v":""},{"$f":"Param!AR26","v":""},{"$f":"'Param deadline'!AR26","v":""},{"$f":"Param!AS26","v":""},{"$f":"'Param deadline'!AS26","v":""},{"$f":"Param!AT26","v":""},{"$f":"'Param deadline'!AT26","v":""},{"$f":"Param!AU26","v":""},{"$f":"'Param deadline'!AU26","v":""},null,{"$f":"Param!AW26","v":""},{"$f":"'Param deadline'!AW26","v":""},{"$f":"Param!AX26","v":""},{"$f":"'Param deadline'!AX26","v":""},{"$f":"Param!AY26","v":""},{"$f":"'Param deadline'!AY26","v":""},{"$f":"Param!AZ26","v":""},{"$f":"'Param deadline'!AZ26","v":""},null,{"$f":"Param!BB26","v":""},{"$f":"'Param deadline'!BB26","v":""},{"$f":"Param!BC26","v":""},{"$f":"'Param deadline'!BC26","v":""},{"$f":"Param!BD26","v":""},{"$f":"'Param deadline'!BD26","v":""},{"$f":"Param!BE26","v":""},{"$f":"'Param deadline'!BE26","v":""}]
[{"$f":"IF('2-Programmer les activités'!A33=\"\",\"\",'2-Programmer les activités'!A33)","v":0},{"$f":"IF('2-Programmer les activités'!B33=\"Selectionner\",\"\",'2-Programmer les activités'!B33)","v":""},{"$f":"IF('2-Programmer les activités'!C33=\"Selectionner\",\"\",'2-Programmer les activités'!C33)","v":""},{"$f":"IF('2-Programmer les activités'!D33=\"\",\"\",'2-Programmer les activités'!D33)","v":""},null,{"$f":"IF('2-Programmer les activités'!H33=\"\",\"\",'2-Programmer les activités'!H33)","v":""},{"$f":"IF('2-Programmer les activités'!I33=\"Selectionner\",\"\",'2-Programmer les activités'!I33)","v":""},{"$f":"Param!AR27","v":""},{"$f":"'Param deadline'!AR27","v":""},{"$f":"Param!AS27","v":""},{"$f":"'Param deadline'!AS27","v":""},{"$f":"Param!AT27","v":""},{"$f":"'Param deadline'!AT27","v":""},{"$f":"Param!AU27","v":""},{"$f":"'Param deadline'!AU27","v":""},null,{"$f":"Param!AW27","v":""},{"$f":"'Param deadline'!AW27","v":""},{"$f":"Param!AX27","v":""},{"$f":"'Param deadline'!AX27","v":""},{"$f":"Param!AY27","v":""},{"$f":"'Param deadline'!AY27","v":""},{"$f":"Param!AZ27","v":""},{"$f":"'Param deadline'!AZ27","v":""},null,{"$f":"Param!BB27","v":""},{"$f":"'Param deadline'!BB27","v":""},{"$f":"Param!BC27","v":""},{"$f":"'Param deadline'!BC27","v":""},{"$f":"Param!BD27","v":""},{"$f":"'Param deadline'!BD27","v":""},{"$f":"Param!BE27","v":""},{"$f":"'Param deadline'!BE27","v":""}]
[{"$f":"IF('2-Programmer les activités'!A34=\"\",\"\",'2-Programmer les activités'!A34)","v":0},{"$f":"IF('2-Programmer les activités'!B34=\"Selectionner\",\"\",'2-Programmer les activités'!B34)","v":""},{"$f":"IF('2-Programmer les activités'!C34=\"Selectionner\",\"\",'2-Programmer les activités'!C34)","v":""},{"$f":"IF('2-Programmer les activités'!D34=\"\",\"\",'2-Programmer les activités'!D34)","v":""},null,{"$f":"IF('2-Programmer les activités'!H34=\"\",\"\",'2-Programmer les activités'!H34)","v":""},{"$f":"IF('2-Programmer les activités'!I34=\"Selectionner\",\"\",'2-Programmer les activités'!I34)","v":""},{"$f":"Param!AR28","v":""},{"$f":"'Param deadline'!AR28","v":""},{"$f":"Param!AS28","v":""},{"$f":"'Param deadline'!AS28","v":""},{"$f":"Param!AT28","v":""},{"$f":"'Param deadline'!AT28","v":""},{"$f":"Param!AU28","v":""},{"$f":"'Param deadline'!AU28","v":""},null,{"$f":"Param!AW28","v":""},{"$f":"'Param deadline'!AW28","v":""},{"$f":"Param!AX28","v":""},{"$f":"'Param deadline'!AX28","v":""},{"$f":"Param!AY28","v":""},{"$f":"'Param deadline'!AY28","v":""},{"$f":"Param!AZ28","v":""},{"$f":"'Param deadline'!AZ28","v":""},null,{"$f":"Param!BB28","v":""},{"$f":"'Param deadline'!BB28","v":""},{"$f":"Param!BC28","v":""},{"$f":"'Param deadline'!BC28","v":""},{"$f":"Param!BD28","v":""},{"$f":"'Param deadline'!BD28","v":""},{"$f":"Param!BE28","v":""},{"$f":"'Param deadline'!BE28","v":""}]
[{"$f":"IF('2-Programmer les activités'!A35=\"\",\"\",'2-Programmer les activités'!A35)","v":0},{"$f":"IF('2-Programmer les activités'!B35=\"Selectionner\",\"\",'2-Programmer les activités'!B35)","v":""},{"$f":"IF('2-Programmer les activités'!C35=\"Selectionner\",\"\",'2-Programmer les activités'!C35)","v":""},{"$f":"IF('2-Programmer les activités'!D35=\"\",\"\",'2-Programmer les activités'!D35)","v":""},null,{"$f":"IF('2-Programmer les activités'!H35=\"\",\"\",'2-Programmer les activités'!H35)","v":""},{"$f":"IF('2-Programmer les activités'!I35=\"Selectionner\",\"\",'2-Programmer les activités'!I35)","v":""},{"$f":"Param!AR29","v":""},{"$f":"'Param deadline'!AR29","v":""},{"$f":"Param!AS29","v":""},{"$f":"'Param deadline'!AS29","v":""},{"$f":"Param!AT29","v":""},{"$f":"'Param deadline'!AT29","v":""},{"$f":"Param!AU29","v":""},{"$f":"'Param deadline'!AU29","v":""},null,{"$f":"Param!AW29","v":""},{"$f":"'Param deadline'!AW29","v":""},{"$f":"Param!AX29","v":""},{"$f":"'Param deadline'!AX29","v":""},{"$f":"Param!AY29","v":""},{"$f":"'Param deadline'!AY29","v":""},{"$f":"Param!AZ29","v":""},{"$f":"'Param deadline'!AZ29","v":""},null,{"$f":"Param!BB29","v":""},{"$f":"'Param deadline'!BB29","v":""},{"$f":"Param!BC29","v":""},{"$f":"'Param deadline'!BC29","v":""},{"$f":"Param!BD29","v":""},{"$f":"'Param deadline'!BD29","v":""},{"$f":"Param!BE29","v":""},{"$f":"'Param deadline'!BE29","v":""}]
[{"$f":"IF('2-Programmer les activités'!A36=\"\",\"\",'2-Programmer les activités'!A36)","v":0},{"$f":"IF('2-Programmer les activités'!B36=\"Selectionner\",\"\",'2-Programmer les activités'!B36)","v":""},{"$f":"IF('2-Programmer les activités'!C36=\"Selectionner\",\"\",'2-Programmer les activités'!C36)","v":""},{"$f":"IF('2-Programmer les activités'!D36=\"\",\"\",'2-Programmer les activités'!D36)","v":""},null,{"$f":"IF('2-Programmer les activités'!H36=\"\",\"\",'2-Programmer les activités'!H36)","v":""},{"$f":"IF('2-Programmer les activités'!I36=\"Selectionner\",\"\",'2-Programmer les activités'!I36)","v":""},{"$f":"Param!AR30","v":""},{"$f":"'Param deadline'!AR30","v":""},{"$f":"Param!AS30","v":""},{"$f":"'Param deadline'!AS30","v":""},{"$f":"Param!AT30","v":""},{"$f":"'Param deadline'!AT30","v":""},{"$f":"Param!AU30","v":""},{"$f":"'Param deadline'!AU30","v":""},null,{"$f":"Param!AW30","v":""},{"$f":"'Param deadline'!AW30","v":""},{"$f":"Param!AX30","v":""},{"$f":"'Param deadline'!AX30","v":""},{"$f":"Param!AY30","v":""},{"$f":"'Param deadline'!AY30","v":""},{"$f":"Param!AZ30","v":""},{"$f":"'Param deadline'!AZ30","v":""},null,{"$f":"Param!BB30","v":""},{"$f":"'Param deadline'!BB30","v":""},{"$f":"Param!BC30","v":""},{"$f":"'Param deadline'!BC30","v":""},{"$f":"Param!BD30","v":""},{"$f":"'Param deadline'!BD30","v":""},{"$f":"Param!BE30","v":""},{"$f":"'Param deadline'!BE30","v":""}]
[{"$f":"IF('2-Programmer les activités'!A37=\"\",\"\",'2-Programmer les activités'!A37)","v":0},{"$f":"IF('2-Programmer les activités'!B37=\"Selectionner\",\"\",'2-Programmer les activités'!B37)","v":""},{"$f":"IF('2-Programmer les activités'!C37=\"Selectionner\",\"\",'2-Programmer les activités'!C37)","v":""},{"$f":"IF('2-Programmer les activités'!D37=\"\",\"\",'2-Programmer les activités'!D37)","v":""},null,{"$f":"IF('2-Programmer les activités'!H37=\"\",\"\",'2-Programmer les activités'!H37)","v":""},{"$f":"IF('2-Programmer les activités'!I37=\"Selectionner\",\"\",'2-Programmer les activités'!I37)","v":""},{"$f":"Param!AR31","v":""},{"$f":"'Param deadline'!AR31","v":""},{"$f":"Param!AS31","v":""},{"$f":"'Param deadline'!AS31","v":""},{"$f":"Param!AT31","v":""},{"$f":"'Param deadline'!AT31","v":""},{"$f":"Param!AU31","v":""},{"$f":"'Param deadline'!AU31","v":""},null,{"$f":"Param!AW31","v":""},{"$f":"'Param deadline'!AW31","v":""},{"$f":"Param!AX31","v":""},{"$f":"'Param deadline'!AX31","v":""},{"$f":"Param!AY31","v":""},{"$f":"'Param deadline'!AY31","v":""},{"$f":"Param!AZ31","v":""},{"$f":"'Param deadline'!AZ31","v":""},null,{"$f":"Param!BB31","v":""},{"$f":"'Param deadline'!BB31","v":""},{"$f":"Param!BC31","v":""},{"$f":"'Param deadline'!BC31","v":""},{"$f":"Param!BD31","v":""},{"$f":"'Param deadline'!BD31","v":""},{"$f":"Param!BE31","v":""},{"$f":"'Param deadline'!BE31","v":""}]
[{"$f":"IF('2-Programmer les activités'!A38=\"\",\"\",'2-Programmer les activités'!A38)","v":0},{"$f":"IF('2-Programmer les activités'!B38=\"Selectionner\",\"\",'2-Programmer les activités'!B38)","v":""},{"$f":"IF('2-Programmer les activités'!C38=\"Selectionner\",\"\",'2-Programmer les activités'!C38)","v":""},{"$f":"IF('2-Programmer les activités'!D38=\"\",\"\",'2-Programmer les activités'!D38)","v":""},null,{"$f":"IF('2-Programmer les activités'!H38=\"\",\"\",'2-Programmer les activités'!H38)","v":""},{"$f":"IF('2-Programmer les activités'!I38=\"Selectionner\",\"\",'2-Programmer les activités'!I38)","v":""},{"$f":"Param!AR32","v":""},{"$f":"'Param deadline'!AR32","v":""},{"$f":"Param!AS32","v":""},{"$f":"'Param deadline'!AS32","v":""},{"$f":"Param!AT32","v":""},{"$f":"'Param deadline'!AT32","v":""},{"$f":"Param!AU32","v":""},{"$f":"'Param deadline'!AU32","v":""},null,{"$f":"Param!AW32","v":""},{"$f":"'Param deadline'!AW32","v":""},{"$f":"Param!AX32","v":""},{"$f":"'Param deadline'!AX32","v":""},{"$f":"Param!AY32","v":""},{"$f":"'Param deadline'!AY32","v":""},{"$f":"Param!AZ32","v":""},{"$f":"'Param deadline'!AZ32","v":""},null,{"$f":"Param!BB32","v":""},{"$f":"'Param deadline'!BB32","v":""},{"$f":"Param!BC32","v":""},{"$f":"'Param deadline'!BC32","v":""},{"$f":"Param!BD32","v":""},{"$f":"'Param deadline'!BD32","v":""},{"$f":"Param!BE32","v":""},{"$f":"'Param deadline'!BE32","v":""}]
[{"$f":"IF('2-Programmer les activités'!A39=\"\",\"\",'2-Programmer les activités'!A39)","v":0},{"$f":"IF('2-Programmer les activités'!B39=\"Selectionner\",\"\",'2-Programmer les activités'!B39)","v":""},{"$f":"IF('2-Programmer les activités'!C39=\"Selectionner\",\"\",'2-Programmer les activités'!C39)","v":""},{"$f":"IF('2-Programmer les activités'!D39=\"\",\"\",'2-Programmer les activités'!D39)","v":""},null,{"$f":"IF('2-Programmer les activités'!H39=\"\",\"\",'2-Programmer les activités'!H39)","v":""},{"$f":"IF('2-Programmer les activités'!I39=\"Selectionner\",\"\",'2-Programmer les activités'!I39)","v":""},{"$f":"Param!AR33","v":""},{"$f":"'Param deadline'!AR33","v":""},{"$f":"Param!AS33","v":""},{"$f":"'Param deadline'!AS33","v":""},{"$f":"Param!AT33","v":""},{"$f":"'Param deadline'!AT33","v":""},{"$f":"Param!AU33","v":""},{"$f":"'Param deadline'!AU33","v":""},null,{"$f":"Param!AW33","v":""},{"$f":"'Param deadline'!AW33","v":""},{"$f":"Param!AX33","v":""},{"$f":"'Param deadline'!AX33","v":""},{"$f":"Param!AY33","v":""},{"$f":"'Param deadline'!AY33","v":""},{"$f":"Param!AZ33","v":""},{"$f":"'Param deadline'!AZ33","v":""},null,{"$f":"Param!BB33","v":""},{"$f":"'Param deadline'!BB33","v":""},{"$f":"Param!BC33","v":""},{"$f":"'Param deadline'!BC33","v":""},{"$f":"Param!BD33","v":""},{"$f":"'Param deadline'!BD33","v":""},{"$f":"Param!BE33","v":""},{"$f":"'Param deadline'!BE33","v":""}]
[{"$f":"IF('2-Programmer les activités'!A40=\"\",\"\",'2-Programmer les activités'!A40)","v":0},{"$f":"IF('2-Programmer les activités'!B40=\"Selectionner\",\"\",'2-Programmer les activités'!B40)","v":""},{"$f":"IF('2-Programmer les activités'!C40=\"Selectionner\",\"\",'2-Programmer les activités'!C40)","v":""},{"$f":"IF('2-Programmer les activités'!D40=\"\",\"\",'2-Programmer les activités'!D40)","v":""},null,{"$f":"IF('2-Programmer les activités'!H40=\"\",\"\",'2-Programmer les activités'!H40)","v":""},{"$f":"IF('2-Programmer les activités'!I40=\"Selectionner\",\"\",'2-Programmer les activités'!I40)","v":""},{"$f":"Param!AR34","v":""},{"$f":"'Param deadline'!AR34","v":""},{"$f":"Param!AS34","v":""},{"$f":"'Param deadline'!AS34","v":""},{"$f":"Param!AT34","v":""},{"$f":"'Param deadline'!AT34","v":""},{"$f":"Param!AU34","v":""},{"$f":"'Param deadline'!AU34","v":""},null,{"$f":"Param!AW34","v":""},{"$f":"'Param deadline'!AW34","v":""},{"$f":"Param!AX34","v":""},{"$f":"'Param deadline'!AX34","v":""},{"$f":"Param!AY34","v":""},{"$f":"'Param deadline'!AY34","v":""},{"$f":"Param!AZ34","v":""},{"$f":"'Param deadline'!AZ34","v":""},null,{"$f":"Param!BB34","v":""},{"$f":"'Param deadline'!BB34","v":""},{"$f":"Param!BC34","v":""},{"$f":"'Param deadline'!BC34","v":""},{"$f":"Param!BD34","v":""},{"$f":"'Param deadline'!BD34","v":""},{"$f":"Param!BE34","v":""},{"$f":"'Param deadline'!BE34","v":""}]
[{"$f":"IF('2-Programmer les activités'!A41=\"\",\"\",'2-Programmer les activités'!A41)","v":0},{"$f":"IF('2-Programmer les activités'!B41=\"Selectionner\",\"\",'2-Programmer les activités'!B41)","v":""},{"$f":"IF('2-Programmer les activités'!C41=\"Selectionner\",\"\",'2-Programmer les activités'!C41)","v":""},{"$f":"IF('2-Programmer les activités'!D41=\"\",\"\",'2-Programmer les activités'!D41)","v":""},null,{"$f":"IF('2-Programmer les activités'!H41=\"\",\"\",'2-Programmer les activités'!H41)","v":""},{"$f":"IF('2-Programmer les activités'!I41=\"Selectionner\",\"\",'2-Programmer les activités'!I41)","v":""},{"$f":"Param!AR35","v":""},{"$f":"'Param deadline'!AR35","v":""},{"$f":"Param!AS35","v":""},{"$f":"'Param deadline'!AS35","v":""},{"$f":"Param!AT35","v":""},{"$f":"'Param deadline'!AT35","v":""},{"$f":"Param!AU35","v":""},{"$f":"'Param deadline'!AU35","v":""},null,{"$f":"Param!AW35","v":""},{"$f":"'Param deadline'!AW35","v":""},{"$f":"Param!AX35","v":""},{"$f":"'Param deadline'!AX35","v":""},{"$f":"Param!AY35","v":""},{"$f":"'Param deadline'!AY35","v":""},{"$f":"Param!AZ35","v":""},{"$f":"'Param deadline'!AZ35","v":""},null,{"$f":"Param!BB35","v":""},{"$f":"'Param deadline'!BB35","v":""},{"$f":"Param!BC35","v":""},{"$f":"'Param deadline'!BC35","v":""},{"$f":"Param!BD35","v":""},{"$f":"'Param deadline'!BD35","v":""},{"$f":"Param!BE35","v":""},{"$f":"'Param deadline'!BE35","v":""}]
[{"$f":"IF('2-Programmer les activités'!A42=\"\",\"\",'2-Programmer les activités'!A42)","v":0},{"$f":"IF('2-Programmer les activités'!B42=\"Selectionner\",\"\",'2-Programmer les activités'!B42)","v":""},{"$f":"IF('2-Programmer les activités'!C42=\"Selectionner\",\"\",'2-Programmer les activités'!C42)","v":""},{"$f":"IF('2-Programmer les activités'!D42=\"\",\"\",'2-Programmer les activités'!D42)","v":""},null,{"$f":"IF('2-Programmer les activités'!H42=\"\",\"\",'2-Programmer les activités'!H42)","v":""},{"$f":"IF('2-Programmer les activités'!I42=\"Selectionner\",\"\",'2-Programmer les activités'!I42)","v":""},{"$f":"Param!AR36","v":""},{"$f":"'Param deadline'!AR36","v":""},{"$f":"Param!AS36","v":""},{"$f":"'Param deadline'!AS36","v":""},{"$f":"Param!AT36","v":""},{"$f":"'Param deadline'!AT36","v":""},{"$f":"Param!AU36","v":""},{"$f":"'Param deadline'!AU36","v":""},null,{"$f":"Param!AW36","v":""},{"$f":"'Param deadline'!AW36","v":""},{"$f":"Param!AX36","v":""},{"$f":"'Param deadline'!AX36","v":""},{"$f":"Param!AY36","v":""},{"$f":"'Param deadline'!AY36","v":""},{"$f":"Param!AZ36","v":""},{"$f":"'Param deadline'!AZ36","v":""},null,{"$f":"Param!BB36","v":""},{"$f":"'Param deadline'!BB36","v":""},{"$f":"Param!BC36","v":""},{"$f":"'Param deadline'!BC36","v":""},{"$f":"Param!BD36","v":""},{"$f":"'Param deadline'!BD36","v":""},{"$f":"Param!BE36","v":""},{"$f":"'Param deadline'!BE36","v":""}]
[{"$f":"IF('2-Programmer les activités'!A43=\"\",\"\",'2-Programmer les activités'!A43)","v":0},{"$f":"IF('2-Programmer les activités'!B43=\"Selectionner\",\"\",'2-Programmer les activités'!B43)","v":""},{"$f":"IF('2-Programmer les activités'!C43=\"Selectionner\",\"\",'2-Programmer les activités'!C43)","v":""},{"$f":"IF('2-Programmer les activités'!D43=\"\",\"\",'2-Programmer les activités'!D43)","v":""},null,{"$f":"IF('2-Programmer les activités'!H43=\"\",\"\",'2-Programmer les activités'!H43)","v":""},{"$f":"IF('2-Programmer les activités'!I43=\"Selectionner\",\"\",'2-Programmer les activités'!I43)","v":""},{"$f":"Param!AR37","v":""},{"$f":"'Param deadline'!AR37","v":""},{"$f":"Param!AS37","v":""},{"$f":"'Param deadline'!AS37","v":""},{"$f":"Param!AT37","v":""},{"$f":"'Param deadline'!AT37","v":""},{"$f":"Param!AU37","v":""},{"$f":"'Param deadline'!AU37","v":""},null,{"$f":"Param!AW37","v":""},{"$f":"'Param deadline'!AW37","v":""},{"$f":"Param!AX37","v":""},{"$f":"'Param deadline'!AX37","v":""},{"$f":"Param!AY37","v":""},{"$f":"'Param deadline'!AY37","v":""},{"$f":"Param!AZ37","v":""},{"$f":"'Param deadline'!AZ37","v":""},null,{"$f":"Param!BB37","v":""},{"$f":"'Param deadline'!BB37","v":""},{"$f":"Param!BC37","v":""},{"$f":"'Param deadline'!BC37","v":""},{"$f":"Param!BD37","v":""},{"$f":"'Param deadline'!BD37","v":""},{"$f":"Param!BE37","v":""},{"$f":"'Param deadline'!BE37","v":""}]
[{"$f":"IF('2-Programmer les activités'!A44=\"\",\"\",'2-Programmer les activités'!A44)","v":0},{"$f":"IF('2-Programmer les activités'!B44=\"Selectionner\",\"\",'2-Programmer les activités'!B44)","v":""},{"$f":"IF('2-Programmer les activités'!C44=\"Selectionner\",\"\",'2-Programmer les activités'!C44)","v":""},{"$f":"IF('2-Programmer les activités'!D44=\"\",\"\",'2-Programmer les activités'!D44)","v":""},null,{"$f":"IF('2-Programmer les activités'!H44=\"\",\"\",'2-Programmer les activités'!H44)","v":""},{"$f":"IF('2-Programmer les activités'!I44=\"Selectionner\",\"\",'2-Programmer les activités'!I44)","v":""},{"$f":"Param!AR38","v":""},{"$f":"'Param deadline'!AR38","v":""},{"$f":"Param!AS38","v":""},{"$f":"'Param deadline'!AS38","v":""},{"$f":"Param!AT38","v":""},{"$f":"'Param deadline'!AT38","v":""},{"$f":"Param!AU38","v":""},{"$f":"'Param deadline'!AU38","v":""},null,{"$f":"Param!AW38","v":""},{"$f":"'Param deadline'!AW38","v":""},{"$f":"Param!AX38","v":""},{"$f":"'Param deadline'!AX38","v":""},{"$f":"Param!AY38","v":""},{"$f":"'Param deadline'!AY38","v":""},{"$f":"Param!AZ38","v":""},{"$f":"'Param deadline'!AZ38","v":""},null,{"$f":"Param!BB38","v":""},{"$f":"'Param deadline'!BB38","v":""},{"$f":"Param!BC38","v":""},{"$f":"'Param deadline'!BC38","v":""},{"$f":"Param!BD38","v":""},{"$f":"'Param deadline'!BD38","v":""},{"$f":"Param!BE38","v":""},{"$f":"'Param deadline'!BE38","v":""}]
[{"$f":"IF('2-Programmer les activités'!A45=\"\",\"\",'2-Programmer les activités'!A45)","v":0},{"$f":"IF('2-Programmer les activités'!B45=\"Selectionner\",\"\",'2-Programmer les activités'!B45)","v":""},{"$f":"IF('2-Programmer les activités'!C45=\"Selectionner\",\"\",'2-Programmer les activités'!C45)","v":""},{"$f":"IF('2-Programmer les activités'!D45=\"\",\"\",'2-Programmer les activités'!D45)","v":""},null,{"$f":"IF('2-Programmer les activités'!H45=\"\",\"\",'2-Programmer les activités'!H45)","v":""},{"$f":"IF('2-Programmer les activités'!I45=\"Selectionner\",\"\",'2-Programmer les activités'!I45)","v":""},{"$f":"Param!AR39","v":""},{"$f":"'Param deadline'!AR39","v":""},{"$f":"Param!AS39","v":""},{"$f":"'Param deadline'!AS39","v":""},{"$f":"Param!AT39","v":""},{"$f":"'Param deadline'!AT39","v":""},{"$f":"Param!AU39","v":""},{"$f":"'Param deadline'!AU39","v":""},null,{"$f":"Param!AW39","v":""},{"$f":"'Param deadline'!AW39","v":""},{"$f":"Param!AX39","v":""},{"$f":"'Param deadline'!AX39","v":""},{"$f":"Param!AY39","v":""},{"$f":"'Param deadline'!AY39","v":""},{"$f":"Param!AZ39","v":""},{"$f":"'Param deadline'!AZ39","v":""},null,{"$f":"Param!BB39","v":""},{"$f":"'Param deadline'!BB39","v":""},{"$f":"Param!BC39","v":""},{"$f":"'Param deadline'!BC39","v":""},{"$f":"Param!BD39","v":""},{"$f":"'Param deadline'!BD39","v":""},{"$f":"Param!BE39","v":""},{"$f":"'Param deadline'!BE39","v":""}]
[{"$f":"IF('2-Programmer les activités'!A46=\"\",\"\",'2-Programmer les activités'!A46)","v":0},{"$f":"IF('2-Programmer les activités'!B46=\"Selectionner\",\"\",'2-Programmer les activités'!B46)","v":""},{"$f":"IF('2-Programmer les activités'!C46=\"Selectionner\",\"\",'2-Programmer les activités'!C46)","v":""},{"$f":"IF('2-Programmer les activités'!D46=\"\",\"\",'2-Programmer les activités'!D46)","v":""},null,{"$f":"IF('2-Programmer les activités'!H46=\"\",\"\",'2-Programmer les activités'!H46)","v":""},{"$f":"IF('2-Programmer les activités'!I46=\"Selectionner\",\"\",'2-Programmer les activités'!I46)","v":""},{"$f":"Param!AR40","v":""},{"$f":"'Param deadline'!AR40","v":""},{"$f":"Param!AS40","v":""},{"$f":"'Param deadline'!AS40","v":""},{"$f":"Param!AT40","v":""},{"$f":"'Param deadline'!AT40","v":""},{"$f":"Param!AU40","v":""},{"$f":"'Param deadline'!AU40","v":""},null,{"$f":"Param!AW40","v":""},{"$f":"'Param deadline'!AW40","v":""},{"$f":"Param!AX40","v":""},{"$f":"'Param deadline'!AX40","v":""},{"$f":"Param!AY40","v":""},{"$f":"'Param deadline'!AY40","v":""},{"$f":"Param!AZ40","v":""},{"$f":"'Param deadline'!AZ40","v":""},null,{"$f":"Param!BB40","v":""},{"$f":"'Param deadline'!BB40","v":""},{"$f":"Param!BC40","v":""},{"$f":"'Param deadline'!BC40","v":""},{"$f":"Param!BD40","v":""},{"$f":"'Param deadline'!BD40","v":""},{"$f":"Param!BE40","v":""},{"$f":"'Param deadline'!BE40","v":""}]
[{"$f":"IF('2-Programmer les activités'!A47=\"\",\"\",'2-Programmer les activités'!A47)","v":0},{"$f":"IF('2-Programmer les activités'!B47=\"Selectionner\",\"\",'2-Programmer les activités'!B47)","v":""},{"$f":"IF('2-Programmer les activités'!C47=\"Selectionner\",\"\",'2-Programmer les activités'!C47)","v":""},{"$f":"IF('2-Programmer les activités'!D47=\"\",\"\",'2-Programmer les activités'!D47)","v":""},null,{"$f":"IF('2-Programmer les activités'!H47=\"\",\"\",'2-Programmer les activités'!H47)","v":""},{"$f":"IF('2-Programmer les activités'!I47=\"Selectionner\",\"\",'2-Programmer les activités'!I47)","v":""},{"$f":"Param!AR41","v":""},{"$f":"'Param deadline'!AR41","v":""},{"$f":"Param!AS41","v":""},{"$f":"'Param deadline'!AS41","v":""},{"$f":"Param!AT41","v":""},{"$f":"'Param deadline'!AT41","v":""},{"$f":"Param!AU41","v":""},{"$f":"'Param deadline'!AU41","v":""},null,{"$f":"Param!AW41","v":""},{"$f":"'Param deadline'!AW41","v":""},{"$f":"Param!AX41","v":""},{"$f":"'Param deadline'!AX41","v":""},{"$f":"Param!AY41","v":""},{"$f":"'Param deadline'!AY41","v":""},{"$f":"Param!AZ41","v":""},{"$f":"'Param deadline'!AZ41","v":""},null,{"$f":"Param!BB41","v":""},{"$f":"'Param deadline'!BB41","v":""},{"$f":"Param!BC41","v":""},{"$f":"'Param deadline'!BC41","v":""},{"$f":"Param!BD41","v":""},{"$f":"'Param deadline'!BD41","v":""},{"$f":"Param!BE41","v":""},{"$f":"'Param deadline'!BE41","v":""}]
[{"$f":"IF('2-Programmer les activités'!A48=\"\",\"\",'2-Programmer les activités'!A48)","v":0},{"$f":"IF('2-Programmer les activités'!B48=\"Selectionner\",\"\",'2-Programmer les activités'!B48)","v":""},{"$f":"IF('2-Programmer les activités'!C48=\"Selectionner\",\"\",'2-Programmer les activités'!C48)","v":""},{"$f":"IF('2-Programmer les activités'!D48=\"\",\"\",'2-Programmer les activités'!D48)","v":""},null,{"$f":"IF('2-Programmer les activités'!H48=\"\",\"\",'2-Programmer les activités'!H48)","v":""},{"$f":"IF('2-Programmer les activités'!I48=\"Selectionner\",\"\",'2-Programmer les activités'!I48)","v":""},{"$f":"Param!AR42","v":""},{"$f":"'Param deadline'!AR42","v":""},{"$f":"Param!AS42","v":""},{"$f":"'Param deadline'!AS42","v":""},{"$f":"Param!AT42","v":""},{"$f":"'Param deadline'!AT42","v":""},{"$f":"Param!AU42","v":""},{"$f":"'Param deadline'!AU42","v":""},null,{"$f":"Param!AW42","v":""},{"$f":"'Param deadline'!AW42","v":""},{"$f":"Param!AX42","v":""},{"$f":"'Param deadline'!AX42","v":""},{"$f":"Param!AY42","v":""},{"$f":"'Param deadline'!AY42","v":""},{"$f":"Param!AZ42","v":""},{"$f":"'Param deadline'!AZ42","v":""},null,{"$f":"Param!BB42","v":""},{"$f":"'Param deadline'!BB42","v":""},{"$f":"Param!BC42","v":""},{"$f":"'Param deadline'!BC42","v":""},{"$f":"Param!BD42","v":""},{"$f":"'Param deadline'!BD42","v":""},{"$f":"Param!BE42","v":""},{"$f":"'Param deadline'!BE42","v":""}]
[{"$f":"IF('2-Programmer les activités'!A49=\"\",\"\",'2-Programmer les activités'!A49)","v":0},{"$f":"IF('2-Programmer les activités'!B49=\"Selectionner\",\"\",'2-Programmer les activités'!B49)","v":""},{"$f":"IF('2-Programmer les activités'!C49=\"Selectionner\",\"\",'2-Programmer les activités'!C49)","v":""},{"$f":"IF('2-Programmer les activités'!D49=\"\",\"\",'2-Programmer les activités'!D49)","v":""},null,{"$f":"IF('2-Programmer les activités'!H49=\"\",\"\",'2-Programmer les activités'!H49)","v":""},{"$f":"IF('2-Programmer les activités'!I49=\"Selectionner\",\"\",'2-Programmer les activités'!I49)","v":""},{"$f":"Param!AR43","v":""},{"$f":"'Param deadline'!AR43","v":""},{"$f":"Param!AS43","v":""},{"$f":"'Param deadline'!AS43","v":""},{"$f":"Param!AT43","v":""},{"$f":"'Param deadline'!AT43","v":""},{"$f":"Param!AU43","v":""},{"$f":"'Param deadline'!AU43","v":""},null,{"$f":"Param!AW43","v":""},{"$f":"'Param deadline'!AW43","v":""},{"$f":"Param!AX43","v":""},{"$f":"'Param deadline'!AX43","v":""},{"$f":"Param!AY43","v":""},{"$f":"'Param deadline'!AY43","v":""},{"$f":"Param!AZ43","v":""},{"$f":"'Param deadline'!AZ43","v":""},null,{"$f":"Param!BB43","v":""},{"$f":"'Param deadline'!BB43","v":""},{"$f":"Param!BC43","v":""},{"$f":"'Param deadline'!BC43","v":""},{"$f":"Param!BD43","v":""},{"$f":"'Param deadline'!BD43","v":""},{"$f":"Param!BE43","v":""},{"$f":"'Param deadline'!BE43","v":""}]
[{"$f":"IF('2-Programmer les activités'!A50=\"\",\"\",'2-Programmer les activités'!A50)","v":0},{"$f":"IF('2-Programmer les activités'!B50=\"Selectionner\",\"\",'2-Programmer les activités'!B50)","v":""},{"$f":"IF('2-Programmer les activités'!C50=\"Selectionner\",\"\",'2-Programmer les activités'!C50)","v":""},{"$f":"IF('2-Programmer les activités'!D50=\"\",\"\",'2-Programmer les activités'!D50)","v":""},null,{"$f":"IF('2-Programmer les activités'!H50=\"\",\"\",'2-Programmer les activités'!H50)","v":""},{"$f":"IF('2-Programmer les activités'!I50=\"Selectionner\",\"\",'2-Programmer les activités'!I50)","v":""},{"$f":"Param!AR44","v":""},{"$f":"'Param deadline'!AR44","v":""},{"$f":"Param!AS44","v":""},{"$f":"'Param deadline'!AS44","v":""},{"$f":"Param!AT44","v":""},{"$f":"'Param deadline'!AT44","v":""},{"$f":"Param!AU44","v":""},{"$f":"'Param deadline'!AU44","v":""},null,{"$f":"Param!AW44","v":""},{"$f":"'Param deadline'!AW44","v":""},{"$f":"Param!AX44","v":""},{"$f":"'Param deadline'!AX44","v":""},{"$f":"Param!AY44","v":""},{"$f":"'Param deadline'!AY44","v":""},{"$f":"Param!AZ44","v":""},{"$f":"'Param deadline'!AZ44","v":""},null,{"$f":"Param!BB44","v":""},{"$f":"'Param deadline'!BB44","v":""},{"$f":"Param!BC44","v":""},{"$f":"'Param deadline'!BC44","v":""},{"$f":"Param!BD44","v":""},{"$f":"'Param deadline'!BD44","v":""},{"$f":"Param!BE44","v":""},{"$f":"'Param deadline'!BE44","v":""}]
[{"$f":"IF('2-Programmer les activités'!A51=\"\",\"\",'2-Programmer les activités'!A51)","v":0},{"$f":"IF('2-Programmer les activités'!B51=\"Selectionner\",\"\",'2-Programmer les activités'!B51)","v":""},{"$f":"IF('2-Programmer les activités'!C51=\"Selectionner\",\"\",'2-Programmer les activités'!C51)","v":""},{"$f":"IF('2-Programmer les activités'!D51=\"\",\"\",'2-Programmer les activités'!D51)","v":""},null,{"$f":"IF('2-Programmer les activités'!H51=\"\",\"\",'2-Programmer les activités'!H51)","v":""},{"$f":"IF('2-Programmer les activités'!I51=\"Selectionner\",\"\",'2-Programmer les activités'!I51)","v":""},{"$f":"Param!AR45","v":""},{"$f":"'Param deadline'!AR45","v":""},{"$f":"Param!AS45","v":""},{"$f":"'Param deadline'!AS45","v":""},{"$f":"Param!AT45","v":""},{"$f":"'Param deadline'!AT45","v":""},{"$f":"Param!AU45","v":""},{"$f":"'Param deadline'!AU45","v":""},null,{"$f":"Param!AW45","v":""},{"$f":"'Param deadline'!AW45","v":""},{"$f":"Param!AX45","v":""},{"$f":"'Param deadline'!AX45","v":""},{"$f":"Param!AY45","v":""},{"$f":"'Param deadline'!AY45","v":""},{"$f":"Param!AZ45","v":""},{"$f":"'Param deadline'!AZ45","v":""},null,{"$f":"Param!BB45","v":""},{"$f":"'Param deadline'!BB45","v":""},{"$f":"Param!BC45","v":""},{"$f":"'Param deadline'!BC45","v":""},{"$f":"Param!BD45","v":""},{"$f":"'Param deadline'!BD45","v":""},{"$f":"Param!BE45","v":""},{"$f":"'Param deadline'!BE45","v":""}]
[{"$f":"IF('2-Programmer les activités'!A52=\"\",\"\",'2-Programmer les activités'!A52)","v":0},{"$f":"IF('2-Programmer les activités'!B52=\"Selectionner\",\"\",'2-Programmer les activités'!B52)","v":""},{"$f":"IF('2-Programmer les activités'!C52=\"Selectionner\",\"\",'2-Programmer les activités'!C52)","v":""},{"$f":"IF('2-Programmer les activités'!D52=\"\",\"\",'2-Programmer les activités'!D52)","v":""},null,{"$f":"IF('2-Programmer les activités'!H52=\"\",\"\",'2-Programmer les activités'!H52)","v":""},{"$f":"IF('2-Programmer les activités'!I52=\"Selectionner\",\"\",'2-Programmer les activités'!I52)","v":""},{"$f":"Param!AR46","v":""},{"$f":"'Param deadline'!AR46","v":""},{"$f":"Param!AS46","v":""},{"$f":"'Param deadline'!AS46","v":""},{"$f":"Param!AT46","v":""},{"$f":"'Param deadline'!AT46","v":""},{"$f":"Param!AU46","v":""},{"$f":"'Param deadline'!AU46","v":""},null,{"$f":"Param!AW46","v":""},{"$f":"'Param deadline'!AW46","v":""},{"$f":"Param!AX46","v":""},{"$f":"'Param deadline'!AX46","v":""},{"$f":"Param!AY46","v":""},{"$f":"'Param deadline'!AY46","v":""},{"$f":"Param!AZ46","v":""},{"$f":"'Param deadline'!AZ46","v":""},null,{"$f":"Param!BB46","v":""},{"$f":"'Param deadline'!BB46","v":""},{"$f":"Param!BC46","v":""},{"$f":"'Param deadline'!BC46","v":""},{"$f":"Param!BD46","v":""},{"$f":"'Param deadline'!BD46","v":""},{"$f":"Param!BE46","v":""},{"$f":"'Param deadline'!BE46","v":""}]
[{"$f":"IF('2-Programmer les activités'!A53=\"\",\"\",'2-Programmer les activités'!A53)","v":0},{"$f":"IF('2-Programmer les activités'!B53=\"Selectionner\",\"\",'2-Programmer les activités'!B53)","v":""},{"$f":"IF('2-Programmer les activités'!C53=\"Selectionner\",\"\",'2-Programmer les activités'!C53)","v":""},{"$f":"IF('2-Programmer les activités'!D53=\"\",\"\",'2-Programmer les activités'!D53)","v":""},null,{"$f":"IF('2-Programmer les activités'!H53=\"\",\"\",'2-Programmer les activités'!H53)","v":""},{"$f":"IF('2-Programmer les activités'!I53=\"Selectionner\",\"\",'2-Programmer les activités'!I53)","v":""},{"$f":"Param!AR47","v":""},{"$f":"'Param deadline'!AR47","v":""},{"$f":"Param!AS47","v":""},{"$f":"'Param deadline'!AS47","v":""},{"$f":"Param!AT47","v":""},{"$f":"'Param deadline'!AT47","v":""},{"$f":"Param!AU47","v":""},{"$f":"'Param deadline'!AU47","v":""},null,{"$f":"Param!AW47","v":""},{"$f":"'Param deadline'!AW47","v":""},{"$f":"Param!AX47","v":""},{"$f":"'Param deadline'!AX47","v":""},{"$f":"Param!AY47","v":""},{"$f":"'Param deadline'!AY47","v":""},{"$f":"Param!AZ47","v":""},{"$f":"'Param deadline'!AZ47","v":""},null,{"$f":"Param!BB47","v":""},{"$f":"'Param deadline'!BB47","v":""},{"$f":"Param!BC47","v":""},{"$f":"'Param deadline'!BC47","v":""},{"$f":"Param!BD47","v":""},{"$f":"'Param deadline'!BD47","v":""},{"$f":"Param!BE47","v":""},{"$f":"'Param deadline'!BE47","v":""}]
[{"$f":"IF('2-Programmer les activités'!A54=\"\",\"\",'2-Programmer les activités'!A54)","v":0},{"$f":"IF('2-Programmer les activités'!B54=\"Selectionner\",\"\",'2-Programmer les activités'!B54)","v":""},{"$f":"IF('2-Programmer les activités'!C54=\"Selectionner\",\"\",'2-Programmer les activités'!C54)","v":""},{"$f":"IF('2-Programmer les activités'!D54=\"\",\"\",'2-Programmer les activités'!D54)","v":""},null,{"$f":"IF('2-Programmer les activités'!H54=\"\",\"\",'2-Programmer les activités'!H54)","v":""},{"$f":"IF('2-Programmer les activités'!I54=\"Selectionner\",\"\",'2-Programmer les activités'!I54)","v":""},{"$f":"Param!AR48","v":""},{"$f":"'Param deadline'!AR48","v":""},{"$f":"Param!AS48","v":""},{"$f":"'Param deadline'!AS48","v":""},{"$f":"Param!AT48","v":""},{"$f":"'Param deadline'!AT48","v":""},{"$f":"Param!AU48","v":""},{"$f":"'Param deadline'!AU48","v":""},null,{"$f":"Param!AW48","v":""},{"$f":"'Param deadline'!AW48","v":""},{"$f":"Param!AX48","v":""},{"$f":"'Param deadline'!AX48","v":""},{"$f":"Param!AY48","v":""},{"$f":"'Param deadline'!AY48","v":""},{"$f":"Param!AZ48","v":""},{"$f":"'Param deadline'!AZ48","v":""},null,{"$f":"Param!BB48","v":""},{"$f":"'Param deadline'!BB48","v":""},{"$f":"Param!BC48","v":""},{"$f":"'Param deadline'!BC48","v":""},{"$f":"Param!BD48","v":""},{"$f":"'Param deadline'!BD48","v":""},{"$f":"Param!BE48","v":""},{"$f":"'Param deadline'!BE48","v":""}]
[{"$f":"IF('2-Programmer les activités'!A55=\"\",\"\",'2-Programmer les activités'!A55)","v":0},{"$f":"IF('2-Programmer les activités'!B55=\"Selectionner\",\"\",'2-Programmer les activités'!B55)","v":""},{"$f":"IF('2-Programmer les activités'!C55=\"Selectionner\",\"\",'2-Programmer les activités'!C55)","v":""},{"$f":"IF('2-Programmer les activités'!D55=\"\",\"\",'2-Programmer les activités'!D55)","v":""},null,{"$f":"IF('2-Programmer les activités'!H55=\"\",\"\",'2-Programmer les activités'!H55)","v":""},{"$f":"IF('2-Programmer les activités'!I55=\"Selectionner\",\"\",'2-Programmer les activités'!I55)","v":""},{"$f":"Param!AR49","v":""},{"$f":"'Param deadline'!AR49","v":""},{"$f":"Param!AS49","v":""},{"$f":"'Param deadline'!AS49","v":""},{"$f":"Param!AT49","v":""},{"$f":"'Param deadline'!AT49","v":""},{"$f":"Param!AU49","v":""},{"$f":"'Param deadline'!AU49","v":""},null,{"$f":"Param!AW49","v":""},{"$f":"'Param deadline'!AW49","v":""},{"$f":"Param!AX49","v":""},{"$f":"'Param deadline'!AX49","v":""},{"$f":"Param!AY49","v":""},{"$f":"'Param deadline'!AY49","v":""},{"$f":"Param!AZ49","v":""},{"$f":"'Param deadline'!AZ49","v":""},null,{"$f":"Param!BB49","v":""},{"$f":"'Param deadline'!BB49","v":""},{"$f":"Param!BC49","v":""},{"$f":"'Param deadline'!BC49","v":""},{"$f":"Param!BD49","v":""},{"$f":"'Param deadline'!BD49","v":""},{"$f":"Param!BE49","v":""},{"$f":"'Param deadline'!BE49","v":""}]
[{"$f":"IF('2-Programmer les activités'!A56=\"\",\"\",'2-Programmer les activités'!A56)","v":0},{"$f":"IF('2-Programmer les activités'!B56=\"Selectionner\",\"\",'2-Programmer les activités'!B56)","v":""},{"$f":"IF('2-Programmer les activités'!C56=\"Selectionner\",\"\",'2-Programmer les activités'!C56)","v":""},{"$f":"IF('2-Programmer les activités'!D56=\"\",\"\",'2-Programmer les activités'!D56)","v":""},null,{"$f":"IF('2-Programmer les activités'!H56=\"\",\"\",'2-Programmer les activités'!H56)","v":""},{"$f":"IF('2-Programmer les activités'!I56=\"Selectionner\",\"\",'2-Programmer les activités'!I56)","v":""},{"$f":"Param!AR50","v":""},{"$f":"'Param deadline'!AR50","v":""},{"$f":"Param!AS50","v":""},{"$f":"'Param deadline'!AS50","v":""},{"$f":"Param!AT50","v":""},{"$f":"'Param deadline'!AT50","v":""},{"$f":"Param!AU50","v":""},{"$f":"'Param deadline'!AU50","v":""},null,{"$f":"Param!AW50","v":""},{"$f":"'Param deadline'!AW50","v":""},{"$f":"Param!AX50","v":""},{"$f":"'Param deadline'!AX50","v":""},{"$f":"Param!AY50","v":""},{"$f":"'Param deadline'!AY50","v":""},{"$f":"Param!AZ50","v":""},{"$f":"'Param deadline'!AZ50","v":""},null,{"$f":"Param!BB50","v":""},{"$f":"'Param deadline'!BB50","v":""},{"$f":"Param!BC50","v":""},{"$f":"'Param deadline'!BC50","v":""},{"$f":"Param!BD50","v":""},{"$f":"'Param deadline'!BD50","v":""},{"$f":"Param!BE50","v":""},{"$f":"'Param deadline'!BE50","v":""}]
[{"$f":"IF('2-Programmer les activités'!A57=\"\",\"\",'2-Programmer les activités'!A57)","v":0},{"$f":"IF('2-Programmer les activités'!B57=\"Selectionner\",\"\",'2-Programmer les activités'!B57)","v":""},{"$f":"IF('2-Programmer les activités'!C57=\"Selectionner\",\"\",'2-Programmer les activités'!C57)","v":""},{"$f":"IF('2-Programmer les activités'!D57=\"\",\"\",'2-Programmer les activités'!D57)","v":""},null,{"$f":"IF('2-Programmer les activités'!H57=\"\",\"\",'2-Programmer les activités'!H57)","v":""},{"$f":"IF('2-Programmer les activités'!I57=\"Selectionner\",\"\",'2-Programmer les activités'!I57)","v":""},{"$f":"Param!AR51","v":""},{"$f":"'Param deadline'!AR51","v":""},{"$f":"Param!AS51","v":""},{"$f":"'Param deadline'!AS51","v":""},{"$f":"Param!AT51","v":""},{"$f":"'Param deadline'!AT51","v":""},{"$f":"Param!AU51","v":""},{"$f":"'Param deadline'!AU51","v":""},null,{"$f":"Param!AW51","v":""},{"$f":"'Param deadline'!AW51","v":""},{"$f":"Param!AX51","v":""},{"$f":"'Param deadline'!AX51","v":""},{"$f":"Param!AY51","v":""},{"$f":"'Param deadline'!AY51","v":""},{"$f":"Param!AZ51","v":""},{"$f":"'Param deadline'!AZ51","v":""},null,{"$f":"Param!BB51","v":""},{"$f":"'Param deadline'!BB51","v":""},{"$f":"Param!BC51","v":""},{"$f":"'Param deadline'!BC51","v":""},{"$f":"Param!BD51","v":""},{"$f":"'Param deadline'!BD51","v":""},{"$f":"Param!BE51","v":""},{"$f":"'Param deadline'!BE51","v":""}]
[{"$f":"IF('2-Programmer les activités'!A58=\"\",\"\",'2-Programmer les activités'!A58)","v":0},{"$f":"IF('2-Programmer les activités'!B58=\"Selectionner\",\"\",'2-Programmer les activités'!B58)","v":""},{"$f":"IF('2-Programmer les activités'!C58=\"Selectionner\",\"\",'2-Programmer les activités'!C58)","v":""},{"$f":"IF('2-Programmer les activités'!D58=\"\",\"\",'2-Programmer les activités'!D58)","v":""},null,{"$f":"IF('2-Programmer les activités'!H58=\"\",\"\",'2-Programmer les activités'!H58)","v":""},{"$f":"IF('2-Programmer les activités'!I58=\"Selectionner\",\"\",'2-Programmer les activités'!I58)","v":""},{"$f":"Param!AR52","v":""},{"$f":"'Param deadline'!AR52","v":""},{"$f":"Param!AS52","v":""},{"$f":"'Param deadline'!AS52","v":""},{"$f":"Param!AT52","v":""},{"$f":"'Param deadline'!AT52","v":""},{"$f":"Param!AU52","v":""},{"$f":"'Param deadline'!AU52","v":""},null,{"$f":"Param!AW52","v":""},{"$f":"'Param deadline'!AW52","v":""},{"$f":"Param!AX52","v":""},{"$f":"'Param deadline'!AX52","v":""},{"$f":"Param!AY52","v":""},{"$f":"'Param deadline'!AY52","v":""},{"$f":"Param!AZ52","v":""},{"$f":"'Param deadline'!AZ52","v":""},null,{"$f":"Param!BB52","v":""},{"$f":"'Param deadline'!BB52","v":""},{"$f":"Param!BC52","v":""},{"$f":"'Param deadline'!BC52","v":""},{"$f":"Param!BD52","v":""},{"$f":"'Param deadline'!BD52","v":""},{"$f":"Param!BE52","v":""},{"$f":"'Param deadline'!BE52","v":""}]
[{"$f":"IF('2-Programmer les activités'!A59=\"\",\"\",'2-Programmer les activités'!A59)","v":0},{"$f":"IF('2-Programmer les activités'!B59=\"Selectionner\",\"\",'2-Programmer les activités'!B59)","v":""},{"$f":"IF('2-Programmer les activités'!C59=\"Selectionner\",\"\",'2-Programmer les activités'!C59)","v":""},{"$f":"IF('2-Programmer les activités'!D59=\"\",\"\",'2-Programmer les activités'!D59)","v":""},null,{"$f":"IF('2-Programmer les activités'!H59=\"\",\"\",'2-Programmer les activités'!H59)","v":""},{"$f":"IF('2-Programmer les activités'!I59=\"Selectionner\",\"\",'2-Programmer les activités'!I59)","v":""},{"$f":"Param!AR53","v":""},{"$f":"'Param deadline'!AR53","v":""},{"$f":"Param!AS53","v":""},{"$f":"'Param deadline'!AS53","v":""},{"$f":"Param!AT53","v":""},{"$f":"'Param deadline'!AT53","v":""},{"$f":"Param!AU53","v":""},{"$f":"'Param deadline'!AU53","v":""},null,{"$f":"Param!AW53","v":""},{"$f":"'Param deadline'!AW53","v":""},{"$f":"Param!AX53","v":""},{"$f":"'Param deadline'!AX53","v":""},{"$f":"Param!AY53","v":""},{"$f":"'Param deadline'!AY53","v":""},{"$f":"Param!AZ53","v":""},{"$f":"'Param deadline'!AZ53","v":""},null,{"$f":"Param!BB53","v":""},{"$f":"'Param deadline'!BB53","v":""},{"$f":"Param!BC53","v":""},{"$f":"'Param deadline'!BC53","v":""},{"$f":"Param!BD53","v":""},{"$f":"'Param deadline'!BD53","v":""},{"$f":"Param!BE53","v":""},{"$f":"'Param deadline'!BE53","v":""}]
[{"$f":"IF('2-Programmer les activités'!A60=\"\",\"\",'2-Programmer les activités'!A60)","v":0},{"$f":"IF('2-Programmer les activités'!B60=\"Selectionner\",\"\",'2-Programmer les activités'!B60)","v":""},{"$f":"IF('2-Programmer les activités'!C60=\"Selectionner\",\"\",'2-Programmer les activités'!C60)","v":""},{"$f":"IF('2-Programmer les activités'!D60=\"\",\"\",'2-Programmer les activités'!D60)","v":""},null,{"$f":"IF('2-Programmer les activités'!H60=\"\",\"\",'2-Programmer les activités'!H60)","v":""},{"$f":"IF('2-Programmer les activités'!I60=\"Selectionner\",\"\",'2-Programmer les activités'!I60)","v":""},{"$f":"Param!AR54","v":""},{"$f":"'Param deadline'!AR54","v":""},{"$f":"Param!AS54","v":""},{"$f":"'Param deadline'!AS54","v":""},{"$f":"Param!AT54","v":""},{"$f":"'Param deadline'!AT54","v":""},{"$f":"Param!AU54","v":""},{"$f":"'Param deadline'!AU54","v":""},null,{"$f":"Param!AW54","v":""},{"$f":"'Param deadline'!AW54","v":""},{"$f":"Param!AX54","v":""},{"$f":"'Param deadline'!AX54","v":""},{"$f":"Param!AY54","v":""},{"$f":"'Param deadline'!AY54","v":""},{"$f":"Param!AZ54","v":""},{"$f":"'Param deadline'!AZ54","v":""},null,{"$f":"Param!BB54","v":""},{"$f":"'Param deadline'!BB54","v":""},{"$f":"Param!BC54","v":""},{"$f":"'Param deadline'!BC54","v":""},{"$f":"Param!BD54","v":""},{"$f":"'Param deadline'!BD54","v":""},{"$f":"Param!BE54","v":""},{"$f":"'Param deadline'!BE54","v":""}]
[{"$f":"IF('2-Programmer les activités'!A61=\"\",\"\",'2-Programmer les activités'!A61)","v":0},{"$f":"IF('2-Programmer les activités'!B61=\"Selectionner\",\"\",'2-Programmer les activités'!B61)","v":""},{"$f":"IF('2-Programmer les activités'!C61=\"Selectionner\",\"\",'2-Programmer les activités'!C61)","v":""},{"$f":"IF('2-Programmer les activités'!D61=\"\",\"\",'2-Programmer les activités'!D61)","v":""},null,{"$f":"IF('2-Programmer les activités'!H61=\"\",\"\",'2-Programmer les activités'!H61)","v":""},{"$f":"IF('2-Programmer les activités'!I61=\"Selectionner\",\"\",'2-Programmer les activités'!I61)","v":""},{"$f":"Param!AR55","v":""},{"$f":"'Param deadline'!AR55","v":""},{"$f":"Param!AS55","v":""},{"$f":"'Param deadline'!AS55","v":""},{"$f":"Param!AT55","v":""},{"$f":"'Param deadline'!AT55","v":""},{"$f":"Param!AU55","v":""},{"$f":"'Param deadline'!AU55","v":""},null,{"$f":"Param!AW55","v":""},{"$f":"'Param deadline'!AW55","v":""},{"$f":"Param!AX55","v":""},{"$f":"'Param deadline'!AX55","v":""},{"$f":"Param!AY55","v":""},{"$f":"'Param deadline'!AY55","v":""},{"$f":"Param!AZ55","v":""},{"$f":"'Param deadline'!AZ55","v":""},null,{"$f":"Param!BB55","v":""},{"$f":"'Param deadline'!BB55","v":""},{"$f":"Param!BC55","v":""},{"$f":"'Param deadline'!BC55","v":""},{"$f":"Param!BD55","v":""},{"$f":"'Param deadline'!BD55","v":""},{"$f":"Param!BE55","v":""},{"$f":"'Param deadline'!BE55","v":""}]
[{"$f":"IF('2-Programmer les activités'!A62=\"\",\"\",'2-Programmer les activités'!A62)","v":0},{"$f":"IF('2-Programmer les activités'!B62=\"Selectionner\",\"\",'2-Programmer les activités'!B62)","v":""},{"$f":"IF('2-Programmer les activités'!C62=\"Selectionner\",\"\",'2-Programmer les activités'!C62)","v":""},{"$f":"IF('2-Programmer les activités'!D62=\"\",\"\",'2-Programmer les activités'!D62)","v":""},null,{"$f":"IF('2-Programmer les activités'!H62=\"\",\"\",'2-Programmer les activités'!H62)","v":""},{"$f":"IF('2-Programmer les activités'!I62=\"Selectionner\",\"\",'2-Programmer les activités'!I62)","v":""},{"$f":"Param!AR56","v":""},{"$f":"'Param deadline'!AR56","v":""},{"$f":"Param!AS56","v":""},{"$f":"'Param deadline'!AS56","v":""},{"$f":"Param!AT56","v":""},{"$f":"'Param deadline'!AT56","v":""},{"$f":"Param!AU56","v":""},{"$f":"'Param deadline'!AU56","v":""},null,{"$f":"Param!AW56","v":""},{"$f":"'Param deadline'!AW56","v":""},{"$f":"Param!AX56","v":""},{"$f":"'Param deadline'!AX56","v":""},{"$f":"Param!AY56","v":""},{"$f":"'Param deadline'!AY56","v":""},{"$f":"Param!AZ56","v":""},{"$f":"'Param deadline'!AZ56","v":""},null,{"$f":"Param!BB56","v":""},{"$f":"'Param deadline'!BB56","v":""},{"$f":"Param!BC56","v":""},{"$f":"'Param deadline'!BC56","v":""},{"$f":"Param!BD56","v":""},{"$f":"'Param deadline'!BD56","v":""},{"$f":"Param!BE56","v":""},{"$f":"'Param deadline'!BE56","v":""}]
[{"$f":"IF('2-Programmer les activités'!A63=\"\",\"\",'2-Programmer les activités'!A63)","v":0},{"$f":"IF('2-Programmer les activités'!B63=\"Selectionner\",\"\",'2-Programmer les activités'!B63)","v":""},{"$f":"IF('2-Programmer les activités'!C63=\"Selectionner\",\"\",'2-Programmer les activités'!C63)","v":""},{"$f":"IF('2-Programmer les activités'!D63=\"\",\"\",'2-Programmer les activités'!D63)","v":""},null,{"$f":"IF('2-Programmer les activités'!H63=\"\",\"\",'2-Programmer les activités'!H63)","v":""},{"$f":"IF('2-Programmer les activités'!I63=\"Selectionner\",\"\",'2-Programmer les activités'!I63)","v":""},{"$f":"Param!AR57","v":""},{"$f":"'Param deadline'!AR57","v":""},{"$f":"Param!AS57","v":""},{"$f":"'Param deadline'!AS57","v":""},{"$f":"Param!AT57","v":""},{"$f":"'Param deadline'!AT57","v":""},{"$f":"Param!AU57","v":""},{"$f":"'Param deadline'!AU57","v":""},null,{"$f":"Param!AW57","v":""},{"$f":"'Param deadline'!AW57","v":""},{"$f":"Param!AX57","v":""},{"$f":"'Param deadline'!AX57","v":""},{"$f":"Param!AY57","v":""},{"$f":"'Param deadline'!AY57","v":""},{"$f":"Param!AZ57","v":""},{"$f":"'Param deadline'!AZ57","v":""},null,{"$f":"Param!BB57","v":""},{"$f":"'Param deadline'!BB57","v":""},{"$f":"Param!BC57","v":""},{"$f":"'Param deadline'!BC57","v":""},{"$f":"Param!BD57","v":""},{"$f":"'Param deadline'!BD57","v":""},{"$f":"Param!BE57","v":""},{"$f":"'Param deadline'!BE57","v":""}]
[{"$f":"IF('2-Programmer les activités'!A64=\"\",\"\",'2-Programmer les activités'!A64)","v":0},{"$f":"IF('2-Programmer les activités'!B64=\"Selectionner\",\"\",'2-Programmer les activités'!B64)","v":""},{"$f":"IF('2-Programmer les activités'!C64=\"Selectionner\",\"\",'2-Programmer les activités'!C64)","v":""},{"$f":"IF('2-Programmer les activités'!D64=\"\",\"\",'2-Programmer les activités'!D64)","v":""},null,{"$f":"IF('2-Programmer les activités'!H64=\"\",\"\",'2-Programmer les activités'!H64)","v":""},{"$f":"IF('2-Programmer les activités'!I64=\"Selectionner\",\"\",'2-Programmer les activités'!I64)","v":""},{"$f":"Param!AR58","v":""},{"$f":"'Param deadline'!AR58","v":""},{"$f":"Param!AS58","v":""},{"$f":"'Param deadline'!AS58","v":""},{"$f":"Param!AT58","v":""},{"$f":"'Param deadline'!AT58","v":""},{"$f":"Param!AU58","v":""},{"$f":"'Param deadline'!AU58","v":""},null,{"$f":"Param!AW58","v":""},{"$f":"'Param deadline'!AW58","v":""},{"$f":"Param!AX58","v":""},{"$f":"'Param deadline'!AX58","v":""},{"$f":"Param!AY58","v":""},{"$f":"'Param deadline'!AY58","v":""},{"$f":"Param!AZ58","v":""},{"$f":"'Param deadline'!AZ58","v":""},null,{"$f":"Param!BB58","v":""},{"$f":"'Param deadline'!BB58","v":""},{"$f":"Param!BC58","v":""},{"$f":"'Param deadline'!BC58","v":""},{"$f":"Param!BD58","v":""},{"$f":"'Param deadline'!BD58","v":""},{"$f":"Param!BE58","v":""},{"$f":"'Param deadline'!BE58","v":""}]
[{"$f":"IF('2-Programmer les activités'!A65=\"\",\"\",'2-Programmer les activités'!A65)","v":0},{"$f":"IF('2-Programmer les activités'!B65=\"Selectionner\",\"\",'2-Programmer les activités'!B65)","v":""},{"$f":"IF('2-Programmer les activités'!C65=\"Selectionner\",\"\",'2-Programmer les activités'!C65)","v":""},{"$f":"IF('2-Programmer les activités'!D65=\"\",\"\",'2-Programmer les activités'!D65)","v":""},null,{"$f":"IF('2-Programmer les activités'!H65=\"\",\"\",'2-Programmer les activités'!H65)","v":""},{"$f":"IF('2-Programmer les activités'!I65=\"Selectionner\",\"\",'2-Programmer les activités'!I65)","v":""},{"$f":"Param!AR59","v":""},{"$f":"'Param deadline'!AR59","v":""},{"$f":"Param!AS59","v":""},{"$f":"'Param deadline'!AS59","v":""},{"$f":"Param!AT59","v":""},{"$f":"'Param deadline'!AT59","v":""},{"$f":"Param!AU59","v":""},{"$f":"'Param deadline'!AU59","v":""},null,{"$f":"Param!AW59","v":""},{"$f":"'Param deadline'!AW59","v":""},{"$f":"Param!AX59","v":""},{"$f":"'Param deadline'!AX59","v":""},{"$f":"Param!AY59","v":""},{"$f":"'Param deadline'!AY59","v":""},{"$f":"Param!AZ59","v":""},{"$f":"'Param deadline'!AZ59","v":""},null,{"$f":"Param!BB59","v":""},{"$f":"'Param deadline'!BB59","v":""},{"$f":"Param!BC59","v":""},{"$f":"'Param deadline'!BC59","v":""},{"$f":"Param!BD59","v":""},{"$f":"'Param deadline'!BD59","v":""},{"$f":"Param!BE59","v":""},{"$f":"'Param deadline'!BE59","v":""}]
[{"$f":"IF('2-Programmer les activités'!A66=\"\",\"\",'2-Programmer les activités'!A66)","v":0},{"$f":"IF('2-Programmer les activités'!B66=\"Selectionner\",\"\",'2-Programmer les activités'!B66)","v":""},{"$f":"IF('2-Programmer les activités'!C66=\"Selectionner\",\"\",'2-Programmer les activités'!C66)","v":""},{"$f":"IF('2-Programmer les activités'!D66=\"\",\"\",'2-Programmer les activités'!D66)","v":""},null,{"$f":"IF('2-Programmer les activités'!H66=\"\",\"\",'2-Programmer les activités'!H66)","v":""},{"$f":"IF('2-Programmer les activités'!I66=\"Selectionner\",\"\",'2-Programmer les activités'!I66)","v":""},{"$f":"Param!AR60","v":""},{"$f":"'Param deadline'!AR60","v":""},{"$f":"Param!AS60","v":""},{"$f":"'Param deadline'!AS60","v":""},{"$f":"Param!AT60","v":""},{"$f":"'Param deadline'!AT60","v":""},{"$f":"Param!AU60","v":""},{"$f":"'Param deadline'!AU60","v":""},null,{"$f":"Param!AW60","v":""},{"$f":"'Param deadline'!AW60","v":""},{"$f":"Param!AX60","v":""},{"$f":"'Param deadline'!AX60","v":""},{"$f":"Param!AY60","v":""},{"$f":"'Param deadline'!AY60","v":""},{"$f":"Param!AZ60","v":""},{"$f":"'Param deadline'!AZ60","v":""},null,{"$f":"Param!BB60","v":""},{"$f":"'Param deadline'!BB60","v":""},{"$f":"Param!BC60","v":""},{"$f":"'Param deadline'!BC60","v":""},{"$f":"Param!BD60","v":""},{"$f":"'Param deadline'!BD60","v":""},{"$f":"Param!BE60","v":""},{"$f":"'Param deadline'!BE60","v":""}]
[{"$f":"IF('2-Programmer les activités'!A67=\"\",\"\",'2-Programmer les activités'!A67)","v":0},{"$f":"IF('2-Programmer les activités'!B67=\"Selectionner\",\"\",'2-Programmer les activités'!B67)","v":""},{"$f":"IF('2-Programmer les activités'!C67=\"Selectionner\",\"\",'2-Programmer les activités'!C67)","v":""},{"$f":"IF('2-Programmer les activités'!D67=\"\",\"\",'2-Programmer les activités'!D67)","v":""},null,{"$f":"IF('2-Programmer les activités'!H67=\"\",\"\",'2-Programmer les activités'!H67)","v":""},{"$f":"IF('2-Programmer les activités'!I67=\"Selectionner\",\"\",'2-Programmer les activités'!I67)","v":""},{"$f":"Param!AR61","v":""},{"$f":"'Param deadline'!AR61","v":""},{"$f":"Param!AS61","v":""},{"$f":"'Param deadline'!AS61","v":""},{"$f":"Param!AT61","v":""},{"$f":"'Param deadline'!AT61","v":""},{"$f":"Param!AU61","v":""},{"$f":"'Param deadline'!AU61","v":""},null,{"$f":"Param!AW61","v":""},{"$f":"'Param deadline'!AW61","v":""},{"$f":"Param!AX61","v":""},{"$f":"'Param deadline'!AX61","v":""},{"$f":"Param!AY61","v":""},{"$f":"'Param deadline'!AY61","v":""},{"$f":"Param!AZ61","v":""},{"$f":"'Param deadline'!AZ61","v":""},null,{"$f":"Param!BB61","v":""},{"$f":"'Param deadline'!BB61","v":""},{"$f":"Param!BC61","v":""},{"$f":"'Param deadline'!BC61","v":""},{"$f":"Param!BD61","v":""},{"$f":"'Param deadline'!BD61","v":""},{"$f":"Param!BE61","v":""},{"$f":"'Param deadline'!BE61","v":""}]
[{"$f":"IF('2-Programmer les activités'!A68=\"\",\"\",'2-Programmer les activités'!A68)","v":0},{"$f":"IF('2-Programmer les activités'!B68=\"Selectionner\",\"\",'2-Programmer les activités'!B68)","v":""},{"$f":"IF('2-Programmer les activités'!C68=\"Selectionner\",\"\",'2-Programmer les activités'!C68)","v":""},{"$f":"IF('2-Programmer les activités'!D68=\"\",\"\",'2-Programmer les activités'!D68)","v":""},null,{"$f":"IF('2-Programmer les activités'!H68=\"\",\"\",'2-Programmer les activités'!H68)","v":""},{"$f":"IF('2-Programmer les activités'!I68=\"Selectionner\",\"\",'2-Programmer les activités'!I68)","v":""},{"$f":"Param!AR62","v":""},{"$f":"'Param deadline'!AR62","v":""},{"$f":"Param!AS62","v":""},{"$f":"'Param deadline'!AS62","v":""},{"$f":"Param!AT62","v":""},{"$f":"'Param deadline'!AT62","v":""},{"$f":"Param!AU62","v":""},{"$f":"'Param deadline'!AU62","v":""},null,{"$f":"Param!AW62","v":""},{"$f":"'Param deadline'!AW62","v":""},{"$f":"Param!AX62","v":""},{"$f":"'Param deadline'!AX62","v":""},{"$f":"Param!AY62","v":""},{"$f":"'Param deadline'!AY62","v":""},{"$f":"Param!AZ62","v":""},{"$f":"'Param deadline'!AZ62","v":""},null,{"$f":"Param!BB62","v":""},{"$f":"'Param deadline'!BB62","v":""},{"$f":"Param!BC62","v":""},{"$f":"'Param deadline'!BC62","v":""},{"$f":"Param!BD62","v":""},{"$f":"'Param deadline'!BD62","v":""},{"$f":"Param!BE62","v":""},{"$f":"'Param deadline'!BE62","v":""}]
[{"$f":"IF('2-Programmer les activités'!A69=\"\",\"\",'2-Programmer les activités'!A69)","v":0},{"$f":"IF('2-Programmer les activités'!B69=\"Selectionner\",\"\",'2-Programmer les activités'!B69)","v":""},{"$f":"IF('2-Programmer les activités'!C69=\"Selectionner\",\"\",'2-Programmer les activités'!C69)","v":""},{"$f":"IF('2-Programmer les activités'!D69=\"\",\"\",'2-Programmer les activités'!D69)","v":""},null,{"$f":"IF('2-Programmer les activités'!H69=\"\",\"\",'2-Programmer les activités'!H69)","v":""},{"$f":"IF('2-Programmer les activités'!I69=\"Selectionner\",\"\",'2-Programmer les activités'!I69)","v":""},{"$f":"Param!AR63","v":""},{"$f":"'Param deadline'!AR63","v":""},{"$f":"Param!AS63","v":""},{"$f":"'Param deadline'!AS63","v":""},{"$f":"Param!AT63","v":""},{"$f":"'Param deadline'!AT63","v":""},{"$f":"Param!AU63","v":""},{"$f":"'Param deadline'!AU63","v":""},null,{"$f":"Param!AW63","v":""},{"$f":"'Param deadline'!AW63","v":""},{"$f":"Param!AX63","v":""},{"$f":"'Param deadline'!AX63","v":""},{"$f":"Param!AY63","v":""},{"$f":"'Param deadline'!AY63","v":""},{"$f":"Param!AZ63","v":""},{"$f":"'Param deadline'!AZ63","v":""},null,{"$f":"Param!BB63","v":""},{"$f":"'Param deadline'!BB63","v":""},{"$f":"Param!BC63","v":""},{"$f":"'Param deadline'!BC63","v":""},{"$f":"Param!BD63","v":""},{"$f":"'Param deadline'!BD63","v":""},{"$f":"Param!BE63","v":""},{"$f":"'Param deadline'!BE63","v":""}]
[{"$f":"IF('2-Programmer les activités'!A70=\"\",\"\",'2-Programmer les activités'!A70)","v":0},{"$f":"IF('2-Programmer les activités'!B70=\"Selectionner\",\"\",'2-Programmer les activités'!B70)","v":""},{"$f":"IF('2-Programmer les activités'!C70=\"Selectionner\",\"\",'2-Programmer les activités'!C70)","v":""},{"$f":"IF('2-Programmer les activités'!D70=\"\",\"\",'2-Programmer les activités'!D70)","v":""},null,{"$f":"IF('2-Programmer les activités'!H70=\"\",\"\",'2-Programmer les activités'!H70)","v":""},{"$f":"IF('2-Programmer les activités'!I70=\"Selectionner\",\"\",'2-Programmer les activités'!I70)","v":""},{"$f":"Param!AR64","v":""},{"$f":"'Param deadline'!AR64","v":""},{"$f":"Param!AS64","v":""},{"$f":"'Param deadline'!AS64","v":""},{"$f":"Param!AT64","v":""},{"$f":"'Param deadline'!AT64","v":""},{"$f":"Param!AU64","v":""},{"$f":"'Param deadline'!AU64","v":""},null,{"$f":"Param!AW64","v":""},{"$f":"'Param deadline'!AW64","v":""},{"$f":"Param!AX64","v":""},{"$f":"'Param deadline'!AX64","v":""},{"$f":"Param!AY64","v":""},{"$f":"'Param deadline'!AY64","v":""},{"$f":"Param!AZ64","v":""},{"$f":"'Param deadline'!AZ64","v":""},null,{"$f":"Param!BB64","v":""},{"$f":"'Param deadline'!BB64","v":""},{"$f":"Param!BC64","v":""},{"$f":"'Param deadline'!BC64","v":""},{"$f":"Param!BD64","v":""},{"$f":"'Param deadline'!BD64","v":""},{"$f":"Param!BE64","v":""},{"$f":"'Param deadline'!BE64","v":""}]
[{"$f":"IF('2-Programmer les activités'!A71=\"\",\"\",'2-Programmer les activités'!A71)","v":0},{"$f":"IF('2-Programmer les activités'!B71=\"Selectionner\",\"\",'2-Programmer les activités'!B71)","v":""},{"$f":"IF('2-Programmer les activités'!C71=\"Selectionner\",\"\",'2-Programmer les activités'!C71)","v":""},{"$f":"IF('2-Programmer les activités'!D71=\"\",\"\",'2-Programmer les activités'!D71)","v":""},null,{"$f":"IF('2-Programmer les activités'!H71=\"\",\"\",'2-Programmer les activités'!H71)","v":""},{"$f":"IF('2-Programmer les activités'!I71=\"Selectionner\",\"\",'2-Programmer les activités'!I71)","v":""},{"$f":"Param!AR65","v":""},{"$f":"'Param deadline'!AR65","v":""},{"$f":"Param!AS65","v":""},{"$f":"'Param deadline'!AS65","v":""},{"$f":"Param!AT65","v":""},{"$f":"'Param deadline'!AT65","v":""},{"$f":"Param!AU65","v":""},{"$f":"'Param deadline'!AU65","v":""},null,{"$f":"Param!AW65","v":""},{"$f":"'Param deadline'!AW65","v":""},{"$f":"Param!AX65","v":""},{"$f":"'Param deadline'!AX65","v":""},{"$f":"Param!AY65","v":""},{"$f":"'Param deadline'!AY65","v":""},{"$f":"Param!AZ65","v":""},{"$f":"'Param deadline'!AZ65","v":""},null,{"$f":"Param!BB65","v":""},{"$f":"'Param deadline'!BB65","v":""},{"$f":"Param!BC65","v":""},{"$f":"'Param deadline'!BC65","v":""},{"$f":"Param!BD65","v":""},{"$f":"'Param deadline'!BD65","v":""},{"$f":"Param!BE65","v":""},{"$f":"'Param deadline'!BE65","v":""}]
[{"$f":"IF('2-Programmer les activités'!A72=\"\",\"\",'2-Programmer les activités'!A72)","v":0},{"$f":"IF('2-Programmer les activités'!B72=\"Selectionner\",\"\",'2-Programmer les activités'!B72)","v":""},{"$f":"IF('2-Programmer les activités'!C72=\"Selectionner\",\"\",'2-Programmer les activités'!C72)","v":""},{"$f":"IF('2-Programmer les activités'!D72=\"\",\"\",'2-Programmer les activités'!D72)","v":""},null,{"$f":"IF('2-Programmer les activités'!H72=\"\",\"\",'2-Programmer les activités'!H72)","v":""},{"$f":"IF('2-Programmer les activités'!I72=\"Selectionner\",\"\",'2-Programmer les activités'!I72)","v":""},{"$f":"Param!AR66","v":""},{"$f":"'Param deadline'!AR66","v":""},{"$f":"Param!AS66","v":""},{"$f":"'Param deadline'!AS66","v":""},{"$f":"Param!AT66","v":""},{"$f":"'Param deadline'!AT66","v":""},{"$f":"Param!AU66","v":""},{"$f":"'Param deadline'!AU66","v":""},null,{"$f":"Param!AW66","v":""},{"$f":"'Param deadline'!AW66","v":""},{"$f":"Param!AX66","v":""},{"$f":"'Param deadline'!AX66","v":""},{"$f":"Param!AY66","v":""},{"$f":"'Param deadline'!AY66","v":""},{"$f":"Param!AZ66","v":""},{"$f":"'Param deadline'!AZ66","v":""},null,{"$f":"Param!BB66","v":""},{"$f":"'Param deadline'!BB66","v":""},{"$f":"Param!BC66","v":""},{"$f":"'Param deadline'!BC66","v":""},{"$f":"Param!BD66","v":""},{"$f":"'Param deadline'!BD66","v":""},{"$f":"Param!BE66","v":""},{"$f":"'Param deadline'!BE66","v":""}]
[{"$f":"IF('2-Programmer les activités'!A73=\"\",\"\",'2-Programmer les activités'!A73)","v":0},{"$f":"IF('2-Programmer les activités'!B73=\"Selectionner\",\"\",'2-Programmer les activités'!B73)","v":""},{"$f":"IF('2-Programmer les activités'!C73=\"Selectionner\",\"\",'2-Programmer les activités'!C73)","v":""},{"$f":"IF('2-Programmer les activités'!D73=\"\",\"\",'2-Programmer les activités'!D73)","v":""},null,{"$f":"IF('2-Programmer les activités'!H73=\"\",\"\",'2-Programmer les activités'!H73)","v":""},{"$f":"IF('2-Programmer les activités'!I73=\"Selectionner\",\"\",'2-Programmer les activités'!I73)","v":""},{"$f":"Param!AR67","v":""},{"$f":"'Param deadline'!AR67","v":""},{"$f":"Param!AS67","v":""},{"$f":"'Param deadline'!AS67","v":""},{"$f":"Param!AT67","v":""},{"$f":"'Param deadline'!AT67","v":""},{"$f":"Param!AU67","v":""},{"$f":"'Param deadline'!AU67","v":""},null,{"$f":"Param!AW67","v":""},{"$f":"'Param deadline'!AW67","v":""},{"$f":"Param!AX67","v":""},{"$f":"'Param deadline'!AX67","v":""},{"$f":"Param!AY67","v":""},{"$f":"'Param deadline'!AY67","v":""},{"$f":"Param!AZ67","v":""},{"$f":"'Param deadline'!AZ67","v":""},null,{"$f":"Param!BB67","v":""},{"$f":"'Param deadline'!BB67","v":""},{"$f":"Param!BC67","v":""},{"$f":"'Param deadline'!BC67","v":""},{"$f":"Param!BD67","v":""},{"$f":"'Param deadline'!BD67","v":""},{"$f":"Param!BE67","v":""},{"$f":"'Param deadline'!BE67","v":""}]
[{"$f":"IF('2-Programmer les activités'!A74=\"\",\"\",'2-Programmer les activités'!A74)","v":0},{"$f":"IF('2-Programmer les activités'!B74=\"Selectionner\",\"\",'2-Programmer les activités'!B74)","v":""},{"$f":"IF('2-Programmer les activités'!C74=\"Selectionner\",\"\",'2-Programmer les activités'!C74)","v":""},{"$f":"IF('2-Programmer les activités'!D74=\"\",\"\",'2-Programmer les activités'!D74)","v":""},null,{"$f":"IF('2-Programmer les activités'!H74=\"\",\"\",'2-Programmer les activités'!H74)","v":""},{"$f":"IF('2-Programmer les activités'!I74=\"Selectionner\",\"\",'2-Programmer les activités'!I74)","v":""},{"$f":"Param!AR68","v":""},{"$f":"'Param deadline'!AR68","v":""},{"$f":"Param!AS68","v":""},{"$f":"'Param deadline'!AS68","v":""},{"$f":"Param!AT68","v":""},{"$f":"'Param deadline'!AT68","v":""},{"$f":"Param!AU68","v":""},{"$f":"'Param deadline'!AU68","v":""},null,{"$f":"Param!AW68","v":""},{"$f":"'Param deadline'!AW68","v":""},{"$f":"Param!AX68","v":""},{"$f":"'Param deadline'!AX68","v":""},{"$f":"Param!AY68","v":""},{"$f":"'Param deadline'!AY68","v":""},{"$f":"Param!AZ68","v":""},{"$f":"'Param deadline'!AZ68","v":""},null,{"$f":"Param!BB68","v":""},{"$f":"'Param deadline'!BB68","v":""},{"$f":"Param!BC68","v":""},{"$f":"'Param deadline'!BC68","v":""},{"$f":"Param!BD68","v":""},{"$f":"'Param deadline'!BD68","v":""},{"$f":"Param!BE68","v":""},{"$f":"'Param deadline'!BE68","v":""}]
[{"$f":"IF('2-Programmer les activités'!A75=\"\",\"\",'2-Programmer les activités'!A75)","v":0},{"$f":"IF('2-Programmer les activités'!B75=\"Selectionner\",\"\",'2-Programmer les activités'!B75)","v":""},{"$f":"IF('2-Programmer les activités'!C75=\"Selectionner\",\"\",'2-Programmer les activités'!C75)","v":""},{"$f":"IF('2-Programmer les activités'!D75=\"\",\"\",'2-Programmer les activités'!D75)","v":""},null,{"$f":"IF('2-Programmer les activités'!H75=\"\",\"\",'2-Programmer les activités'!H75)","v":""},{"$f":"IF('2-Programmer les activités'!I75=\"Selectionner\",\"\",'2-Programmer les activités'!I75)","v":""},{"$f":"Param!AR69","v":""},{"$f":"'Param deadline'!AR69","v":""},{"$f":"Param!AS69","v":""},{"$f":"'Param deadline'!AS69","v":""},{"$f":"Param!AT69","v":""},{"$f":"'Param deadline'!AT69","v":""},{"$f":"Param!AU69","v":""},{"$f":"'Param deadline'!AU69","v":""},null,{"$f":"Param!AW69","v":""},{"$f":"'Param deadline'!AW69","v":""},{"$f":"Param!AX69","v":""},{"$f":"'Param deadline'!AX69","v":""},{"$f":"Param!AY69","v":""},{"$f":"'Param deadline'!AY69","v":""},{"$f":"Param!AZ69","v":""},{"$f":"'Param deadline'!AZ69","v":""},null,{"$f":"Param!BB69","v":""},{"$f":"'Param deadline'!BB69","v":""},{"$f":"Param!BC69","v":""},{"$f":"'Param deadline'!BC69","v":""},{"$f":"Param!BD69","v":""},{"$f":"'Param deadline'!BD69","v":""},{"$f":"Param!BE69","v":""},{"$f":"'Param deadline'!BE69","v":""}]
[{"$f":"IF('2-Programmer les activités'!A76=\"\",\"\",'2-Programmer les activités'!A76)","v":0},{"$f":"IF('2-Programmer les activités'!B76=\"Selectionner\",\"\",'2-Programmer les activités'!B76)","v":""},{"$f":"IF('2-Programmer les activités'!C76=\"Selectionner\",\"\",'2-Programmer les activités'!C76)","v":""},{"$f":"IF('2-Programmer les activités'!D76=\"\",\"\",'2-Programmer les activités'!D76)","v":""},null,{"$f":"IF('2-Programmer les activités'!H76=\"\",\"\",'2-Programmer les activités'!H76)","v":""},{"$f":"IF('2-Programmer les activités'!I76=\"Selectionner\",\"\",'2-Programmer les activités'!I76)","v":""},{"$f":"Param!AR70","v":""},{"$f":"'Param deadline'!AR70","v":""},{"$f":"Param!AS70","v":""},{"$f":"'Param deadline'!AS70","v":""},{"$f":"Param!AT70","v":""},{"$f":"'Param deadline'!AT70","v":""},{"$f":"Param!AU70","v":""},{"$f":"'Param deadline'!AU70","v":""},null,{"$f":"Param!AW70","v":""},{"$f":"'Param deadline'!AW70","v":""},{"$f":"Param!AX70","v":""},{"$f":"'Param deadline'!AX70","v":""},{"$f":"Param!AY70","v":""},{"$f":"'Param deadline'!AY70","v":""},{"$f":"Param!AZ70","v":""},{"$f":"'Param deadline'!AZ70","v":""},null,{"$f":"Param!BB70","v":""},{"$f":"'Param deadline'!BB70","v":""},{"$f":"Param!BC70","v":""},{"$f":"'Param deadline'!BC70","v":""},{"$f":"Param!BD70","v":""},{"$f":"'Param deadline'!BD70","v":""},{"$f":"Param!BE70","v":""},{"$f":"'Param deadline'!BE70","v":""}]
[{"$f":"IF('2-Programmer les activités'!A77=\"\",\"\",'2-Programmer les activités'!A77)","v":0},{"$f":"IF('2-Programmer les activités'!B77=\"Selectionner\",\"\",'2-Programmer les activités'!B77)","v":""},{"$f":"IF('2-Programmer les activités'!C77=\"Selectionner\",\"\",'2-Programmer les activités'!C77)","v":""},{"$f":"IF('2-Programmer les activités'!D77=\"\",\"\",'2-Programmer les activités'!D77)","v":""},null,{"$f":"IF('2-Programmer les activités'!H77=\"\",\"\",'2-Programmer les activités'!H77)","v":""},{"$f":"IF('2-Programmer les activités'!I77=\"Selectionner\",\"\",'2-Programmer les activités'!I77)","v":""},{"$f":"Param!AR71","v":""},{"$f":"'Param deadline'!AR71","v":""},{"$f":"Param!AS71","v":""},{"$f":"'Param deadline'!AS71","v":""},{"$f":"Param!AT71","v":""},{"$f":"'Param deadline'!AT71","v":""},{"$f":"Param!AU71","v":""},{"$f":"'Param deadline'!AU71","v":""},null,{"$f":"Param!AW71","v":""},{"$f":"'Param deadline'!AW71","v":""},{"$f":"Param!AX71","v":""},{"$f":"'Param deadline'!AX71","v":""},{"$f":"Param!AY71","v":""},{"$f":"'Param deadline'!AY71","v":""},{"$f":"Param!AZ71","v":""},{"$f":"'Param deadline'!AZ71","v":""},null,{"$f":"Param!BB71","v":""},{"$f":"'Param deadline'!BB71","v":""},{"$f":"Param!BC71","v":""},{"$f":"'Param deadline'!BC71","v":""},{"$f":"Param!BD71","v":""},{"$f":"'Param deadline'!BD71","v":""},{"$f":"Param!BE71","v":""},{"$f":"'Param deadline'!BE71","v":""}]
[{"$f":"IF('2-Programmer les activités'!A78=\"\",\"\",'2-Programmer les activités'!A78)","v":0},{"$f":"IF('2-Programmer les activités'!B78=\"Selectionner\",\"\",'2-Programmer les activités'!B78)","v":""},{"$f":"IF('2-Programmer les activités'!C78=\"Selectionner\",\"\",'2-Programmer les activités'!C78)","v":""},{"$f":"IF('2-Programmer les activités'!D78=\"\",\"\",'2-Programmer les activités'!D78)","v":""},null,{"$f":"IF('2-Programmer les activités'!H78=\"\",\"\",'2-Programmer les activités'!H78)","v":""},{"$f":"IF('2-Programmer les activités'!I78=\"Selectionner\",\"\",'2-Programmer les activités'!I78)","v":""},{"$f":"Param!AR72","v":""},{"$f":"'Param deadline'!AR72","v":""},{"$f":"Param!AS72","v":""},{"$f":"'Param deadline'!AS72","v":""},{"$f":"Param!AT72","v":""},{"$f":"'Param deadline'!AT72","v":""},{"$f":"Param!AU72","v":""},{"$f":"'Param deadline'!AU72","v":""},null,{"$f":"Param!AW72","v":""},{"$f":"'Param deadline'!AW72","v":""},{"$f":"Param!AX72","v":""},{"$f":"'Param deadline'!AX72","v":""},{"$f":"Param!AY72","v":""},{"$f":"'Param deadline'!AY72","v":""},{"$f":"Param!AZ72","v":""},{"$f":"'Param deadline'!AZ72","v":""},null,{"$f":"Param!BB72","v":""},{"$f":"'Param deadline'!BB72","v":""},{"$f":"Param!BC72","v":""},{"$f":"'Param deadline'!BC72","v":""},{"$f":"Param!BD72","v":""},{"$f":"'Param deadline'!BD72","v":""},{"$f":"Param!BE72","v":""},{"$f":"'Param deadline'!BE72","v":""}]
[{"$f":"IF('2-Programmer les activités'!A79=\"\",\"\",'2-Programmer les activités'!A79)","v":0},{"$f":"IF('2-Programmer les activités'!B79=\"Selectionner\",\"\",'2-Programmer les activités'!B79)","v":""},{"$f":"IF('2-Programmer les activités'!C79=\"Selectionner\",\"\",'2-Programmer les activités'!C79)","v":""},{"$f":"IF('2-Programmer les activités'!D79=\"\",\"\",'2-Programmer les activités'!D79)","v":""},null,{"$f":"IF('2-Programmer les activités'!H79=\"\",\"\",'2-Programmer les activités'!H79)","v":""},{"$f":"IF('2-Programmer les activités'!I79=\"Selectionner\",\"\",'2-Programmer les activités'!I79)","v":""},{"$f":"Param!AR73","v":""},{"$f":"'Param deadline'!AR73","v":""},{"$f":"Param!AS73","v":""},{"$f":"'Param deadline'!AS73","v":""},{"$f":"Param!AT73","v":""},{"$f":"'Param deadline'!AT73","v":""},{"$f":"Param!AU73","v":""},{"$f":"'Param deadline'!AU73","v":""},null,{"$f":"Param!AW73","v":""},{"$f":"'Param deadline'!AW73","v":""},{"$f":"Param!AX73","v":""},{"$f":"'Param deadline'!AX73","v":""},{"$f":"Param!AY73","v":""},{"$f":"'Param deadline'!AY73","v":""},{"$f":"Param!AZ73","v":""},{"$f":"'Param deadline'!AZ73","v":""},null,{"$f":"Param!BB73","v":""},{"$f":"'Param deadline'!BB73","v":""},{"$f":"Param!BC73","v":""},{"$f":"'Param deadline'!BC73","v":""},{"$f":"Param!BD73","v":""},{"$f":"'Param deadline'!BD73","v":""},{"$f":"Param!BE73","v":""},{"$f":"'Param deadline'!BE73","v":""}]
[{"$f":"IF('2-Programmer les activités'!A80=\"\",\"\",'2-Programmer les activités'!A80)","v":0},{"$f":"IF('2-Programmer les activités'!B80=\"Selectionner\",\"\",'2-Programmer les activités'!B80)","v":""},{"$f":"IF('2-Programmer les activités'!C80=\"Selectionner\",\"\",'2-Programmer les activités'!C80)","v":""},{"$f":"IF('2-Programmer les activités'!D80=\"\",\"\",'2-Programmer les activités'!D80)","v":""},null,{"$f":"IF('2-Programmer les activités'!H80=\"\",\"\",'2-Programmer les activités'!H80)","v":""},{"$f":"IF('2-Programmer les activités'!I80=\"Selectionner\",\"\",'2-Programmer les activités'!I80)","v":""},{"$f":"Param!AR74","v":""},{"$f":"'Param deadline'!AR74","v":""},{"$f":"Param!AS74","v":""},{"$f":"'Param deadline'!AS74","v":""},{"$f":"Param!AT74","v":""},{"$f":"'Param deadline'!AT74","v":""},{"$f":"Param!AU74","v":""},{"$f":"'Param deadline'!AU74","v":""},null,{"$f":"Param!AW74","v":""},{"$f":"'Param deadline'!AW74","v":""},{"$f":"Param!AX74","v":""},{"$f":"'Param deadline'!AX74","v":""},{"$f":"Param!AY74","v":""},{"$f":"'Param deadline'!AY74","v":""},{"$f":"Param!AZ74","v":""},{"$f":"'Param deadline'!AZ74","v":""},null,{"$f":"Param!BB74","v":""},{"$f":"'Param deadline'!BB74","v":""},{"$f":"Param!BC74","v":""},{"$f":"'Param deadline'!BC74","v":""},{"$f":"Param!BD74","v":""},{"$f":"'Param deadline'!BD74","v":""},{"$f":"Param!BE74","v":""},{"$f":"'Param deadline'!BE74","v":""}]
[{"$f":"IF('2-Programmer les activités'!A81=\"\",\"\",'2-Programmer les activités'!A81)","v":0},{"$f":"IF('2-Programmer les activités'!B81=\"Selectionner\",\"\",'2-Programmer les activités'!B81)","v":""},{"$f":"IF('2-Programmer les activités'!C81=\"Selectionner\",\"\",'2-Programmer les activités'!C81)","v":""},{"$f":"IF('2-Programmer les activités'!D81=\"\",\"\",'2-Programmer les activités'!D81)","v":""},null,{"$f":"IF('2-Programmer les activités'!H81=\"\",\"\",'2-Programmer les activités'!H81)","v":""},{"$f":"IF('2-Programmer les activités'!I81=\"Selectionner\",\"\",'2-Programmer les activités'!I81)","v":""},{"$f":"Param!AR75","v":""},{"$f":"'Param deadline'!AR75","v":""},{"$f":"Param!AS75","v":""},{"$f":"'Param deadline'!AS75","v":""},{"$f":"Param!AT75","v":""},{"$f":"'Param deadline'!AT75","v":""},{"$f":"Param!AU75","v":""},{"$f":"'Param deadline'!AU75","v":""},null,{"$f":"Param!AW75","v":""},{"$f":"'Param deadline'!AW75","v":""},{"$f":"Param!AX75","v":""},{"$f":"'Param deadline'!AX75","v":""},{"$f":"Param!AY75","v":""},{"$f":"'Param deadline'!AY75","v":""},{"$f":"Param!AZ75","v":""},{"$f":"'Param deadline'!AZ75","v":""},null,{"$f":"Param!BB75","v":""},{"$f":"'Param deadline'!BB75","v":""},{"$f":"Param!BC75","v":""},{"$f":"'Param deadline'!BC75","v":""},{"$f":"Param!BD75","v":""},{"$f":"'Param deadline'!BD75","v":""},{"$f":"Param!BE75","v":""},{"$f":"'Param deadline'!BE75","v":""}]
[{"$f":"IF('2-Programmer les activités'!A82=\"\",\"\",'2-Programmer les activités'!A82)","v":0},{"$f":"IF('2-Programmer les activités'!B82=\"Selectionner\",\"\",'2-Programmer les activités'!B82)","v":""},{"$f":"IF('2-Programmer les activités'!C82=\"Selectionner\",\"\",'2-Programmer les activités'!C82)","v":""},{"$f":"IF('2-Programmer les activités'!D82=\"\",\"\",'2-Programmer les activités'!D82)","v":""},null,{"$f":"IF('2-Programmer les activités'!H82=\"\",\"\",'2-Programmer les activités'!H82)","v":""},{"$f":"IF('2-Programmer les activités'!I82=\"Selectionner\",\"\",'2-Programmer les activités'!I82)","v":""},{"$f":"Param!AR76","v":""},{"$f":"'Param deadline'!AR76","v":""},{"$f":"Param!AS76","v":""},{"$f":"'Param deadline'!AS76","v":""},{"$f":"Param!AT76","v":""},{"$f":"'Param deadline'!AT76","v":""},{"$f":"Param!AU76","v":""},{"$f":"'Param deadline'!AU76","v":""},null,{"$f":"Param!AW76","v":""},{"$f":"'Param deadline'!AW76","v":""},{"$f":"Param!AX76","v":""},{"$f":"'Param deadline'!AX76","v":""},{"$f":"Param!AY76","v":""},{"$f":"'Param deadline'!AY76","v":""},{"$f":"Param!AZ76","v":""},{"$f":"'Param deadline'!AZ76","v":""},null,{"$f":"Param!BB76","v":""},{"$f":"'Param deadline'!BB76","v":""},{"$f":"Param!BC76","v":""},{"$f":"'Param deadline'!BC76","v":""},{"$f":"Param!BD76","v":""},{"$f":"'Param deadline'!BD76","v":""},{"$f":"Param!BE76","v":""},{"$f":"'Param deadline'!BE76","v":""}]
[{"$f":"IF('2-Programmer les activités'!A83=\"\",\"\",'2-Programmer les activités'!A83)","v":0},{"$f":"IF('2-Programmer les activités'!B83=\"Selectionner\",\"\",'2-Programmer les activités'!B83)","v":""},{"$f":"IF('2-Programmer les activités'!C83=\"Selectionner\",\"\",'2-Programmer les activités'!C83)","v":""},{"$f":"IF('2-Programmer les activités'!D83=\"\",\"\",'2-Programmer les activités'!D83)","v":""},null,{"$f":"IF('2-Programmer les activités'!H83=\"\",\"\",'2-Programmer les activités'!H83)","v":""},{"$f":"IF('2-Programmer les activités'!I83=\"Selectionner\",\"\",'2-Programmer les activités'!I83)","v":""},{"$f":"Param!AR77","v":""},{"$f":"'Param deadline'!AR77","v":""},{"$f":"Param!AS77","v":""},{"$f":"'Param deadline'!AS77","v":""},{"$f":"Param!AT77","v":""},{"$f":"'Param deadline'!AT77","v":""},{"$f":"Param!AU77","v":""},{"$f":"'Param deadline'!AU77","v":""},null,{"$f":"Param!AW77","v":""},{"$f":"'Param deadline'!AW77","v":""},{"$f":"Param!AX77","v":""},{"$f":"'Param deadline'!AX77","v":""},{"$f":"Param!AY77","v":""},{"$f":"'Param deadline'!AY77","v":""},{"$f":"Param!AZ77","v":""},{"$f":"'Param deadline'!AZ77","v":""},null,{"$f":"Param!BB77","v":""},{"$f":"'Param deadline'!BB77","v":""},{"$f":"Param!BC77","v":""},{"$f":"'Param deadline'!BC77","v":""},{"$f":"Param!BD77","v":""},{"$f":"'Param deadline'!BD77","v":""},{"$f":"Param!BE77","v":""},{"$f":"'Param deadline'!BE77","v":""}]
[{"$f":"IF('2-Programmer les activités'!A84=\"\",\"\",'2-Programmer les activités'!A84)","v":0},{"$f":"IF('2-Programmer les activités'!B84=\"Selectionner\",\"\",'2-Programmer les activités'!B84)","v":""},{"$f":"IF('2-Programmer les activités'!C84=\"Selectionner\",\"\",'2-Programmer les activités'!C84)","v":""},{"$f":"IF('2-Programmer les activités'!D84=\"\",\"\",'2-Programmer les activités'!D84)","v":""},null,{"$f":"IF('2-Programmer les activités'!H84=\"\",\"\",'2-Programmer les activités'!H84)","v":""},{"$f":"IF('2-Programmer les activités'!I84=\"Selectionner\",\"\",'2-Programmer les activités'!I84)","v":""},{"$f":"Param!AR78","v":""},{"$f":"'Param deadline'!AR78","v":""},{"$f":"Param!AS78","v":""},{"$f":"'Param deadline'!AS78","v":""},{"$f":"Param!AT78","v":""},{"$f":"'Param deadline'!AT78","v":""},{"$f":"Param!AU78","v":""},{"$f":"'Param deadline'!AU78","v":""},null,{"$f":"Param!AW78","v":""},{"$f":"'Param deadline'!AW78","v":""},{"$f":"Param!AX78","v":""},{"$f":"'Param deadline'!AX78","v":""},{"$f":"Param!AY78","v":""},{"$f":"'Param deadline'!AY78","v":""},{"$f":"Param!AZ78","v":""},{"$f":"'Param deadline'!AZ78","v":""},null,{"$f":"Param!BB78","v":""},{"$f":"'Param deadline'!BB78","v":""},{"$f":"Param!BC78","v":""},{"$f":"'Param deadline'!BC78","v":""},{"$f":"Param!BD78","v":""},{"$f":"'Param deadline'!BD78","v":""},{"$f":"Param!BE78","v":""},{"$f":"'Param deadline'!BE78","v":""}]
[{"$f":"IF('2-Programmer les activités'!A85=\"\",\"\",'2-Programmer les activités'!A85)","v":0},{"$f":"IF('2-Programmer les activités'!B85=\"Selectionner\",\"\",'2-Programmer les activités'!B85)","v":""},{"$f":"IF('2-Programmer les activités'!C85=\"Selectionner\",\"\",'2-Programmer les activités'!C85)","v":""},{"$f":"IF('2-Programmer les activités'!D85=\"\",\"\",'2-Programmer les activités'!D85)","v":""},null,{"$f":"IF('2-Programmer les activités'!H85=\"\",\"\",'2-Programmer les activités'!H85)","v":""},{"$f":"IF('2-Programmer les activités'!I85=\"Selectionner\",\"\",'2-Programmer les activités'!I85)","v":""},{"$f":"Param!AR79","v":""},{"$f":"'Param deadline'!AR79","v":""},{"$f":"Param!AS79","v":""},{"$f":"'Param deadline'!AS79","v":""},{"$f":"Param!AT79","v":""},{"$f":"'Param deadline'!AT79","v":""},{"$f":"Param!AU79","v":""},{"$f":"'Param deadline'!AU79","v":""},null,{"$f":"Param!AW79","v":""},{"$f":"'Param deadline'!AW79","v":""},{"$f":"Param!AX79","v":""},{"$f":"'Param deadline'!AX79","v":""},{"$f":"Param!AY79","v":""},{"$f":"'Param deadline'!AY79","v":""},{"$f":"Param!AZ79","v":""},{"$f":"'Param deadline'!AZ79","v":""},null,{"$f":"Param!BB79","v":""},{"$f":"'Param deadline'!BB79","v":""},{"$f":"Param!BC79","v":""},{"$f":"'Param deadline'!BC79","v":""},{"$f":"Param!BD79","v":""},{"$f":"'Param deadline'!BD79","v":""},{"$f":"Param!BE79","v":""},{"$f":"'Param deadline'!BE79","v":""}]
[{"$f":"IF('2-Programmer les activités'!A86=\"\",\"\",'2-Programmer les activités'!A86)","v":0},{"$f":"IF('2-Programmer les activités'!B86=\"Selectionner\",\"\",'2-Programmer les activités'!B86)","v":""},{"$f":"IF('2-Programmer les activités'!C86=\"Selectionner\",\"\",'2-Programmer les activités'!C86)","v":""},{"$f":"IF('2-Programmer les activités'!D86=\"\",\"\",'2-Programmer les activités'!D86)","v":""},null,{"$f":"IF('2-Programmer les activités'!H86=\"\",\"\",'2-Programmer les activités'!H86)","v":""},{"$f":"IF('2-Programmer les activités'!I86=\"Selectionner\",\"\",'2-Programmer les activités'!I86)","v":""},{"$f":"Param!AR80","v":""},{"$f":"'Param deadline'!AR80","v":""},{"$f":"Param!AS80","v":""},{"$f":"'Param deadline'!AS80","v":""},{"$f":"Param!AT80","v":""},{"$f":"'Param deadline'!AT80","v":""},{"$f":"Param!AU80","v":""},{"$f":"'Param deadline'!AU80","v":""},null,{"$f":"Param!AW80","v":""},{"$f":"'Param deadline'!AW80","v":""},{"$f":"Param!AX80","v":""},{"$f":"'Param deadline'!AX80","v":""},{"$f":"Param!AY80","v":""},{"$f":"'Param deadline'!AY80","v":""},{"$f":"Param!AZ80","v":""},{"$f":"'Param deadline'!AZ80","v":""},null,{"$f":"Param!BB80","v":""},{"$f":"'Param deadline'!BB80","v":""},{"$f":"Param!BC80","v":""},{"$f":"'Param deadline'!BC80","v":""},{"$f":"Param!BD80","v":""},{"$f":"'Param deadline'!BD80","v":""},{"$f":"Param!BE80","v":""},{"$f":"'Param deadline'!BE80","v":""}]
[{"$f":"IF('2-Programmer les activités'!A87=\"\",\"\",'2-Programmer les activités'!A87)","v":0},{"$f":"IF('2-Programmer les activités'!B87=\"Selectionner\",\"\",'2-Programmer les activités'!B87)","v":""},{"$f":"IF('2-Programmer les activités'!C87=\"Selectionner\",\"\",'2-Programmer les activités'!C87)","v":""},{"$f":"IF('2-Programmer les activités'!D87=\"\",\"\",'2-Programmer les activités'!D87)","v":""},null,{"$f":"IF('2-Programmer les activités'!H87=\"\",\"\",'2-Programmer les activités'!H87)","v":""},{"$f":"IF('2-Programmer les activités'!I87=\"Selectionner\",\"\",'2-Programmer les activités'!I87)","v":""},{"$f":"Param!AR81","v":""},{"$f":"'Param deadline'!AR81","v":""},{"$f":"Param!AS81","v":""},{"$f":"'Param deadline'!AS81","v":""},{"$f":"Param!AT81","v":""},{"$f":"'Param deadline'!AT81","v":""},{"$f":"Param!AU81","v":""},{"$f":"'Param deadline'!AU81","v":""},null,{"$f":"Param!AW81","v":""},{"$f":"'Param deadline'!AW81","v":""},{"$f":"Param!AX81","v":""},{"$f":"'Param deadline'!AX81","v":""},{"$f":"Param!AY81","v":""},{"$f":"'Param deadline'!AY81","v":""},{"$f":"Param!AZ81","v":""},{"$f":"'Param deadline'!AZ81","v":""},null,{"$f":"Param!BB81","v":""},{"$f":"'Param deadline'!BB81","v":""},{"$f":"Param!BC81","v":""},{"$f":"'Param deadline'!BC81","v":""},{"$f":"Param!BD81","v":""},{"$f":"'Param deadline'!BD81","v":""},{"$f":"Param!BE81","v":""},{"$f":"'Param deadline'!BE81","v":""}]
[{"$f":"IF('2-Programmer les activités'!A88=\"\",\"\",'2-Programmer les activités'!A88)","v":0},{"$f":"IF('2-Programmer les activités'!B88=\"Selectionner\",\"\",'2-Programmer les activités'!B88)","v":""},{"$f":"IF('2-Programmer les activités'!C88=\"Selectionner\",\"\",'2-Programmer les activités'!C88)","v":""},{"$f":"IF('2-Programmer les activités'!D88=\"\",\"\",'2-Programmer les activités'!D88)","v":""},null,{"$f":"IF('2-Programmer les activités'!H88=\"\",\"\",'2-Programmer les activités'!H88)","v":""},{"$f":"IF('2-Programmer les activités'!I88=\"Selectionner\",\"\",'2-Programmer les activités'!I88)","v":""},{"$f":"Param!AR82","v":""},{"$f":"'Param deadline'!AR82","v":""},{"$f":"Param!AS82","v":""},{"$f":"'Param deadline'!AS82","v":""},{"$f":"Param!AT82","v":""},{"$f":"'Param deadline'!AT82","v":""},{"$f":"Param!AU82","v":""},{"$f":"'Param deadline'!AU82","v":""},null,{"$f":"Param!AW82","v":""},{"$f":"'Param deadline'!AW82","v":""},{"$f":"Param!AX82","v":""},{"$f":"'Param deadline'!AX82","v":""},{"$f":"Param!AY82","v":""},{"$f":"'Param deadline'!AY82","v":""},{"$f":"Param!AZ82","v":""},{"$f":"'Param deadline'!AZ82","v":""},null,{"$f":"Param!BB82","v":""},{"$f":"'Param deadline'!BB82","v":""},{"$f":"Param!BC82","v":""},{"$f":"'Param deadline'!BC82","v":""},{"$f":"Param!BD82","v":""},{"$f":"'Param deadline'!BD82","v":""},{"$f":"Param!BE82","v":""},{"$f":"'Param deadline'!BE82","v":""}]
[{"$f":"IF('2-Programmer les activités'!A89=\"\",\"\",'2-Programmer les activités'!A89)","v":0},{"$f":"IF('2-Programmer les activités'!B89=\"Selectionner\",\"\",'2-Programmer les activités'!B89)","v":""},{"$f":"IF('2-Programmer les activités'!C89=\"Selectionner\",\"\",'2-Programmer les activités'!C89)","v":""},{"$f":"IF('2-Programmer les activités'!D89=\"\",\"\",'2-Programmer les activités'!D89)","v":""},null,{"$f":"IF('2-Programmer les activités'!H89=\"\",\"\",'2-Programmer les activités'!H89)","v":""},{"$f":"IF('2-Programmer les activités'!I89=\"Selectionner\",\"\",'2-Programmer les activités'!I89)","v":""},{"$f":"Param!AR83","v":""},{"$f":"'Param deadline'!AR83","v":""},{"$f":"Param!AS83","v":""},{"$f":"'Param deadline'!AS83","v":""},{"$f":"Param!AT83","v":""},{"$f":"'Param deadline'!AT83","v":""},{"$f":"Param!AU83","v":""},{"$f":"'Param deadline'!AU83","v":""},null,{"$f":"Param!AW83","v":""},{"$f":"'Param deadline'!AW83","v":""},{"$f":"Param!AX83","v":""},{"$f":"'Param deadline'!AX83","v":""},{"$f":"Param!AY83","v":""},{"$f":"'Param deadline'!AY83","v":""},{"$f":"Param!AZ83","v":""},{"$f":"'Param deadline'!AZ83","v":""},null,{"$f":"Param!BB83","v":""},{"$f":"'Param deadline'!BB83","v":""},{"$f":"Param!BC83","v":""},{"$f":"'Param deadline'!BC83","v":""},{"$f":"Param!BD83","v":""},{"$f":"'Param deadline'!BD83","v":""},{"$f":"Param!BE83","v":""},{"$f":"'Param deadline'!BE83","v":""}]
[{"$f":"IF('2-Programmer les activités'!A90=\"\",\"\",'2-Programmer les activités'!A90)","v":0},{"$f":"IF('2-Programmer les activités'!B90=\"Selectionner\",\"\",'2-Programmer les activités'!B90)","v":""},{"$f":"IF('2-Programmer les activités'!C90=\"Selectionner\",\"\",'2-Programmer les activités'!C90)","v":""},{"$f":"IF('2-Programmer les activités'!D90=\"\",\"\",'2-Programmer les activités'!D90)","v":""},null,{"$f":"IF('2-Programmer les activités'!H90=\"\",\"\",'2-Programmer les activités'!H90)","v":""},{"$f":"IF('2-Programmer les activités'!I90=\"Selectionner\",\"\",'2-Programmer les activités'!I90)","v":""},{"$f":"Param!AR84","v":""},{"$f":"'Param deadline'!AR84","v":""},{"$f":"Param!AS84","v":""},{"$f":"'Param deadline'!AS84","v":""},{"$f":"Param!AT84","v":""},{"$f":"'Param deadline'!AT84","v":""},{"$f":"Param!AU84","v":""},{"$f":"'Param deadline'!AU84","v":""},null,{"$f":"Param!AW84","v":""},{"$f":"'Param deadline'!AW84","v":""},{"$f":"Param!AX84","v":""},{"$f":"'Param deadline'!AX84","v":""},{"$f":"Param!AY84","v":""},{"$f":"'Param deadline'!AY84","v":""},{"$f":"Param!AZ84","v":""},{"$f":"'Param deadline'!AZ84","v":""},null,{"$f":"Param!BB84","v":""},{"$f":"'Param deadline'!BB84","v":""},{"$f":"Param!BC84","v":""},{"$f":"'Param deadline'!BC84","v":""},{"$f":"Param!BD84","v":""},{"$f":"'Param deadline'!BD84","v":""},{"$f":"Param!BE84","v":""},{"$f":"'Param deadline'!BE84","v":""}]
[{"$f":"IF('2-Programmer les activités'!A91=\"\",\"\",'2-Programmer les activités'!A91)","v":0},{"$f":"IF('2-Programmer les activités'!B91=\"Selectionner\",\"\",'2-Programmer les activités'!B91)","v":""},{"$f":"IF('2-Programmer les activités'!C91=\"Selectionner\",\"\",'2-Programmer les activités'!C91)","v":""},{"$f":"IF('2-Programmer les activités'!D91=\"\",\"\",'2-Programmer les activités'!D91)","v":""},null,{"$f":"IF('2-Programmer les activités'!H91=\"\",\"\",'2-Programmer les activités'!H91)","v":""},{"$f":"IF('2-Programmer les activités'!I91=\"Selectionner\",\"\",'2-Programmer les activités'!I91)","v":""},{"$f":"Param!AR85","v":""},{"$f":"'Param deadline'!AR85","v":""},{"$f":"Param!AS85","v":""},{"$f":"'Param deadline'!AS85","v":""},{"$f":"Param!AT85","v":""},{"$f":"'Param deadline'!AT85","v":""},{"$f":"Param!AU85","v":""},{"$f":"'Param deadline'!AU85","v":""},null,{"$f":"Param!AW85","v":""},{"$f":"'Param deadline'!AW85","v":""},{"$f":"Param!AX85","v":""},{"$f":"'Param deadline'!AX85","v":""},{"$f":"Param!AY85","v":""},{"$f":"'Param deadline'!AY85","v":""},{"$f":"Param!AZ85","v":""},{"$f":"'Param deadline'!AZ85","v":""},null,{"$f":"Param!BB85","v":""},{"$f":"'Param deadline'!BB85","v":""},{"$f":"Param!BC85","v":""},{"$f":"'Param deadline'!BC85","v":""},{"$f":"Param!BD85","v":""},{"$f":"'Param deadline'!BD85","v":""},{"$f":"Param!BE85","v":""},{"$f":"'Param deadline'!BE85","v":""}]
[{"$f":"IF('2-Programmer les activités'!A92=\"\",\"\",'2-Programmer les activités'!A92)","v":0},{"$f":"IF('2-Programmer les activités'!B92=\"Selectionner\",\"\",'2-Programmer les activités'!B92)","v":""},{"$f":"IF('2-Programmer les activités'!C92=\"Selectionner\",\"\",'2-Programmer les activités'!C92)","v":""},{"$f":"IF('2-Programmer les activités'!D92=\"\",\"\",'2-Programmer les activités'!D92)","v":""},null,{"$f":"IF('2-Programmer les activités'!H92=\"\",\"\",'2-Programmer les activités'!H92)","v":""},{"$f":"IF('2-Programmer les activités'!I92=\"Selectionner\",\"\",'2-Programmer les activités'!I92)","v":""},{"$f":"Param!AR86","v":""},{"$f":"'Param deadline'!AR86","v":""},{"$f":"Param!AS86","v":""},{"$f":"'Param deadline'!AS86","v":""},{"$f":"Param!AT86","v":""},{"$f":"'Param deadline'!AT86","v":""},{"$f":"Param!AU86","v":""},{"$f":"'Param deadline'!AU86","v":""},null,{"$f":"Param!AW86","v":""},{"$f":"'Param deadline'!AW86","v":""},{"$f":"Param!AX86","v":""},{"$f":"'Param deadline'!AX86","v":""},{"$f":"Param!AY86","v":""},{"$f":"'Param deadline'!AY86","v":""},{"$f":"Param!AZ86","v":""},{"$f":"'Param deadline'!AZ86","v":""},null,{"$f":"Param!BB86","v":""},{"$f":"'Param deadline'!BB86","v":""},{"$f":"Param!BC86","v":""},{"$f":"'Param deadline'!BC86","v":""},{"$f":"Param!BD86","v":""},{"$f":"'Param deadline'!BD86","v":""},{"$f":"Param!BE86","v":""},{"$f":"'Param deadline'!BE86","v":""}]
[{"$f":"IF('2-Programmer les activités'!A93=\"\",\"\",'2-Programmer les activités'!A93)","v":0},{"$f":"IF('2-Programmer les activités'!B93=\"Selectionner\",\"\",'2-Programmer les activités'!B93)","v":""},{"$f":"IF('2-Programmer les activités'!C93=\"Selectionner\",\"\",'2-Programmer les activités'!C93)","v":""},{"$f":"IF('2-Programmer les activités'!D93=\"\",\"\",'2-Programmer les activités'!D93)","v":""},null,{"$f":"IF('2-Programmer les activités'!H93=\"\",\"\",'2-Programmer les activités'!H93)","v":""},{"$f":"IF('2-Programmer les activités'!I93=\"Selectionner\",\"\",'2-Programmer les activités'!I93)","v":""},{"$f":"Param!AR87","v":""},{"$f":"'Param deadline'!AR87","v":""},{"$f":"Param!AS87","v":""},{"$f":"'Param deadline'!AS87","v":""},{"$f":"Param!AT87","v":""},{"$f":"'Param deadline'!AT87","v":""},{"$f":"Param!AU87","v":""},{"$f":"'Param deadline'!AU87","v":""},null,{"$f":"Param!AW87","v":""},{"$f":"'Param deadline'!AW87","v":""},{"$f":"Param!AX87","v":""},{"$f":"'Param deadline'!AX87","v":""},{"$f":"Param!AY87","v":""},{"$f":"'Param deadline'!AY87","v":""},{"$f":"Param!AZ87","v":""},{"$f":"'Param deadline'!AZ87","v":""},null,{"$f":"Param!BB87","v":""},{"$f":"'Param deadline'!BB87","v":""},{"$f":"Param!BC87","v":""},{"$f":"'Param deadline'!BC87","v":""},{"$f":"Param!BD87","v":""},{"$f":"'Param deadline'!BD87","v":""},{"$f":"Param!BE87","v":""},{"$f":"'Param deadline'!BE87","v":""}]
[{"$f":"IF('2-Programmer les activités'!A94=\"\",\"\",'2-Programmer les activités'!A94)","v":0},{"$f":"IF('2-Programmer les activités'!B94=\"Selectionner\",\"\",'2-Programmer les activités'!B94)","v":""},{"$f":"IF('2-Programmer les activités'!C94=\"Selectionner\",\"\",'2-Programmer les activités'!C94)","v":""},{"$f":"IF('2-Programmer les activités'!D94=\"\",\"\",'2-Programmer les activités'!D94)","v":""},null,{"$f":"IF('2-Programmer les activités'!H94=\"\",\"\",'2-Programmer les activités'!H94)","v":""},{"$f":"IF('2-Programmer les activités'!I94=\"Selectionner\",\"\",'2-Programmer les activités'!I94)","v":""},{"$f":"Param!AR88","v":""},{"$f":"'Param deadline'!AR88","v":""},{"$f":"Param!AS88","v":""},{"$f":"'Param deadline'!AS88","v":""},{"$f":"Param!AT88","v":""},{"$f":"'Param deadline'!AT88","v":""},{"$f":"Param!AU88","v":""},{"$f":"'Param deadline'!AU88","v":""},null,{"$f":"Param!AW88","v":""},{"$f":"'Param deadline'!AW88","v":""},{"$f":"Param!AX88","v":""},{"$f":"'Param deadline'!AX88","v":""},{"$f":"Param!AY88","v":""},{"$f":"'Param deadline'!AY88","v":""},{"$f":"Param!AZ88","v":""},{"$f":"'Param deadline'!AZ88","v":""},null,{"$f":"Param!BB88","v":""},{"$f":"'Param deadline'!BB88","v":""},{"$f":"Param!BC88","v":""},{"$f":"'Param deadline'!BC88","v":""},{"$f":"Param!BD88","v":""},{"$f":"'Param deadline'!BD88","v":""},{"$f":"Param!BE88","v":""},{"$f":"'Param deadline'!BE88","v":""}]
[{"$f":"IF('2-Programmer les activités'!A95=\"\",\"\",'2-Programmer les activités'!A95)","v":0},{"$f":"IF('2-Programmer les activités'!B95=\"Selectionner\",\"\",'2-Programmer les activités'!B95)","v":""},{"$f":"IF('2-Programmer les activités'!C95=\"Selectionner\",\"\",'2-Programmer les activités'!C95)","v":""},{"$f":"IF('2-Programmer les activités'!D95=\"\",\"\",'2-Programmer les activités'!D95)","v":""},null,{"$f":"IF('2-Programmer les activités'!H95=\"\",\"\",'2-Programmer les activités'!H95)","v":""},{"$f":"IF('2-Programmer les activités'!I95=\"Selectionner\",\"\",'2-Programmer les activités'!I95)","v":""},{"$f":"Param!AR89","v":""},{"$f":"'Param deadline'!AR89","v":""},{"$f":"Param!AS89","v":""},{"$f":"'Param deadline'!AS89","v":""},{"$f":"Param!AT89","v":""},{"$f":"'Param deadline'!AT89","v":""},{"$f":"Param!AU89","v":""},{"$f":"'Param deadline'!AU89","v":""},null,{"$f":"Param!AW89","v":""},{"$f":"'Param deadline'!AW89","v":""},{"$f":"Param!AX89","v":""},{"$f":"'Param deadline'!AX89","v":""},{"$f":"Param!AY89","v":""},{"$f":"'Param deadline'!AY89","v":""},{"$f":"Param!AZ89","v":""},{"$f":"'Param deadline'!AZ89","v":""},null,{"$f":"Param!BB89","v":""},{"$f":"'Param deadline'!BB89","v":""},{"$f":"Param!BC89","v":""},{"$f":"'Param deadline'!BC89","v":""},{"$f":"Param!BD89","v":""},{"$f":"'Param deadline'!BD89","v":""},{"$f":"Param!BE89","v":""},{"$f":"'Param deadline'!BE89","v":""}]
[{"$f":"IF('2-Programmer les activités'!A96=\"\",\"\",'2-Programmer les activités'!A96)","v":0},{"$f":"IF('2-Programmer les activités'!B96=\"Selectionner\",\"\",'2-Programmer les activités'!B96)","v":""},{"$f":"IF('2-Programmer les activités'!C96=\"Selectionner\",\"\",'2-Programmer les activités'!C96)","v":""},{"$f":"IF('2-Programmer les activités'!D96=\"\",\"\",'2-Programmer les activités'!D96)","v":""},null,{"$f":"IF('2-Programmer les activités'!H96=\"\",\"\",'2-Programmer les activités'!H96)","v":""},{"$f":"IF('2-Programmer les activités'!I96=\"Selectionner\",\"\",'2-Programmer les activités'!I96)","v":""},{"$f":"Param!AR90","v":""},{"$f":"'Param deadline'!AR90","v":""},{"$f":"Param!AS90","v":""},{"$f":"'Param deadline'!AS90","v":""},{"$f":"Param!AT90","v":""},{"$f":"'Param deadline'!AT90","v":""},{"$f":"Param!AU90","v":""},{"$f":"'Param deadline'!AU90","v":""},null,{"$f":"Param!AW90","v":""},{"$f":"'Param deadline'!AW90","v":""},{"$f":"Param!AX90","v":""},{"$f":"'Param deadline'!AX90","v":""},{"$f":"Param!AY90","v":""},{"$f":"'Param deadline'!AY90","v":""},{"$f":"Param!AZ90","v":""},{"$f":"'Param deadline'!AZ90","v":""},null,{"$f":"Param!BB90","v":""},{"$f":"'Param deadline'!BB90","v":""},{"$f":"Param!BC90","v":""},{"$f":"'Param deadline'!BC90","v":""},{"$f":"Param!BD90","v":""},{"$f":"'Param deadline'!BD90","v":""},{"$f":"Param!BE90","v":""},{"$f":"'Param deadline'!BE90","v":""}]
[{"$f":"IF('2-Programmer les activités'!A97=\"\",\"\",'2-Programmer les activités'!A97)","v":0},{"$f":"IF('2-Programmer les activités'!B97=\"Selectionner\",\"\",'2-Programmer les activités'!B97)","v":""},{"$f":"IF('2-Programmer les activités'!C97=\"Selectionner\",\"\",'2-Programmer les activités'!C97)","v":""},{"$f":"IF('2-Programmer les activités'!D97=\"\",\"\",'2-Programmer les activités'!D97)","v":""},null,{"$f":"IF('2-Programmer les activités'!H97=\"\",\"\",'2-Programmer les activités'!H97)","v":""},{"$f":"IF('2-Programmer les activités'!I97=\"Selectionner\",\"\",'2-Programmer les activités'!I97)","v":""},{"$f":"Param!AR91","v":""},{"$f":"'Param deadline'!AR91","v":""},{"$f":"Param!AS91","v":""},{"$f":"'Param deadline'!AS91","v":""},{"$f":"Param!AT91","v":""},{"$f":"'Param deadline'!AT91","v":""},{"$f":"Param!AU91","v":""},{"$f":"'Param deadline'!AU91","v":""},null,{"$f":"Param!AW91","v":""},{"$f":"'Param deadline'!AW91","v":""},{"$f":"Param!AX91","v":""},{"$f":"'Param deadline'!AX91","v":""},{"$f":"Param!AY91","v":""},{"$f":"'Param deadline'!AY91","v":""},{"$f":"Param!AZ91","v":""},{"$f":"'Param deadline'!AZ91","v":""},null,{"$f":"Param!BB91","v":""},{"$f":"'Param deadline'!BB91","v":""},{"$f":"Param!BC91","v":""},{"$f":"'Param deadline'!BC91","v":""},{"$f":"Param!BD91","v":""},{"$f":"'Param deadline'!BD91","v":""},{"$f":"Param!BE91","v":""},{"$f":"'Param deadline'!BE91","v":""}]
[{"$f":"IF('2-Programmer les activités'!A98=\"\",\"\",'2-Programmer les activités'!A98)","v":0},{"$f":"IF('2-Programmer les activités'!B98=\"Selectionner\",\"\",'2-Programmer les activités'!B98)","v":""},{"$f":"IF('2-Programmer les activités'!C98=\"Selectionner\",\"\",'2-Programmer les activités'!C98)","v":""},{"$f":"IF('2-Programmer les activités'!D98=\"\",\"\",'2-Programmer les activités'!D98)","v":""},null,{"$f":"IF('2-Programmer les activités'!H98=\"\",\"\",'2-Programmer les activités'!H98)","v":""},{"$f":"IF('2-Programmer les activités'!I98=\"Selectionner\",\"\",'2-Programmer les activités'!I98)","v":""},{"$f":"Param!AR92","v":""},{"$f":"'Param deadline'!AR92","v":""},{"$f":"Param!AS92","v":""},{"$f":"'Param deadline'!AS92","v":""},{"$f":"Param!AT92","v":""},{"$f":"'Param deadline'!AT92","v":""},{"$f":"Param!AU92","v":""},{"$f":"'Param deadline'!AU92","v":""},null,{"$f":"Param!AW92","v":""},{"$f":"'Param deadline'!AW92","v":""},{"$f":"Param!AX92","v":""},{"$f":"'Param deadline'!AX92","v":""},{"$f":"Param!AY92","v":""},{"$f":"'Param deadline'!AY92","v":""},{"$f":"Param!AZ92","v":""},{"$f":"'Param deadline'!AZ92","v":""},null,{"$f":"Param!BB92","v":""},{"$f":"'Param deadline'!BB92","v":""},{"$f":"Param!BC92","v":""},{"$f":"'Param deadline'!BC92","v":""},{"$f":"Param!BD92","v":""},{"$f":"'Param deadline'!BD92","v":""},{"$f":"Param!BE92","v":""},{"$f":"'Param deadline'!BE92","v":""}]
[{"$f":"IF('2-Programmer les activités'!A99=\"\",\"\",'2-Programmer les activités'!A99)","v":0},{"$f":"IF('2-Programmer les activités'!B99=\"Selectionner\",\"\",'2-Programmer les activités'!B99)","v":""},{"$f":"IF('2-Programmer les activités'!C99=\"Selectionner\",\"\",'2-Programmer les activités'!C99)","v":""},{"$f":"IF('2-Programmer les activités'!D99=\"\",\"\",'2-Programmer les activités'!D99)","v":""},null,{"$f":"IF('2-Programmer les activités'!H99=\"\",\"\",'2-Programmer les activités'!H99)","v":""},{"$f":"IF('2-Programmer les activités'!I99=\"Selectionner\",\"\",'2-Programmer les activités'!I99)","v":""},{"$f":"Param!AR93","v":""},{"$f":"'Param deadline'!AR93","v":""},{"$f":"Param!AS93","v":""},{"$f":"'Param deadline'!AS93","v":""},{"$f":"Param!AT93","v":""},{"$f":"'Param deadline'!AT93","v":""},{"$f":"Param!AU93","v":""},{"$f":"'Param deadline'!AU93","v":""},null,{"$f":"Param!AW93","v":""},{"$f":"'Param deadline'!AW93","v":""},{"$f":"Param!AX93","v":""},{"$f":"'Param deadline'!AX93","v":""},{"$f":"Param!AY93","v":""},{"$f":"'Param deadline'!AY93","v":""},{"$f":"Param!AZ93","v":""},{"$f":"'Param deadline'!AZ93","v":""},null,{"$f":"Param!BB93","v":""},{"$f":"'Param deadline'!BB93","v":""},{"$f":"Param!BC93","v":""},{"$f":"'Param deadline'!BC93","v":""},{"$f":"Param!BD93","v":""},{"$f":"'Param deadline'!BD93","v":""},{"$f":"Param!BE93","v":""},{"$f":"'Param deadline'!BE93","v":""}]
[{"$f":"IF('2-Programmer les activités'!A100=\"\",\"\",'2-Programmer les activités'!A100)","v":0},{"$f":"IF('2-Programmer les activités'!B100=\"Selectionner\",\"\",'2-Programmer les activités'!B100)","v":""},{"$f":"IF('2-Programmer les activités'!C100=\"Selectionner\",\"\",'2-Programmer les activités'!C100)","v":""},{"$f":"IF('2-Programmer les activités'!D100=\"\",\"\",'2-Programmer les activités'!D100)","v":""},null,{"$f":"IF('2-Programmer les activités'!H100=\"\",\"\",'2-Programmer les activités'!H100)","v":""},{"$f":"IF('2-Programmer les activités'!I100=\"Selectionner\",\"\",'2-Programmer les activités'!I100)","v":""},{"$f":"Param!AR94","v":""},{"$f":"'Param deadline'!AR94","v":""},{"$f":"Param!AS94","v":""},{"$f":"'Param deadline'!AS94","v":""},{"$f":"Param!AT94","v":""},{"$f":"'Param deadline'!AT94","v":""},{"$f":"Param!AU94","v":""},{"$f":"'Param deadline'!AU94","v":""},null,{"$f":"Param!AW94","v":""},{"$f":"'Param deadline'!AW94","v":""},{"$f":"Param!AX94","v":""},{"$f":"'Param deadline'!AX94","v":""},{"$f":"Param!AY94","v":""},{"$f":"'Param deadline'!AY94","v":""},{"$f":"Param!AZ94","v":""},{"$f":"'Param deadline'!AZ94","v":""},null,{"$f":"Param!BB94","v":""},{"$f":"'Param deadline'!BB94","v":""},{"$f":"Param!BC94","v":""},{"$f":"'Param deadline'!BC94","v":""},{"$f":"Param!BD94","v":""},{"$f":"'Param deadline'!BD94","v":""},{"$f":"Param!BE94","v":""},{"$f":"'Param deadline'!BE94","v":""}]
[{"$f":"IF('2-Programmer les activités'!A101=\"\",\"\",'2-Programmer les activités'!A101)","v":0},{"$f":"IF('2-Programmer les activités'!B101=\"Selectionner\",\"\",'2-Programmer les activités'!B101)","v":""},{"$f":"IF('2-Programmer les activités'!C101=\"Selectionner\",\"\",'2-Programmer les activités'!C101)","v":""},{"$f":"IF('2-Programmer les activités'!D101=\"\",\"\",'2-Programmer les activités'!D101)","v":""},null,{"$f":"IF('2-Programmer les activités'!H101=\"\",\"\",'2-Programmer les activités'!H101)","v":""},{"$f":"IF('2-Programmer les activités'!I101=\"Selectionner\",\"\",'2-Programmer les activités'!I101)","v":""},{"$f":"Param!AR95","v":""},{"$f":"'Param deadline'!AR95","v":""},{"$f":"Param!AS95","v":""},{"$f":"'Param deadline'!AS95","v":""},{"$f":"Param!AT95","v":""},{"$f":"'Param deadline'!AT95","v":""},{"$f":"Param!AU95","v":""},{"$f":"'Param deadline'!AU95","v":""},null,{"$f":"Param!AW95","v":""},{"$f":"'Param deadline'!AW95","v":""},{"$f":"Param!AX95","v":""},{"$f":"'Param deadline'!AX95","v":""},{"$f":"Param!AY95","v":""},{"$f":"'Param deadline'!AY95","v":""},{"$f":"Param!AZ95","v":""},{"$f":"'Param deadline'!AZ95","v":""},null,{"$f":"Param!BB95","v":""},{"$f":"'Param deadline'!BB95","v":""},{"$f":"Param!BC95","v":""},{"$f":"'Param deadline'!BC95","v":""},{"$f":"Param!BD95","v":""},{"$f":"'Param deadline'!BD95","v":""},{"$f":"Param!BE95","v":""},{"$f":"'Param deadline'!BE95","v":""}]
[{"$f":"IF('2-Programmer les activités'!A102=\"\",\"\",'2-Programmer les activités'!A102)","v":0},{"$f":"IF('2-Programmer les activités'!B102=\"Selectionner\",\"\",'2-Programmer les activités'!B102)","v":""},{"$f":"IF('2-Programmer les activités'!C102=\"Selectionner\",\"\",'2-Programmer les activités'!C102)","v":""},{"$f":"IF('2-Programmer les activités'!D102=\"\",\"\",'2-Programmer les activités'!D102)","v":""},null,{"$f":"IF('2-Programmer les activités'!H102=\"\",\"\",'2-Programmer les activités'!H102)","v":""},{"$f":"IF('2-Programmer les activités'!I102=\"Selectionner\",\"\",'2-Programmer les activités'!I102)","v":""},{"$f":"Param!AR96","v":""},{"$f":"'Param deadline'!AR96","v":""},{"$f":"Param!AS96","v":""},{"$f":"'Param deadline'!AS96","v":""},{"$f":"Param!AT96","v":""},{"$f":"'Param deadline'!AT96","v":""},{"$f":"Param!AU96","v":""},{"$f":"'Param deadline'!AU96","v":""},null,{"$f":"Param!AW96","v":""},{"$f":"'Param deadline'!AW96","v":""},{"$f":"Param!AX96","v":""},{"$f":"'Param deadline'!AX96","v":""},{"$f":"Param!AY96","v":""},{"$f":"'Param deadline'!AY96","v":""},{"$f":"Param!AZ96","v":""},{"$f":"'Param deadline'!AZ96","v":""},null,{"$f":"Param!BB96","v":""},{"$f":"'Param deadline'!BB96","v":""},{"$f":"Param!BC96","v":""},{"$f":"'Param deadline'!BC96","v":""},{"$f":"Param!BD96","v":""},{"$f":"'Param deadline'!BD96","v":""},{"$f":"Param!BE96","v":""},{"$f":"'Param deadline'!BE96","v":""}]
[{"$f":"IF('2-Programmer les activités'!A103=\"\",\"\",'2-Programmer les activités'!A103)","v":0},{"$f":"IF('2-Programmer les activités'!B103=\"Selectionner\",\"\",'2-Programmer les activités'!B103)","v":""},{"$f":"IF('2-Programmer les activités'!C103=\"Selectionner\",\"\",'2-Programmer les activités'!C103)","v":""},{"$f":"IF('2-Programmer les activités'!D103=\"\",\"\",'2-Programmer les activités'!D103)","v":""},null,{"$f":"IF('2-Programmer les activités'!H103=\"\",\"\",'2-Programmer les activités'!H103)","v":""},{"$f":"IF('2-Programmer les activités'!I103=\"Selectionner\",\"\",'2-Programmer les activités'!I103)","v":""},{"$f":"Param!AR97","v":""},{"$f":"'Param deadline'!AR97","v":""},{"$f":"Param!AS97","v":""},{"$f":"'Param deadline'!AS97","v":""},{"$f":"Param!AT97","v":""},{"$f":"'Param deadline'!AT97","v":""},{"$f":"Param!AU97","v":""},{"$f":"'Param deadline'!AU97","v":""},null,{"$f":"Param!AW97","v":""},{"$f":"'Param deadline'!AW97","v":""},{"$f":"Param!AX97","v":""},{"$f":"'Param deadline'!AX97","v":""},{"$f":"Param!AY97","v":""},{"$f":"'Param deadline'!AY97","v":""},{"$f":"Param!AZ97","v":""},{"$f":"'Param deadline'!AZ97","v":""},null,{"$f":"Param!BB97","v":""},{"$f":"'Param deadline'!BB97","v":""},{"$f":"Param!BC97","v":""},{"$f":"'Param deadline'!BC97","v":""},{"$f":"Param!BD97","v":""},{"$f":"'Param deadline'!BD97","v":""},{"$f":"Param!BE97","v":""},{"$f":"'Param deadline'!BE97","v":""}]
[{"$f":"IF('2-Programmer les activités'!A104=\"\",\"\",'2-Programmer les activités'!A104)","v":0},{"$f":"IF('2-Programmer les activités'!B104=\"Selectionner\",\"\",'2-Programmer les activités'!B104)","v":""},{"$f":"IF('2-Programmer les activités'!C104=\"Selectionner\",\"\",'2-Programmer les activités'!C104)","v":""},{"$f":"IF('2-Programmer les activités'!D104=\"\",\"\",'2-Programmer les activités'!D104)","v":""},null,{"$f":"IF('2-Programmer les activités'!H104=\"\",\"\",'2-Programmer les activités'!H104)","v":""},{"$f":"IF('2-Programmer les activités'!I104=\"Selectionner\",\"\",'2-Programmer les activités'!I104)","v":""},{"$f":"Param!AR98","v":""},{"$f":"'Param deadline'!AR98","v":""},{"$f":"Param!AS98","v":""},{"$f":"'Param deadline'!AS98","v":""},{"$f":"Param!AT98","v":""},{"$f":"'Param deadline'!AT98","v":""},{"$f":"Param!AU98","v":""},{"$f":"'Param deadline'!AU98","v":""},null,{"$f":"Param!AW98","v":""},{"$f":"'Param deadline'!AW98","v":""},{"$f":"Param!AX98","v":""},{"$f":"'Param deadline'!AX98","v":""},{"$f":"Param!AY98","v":""},{"$f":"'Param deadline'!AY98","v":""},{"$f":"Param!AZ98","v":""},{"$f":"'Param deadline'!AZ98","v":""},null,{"$f":"Param!BB98","v":""},{"$f":"'Param deadline'!BB98","v":""},{"$f":"Param!BC98","v":""},{"$f":"'Param deadline'!BC98","v":""},{"$f":"Param!BD98","v":""},{"$f":"'Param deadline'!BD98","v":""},{"$f":"Param!BE98","v":""},{"$f":"'Param deadline'!BE98","v":""}]
[{"$f":"IF('2-Programmer les activités'!A105=\"\",\"\",'2-Programmer les activités'!A105)","v":0},{"$f":"IF('2-Programmer les activités'!B105=\"Selectionner\",\"\",'2-Programmer les activités'!B105)","v":""},{"$f":"IF('2-Programmer les activités'!C105=\"Selectionner\",\"\",'2-Programmer les activités'!C105)","v":""},{"$f":"IF('2-Programmer les activités'!D105=\"\",\"\",'2-Programmer les activités'!D105)","v":""},null,{"$f":"IF('2-Programmer les activités'!H105=\"\",\"\",'2-Programmer les activités'!H105)","v":""},{"$f":"IF('2-Programmer les activités'!I105=\"Selectionner\",\"\",'2-Programmer les activités'!I105)","v":""},{"$f":"Param!AR99","v":""},{"$f":"'Param deadline'!AR99","v":""},{"$f":"Param!AS99","v":""},{"$f":"'Param deadline'!AS99","v":""},{"$f":"Param!AT99","v":""},{"$f":"'Param deadline'!AT99","v":""},{"$f":"Param!AU99","v":""},{"$f":"'Param deadline'!AU99","v":""},null,{"$f":"Param!AW99","v":""},{"$f":"'Param deadline'!AW99","v":""},{"$f":"Param!AX99","v":""},{"$f":"'Param deadline'!AX99","v":""},{"$f":"Param!AY99","v":""},{"$f":"'Param deadline'!AY99","v":""},{"$f":"Param!AZ99","v":""},{"$f":"'Param deadline'!AZ99","v":""},null,{"$f":"Param!BB99","v":""},{"$f":"'Param deadline'!BB99","v":""},{"$f":"Param!BC99","v":""},{"$f":"'Param deadline'!BC99","v":""},{"$f":"Param!BD99","v":""},{"$f":"'Param deadline'!BD99","v":""},{"$f":"Param!BE99","v":""},{"$f":"'Param deadline'!BE99","v":""}]
[{"$f":"IF('2-Programmer les activités'!A106=\"\",\"\",'2-Programmer les activités'!A106)","v":0},{"$f":"IF('2-Programmer les activités'!B106=\"Selectionner\",\"\",'2-Programmer les activités'!B106)","v":""},{"$f":"IF('2-Programmer les activités'!C106=\"Selectionner\",\"\",'2-Programmer les activités'!C106)","v":""},{"$f":"IF('2-Programmer les activités'!D106=\"\",\"\",'2-Programmer les activités'!D106)","v":""},null,{"$f":"IF('2-Programmer les activités'!H106=\"\",\"\",'2-Programmer les activités'!H106)","v":""},{"$f":"IF('2-Programmer les activités'!I106=\"Selectionner\",\"\",'2-Programmer les activités'!I106)","v":""},{"$f":"Param!AR100","v":""},{"$f":"'Param deadline'!AR100","v":""},{"$f":"Param!AS100","v":""},{"$f":"'Param deadline'!AS100","v":""},{"$f":"Param!AT100","v":""},{"$f":"'Param deadline'!AT100","v":""},{"$f":"Param!AU100","v":""},{"$f":"'Param deadline'!AU100","v":""},null,{"$f":"Param!AW100","v":""},{"$f":"'Param deadline'!AW100","v":""},{"$f":"Param!AX100","v":""},{"$f":"'Param deadline'!AX100","v":""},{"$f":"Param!AY100","v":""},{"$f":"'Param deadline'!AY100","v":""},{"$f":"Param!AZ100","v":""},{"$f":"'Param deadline'!AZ100","v":""},null,{"$f":"Param!BB100","v":""},{"$f":"'Param deadline'!BB100","v":""},{"$f":"Param!BC100","v":""},{"$f":"'Param deadline'!BC100","v":""},{"$f":"Param!BD100","v":""},{"$f":"'Param deadline'!BD100","v":""},{"$f":"Param!BE100","v":""},{"$f":"'Param deadline'!BE100","v":""}]
[{"$f":"IF('2-Programmer les activités'!A107=\"\",\"\",'2-Programmer les activités'!A107)","v":0},{"$f":"IF('2-Programmer les activités'!B107=\"Selectionner\",\"\",'2-Programmer les activités'!B107)","v":""},{"$f":"IF('2-Programmer les activités'!C107=\"Selectionner\",\"\",'2-Programmer les activités'!C107)","v":""},{"$f":"IF('2-Programmer les activités'!D107=\"\",\"\",'2-Programmer les activités'!D107)","v":""},null,{"$f":"IF('2-Programmer les activités'!H107=\"\",\"\",'2-Programmer les activités'!H107)","v":""},{"$f":"IF('2-Programmer les activités'!I107=\"Selectionner\",\"\",'2-Programmer les activités'!I107)","v":""},{"$f":"Param!AR101","v":""},{"$f":"'Param deadline'!AR101","v":""},{"$f":"Param!AS101","v":""},{"$f":"'Param deadline'!AS101","v":""},{"$f":"Param!AT101","v":""},{"$f":"'Param deadline'!AT101","v":""},{"$f":"Param!AU101","v":""},{"$f":"'Param deadline'!AU101","v":""},null,{"$f":"Param!AW101","v":""},{"$f":"'Param deadline'!AW101","v":""},{"$f":"Param!AX101","v":""},{"$f":"'Param deadline'!AX101","v":""},{"$f":"Param!AY101","v":""},{"$f":"'Param deadline'!AY101","v":""},{"$f":"Param!AZ101","v":""},{"$f":"'Param deadline'!AZ101","v":""},null,{"$f":"Param!BB101","v":""},{"$f":"'Param deadline'!BB101","v":""},{"$f":"Param!BC101","v":""},{"$f":"'Param deadline'!BC101","v":""},{"$f":"Param!BD101","v":""},{"$f":"'Param deadline'!BD101","v":""},{"$f":"Param!BE101","v":""},{"$f":"'Param deadline'!BE101","v":""}]
[{"$f":"IF('2-Programmer les activités'!A108=\"\",\"\",'2-Programmer les activités'!A108)","v":0},{"$f":"IF('2-Programmer les activités'!B108=\"Selectionner\",\"\",'2-Programmer les activités'!B108)","v":""},{"$f":"IF('2-Programmer les activités'!C108=\"Selectionner\",\"\",'2-Programmer les activités'!C108)","v":""},{"$f":"IF('2-Programmer les activités'!D108=\"\",\"\",'2-Programmer les activités'!D108)","v":""},null,{"$f":"IF('2-Programmer les activités'!H108=\"\",\"\",'2-Programmer les activités'!H108)","v":""},{"$f":"IF('2-Programmer les activités'!I108=\"Selectionner\",\"\",'2-Programmer les activités'!I108)","v":""},{"$f":"Param!AR102","v":""},{"$f":"'Param deadline'!AR102","v":""},{"$f":"Param!AS102","v":""},{"$f":"'Param deadline'!AS102","v":""},{"$f":"Param!AT102","v":""},{"$f":"'Param deadline'!AT102","v":""},{"$f":"Param!AU102","v":""},{"$f":"'Param deadline'!AU102","v":""},null,{"$f":"Param!AW102","v":""},{"$f":"'Param deadline'!AW102","v":""},{"$f":"Param!AX102","v":""},{"$f":"'Param deadline'!AX102","v":""},{"$f":"Param!AY102","v":""},{"$f":"'Param deadline'!AY102","v":""},{"$f":"Param!AZ102","v":""},{"$f":"'Param deadline'!AZ102","v":""},null,{"$f":"Param!BB102","v":""},{"$f":"'Param deadline'!BB102","v":""},{"$f":"Param!BC102","v":""},{"$f":"'Param deadline'!BC102","v":""},{"$f":"Param!BD102","v":""},{"$f":"'Param deadline'!BD102","v":""},{"$f":"Param!BE102","v":""},{"$f":"'Param deadline'!BE102","v":""}]
[{"$f":"IF('2-Programmer les activités'!A109=\"\",\"\",'2-Programmer les activités'!A109)","v":0},{"$f":"IF('2-Programmer les activités'!B109=\"Selectionner\",\"\",'2-Programmer les activités'!B109)","v":""},{"$f":"IF('2-Programmer les activités'!C109=\"Selectionner\",\"\",'2-Programmer les activités'!C109)","v":""},{"$f":"IF('2-Programmer les activités'!D109=\"\",\"\",'2-Programmer les activités'!D109)","v":""},null,{"$f":"IF('2-Programmer les activités'!H109=\"\",\"\",'2-Programmer les activités'!H109)","v":""},{"$f":"IF('2-Programmer les activités'!I109=\"Selectionner\",\"\",'2-Programmer les activités'!I109)","v":""},{"$f":"Param!AR103","v":""},{"$f":"'Param deadline'!AR103","v":""},{"$f":"Param!AS103","v":""},{"$f":"'Param deadline'!AS103","v":""},{"$f":"Param!AT103","v":""},{"$f":"'Param deadline'!AT103","v":""},{"$f":"Param!AU103","v":""},{"$f":"'Param deadline'!AU103","v":""},null,{"$f":"Param!AW103","v":""},{"$f":"'Param deadline'!AW103","v":""},{"$f":"Param!AX103","v":""},{"$f":"'Param deadline'!AX103","v":""},{"$f":"Param!AY103","v":""},{"$f":"'Param deadline'!AY103","v":""},{"$f":"Param!AZ103","v":""},{"$f":"'Param deadline'!AZ103","v":""},null,{"$f":"Param!BB103","v":""},{"$f":"'Param deadline'!BB103","v":""},{"$f":"Param!BC103","v":""},{"$f":"'Param deadline'!BC103","v":""},{"$f":"Param!BD103","v":""},{"$f":"'Param deadline'!BD103","v":""},{"$f":"Param!BE103","v":""},{"$f":"'Param deadline'!BE103","v":""}]
[{"$f":"IF('2-Programmer les activités'!A110=\"\",\"\",'2-Programmer les activités'!A110)","v":0},{"$f":"IF('2-Programmer les activités'!B110=\"Selectionner\",\"\",'2-Programmer les activités'!B110)","v":""},{"$f":"IF('2-Programmer les activités'!C110=\"Selectionner\",\"\",'2-Programmer les activités'!C110)","v":""},{"$f":"IF('2-Programmer les activités'!D110=\"\",\"\",'2-Programmer les activités'!D110)","v":""},null,{"$f":"IF('2-Programmer les activités'!H110=\"\",\"\",'2-Programmer les activités'!H110)","v":""},{"$f":"IF('2-Programmer les activités'!I110=\"Selectionner\",\"\",'2-Programmer les activités'!I110)","v":""},{"$f":"Param!AR104","v":""},{"$f":"'Param deadline'!AR104","v":""},{"$f":"Param!AS104","v":""},{"$f":"'Param deadline'!AS104","v":""},{"$f":"Param!AT104","v":""},{"$f":"'Param deadline'!AT104","v":""},{"$f":"Param!AU104","v":""},{"$f":"'Param deadline'!AU104","v":""},null,{"$f":"Param!AW104","v":""},{"$f":"'Param deadline'!AW104","v":""},{"$f":"Param!AX104","v":""},{"$f":"'Param deadline'!AX104","v":""},{"$f":"Param!AY104","v":""},{"$f":"'Param deadline'!AY104","v":""},{"$f":"Param!AZ104","v":""},{"$f":"'Param deadline'!AZ104","v":""},null,{"$f":"Param!BB104","v":""},{"$f":"'Param deadline'!BB104","v":""},{"$f":"Param!BC104","v":""},{"$f":"'Param deadline'!BC104","v":""},{"$f":"Param!BD104","v":""},{"$f":"'Param deadline'!BD104","v":""},{"$f":"Param!BE104","v":""},{"$f":"'Param deadline'!BE104","v":""}]
[{"$f":"IF('2-Programmer les activités'!A111=\"\",\"\",'2-Programmer les activités'!A111)","v":0},{"$f":"IF('2-Programmer les activités'!B111=\"Selectionner\",\"\",'2-Programmer les activités'!B111)","v":""},{"$f":"IF('2-Programmer les activités'!C111=\"Selectionner\",\"\",'2-Programmer les activités'!C111)","v":""},{"$f":"IF('2-Programmer les activités'!D111=\"\",\"\",'2-Programmer les activités'!D111)","v":""},null,{"$f":"IF('2-Programmer les activités'!H111=\"\",\"\",'2-Programmer les activités'!H111)","v":""},{"$f":"IF('2-Programmer les activités'!I111=\"Selectionner\",\"\",'2-Programmer les activités'!I111)","v":""},{"$f":"Param!AR105","v":""},{"$f":"'Param deadline'!AR105","v":""},{"$f":"Param!AS105","v":""},{"$f":"'Param deadline'!AS105","v":""},{"$f":"Param!AT105","v":""},{"$f":"'Param deadline'!AT105","v":""},{"$f":"Param!AU105","v":""},{"$f":"'Param deadline'!AU105","v":""},null,{"$f":"Param!AW105","v":""},{"$f":"'Param deadline'!AW105","v":""},{"$f":"Param!AX105","v":""},{"$f":"'Param deadline'!AX105","v":""},{"$f":"Param!AY105","v":""},{"$f":"'Param deadline'!AY105","v":""},{"$f":"Param!AZ105","v":""},{"$f":"'Param deadline'!AZ105","v":""},null,{"$f":"Param!BB105","v":""},{"$f":"'Param deadline'!BB105","v":""},{"$f":"Param!BC105","v":""},{"$f":"'Param deadline'!BC105","v":""},{"$f":"Param!BD105","v":""},{"$f":"'Param deadline'!BD105","v":""},{"$f":"Param!BE105","v":""},{"$f":"'Param deadline'!BE105","v":""}]
[{"$f":"IF('2-Programmer les activités'!A112=\"\",\"\",'2-Programmer les activités'!A112)","v":0},{"$f":"IF('2-Programmer les activités'!B112=\"Selectionner\",\"\",'2-Programmer les activités'!B112)","v":""},{"$f":"IF('2-Programmer les activités'!C112=\"Selectionner\",\"\",'2-Programmer les activités'!C112)","v":""},{"$f":"IF('2-Programmer les activités'!D112=\"\",\"\",'2-Programmer les activités'!D112)","v":""},null,{"$f":"IF('2-Programmer les activités'!H112=\"\",\"\",'2-Programmer les activités'!H112)","v":""},{"$f":"IF('2-Programmer les activités'!I112=\"Selectionner\",\"\",'2-Programmer les activités'!I112)","v":""},{"$f":"Param!AR106","v":""},{"$f":"'Param deadline'!AR106","v":""},{"$f":"Param!AS106","v":""},{"$f":"'Param deadline'!AS106","v":""},{"$f":"Param!AT106","v":""},{"$f":"'Param deadline'!AT106","v":""},{"$f":"Param!AU106","v":""},{"$f":"'Param deadline'!AU106","v":""},null,{"$f":"Param!AW106","v":""},{"$f":"'Param deadline'!AW106","v":""},{"$f":"Param!AX106","v":""},{"$f":"'Param deadline'!AX106","v":""},{"$f":"Param!AY106","v":""},{"$f":"'Param deadline'!AY106","v":""},{"$f":"Param!AZ106","v":""},{"$f":"'Param deadline'!AZ106","v":""},null,{"$f":"Param!BB106","v":""},{"$f":"'Param deadline'!BB106","v":""},{"$f":"Param!BC106","v":""},{"$f":"'Param deadline'!BC106","v":""},{"$f":"Param!BD106","v":""},{"$f":"'Param deadline'!BD106","v":""},{"$f":"Param!BE106","v":""},{"$f":"'Param deadline'!BE106","v":""}]
[{"$f":"IF('2-Programmer les activités'!A113=\"\",\"\",'2-Programmer les activités'!A113)","v":0},{"$f":"IF('2-Programmer les activités'!B113=\"Selectionner\",\"\",'2-Programmer les activités'!B113)","v":""},{"$f":"IF('2-Programmer les activités'!C113=\"Selectionner\",\"\",'2-Programmer les activités'!C113)","v":""},{"$f":"IF('2-Programmer les activités'!D113=\"\",\"\",'2-Programmer les activités'!D113)","v":""},null,{"$f":"IF('2-Programmer les activités'!H113=\"\",\"\",'2-Programmer les activités'!H113)","v":""},{"$f":"IF('2-Programmer les activités'!I113=\"Selectionner\",\"\",'2-Programmer les activités'!I113)","v":""},{"$f":"Param!AR107","v":""},{"$f":"'Param deadline'!AR107","v":""},{"$f":"Param!AS107","v":""},{"$f":"'Param deadline'!AS107","v":""},{"$f":"Param!AT107","v":""},{"$f":"'Param deadline'!AT107","v":""},{"$f":"Param!AU107","v":""},{"$f":"'Param deadline'!AU107","v":""},null,{"$f":"Param!AW107","v":""},{"$f":"'Param deadline'!AW107","v":""},{"$f":"Param!AX107","v":""},{"$f":"'Param deadline'!AX107","v":""},{"$f":"Param!AY107","v":""},{"$f":"'Param deadline'!AY107","v":""},{"$f":"Param!AZ107","v":""},{"$f":"'Param deadline'!AZ107","v":""},null,{"$f":"Param!BB107","v":""},{"$f":"'Param deadline'!BB107","v":""},{"$f":"Param!BC107","v":""},{"$f":"'Param deadline'!BC107","v":""},{"$f":"Param!BD107","v":""},{"$f":"'Param deadline'!BD107","v":""},{"$f":"Param!BE107","v":""},{"$f":"'Param deadline'!BE107","v":""}]
[{"$f":"IF('2-Programmer les activités'!A114=\"\",\"\",'2-Programmer les activités'!A114)","v":0},{"$f":"IF('2-Programmer les activités'!B114=\"Selectionner\",\"\",'2-Programmer les activités'!B114)","v":""},{"$f":"IF('2-Programmer les activités'!C114=\"Selectionner\",\"\",'2-Programmer les activités'!C114)","v":""},{"$f":"IF('2-Programmer les activités'!D114=\"\",\"\",'2-Programmer les activités'!D114)","v":""},null,{"$f":"IF('2-Programmer les activités'!H114=\"\",\"\",'2-Programmer les activités'!H114)","v":""},{"$f":"IF('2-Programmer les activités'!I114=\"Selectionner\",\"\",'2-Programmer les activités'!I114)","v":""},{"$f":"Param!AR108","v":""},{"$f":"'Param deadline'!AR108","v":""},{"$f":"Param!AS108","v":""},{"$f":"'Param deadline'!AS108","v":""},{"$f":"Param!AT108","v":""},{"$f":"'Param deadline'!AT108","v":""},{"$f":"Param!AU108","v":""},{"$f":"'Param deadline'!AU108","v":""},null,{"$f":"Param!AW108","v":""},{"$f":"'Param deadline'!AW108","v":""},{"$f":"Param!AX108","v":""},{"$f":"'Param deadline'!AX108","v":""},{"$f":"Param!AY108","v":""},{"$f":"'Param deadline'!AY108","v":""},{"$f":"Param!AZ108","v":""},{"$f":"'Param deadline'!AZ108","v":""},null,{"$f":"Param!BB108","v":""},{"$f":"'Param deadline'!BB108","v":""},{"$f":"Param!BC108","v":""},{"$f":"'Param deadline'!BC108","v":""},{"$f":"Param!BD108","v":""},{"$f":"'Param deadline'!BD108","v":""},{"$f":"Param!BE108","v":""},{"$f":"'Param deadline'!BE108","v":""}]
[{"$f":"IF('2-Programmer les activités'!A115=\"\",\"\",'2-Programmer les activités'!A115)","v":0},{"$f":"IF('2-Programmer les activités'!B115=\"Selectionner\",\"\",'2-Programmer les activités'!B115)","v":""},{"$f":"IF('2-Programmer les activités'!C115=\"Selectionner\",\"\",'2-Programmer les activités'!C115)","v":""},{"$f":"IF('2-Programmer les activités'!D115=\"\",\"\",'2-Programmer les activités'!D115)","v":""},null,{"$f":"IF('2-Programmer les activités'!H115=\"\",\"\",'2-Programmer les activités'!H115)","v":""},{"$f":"IF('2-Programmer les activités'!I115=\"Selectionner\",\"\",'2-Programmer les activités'!I115)","v":""},{"$f":"Param!AR109","v":""},{"$f":"'Param deadline'!AR109","v":""},{"$f":"Param!AS109","v":""},{"$f":"'Param deadline'!AS109","v":""},{"$f":"Param!AT109","v":""},{"$f":"'Param deadline'!AT109","v":""},{"$f":"Param!AU109","v":""},{"$f":"'Param deadline'!AU109","v":""},null,{"$f":"Param!AW109","v":""},{"$f":"'Param deadline'!AW109","v":""},{"$f":"Param!AX109","v":""},{"$f":"'Param deadline'!AX109","v":""},{"$f":"Param!AY109","v":""},{"$f":"'Param deadline'!AY109","v":""},{"$f":"Param!AZ109","v":""},{"$f":"'Param deadline'!AZ109","v":""},null,{"$f":"Param!BB109","v":""},{"$f":"'Param deadline'!BB109","v":""},{"$f":"Param!BC109","v":""},{"$f":"'Param deadline'!BC109","v":""},{"$f":"Param!BD109","v":""},{"$f":"'Param deadline'!BD109","v":""},{"$f":"Param!BE109","v":""},{"$f":"'Param deadline'!BE109","v":""}]
[{"$f":"IF('2-Programmer les activités'!A116=\"\",\"\",'2-Programmer les activités'!A116)","v":0},{"$f":"IF('2-Programmer les activités'!B116=\"Selectionner\",\"\",'2-Programmer les activités'!B116)","v":""},{"$f":"IF('2-Programmer les activités'!C116=\"Selectionner\",\"\",'2-Programmer les activités'!C116)","v":""},{"$f":"IF('2-Programmer les activités'!D116=\"\",\"\",'2-Programmer les activités'!D116)","v":""},null,{"$f":"IF('2-Programmer les activités'!H116=\"\",\"\",'2-Programmer les activités'!H116)","v":""},{"$f":"IF('2-Programmer les activités'!I116=\"Selectionner\",\"\",'2-Programmer les activités'!I116)","v":""},{"$f":"Param!AR110","v":""},{"$f":"'Param deadline'!AR110","v":""},{"$f":"Param!AS110","v":""},{"$f":"'Param deadline'!AS110","v":""},{"$f":"Param!AT110","v":""},{"$f":"'Param deadline'!AT110","v":""},{"$f":"Param!AU110","v":""},{"$f":"'Param deadline'!AU110","v":""},null,{"$f":"Param!AW110","v":""},{"$f":"'Param deadline'!AW110","v":""},{"$f":"Param!AX110","v":""},{"$f":"'Param deadline'!AX110","v":""},{"$f":"Param!AY110","v":""},{"$f":"'Param deadline'!AY110","v":""},{"$f":"Param!AZ110","v":""},{"$f":"'Param deadline'!AZ110","v":""},null,{"$f":"Param!BB110","v":""},{"$f":"'Param deadline'!BB110","v":""},{"$f":"Param!BC110","v":""},{"$f":"'Param deadline'!BC110","v":""},{"$f":"Param!BD110","v":""},{"$f":"'Param deadline'!BD110","v":""},{"$f":"Param!BE110","v":""},{"$f":"'Param deadline'!BE110","v":""}]
[{"$f":"IF('2-Programmer les activités'!A117=\"\",\"\",'2-Programmer les activités'!A117)","v":0},{"$f":"IF('2-Programmer les activités'!B117=\"Selectionner\",\"\",'2-Programmer les activités'!B117)","v":""},{"$f":"IF('2-Programmer les activités'!C117=\"Selectionner\",\"\",'2-Programmer les activités'!C117)","v":""},{"$f":"IF('2-Programmer les activités'!D117=\"\",\"\",'2-Programmer les activités'!D117)","v":""},null,{"$f":"IF('2-Programmer les activités'!H117=\"\",\"\",'2-Programmer les activités'!H117)","v":""},{"$f":"IF('2-Programmer les activités'!I117=\"Selectionner\",\"\",'2-Programmer les activités'!I117)","v":""},{"$f":"Param!AR111","v":""},{"$f":"'Param deadline'!AR111","v":""},{"$f":"Param!AS111","v":""},{"$f":"'Param deadline'!AS111","v":""},{"$f":"Param!AT111","v":""},{"$f":"'Param deadline'!AT111","v":""},{"$f":"Param!AU111","v":""},{"$f":"'Param deadline'!AU111","v":""},null,{"$f":"Param!AW111","v":""},{"$f":"'Param deadline'!AW111","v":""},{"$f":"Param!AX111","v":""},{"$f":"'Param deadline'!AX111","v":""},{"$f":"Param!AY111","v":""},{"$f":"'Param deadline'!AY111","v":""},{"$f":"Param!AZ111","v":""},{"$f":"'Param deadline'!AZ111","v":""},null,{"$f":"Param!BB111","v":""},{"$f":"'Param deadline'!BB111","v":""},{"$f":"Param!BC111","v":""},{"$f":"'Param deadline'!BC111","v":""},{"$f":"Param!BD111","v":""},{"$f":"'Param deadline'!BD111","v":""},{"$f":"Param!BE111","v":""},{"$f":"'Param deadline'!BE111","v":""}]
[{"$f":"IF('2-Programmer les activités'!A118=\"\",\"\",'2-Programmer les activités'!A118)","v":0},{"$f":"IF('2-Programmer les activités'!B118=\"Selectionner\",\"\",'2-Programmer les activités'!B118)","v":""},{"$f":"IF('2-Programmer les activités'!C118=\"Selectionner\",\"\",'2-Programmer les activités'!C118)","v":""},{"$f":"IF('2-Programmer les activités'!D118=\"\",\"\",'2-Programmer les activités'!D118)","v":""},null,{"$f":"IF('2-Programmer les activités'!H118=\"\",\"\",'2-Programmer les activités'!H118)","v":""},{"$f":"IF('2-Programmer les activités'!I118=\"Selectionner\",\"\",'2-Programmer les activités'!I118)","v":""},{"$f":"Param!AR112","v":""},{"$f":"'Param deadline'!AR112","v":""},{"$f":"Param!AS112","v":""},{"$f":"'Param deadline'!AS112","v":""},{"$f":"Param!AT112","v":""},{"$f":"'Param deadline'!AT112","v":""},{"$f":"Param!AU112","v":""},{"$f":"'Param deadline'!AU112","v":""},null,{"$f":"Param!AW112","v":""},{"$f":"'Param deadline'!AW112","v":""},{"$f":"Param!AX112","v":""},{"$f":"'Param deadline'!AX112","v":""},{"$f":"Param!AY112","v":""},{"$f":"'Param deadline'!AY112","v":""},{"$f":"Param!AZ112","v":""},{"$f":"'Param deadline'!AZ112","v":""},null,{"$f":"Param!BB112","v":""},{"$f":"'Param deadline'!BB112","v":""},{"$f":"Param!BC112","v":""},{"$f":"'Param deadline'!BC112","v":""},{"$f":"Param!BD112","v":""},{"$f":"'Param deadline'!BD112","v":""},{"$f":"Param!BE112","v":""},{"$f":"'Param deadline'!BE112","v":""}]
[{"$f":"IF('2-Programmer les activités'!A119=\"\",\"\",'2-Programmer les activités'!A119)","v":0},{"$f":"IF('2-Programmer les activités'!B119=\"Selectionner\",\"\",'2-Programmer les activités'!B119)","v":""},{"$f":"IF('2-Programmer les activités'!C119=\"Selectionner\",\"\",'2-Programmer les activités'!C119)","v":""},{"$f":"IF('2-Programmer les activités'!D119=\"\",\"\",'2-Programmer les activités'!D119)","v":""},null,{"$f":"IF('2-Programmer les activités'!H119=\"\",\"\",'2-Programmer les activités'!H119)","v":""},{"$f":"IF('2-Programmer les activités'!I119=\"Selectionner\",\"\",'2-Programmer les activités'!I119)","v":""},{"$f":"Param!AR113","v":""},{"$f":"'Param deadline'!AR113","v":""},{"$f":"Param!AS113","v":""},{"$f":"'Param deadline'!AS113","v":""},{"$f":"Param!AT113","v":""},{"$f":"'Param deadline'!AT113","v":""},{"$f":"Param!AU113","v":""},{"$f":"'Param deadline'!AU113","v":""},null,{"$f":"Param!AW113","v":""},{"$f":"'Param deadline'!AW113","v":""},{"$f":"Param!AX113","v":""},{"$f":"'Param deadline'!AX113","v":""},{"$f":"Param!AY113","v":""},{"$f":"'Param deadline'!AY113","v":""},{"$f":"Param!AZ113","v":""},{"$f":"'Param deadline'!AZ113","v":""},null,{"$f":"Param!BB113","v":""},{"$f":"'Param deadline'!BB113","v":""},{"$f":"Param!BC113","v":""},{"$f":"'Param deadline'!BC113","v":""},{"$f":"Param!BD113","v":""},{"$f":"'Param deadline'!BD113","v":""},{"$f":"Param!BE113","v":""},{"$f":"'Param deadline'!BE113","v":""}]
[{"$f":"IF('2-Programmer les activités'!A120=\"\",\"\",'2-Programmer les activités'!A120)","v":0},{"$f":"IF('2-Programmer les activités'!B120=\"Selectionner\",\"\",'2-Programmer les activités'!B120)","v":""},{"$f":"IF('2-Programmer les activités'!C120=\"Selectionner\",\"\",'2-Programmer les activités'!C120)","v":""},{"$f":"IF('2-Programmer les activités'!D120=\"\",\"\",'2-Programmer les activités'!D120)","v":""},null,{"$f":"IF('2-Programmer les activités'!H120=\"\",\"\",'2-Programmer les activités'!H120)","v":""},{"$f":"IF('2-Programmer les activités'!I120=\"Selectionner\",\"\",'2-Programmer les activités'!I120)","v":""},{"$f":"Param!AR114","v":""},{"$f":"'Param deadline'!AR114","v":""},{"$f":"Param!AS114","v":""},{"$f":"'Param deadline'!AS114","v":""},{"$f":"Param!AT114","v":""},{"$f":"'Param deadline'!AT114","v":""},{"$f":"Param!AU114","v":""},{"$f":"'Param deadline'!AU114","v":""},null,{"$f":"Param!AW114","v":""},{"$f":"'Param deadline'!AW114","v":""},{"$f":"Param!AX114","v":""},{"$f":"'Param deadline'!AX114","v":""},{"$f":"Param!AY114","v":""},{"$f":"'Param deadline'!AY114","v":""},{"$f":"Param!AZ114","v":""},{"$f":"'Param deadline'!AZ114","v":""},null,{"$f":"Param!BB114","v":""},{"$f":"'Param deadline'!BB114","v":""},{"$f":"Param!BC114","v":""},{"$f":"'Param deadline'!BC114","v":""},{"$f":"Param!BD114","v":""},{"$f":"'Param deadline'!BD114","v":""},{"$f":"Param!BE114","v":""},{"$f":"'Param deadline'!BE114","v":""}]
[{"$f":"IF('2-Programmer les activités'!A121=\"\",\"\",'2-Programmer les activités'!A121)","v":0},{"$f":"IF('2-Programmer les activités'!B121=\"Selectionner\",\"\",'2-Programmer les activités'!B121)","v":""},{"$f":"IF('2-Programmer les activités'!C121=\"Selectionner\",\"\",'2-Programmer les activités'!C121)","v":""},{"$f":"IF('2-Programmer les activités'!D121=\"\",\"\",'2-Programmer les activités'!D121)","v":""},null,{"$f":"IF('2-Programmer les activités'!H121=\"\",\"\",'2-Programmer les activités'!H121)","v":""},{"$f":"IF('2-Programmer les activités'!I121=\"Selectionner\",\"\",'2-Programmer les activités'!I121)","v":""},{"$f":"Param!AR115","v":""},{"$f":"'Param deadline'!AR115","v":""},{"$f":"Param!AS115","v":""},{"$f":"'Param deadline'!AS115","v":""},{"$f":"Param!AT115","v":""},{"$f":"'Param deadline'!AT115","v":""},{"$f":"Param!AU115","v":""},{"$f":"'Param deadline'!AU115","v":""},null,{"$f":"Param!AW115","v":""},{"$f":"'Param deadline'!AW115","v":""},{"$f":"Param!AX115","v":""},{"$f":"'Param deadline'!AX115","v":""},{"$f":"Param!AY115","v":""},{"$f":"'Param deadline'!AY115","v":""},{"$f":"Param!AZ115","v":""},{"$f":"'Param deadline'!AZ115","v":""},null,{"$f":"Param!BB115","v":""},{"$f":"'Param deadline'!BB115","v":""},{"$f":"Param!BC115","v":""},{"$f":"'Param deadline'!BC115","v":""},{"$f":"Param!BD115","v":""},{"$f":"'Param deadline'!BD115","v":""},{"$f":"Param!BE115","v":""},{"$f":"'Param deadline'!BE115","v":""}]
[{"$f":"IF('2-Programmer les activités'!A122=\"\",\"\",'2-Programmer les activités'!A122)","v":0},{"$f":"IF('2-Programmer les activités'!B122=\"Selectionner\",\"\",'2-Programmer les activités'!B122)","v":""},{"$f":"IF('2-Programmer les activités'!C122=\"Selectionner\",\"\",'2-Programmer les activités'!C122)","v":""},{"$f":"IF('2-Programmer les activités'!D122=\"\",\"\",'2-Programmer les activités'!D122)","v":""},null,{"$f":"IF('2-Programmer les activités'!H122=\"\",\"\",'2-Programmer les activités'!H122)","v":""},{"$f":"IF('2-Programmer les activités'!I122=\"Selectionner\",\"\",'2-Programmer les activités'!I122)","v":""},{"$f":"Param!AR116","v":""},{"$f":"'Param deadline'!AR116","v":""},{"$f":"Param!AS116","v":""},{"$f":"'Param deadline'!AS116","v":""},{"$f":"Param!AT116","v":""},{"$f":"'Param deadline'!AT116","v":""},{"$f":"Param!AU116","v":""},{"$f":"'Param deadline'!AU116","v":""},null,{"$f":"Param!AW116","v":""},{"$f":"'Param deadline'!AW116","v":""},{"$f":"Param!AX116","v":""},{"$f":"'Param deadline'!AX116","v":""},{"$f":"Param!AY116","v":""},{"$f":"'Param deadline'!AY116","v":""},{"$f":"Param!AZ116","v":""},{"$f":"'Param deadline'!AZ116","v":""},null,{"$f":"Param!BB116","v":""},{"$f":"'Param deadline'!BB116","v":""},{"$f":"Param!BC116","v":""},{"$f":"'Param deadline'!BC116","v":""},{"$f":"Param!BD116","v":""},{"$f":"'Param deadline'!BD116","v":""},{"$f":"Param!BE116","v":""},{"$f":"'Param deadline'!BE116","v":""}]
[{"$f":"IF('2-Programmer les activités'!A123=\"\",\"\",'2-Programmer les activités'!A123)","v":0},{"$f":"IF('2-Programmer les activités'!B123=\"Selectionner\",\"\",'2-Programmer les activités'!B123)","v":""},{"$f":"IF('2-Programmer les activités'!C123=\"Selectionner\",\"\",'2-Programmer les activités'!C123)","v":""},{"$f":"IF('2-Programmer les activités'!D123=\"\",\"\",'2-Programmer les activités'!D123)","v":""},null,{"$f":"IF('2-Programmer les activités'!H123=\"\",\"\",'2-Programmer les activités'!H123)","v":""},{"$f":"IF('2-Programmer les activités'!I123=\"Selectionner\",\"\",'2-Programmer les activités'!I123)","v":""},{"$f":"Param!AR117","v":""},{"$f":"'Param deadline'!AR117","v":""},{"$f":"Param!AS117","v":""},{"$f":"'Param deadline'!AS117","v":""},{"$f":"Param!AT117","v":""},{"$f":"'Param deadline'!AT117","v":""},{"$f":"Param!AU117","v":""},{"$f":"'Param deadline'!AU117","v":""},null,{"$f":"Param!AW117","v":""},{"$f":"'Param deadline'!AW117","v":""},{"$f":"Param!AX117","v":""},{"$f":"'Param deadline'!AX117","v":""},{"$f":"Param!AY117","v":""},{"$f":"'Param deadline'!AY117","v":""},{"$f":"Param!AZ117","v":""},{"$f":"'Param deadline'!AZ117","v":""},null,{"$f":"Param!BB117","v":""},{"$f":"'Param deadline'!BB117","v":""},{"$f":"Param!BC117","v":""},{"$f":"'Param deadline'!BC117","v":""},{"$f":"Param!BD117","v":""},{"$f":"'Param deadline'!BD117","v":""},{"$f":"Param!BE117","v":""},{"$f":"'Param deadline'!BE117","v":""}]
[{"$f":"IF('2-Programmer les activités'!A124=\"\",\"\",'2-Programmer les activités'!A124)","v":0},{"$f":"IF('2-Programmer les activités'!B124=\"Selectionner\",\"\",'2-Programmer les activités'!B124)","v":""},{"$f":"IF('2-Programmer les activités'!C124=\"Selectionner\",\"\",'2-Programmer les activités'!C124)","v":""},{"$f":"IF('2-Programmer les activités'!D124=\"\",\"\",'2-Programmer les activités'!D124)","v":""},null,{"$f":"IF('2-Programmer les activités'!H124=\"\",\"\",'2-Programmer les activités'!H124)","v":""},{"$f":"IF('2-Programmer les activités'!I124=\"Selectionner\",\"\",'2-Programmer les activités'!I124)","v":""},{"$f":"Param!AR118","v":""},{"$f":"'Param deadline'!AR118","v":""},{"$f":"Param!AS118","v":""},{"$f":"'Param deadline'!AS118","v":""},{"$f":"Param!AT118","v":""},{"$f":"'Param deadline'!AT118","v":""},{"$f":"Param!AU118","v":""},{"$f":"'Param deadline'!AU118","v":""},null,{"$f":"Param!AW118","v":""},{"$f":"'Param deadline'!AW118","v":""},{"$f":"Param!AX118","v":""},{"$f":"'Param deadline'!AX118","v":""},{"$f":"Param!AY118","v":""},{"$f":"'Param deadline'!AY118","v":""},{"$f":"Param!AZ118","v":""},{"$f":"'Param deadline'!AZ118","v":""},null,{"$f":"Param!BB118","v":""},{"$f":"'Param deadline'!BB118","v":""},{"$f":"Param!BC118","v":""},{"$f":"'Param deadline'!BC118","v":""},{"$f":"Param!BD118","v":""},{"$f":"'Param deadline'!BD118","v":""},{"$f":"Param!BE118","v":""},{"$f":"'Param deadline'!BE118","v":""}]
[{"$f":"IF('2-Programmer les activités'!A125=\"\",\"\",'2-Programmer les activités'!A125)","v":0},{"$f":"IF('2-Programmer les activités'!B125=\"Selectionner\",\"\",'2-Programmer les activités'!B125)","v":""},{"$f":"IF('2-Programmer les activités'!C125=\"Selectionner\",\"\",'2-Programmer les activités'!C125)","v":""},{"$f":"IF('2-Programmer les activités'!D125=\"\",\"\",'2-Programmer les activités'!D125)","v":""},null,{"$f":"IF('2-Programmer les activités'!H125=\"\",\"\",'2-Programmer les activités'!H125)","v":""},{"$f":"IF('2-Programmer les activités'!I125=\"Selectionner\",\"\",'2-Programmer les activités'!I125)","v":""},{"$f":"Param!AR119","v":""},{"$f":"'Param deadline'!AR119","v":""},{"$f":"Param!AS119","v":""},{"$f":"'Param deadline'!AS119","v":""},{"$f":"Param!AT119","v":""},{"$f":"'Param deadline'!AT119","v":""},{"$f":"Param!AU119","v":""},{"$f":"'Param deadline'!AU119","v":""},null,{"$f":"Param!AW119","v":""},{"$f":"'Param deadline'!AW119","v":""},{"$f":"Param!AX119","v":""},{"$f":"'Param deadline'!AX119","v":""},{"$f":"Param!AY119","v":""},{"$f":"'Param deadline'!AY119","v":""},{"$f":"Param!AZ119","v":""},{"$f":"'Param deadline'!AZ119","v":""},null,{"$f":"Param!BB119","v":""},{"$f":"'Param deadline'!BB119","v":""},{"$f":"Param!BC119","v":""},{"$f":"'Param deadline'!BC119","v":""},{"$f":"Param!BD119","v":""},{"$f":"'Param deadline'!BD119","v":""},{"$f":"Param!BE119","v":""},{"$f":"'Param deadline'!BE119","v":""}]
[{"$f":"IF('2-Programmer les activités'!A126=\"\",\"\",'2-Programmer les activités'!A126)","v":0},{"$f":"IF('2-Programmer les activités'!B126=\"Selectionner\",\"\",'2-Programmer les activités'!B126)","v":""},{"$f":"IF('2-Programmer les activités'!C126=\"Selectionner\",\"\",'2-Programmer les activités'!C126)","v":""},{"$f":"IF('2-Programmer les activités'!D126=\"\",\"\",'2-Programmer les activités'!D126)","v":""},null,{"$f":"IF('2-Programmer les activités'!H126=\"\",\"\",'2-Programmer les activités'!H126)","v":""},{"$f":"IF('2-Programmer les activités'!I126=\"Selectionner\",\"\",'2-Programmer les activités'!I126)","v":""},{"$f":"Param!AR120","v":""},{"$f":"'Param deadline'!AR120","v":""},{"$f":"Param!AS120","v":""},{"$f":"'Param deadline'!AS120","v":""},{"$f":"Param!AT120","v":""},{"$f":"'Param deadline'!AT120","v":""},{"$f":"Param!AU120","v":""},{"$f":"'Param deadline'!AU120","v":""},null,{"$f":"Param!AW120","v":""},{"$f":"'Param deadline'!AW120","v":""},{"$f":"Param!AX120","v":""},{"$f":"'Param deadline'!AX120","v":""},{"$f":"Param!AY120","v":""},{"$f":"'Param deadline'!AY120","v":""},{"$f":"Param!AZ120","v":""},{"$f":"'Param deadline'!AZ120","v":""},null,{"$f":"Param!BB120","v":""},{"$f":"'Param deadline'!BB120","v":""},{"$f":"Param!BC120","v":""},{"$f":"'Param deadline'!BC120","v":""},{"$f":"Param!BD120","v":""},{"$f":"'Param deadline'!BD120","v":""},{"$f":"Param!BE120","v":""},{"$f":"'Param deadline'!BE120","v":""}]
[{"$f":"IF('2-Programmer les activités'!A127=\"\",\"\",'2-Programmer les activités'!A127)","v":0},{"$f":"IF('2-Programmer les activités'!B127=\"Selectionner\",\"\",'2-Programmer les activités'!B127)","v":""},{"$f":"IF('2-Programmer les activités'!C127=\"Selectionner\",\"\",'2-Programmer les activités'!C127)","v":""},{"$f":"IF('2-Programmer les activités'!D127=\"\",\"\",'2-Programmer les activités'!D127)","v":""},null,{"$f":"IF('2-Programmer les activités'!H127=\"\",\"\",'2-Programmer les activités'!H127)","v":""},{"$f":"IF('2-Programmer les activités'!I127=\"Selectionner\",\"\",'2-Programmer les activités'!I127)","v":""},{"$f":"Param!AR121","v":""},{"$f":"'Param deadline'!AR121","v":""},{"$f":"Param!AS121","v":""},{"$f":"'Param deadline'!AS121","v":""},{"$f":"Param!AT121","v":""},{"$f":"'Param deadline'!AT121","v":""},{"$f":"Param!AU121","v":""},{"$f":"'Param deadline'!AU121","v":""},null,{"$f":"Param!AW121","v":""},{"$f":"'Param deadline'!AW121","v":""},{"$f":"Param!AX121","v":""},{"$f":"'Param deadline'!AX121","v":""},{"$f":"Param!AY121","v":""},{"$f":"'Param deadline'!AY121","v":""},{"$f":"Param!AZ121","v":""},{"$f":"'Param deadline'!AZ121","v":""},null,{"$f":"Param!BB121","v":""},{"$f":"'Param deadline'!BB121","v":""},{"$f":"Param!BC121","v":""},{"$f":"'Param deadline'!BC121","v":""},{"$f":"Param!BD121","v":""},{"$f":"'Param deadline'!BD121","v":""},{"$f":"Param!BE121","v":""},{"$f":"'Param deadline'!BE121","v":""}]
[{"$f":"IF('2-Programmer les activités'!A128=\"\",\"\",'2-Programmer les activités'!A128)","v":0},{"$f":"IF('2-Programmer les activités'!B128=\"Selectionner\",\"\",'2-Programmer les activités'!B128)","v":""},{"$f":"IF('2-Programmer les activités'!C128=\"Selectionner\",\"\",'2-Programmer les activités'!C128)","v":""},{"$f":"IF('2-Programmer les activités'!D128=\"\",\"\",'2-Programmer les activités'!D128)","v":""},null,{"$f":"IF('2-Programmer les activités'!H128=\"\",\"\",'2-Programmer les activités'!H128)","v":""},{"$f":"IF('2-Programmer les activités'!I128=\"Selectionner\",\"\",'2-Programmer les activités'!I128)","v":""},{"$f":"Param!AR122","v":""},{"$f":"'Param deadline'!AR122","v":""},{"$f":"Param!AS122","v":""},{"$f":"'Param deadline'!AS122","v":""},{"$f":"Param!AT122","v":""},{"$f":"'Param deadline'!AT122","v":""},{"$f":"Param!AU122","v":""},{"$f":"'Param deadline'!AU122","v":""},null,{"$f":"Param!AW122","v":""},{"$f":"'Param deadline'!AW122","v":""},{"$f":"Param!AX122","v":""},{"$f":"'Param deadline'!AX122","v":""},{"$f":"Param!AY122","v":""},{"$f":"'Param deadline'!AY122","v":""},{"$f":"Param!AZ122","v":""},{"$f":"'Param deadline'!AZ122","v":""},null,{"$f":"Param!BB122","v":""},{"$f":"'Param deadline'!BB122","v":""},{"$f":"Param!BC122","v":""},{"$f":"'Param deadline'!BC122","v":""},{"$f":"Param!BD122","v":""},{"$f":"'Param deadline'!BD122","v":""},{"$f":"Param!BE122","v":""},{"$f":"'Param deadline'!BE122","v":""}]
[{"$f":"IF('2-Programmer les activités'!A129=\"\",\"\",'2-Programmer les activités'!A129)","v":0},{"$f":"IF('2-Programmer les activités'!B129=\"Selectionner\",\"\",'2-Programmer les activités'!B129)","v":""},{"$f":"IF('2-Programmer les activités'!C129=\"Selectionner\",\"\",'2-Programmer les activités'!C129)","v":""},{"$f":"IF('2-Programmer les activités'!D129=\"\",\"\",'2-Programmer les activités'!D129)","v":""},null,{"$f":"IF('2-Programmer les activités'!H129=\"\",\"\",'2-Programmer les activités'!H129)","v":""},{"$f":"IF('2-Programmer les activités'!I129=\"Selectionner\",\"\",'2-Programmer les activités'!I129)","v":""},{"$f":"Param!AR123","v":""},{"$f":"'Param deadline'!AR123","v":""},{"$f":"Param!AS123","v":""},{"$f":"'Param deadline'!AS123","v":""},{"$f":"Param!AT123","v":""},{"$f":"'Param deadline'!AT123","v":""},{"$f":"Param!AU123","v":""},{"$f":"'Param deadline'!AU123","v":""},null,{"$f":"Param!AW123","v":""},{"$f":"'Param deadline'!AW123","v":""},{"$f":"Param!AX123","v":""},{"$f":"'Param deadline'!AX123","v":""},{"$f":"Param!AY123","v":""},{"$f":"'Param deadline'!AY123","v":""},{"$f":"Param!AZ123","v":""},{"$f":"'Param deadline'!AZ123","v":""},null,{"$f":"Param!BB123","v":""},{"$f":"'Param deadline'!BB123","v":""},{"$f":"Param!BC123","v":""},{"$f":"'Param deadline'!BC123","v":""},{"$f":"Param!BD123","v":""},{"$f":"'Param deadline'!BD123","v":""},{"$f":"Param!BE123","v":""},{"$f":"'Param deadline'!BE123","v":""}]
[{"$f":"IF('2-Programmer les activités'!A130=\"\",\"\",'2-Programmer les activités'!A130)","v":0},{"$f":"IF('2-Programmer les activités'!B130=\"Selectionner\",\"\",'2-Programmer les activités'!B130)","v":""},{"$f":"IF('2-Programmer les activités'!C130=\"Selectionner\",\"\",'2-Programmer les activités'!C130)","v":""},{"$f":"IF('2-Programmer les activités'!D130=\"\",\"\",'2-Programmer les activités'!D130)","v":""},null,{"$f":"IF('2-Programmer les activités'!H130=\"\",\"\",'2-Programmer les activités'!H130)","v":""},{"$f":"IF('2-Programmer les activités'!I130=\"Selectionner\",\"\",'2-Programmer les activités'!I130)","v":""},{"$f":"Param!AR124","v":""},{"$f":"'Param deadline'!AR124","v":""},{"$f":"Param!AS124","v":""},{"$f":"'Param deadline'!AS124","v":""},{"$f":"Param!AT124","v":""},{"$f":"'Param deadline'!AT124","v":""},{"$f":"Param!AU124","v":""},{"$f":"'Param deadline'!AU124","v":""},null,{"$f":"Param!AW124","v":""},{"$f":"'Param deadline'!AW124","v":""},{"$f":"Param!AX124","v":""},{"$f":"'Param deadline'!AX124","v":""},{"$f":"Param!AY124","v":""},{"$f":"'Param deadline'!AY124","v":""},{"$f":"Param!AZ124","v":""},{"$f":"'Param deadline'!AZ124","v":""},null,{"$f":"Param!BB124","v":""},{"$f":"'Param deadline'!BB124","v":""},{"$f":"Param!BC124","v":""},{"$f":"'Param deadline'!BC124","v":""},{"$f":"Param!BD124","v":""},{"$f":"'Param deadline'!BD124","v":""},{"$f":"Param!BE124","v":""},{"$f":"'Param deadline'!BE124","v":""}]
[{"$f":"IF('2-Programmer les activités'!A131=\"\",\"\",'2-Programmer les activités'!A131)","v":0},{"$f":"IF('2-Programmer les activités'!B131=\"Selectionner\",\"\",'2-Programmer les activités'!B131)","v":""},{"$f":"IF('2-Programmer les activités'!C131=\"Selectionner\",\"\",'2-Programmer les activités'!C131)","v":""},{"$f":"IF('2-Programmer les activités'!D131=\"\",\"\",'2-Programmer les activités'!D131)","v":""},null,{"$f":"IF('2-Programmer les activités'!H131=\"\",\"\",'2-Programmer les activités'!H131)","v":""},{"$f":"IF('2-Programmer les activités'!I131=\"Selectionner\",\"\",'2-Programmer les activités'!I131)","v":""},{"$f":"Param!AR125","v":""},{"$f":"'Param deadline'!AR125","v":""},{"$f":"Param!AS125","v":""},{"$f":"'Param deadline'!AS125","v":""},{"$f":"Param!AT125","v":""},{"$f":"'Param deadline'!AT125","v":""},{"$f":"Param!AU125","v":""},{"$f":"'Param deadline'!AU125","v":""},null,{"$f":"Param!AW125","v":""},{"$f":"'Param deadline'!AW125","v":""},{"$f":"Param!AX125","v":""},{"$f":"'Param deadline'!AX125","v":""},{"$f":"Param!AY125","v":""},{"$f":"'Param deadline'!AY125","v":""},{"$f":"Param!AZ125","v":""},{"$f":"'Param deadline'!AZ125","v":""},null,{"$f":"Param!BB125","v":""},{"$f":"'Param deadline'!BB125","v":""},{"$f":"Param!BC125","v":""},{"$f":"'Param deadline'!BC125","v":""},{"$f":"Param!BD125","v":""},{"$f":"'Param deadline'!BD125","v":""},{"$f":"Param!BE125","v":""},{"$f":"'Param deadline'!BE125","v":""}]
[{"$f":"IF('2-Programmer les activités'!A132=\"\",\"\",'2-Programmer les activités'!A132)","v":0},{"$f":"IF('2-Programmer les activités'!B132=\"Selectionner\",\"\",'2-Programmer les activités'!B132)","v":""},{"$f":"IF('2-Programmer les activités'!C132=\"Selectionner\",\"\",'2-Programmer les activités'!C132)","v":""},{"$f":"IF('2-Programmer les activités'!D132=\"\",\"\",'2-Programmer les activités'!D132)","v":""},null,{"$f":"IF('2-Programmer les activités'!H132=\"\",\"\",'2-Programmer les activités'!H132)","v":""},{"$f":"IF('2-Programmer les activités'!I132=\"Selectionner\",\"\",'2-Programmer les activités'!I132)","v":""},{"$f":"Param!AR126","v":""},{"$f":"'Param deadline'!AR126","v":""},{"$f":"Param!AS126","v":""},{"$f":"'Param deadline'!AS126","v":""},{"$f":"Param!AT126","v":""},{"$f":"'Param deadline'!AT126","v":""},{"$f":"Param!AU126","v":""},{"$f":"'Param deadline'!AU126","v":""},null,{"$f":"Param!AW126","v":""},{"$f":"'Param deadline'!AW126","v":""},{"$f":"Param!AX126","v":""},{"$f":"'Param deadline'!AX126","v":""},{"$f":"Param!AY126","v":""},{"$f":"'Param deadline'!AY126","v":""},{"$f":"Param!AZ126","v":""},{"$f":"'Param deadline'!AZ126","v":""},null,{"$f":"Param!BB126","v":""},{"$f":"'Param deadline'!BB126","v":""},{"$f":"Param!BC126","v":""},{"$f":"'Param deadline'!BC126","v":""},{"$f":"Param!BD126","v":""},{"$f":"'Param deadline'!BD126","v":""},{"$f":"Param!BE126","v":""},{"$f":"'Param deadline'!BE126","v":""}]
[{"$f":"IF('2-Programmer les activités'!A133=\"\",\"\",'2-Programmer les activités'!A133)","v":0},{"$f":"IF('2-Programmer les activités'!B133=\"Selectionner\",\"\",'2-Programmer les activités'!B133)","v":""},{"$f":"IF('2-Programmer les activités'!C133=\"Selectionner\",\"\",'2-Programmer les activités'!C133)","v":""},{"$f":"IF('2-Programmer les activités'!D133=\"\",\"\",'2-Programmer les activités'!D133)","v":""},null,{"$f":"IF('2-Programmer les activités'!H133=\"\",\"\",'2-Programmer les activités'!H133)","v":""},{"$f":"IF('2-Programmer les activités'!I133=\"Selectionner\",\"\",'2-Programmer les activités'!I133)","v":""},{"$f":"Param!AR127","v":""},{"$f":"'Param deadline'!AR127","v":""},{"$f":"Param!AS127","v":""},{"$f":"'Param deadline'!AS127","v":""},{"$f":"Param!AT127","v":""},{"$f":"'Param deadline'!AT127","v":""},{"$f":"Param!AU127","v":""},{"$f":"'Param deadline'!AU127","v":""},null,{"$f":"Param!AW127","v":""},{"$f":"'Param deadline'!AW127","v":""},{"$f":"Param!AX127","v":""},{"$f":"'Param deadline'!AX127","v":""},{"$f":"Param!AY127","v":""},{"$f":"'Param deadline'!AY127","v":""},{"$f":"Param!AZ127","v":""},{"$f":"'Param deadline'!AZ127","v":""},null,{"$f":"Param!BB127","v":""},{"$f":"'Param deadline'!BB127","v":""},{"$f":"Param!BC127","v":""},{"$f":"'Param deadline'!BC127","v":""},{"$f":"Param!BD127","v":""},{"$f":"'Param deadline'!BD127","v":""},{"$f":"Param!BE127","v":""},{"$f":"'Param deadline'!BE127","v":""}]
[{"$f":"IF('2-Programmer les activités'!A134=\"\",\"\",'2-Programmer les activités'!A134)","v":0},{"$f":"IF('2-Programmer les activités'!B134=\"Selectionner\",\"\",'2-Programmer les activités'!B134)","v":""},{"$f":"IF('2-Programmer les activités'!C134=\"Selectionner\",\"\",'2-Programmer les activités'!C134)","v":""},{"$f":"IF('2-Programmer les activités'!D134=\"\",\"\",'2-Programmer les activités'!D134)","v":""},null,{"$f":"IF('2-Programmer les activités'!H134=\"\",\"\",'2-Programmer les activités'!H134)","v":""},{"$f":"IF('2-Programmer les activités'!I134=\"Selectionner\",\"\",'2-Programmer les activités'!I134)","v":""},{"$f":"Param!AR128","v":""},{"$f":"'Param deadline'!AR128","v":""},{"$f":"Param!AS128","v":""},{"$f":"'Param deadline'!AS128","v":""},{"$f":"Param!AT128","v":""},{"$f":"'Param deadline'!AT128","v":""},{"$f":"Param!AU128","v":""},{"$f":"'Param deadline'!AU128","v":""},null,{"$f":"Param!AW128","v":""},{"$f":"'Param deadline'!AW128","v":""},{"$f":"Param!AX128","v":""},{"$f":"'Param deadline'!AX128","v":""},{"$f":"Param!AY128","v":""},{"$f":"'Param deadline'!AY128","v":""},{"$f":"Param!AZ128","v":""},{"$f":"'Param deadline'!AZ128","v":""},null,{"$f":"Param!BB128","v":""},{"$f":"'Param deadline'!BB128","v":""},{"$f":"Param!BC128","v":""},{"$f":"'Param deadline'!BC128","v":""},{"$f":"Param!BD128","v":""},{"$f":"'Param deadline'!BD128","v":""},{"$f":"Param!BE128","v":""},{"$f":"'Param deadline'!BE128","v":""}]
[{"$f":"IF('2-Programmer les activités'!A135=\"\",\"\",'2-Programmer les activités'!A135)","v":0},{"$f":"IF('2-Programmer les activités'!B135=\"Selectionner\",\"\",'2-Programmer les activités'!B135)","v":""},{"$f":"IF('2-Programmer les activités'!C135=\"Selectionner\",\"\",'2-Programmer les activités'!C135)","v":""},{"$f":"IF('2-Programmer les activités'!D135=\"\",\"\",'2-Programmer les activités'!D135)","v":""},null,{"$f":"IF('2-Programmer les activités'!H135=\"\",\"\",'2-Programmer les activités'!H135)","v":""},{"$f":"IF('2-Programmer les activités'!I135=\"Selectionner\",\"\",'2-Programmer les activités'!I135)","v":""},{"$f":"Param!AR129","v":""},{"$f":"'Param deadline'!AR129","v":""},{"$f":"Param!AS129","v":""},{"$f":"'Param deadline'!AS129","v":""},{"$f":"Param!AT129","v":""},{"$f":"'Param deadline'!AT129","v":""},{"$f":"Param!AU129","v":""},{"$f":"'Param deadline'!AU129","v":""},null,{"$f":"Param!AW129","v":""},{"$f":"'Param deadline'!AW129","v":""},{"$f":"Param!AX129","v":""},{"$f":"'Param deadline'!AX129","v":""},{"$f":"Param!AY129","v":""},{"$f":"'Param deadline'!AY129","v":""},{"$f":"Param!AZ129","v":""},{"$f":"'Param deadline'!AZ129","v":""},null,{"$f":"Param!BB129","v":""},{"$f":"'Param deadline'!BB129","v":""},{"$f":"Param!BC129","v":""},{"$f":"'Param deadline'!BC129","v":""},{"$f":"Param!BD129","v":""},{"$f":"'Param deadline'!BD129","v":""},{"$f":"Param!BE129","v":""},{"$f":"'Param deadline'!BE129","v":""}]
[{"$f":"IF('2-Programmer les activités'!A136=\"\",\"\",'2-Programmer les activités'!A136)","v":0},{"$f":"IF('2-Programmer les activités'!B136=\"Selectionner\",\"\",'2-Programmer les activités'!B136)","v":""},{"$f":"IF('2-Programmer les activités'!C136=\"Selectionner\",\"\",'2-Programmer les activités'!C136)","v":""},{"$f":"IF('2-Programmer les activités'!D136=\"\",\"\",'2-Programmer les activités'!D136)","v":""},null,{"$f":"IF('2-Programmer les activités'!H136=\"\",\"\",'2-Programmer les activités'!H136)","v":""},{"$f":"IF('2-Programmer les activités'!I136=\"Selectionner\",\"\",'2-Programmer les activités'!I136)","v":""},{"$f":"Param!AR130","v":""},{"$f":"'Param deadline'!AR130","v":""},{"$f":"Param!AS130","v":""},{"$f":"'Param deadline'!AS130","v":""},{"$f":"Param!AT130","v":""},{"$f":"'Param deadline'!AT130","v":""},{"$f":"Param!AU130","v":""},{"$f":"'Param deadline'!AU130","v":""},null,{"$f":"Param!AW130","v":""},{"$f":"'Param deadline'!AW130","v":""},{"$f":"Param!AX130","v":""},{"$f":"'Param deadline'!AX130","v":""},{"$f":"Param!AY130","v":""},{"$f":"'Param deadline'!AY130","v":""},{"$f":"Param!AZ130","v":""},{"$f":"'Param deadline'!AZ130","v":""},null,{"$f":"Param!BB130","v":""},{"$f":"'Param deadline'!BB130","v":""},{"$f":"Param!BC130","v":""},{"$f":"'Param deadline'!BC130","v":""},{"$f":"Param!BD130","v":""},{"$f":"'Param deadline'!BD130","v":""},{"$f":"Param!BE130","v":""},{"$f":"'Param deadline'!BE130","v":""}]
[{"$f":"IF('2-Programmer les activités'!A137=\"\",\"\",'2-Programmer les activités'!A137)","v":0},{"$f":"IF('2-Programmer les activités'!B137=\"Selectionner\",\"\",'2-Programmer les activités'!B137)","v":""},{"$f":"IF('2-Programmer les activités'!C137=\"Selectionner\",\"\",'2-Programmer les activités'!C137)","v":""},{"$f":"IF('2-Programmer les activités'!D137=\"\",\"\",'2-Programmer les activités'!D137)","v":""},null,{"$f":"IF('2-Programmer les activités'!H137=\"\",\"\",'2-Programmer les activités'!H137)","v":""},{"$f":"IF('2-Programmer les activités'!I137=\"Selectionner\",\"\",'2-Programmer les activités'!I137)","v":""},{"$f":"Param!AR131","v":""},{"$f":"'Param deadline'!AR131","v":""},{"$f":"Param!AS131","v":""},{"$f":"'Param deadline'!AS131","v":""},{"$f":"Param!AT131","v":""},{"$f":"'Param deadline'!AT131","v":""},{"$f":"Param!AU131","v":""},{"$f":"'Param deadline'!AU131","v":""},null,{"$f":"Param!AW131","v":""},{"$f":"'Param deadline'!AW131","v":""},{"$f":"Param!AX131","v":""},{"$f":"'Param deadline'!AX131","v":""},{"$f":"Param!AY131","v":""},{"$f":"'Param deadline'!AY131","v":""},{"$f":"Param!AZ131","v":""},{"$f":"'Param deadline'!AZ131","v":""},null,{"$f":"Param!BB131","v":""},{"$f":"'Param deadline'!BB131","v":""},{"$f":"Param!BC131","v":""},{"$f":"'Param deadline'!BC131","v":""},{"$f":"Param!BD131","v":""},{"$f":"'Param deadline'!BD131","v":""},{"$f":"Param!BE131","v":""},{"$f":"'Param deadline'!BE131","v":""}]
[{"$f":"IF('2-Programmer les activités'!A138=\"\",\"\",'2-Programmer les activités'!A138)","v":0},{"$f":"IF('2-Programmer les activités'!B138=\"Selectionner\",\"\",'2-Programmer les activités'!B138)","v":""},{"$f":"IF('2-Programmer les activités'!C138=\"Selectionner\",\"\",'2-Programmer les activités'!C138)","v":""},{"$f":"IF('2-Programmer les activités'!D138=\"\",\"\",'2-Programmer les activités'!D138)","v":""},null,{"$f":"IF('2-Programmer les activités'!H138=\"\",\"\",'2-Programmer les activités'!H138)","v":""},{"$f":"IF('2-Programmer les activités'!I138=\"Selectionner\",\"\",'2-Programmer les activités'!I138)","v":""},{"$f":"Param!AR132","v":""},{"$f":"'Param deadline'!AR132","v":""},{"$f":"Param!AS132","v":""},{"$f":"'Param deadline'!AS132","v":""},{"$f":"Param!AT132","v":""},{"$f":"'Param deadline'!AT132","v":""},{"$f":"Param!AU132","v":""},{"$f":"'Param deadline'!AU132","v":""},null,{"$f":"Param!AW132","v":""},{"$f":"'Param deadline'!AW132","v":""},{"$f":"Param!AX132","v":""},{"$f":"'Param deadline'!AX132","v":""},{"$f":"Param!AY132","v":""},{"$f":"'Param deadline'!AY132","v":""},{"$f":"Param!AZ132","v":""},{"$f":"'Param deadline'!AZ132","v":""},null,{"$f":"Param!BB132","v":""},{"$f":"'Param deadline'!BB132","v":""},{"$f":"Param!BC132","v":""},{"$f":"'Param deadline'!BC132","v":""},{"$f":"Param!BD132","v":""},{"$f":"'Param deadline'!BD132","v":""},{"$f":"Param!BE132","v":""},{"$f":"'Param deadline'!BE132","v":""}]
[{"$f":"IF('2-Programmer les activités'!A139=\"\",\"\",'2-Programmer les activités'!A139)","v":0},{"$f":"IF('2-Programmer les activités'!B139=\"Selectionner\",\"\",'2-Programmer les activités'!B139)","v":""},{"$f":"IF('2-Programmer les activités'!C139=\"Selectionner\",\"\",'2-Programmer les activités'!C139)","v":""},{"$f":"IF('2-Programmer les activités'!D139=\"\",\"\",'2-Programmer les activités'!D139)","v":""},null,{"$f":"IF('2-Programmer les activités'!H139=\"\",\"\",'2-Programmer les activités'!H139)","v":""},{"$f":"IF('2-Programmer les activités'!I139=\"Selectionner\",\"\",'2-Programmer les activités'!I139)","v":""},{"$f":"Param!AR133","v":""},{"$f":"'Param deadline'!AR133","v":""},{"$f":"Param!AS133","v":""},{"$f":"'Param deadline'!AS133","v":""},{"$f":"Param!AT133","v":""},{"$f":"'Param deadline'!AT133","v":""},{"$f":"Param!AU133","v":""},{"$f":"'Param deadline'!AU133","v":""},null,{"$f":"Param!AW133","v":""},{"$f":"'Param deadline'!AW133","v":""},{"$f":"Param!AX133","v":""},{"$f":"'Param deadline'!AX133","v":""},{"$f":"Param!AY133","v":""},{"$f":"'Param deadline'!AY133","v":""},{"$f":"Param!AZ133","v":""},{"$f":"'Param deadline'!AZ133","v":""},null,{"$f":"Param!BB133","v":""},{"$f":"'Param deadline'!BB133","v":""},{"$f":"Param!BC133","v":""},{"$f":"'Param deadline'!BC133","v":""},{"$f":"Param!BD133","v":""},{"$f":"'Param deadline'!BD133","v":""},{"$f":"Param!BE133","v":""},{"$f":"'Param deadline'!BE133","v":""}]
[{"$f":"IF('2-Programmer les activités'!A140=\"\",\"\",'2-Programmer les activités'!A140)","v":0},{"$f":"IF('2-Programmer les activités'!B140=\"Selectionner\",\"\",'2-Programmer les activités'!B140)","v":""},{"$f":"IF('2-Programmer les activités'!C140=\"Selectionner\",\"\",'2-Programmer les activités'!C140)","v":""},{"$f":"IF('2-Programmer les activités'!D140=\"\",\"\",'2-Programmer les activités'!D140)","v":""},null,{"$f":"IF('2-Programmer les activités'!H140=\"\",\"\",'2-Programmer les activités'!H140)","v":""},{"$f":"IF('2-Programmer les activités'!I140=\"Selectionner\",\"\",'2-Programmer les activités'!I140)","v":""},{"$f":"Param!AR134","v":""},{"$f":"'Param deadline'!AR134","v":""},{"$f":"Param!AS134","v":""},{"$f":"'Param deadline'!AS134","v":""},{"$f":"Param!AT134","v":""},{"$f":"'Param deadline'!AT134","v":""},{"$f":"Param!AU134","v":""},{"$f":"'Param deadline'!AU134","v":""},null,{"$f":"Param!AW134","v":""},{"$f":"'Param deadline'!AW134","v":""},{"$f":"Param!AX134","v":""},{"$f":"'Param deadline'!AX134","v":""},{"$f":"Param!AY134","v":""},{"$f":"'Param deadline'!AY134","v":""},{"$f":"Param!AZ134","v":""},{"$f":"'Param deadline'!AZ134","v":""},null,{"$f":"Param!BB134","v":""},{"$f":"'Param deadline'!BB134","v":""},{"$f":"Param!BC134","v":""},{"$f":"'Param deadline'!BC134","v":""},{"$f":"Param!BD134","v":""},{"$f":"'Param deadline'!BD134","v":""},{"$f":"Param!BE134","v":""},{"$f":"'Param deadline'!BE134","v":""}]
[{"$f":"IF('2-Programmer les activités'!A141=\"\",\"\",'2-Programmer les activités'!A141)","v":0},{"$f":"IF('2-Programmer les activités'!B141=\"Selectionner\",\"\",'2-Programmer les activités'!B141)","v":""},{"$f":"IF('2-Programmer les activités'!C141=\"Selectionner\",\"\",'2-Programmer les activités'!C141)","v":""},{"$f":"IF('2-Programmer les activités'!D141=\"\",\"\",'2-Programmer les activités'!D141)","v":""},null,{"$f":"IF('2-Programmer les activités'!H141=\"\",\"\",'2-Programmer les activités'!H141)","v":""},{"$f":"IF('2-Programmer les activités'!I141=\"Selectionner\",\"\",'2-Programmer les activités'!I141)","v":""},{"$f":"Param!AR135","v":""},{"$f":"'Param deadline'!AR135","v":""},{"$f":"Param!AS135","v":""},{"$f":"'Param deadline'!AS135","v":""},{"$f":"Param!AT135","v":""},{"$f":"'Param deadline'!AT135","v":""},{"$f":"Param!AU135","v":""},{"$f":"'Param deadline'!AU135","v":""},null,{"$f":"Param!AW135","v":""},{"$f":"'Param deadline'!AW135","v":""},{"$f":"Param!AX135","v":""},{"$f":"'Param deadline'!AX135","v":""},{"$f":"Param!AY135","v":""},{"$f":"'Param deadline'!AY135","v":""},{"$f":"Param!AZ135","v":""},{"$f":"'Param deadline'!AZ135","v":""},null,{"$f":"Param!BB135","v":""},{"$f":"'Param deadline'!BB135","v":""},{"$f":"Param!BC135","v":""},{"$f":"'Param deadline'!BC135","v":""},{"$f":"Param!BD135","v":""},{"$f":"'Param deadline'!BD135","v":""},{"$f":"Param!BE135","v":""},{"$f":"'Param deadline'!BE135","v":""}]
[{"$f":"IF('2-Programmer les activités'!A142=\"\",\"\",'2-Programmer les activités'!A142)","v":0},{"$f":"IF('2-Programmer les activités'!B142=\"Selectionner\",\"\",'2-Programmer les activités'!B142)","v":""},{"$f":"IF('2-Programmer les activités'!C142=\"Selectionner\",\"\",'2-Programmer les activités'!C142)","v":""},{"$f":"IF('2-Programmer les activités'!D142=\"\",\"\",'2-Programmer les activités'!D142)","v":""},null,{"$f":"IF('2-Programmer les activités'!H142=\"\",\"\",'2-Programmer les activités'!H142)","v":""},{"$f":"IF('2-Programmer les activités'!I142=\"Selectionner\",\"\",'2-Programmer les activités'!I142)","v":""},{"$f":"Param!AR136","v":""},{"$f":"'Param deadline'!AR136","v":""},{"$f":"Param!AS136","v":""},{"$f":"'Param deadline'!AS136","v":""},{"$f":"Param!AT136","v":""},{"$f":"'Param deadline'!AT136","v":""},{"$f":"Param!AU136","v":""},{"$f":"'Param deadline'!AU136","v":""},null,{"$f":"Param!AW136","v":""},{"$f":"'Param deadline'!AW136","v":""},{"$f":"Param!AX136","v":""},{"$f":"'Param deadline'!AX136","v":""},{"$f":"Param!AY136","v":""},{"$f":"'Param deadline'!AY136","v":""},{"$f":"Param!AZ136","v":""},{"$f":"'Param deadline'!AZ136","v":""},null,{"$f":"Param!BB136","v":""},{"$f":"'Param deadline'!BB136","v":""},{"$f":"Param!BC136","v":""},{"$f":"'Param deadline'!BC136","v":""},{"$f":"Param!BD136","v":""},{"$f":"'Param deadline'!BD136","v":""},{"$f":"Param!BE136","v":""},{"$f":"'Param deadline'!BE136","v":""}]
[{"$f":"IF('2-Programmer les activités'!A143=\"\",\"\",'2-Programmer les activités'!A143)","v":0},{"$f":"IF('2-Programmer les activités'!B143=\"Selectionner\",\"\",'2-Programmer les activités'!B143)","v":""},{"$f":"IF('2-Programmer les activités'!C143=\"Selectionner\",\"\",'2-Programmer les activités'!C143)","v":""},{"$f":"IF('2-Programmer les activités'!D143=\"\",\"\",'2-Programmer les activités'!D143)","v":""},null,{"$f":"IF('2-Programmer les activités'!H143=\"\",\"\",'2-Programmer les activités'!H143)","v":""},{"$f":"IF('2-Programmer les activités'!I143=\"Selectionner\",\"\",'2-Programmer les activités'!I143)","v":""},{"$f":"Param!AR137","v":""},{"$f":"'Param deadline'!AR137","v":""},{"$f":"Param!AS137","v":""},{"$f":"'Param deadline'!AS137","v":""},{"$f":"Param!AT137","v":""},{"$f":"'Param deadline'!AT137","v":""},{"$f":"Param!AU137","v":""},{"$f":"'Param deadline'!AU137","v":""},null,{"$f":"Param!AW137","v":""},{"$f":"'Param deadline'!AW137","v":""},{"$f":"Param!AX137","v":""},{"$f":"'Param deadline'!AX137","v":""},{"$f":"Param!AY137","v":""},{"$f":"'Param deadline'!AY137","v":""},{"$f":"Param!AZ137","v":""},{"$f":"'Param deadline'!AZ137","v":""},null,{"$f":"Param!BB137","v":""},{"$f":"'Param deadline'!BB137","v":""},{"$f":"Param!BC137","v":""},{"$f":"'Param deadline'!BC137","v":""},{"$f":"Param!BD137","v":""},{"$f":"'Param deadline'!BD137","v":""},{"$f":"Param!BE137","v":""},{"$f":"'Param deadline'!BE137","v":""}]
[{"$f":"IF('2-Programmer les activités'!A144=\"\",\"\",'2-Programmer les activités'!A144)","v":0},{"$f":"IF('2-Programmer les activités'!B144=\"Selectionner\",\"\",'2-Programmer les activités'!B144)","v":""},{"$f":"IF('2-Programmer les activités'!C144=\"Selectionner\",\"\",'2-Programmer les activités'!C144)","v":""},{"$f":"IF('2-Programmer les activités'!D144=\"\",\"\",'2-Programmer les activités'!D144)","v":""},null,{"$f":"IF('2-Programmer les activités'!H144=\"\",\"\",'2-Programmer les activités'!H144)","v":""},{"$f":"IF('2-Programmer les activités'!I144=\"Selectionner\",\"\",'2-Programmer les activités'!I144)","v":""},{"$f":"Param!AR138","v":""},{"$f":"'Param deadline'!AR138","v":""},{"$f":"Param!AS138","v":""},{"$f":"'Param deadline'!AS138","v":""},{"$f":"Param!AT138","v":""},{"$f":"'Param deadline'!AT138","v":""},{"$f":"Param!AU138","v":""},{"$f":"'Param deadline'!AU138","v":""},null,{"$f":"Param!AW138","v":""},{"$f":"'Param deadline'!AW138","v":""},{"$f":"Param!AX138","v":""},{"$f":"'Param deadline'!AX138","v":""},{"$f":"Param!AY138","v":""},{"$f":"'Param deadline'!AY138","v":""},{"$f":"Param!AZ138","v":""},{"$f":"'Param deadline'!AZ138","v":""},null,{"$f":"Param!BB138","v":""},{"$f":"'Param deadline'!BB138","v":""},{"$f":"Param!BC138","v":""},{"$f":"'Param deadline'!BC138","v":""},{"$f":"Param!BD138","v":""},{"$f":"'Param deadline'!BD138","v":""},{"$f":"Param!BE138","v":""},{"$f":"'Param deadline'!BE138","v":""}]
[{"$f":"IF('2-Programmer les activités'!A145=\"\",\"\",'2-Programmer les activités'!A145)","v":0},{"$f":"IF('2-Programmer les activités'!B145=\"Selectionner\",\"\",'2-Programmer les activités'!B145)","v":""},{"$f":"IF('2-Programmer les activités'!C145=\"Selectionner\",\"\",'2-Programmer les activités'!C145)","v":""},{"$f":"IF('2-Programmer les activités'!D145=\"\",\"\",'2-Programmer les activités'!D145)","v":""},null,{"$f":"IF('2-Programmer les activités'!H145=\"\",\"\",'2-Programmer les activités'!H145)","v":""},{"$f":"IF('2-Programmer les activités'!I145=\"Selectionner\",\"\",'2-Programmer les activités'!I145)","v":""},{"$f":"Param!AR139","v":""},{"$f":"'Param deadline'!AR139","v":""},{"$f":"Param!AS139","v":""},{"$f":"'Param deadline'!AS139","v":""},{"$f":"Param!AT139","v":""},{"$f":"'Param deadline'!AT139","v":""},{"$f":"Param!AU139","v":""},{"$f":"'Param deadline'!AU139","v":""},null,{"$f":"Param!AW139","v":""},{"$f":"'Param deadline'!AW139","v":""},{"$f":"Param!AX139","v":""},{"$f":"'Param deadline'!AX139","v":""},{"$f":"Param!AY139","v":""},{"$f":"'Param deadline'!AY139","v":""},{"$f":"Param!AZ139","v":""},{"$f":"'Param deadline'!AZ139","v":""},null,{"$f":"Param!BB139","v":""},{"$f":"'Param deadline'!BB139","v":""},{"$f":"Param!BC139","v":""},{"$f":"'Param deadline'!BC139","v":""},{"$f":"Param!BD139","v":""},{"$f":"'Param deadline'!BD139","v":""},{"$f":"Param!BE139","v":""},{"$f":"'Param deadline'!BE139","v":""}]
[{"$f":"IF('2-Programmer les activités'!A146=\"\",\"\",'2-Programmer les activités'!A146)","v":0},{"$f":"IF('2-Programmer les activités'!B146=\"Selectionner\",\"\",'2-Programmer les activités'!B146)","v":""},{"$f":"IF('2-Programmer les activités'!C146=\"Selectionner\",\"\",'2-Programmer les activités'!C146)","v":""},{"$f":"IF('2-Programmer les activités'!D146=\"\",\"\",'2-Programmer les activités'!D146)","v":""},null,{"$f":"IF('2-Programmer les activités'!H146=\"\",\"\",'2-Programmer les activités'!H146)","v":""},{"$f":"IF('2-Programmer les activités'!I146=\"Selectionner\",\"\",'2-Programmer les activités'!I146)","v":""},{"$f":"Param!AR140","v":""},{"$f":"'Param deadline'!AR140","v":""},{"$f":"Param!AS140","v":""},{"$f":"'Param deadline'!AS140","v":""},{"$f":"Param!AT140","v":""},{"$f":"'Param deadline'!AT140","v":""},{"$f":"Param!AU140","v":""},{"$f":"'Param deadline'!AU140","v":""},null,{"$f":"Param!AW140","v":""},{"$f":"'Param deadline'!AW140","v":""},{"$f":"Param!AX140","v":""},{"$f":"'Param deadline'!AX140","v":""},{"$f":"Param!AY140","v":""},{"$f":"'Param deadline'!AY140","v":""},{"$f":"Param!AZ140","v":""},{"$f":"'Param deadline'!AZ140","v":""},null,{"$f":"Param!BB140","v":""},{"$f":"'Param deadline'!BB140","v":""},{"$f":"Param!BC140","v":""},{"$f":"'Param deadline'!BC140","v":""},{"$f":"Param!BD140","v":""},{"$f":"'Param deadline'!BD140","v":""},{"$f":"Param!BE140","v":""},{"$f":"'Param deadline'!BE140","v":""}]
[{"$f":"IF('2-Programmer les activités'!A147=\"\",\"\",'2-Programmer les activités'!A147)","v":0},{"$f":"IF('2-Programmer les activités'!B147=\"Selectionner\",\"\",'2-Programmer les activités'!B147)","v":""},{"$f":"IF('2-Programmer les activités'!C147=\"Selectionner\",\"\",'2-Programmer les activités'!C147)","v":""},{"$f":"IF('2-Programmer les activités'!D147=\"\",\"\",'2-Programmer les activités'!D147)","v":""},null,{"$f":"IF('2-Programmer les activités'!H147=\"\",\"\",'2-Programmer les activités'!H147)","v":""},{"$f":"IF('2-Programmer les activités'!I147=\"Selectionner\",\"\",'2-Programmer les activités'!I147)","v":""},{"$f":"Param!AR141","v":""},{"$f":"'Param deadline'!AR141","v":""},{"$f":"Param!AS141","v":""},{"$f":"'Param deadline'!AS141","v":""},{"$f":"Param!AT141","v":""},{"$f":"'Param deadline'!AT141","v":""},{"$f":"Param!AU141","v":""},{"$f":"'Param deadline'!AU141","v":""},null,{"$f":"Param!AW141","v":""},{"$f":"'Param deadline'!AW141","v":""},{"$f":"Param!AX141","v":""},{"$f":"'Param deadline'!AX141","v":""},{"$f":"Param!AY141","v":""},{"$f":"'Param deadline'!AY141","v":""},{"$f":"Param!AZ141","v":""},{"$f":"'Param deadline'!AZ141","v":""},null,{"$f":"Param!BB141","v":""},{"$f":"'Param deadline'!BB141","v":""},{"$f":"Param!BC141","v":""},{"$f":"'Param deadline'!BC141","v":""},{"$f":"Param!BD141","v":""},{"$f":"'Param deadline'!BD141","v":""},{"$f":"Param!BE141","v":""},{"$f":"'Param deadline'!BE141","v":""}]
[{"$f":"IF('2-Programmer les activités'!A148=\"\",\"\",'2-Programmer les activités'!A148)","v":0},{"$f":"IF('2-Programmer les activités'!B148=\"Selectionner\",\"\",'2-Programmer les activités'!B148)","v":""},{"$f":"IF('2-Programmer les activités'!C148=\"Selectionner\",\"\",'2-Programmer les activités'!C148)","v":""},{"$f":"IF('2-Programmer les activités'!D148=\"\",\"\",'2-Programmer les activités'!D148)","v":""},null,{"$f":"IF('2-Programmer les activités'!H148=\"\",\"\",'2-Programmer les activités'!H148)","v":""},{"$f":"IF('2-Programmer les activités'!I148=\"Selectionner\",\"\",'2-Programmer les activités'!I148)","v":""},{"$f":"Param!AR142","v":""},{"$f":"'Param deadline'!AR142","v":""},{"$f":"Param!AS142","v":""},{"$f":"'Param deadline'!AS142","v":""},{"$f":"Param!AT142","v":""},{"$f":"'Param deadline'!AT142","v":""},{"$f":"Param!AU142","v":""},{"$f":"'Param deadline'!AU142","v":""},null,{"$f":"Param!AW142","v":""},{"$f":"'Param deadline'!AW142","v":""},{"$f":"Param!AX142","v":""},{"$f":"'Param deadline'!AX142","v":""},{"$f":"Param!AY142","v":""},{"$f":"'Param deadline'!AY142","v":""},{"$f":"Param!AZ142","v":""},{"$f":"'Param deadline'!AZ142","v":""},null,{"$f":"Param!BB142","v":""},{"$f":"'Param deadline'!BB142","v":""},{"$f":"Param!BC142","v":""},{"$f":"'Param deadline'!BC142","v":""},{"$f":"Param!BD142","v":""},{"$f":"'Param deadline'!BD142","v":""},{"$f":"Param!BE142","v":""},{"$f":"'Param deadline'!BE142","v":""}]
[{"$f":"IF('2-Programmer les activités'!A149=\"\",\"\",'2-Programmer les activités'!A149)","v":0},{"$f":"IF('2-Programmer les activités'!B149=\"Selectionner\",\"\",'2-Programmer les activités'!B149)","v":""},{"$f":"IF('2-Programmer les activités'!C149=\"Selectionner\",\"\",'2-Programmer les activités'!C149)","v":""},{"$f":"IF('2-Programmer les activités'!D149=\"\",\"\",'2-Programmer les activités'!D149)","v":""},null,{"$f":"IF('2-Programmer les activités'!H149=\"\",\"\",'2-Programmer les activités'!H149)","v":""},{"$f":"IF('2-Programmer les activités'!I149=\"Selectionner\",\"\",'2-Programmer les activités'!I149)","v":""},{"$f":"Param!AR143","v":""},{"$f":"'Param deadline'!AR143","v":""},{"$f":"Param!AS143","v":""},{"$f":"'Param deadline'!AS143","v":""},{"$f":"Param!AT143","v":""},{"$f":"'Param deadline'!AT143","v":""},{"$f":"Param!AU143","v":""},{"$f":"'Param deadline'!AU143","v":""},null,{"$f":"Param!AW143","v":""},{"$f":"'Param deadline'!AW143","v":""},{"$f":"Param!AX143","v":""},{"$f":"'Param deadline'!AX143","v":""},{"$f":"Param!AY143","v":""},{"$f":"'Param deadline'!AY143","v":""},{"$f":"Param!AZ143","v":""},{"$f":"'Param deadline'!AZ143","v":""},null,{"$f":"Param!BB143","v":""},{"$f":"'Param deadline'!BB143","v":""},{"$f":"Param!BC143","v":""},{"$f":"'Param deadline'!BC143","v":""},{"$f":"Param!BD143","v":""},{"$f":"'Param deadline'!BD143","v":""},{"$f":"Param!BE143","v":""},{"$f":"'Param deadline'!BE143","v":""}]
[{"$f":"IF('2-Programmer les activités'!A150=\"\",\"\",'2-Programmer les activités'!A150)","v":0},{"$f":"IF('2-Programmer les activités'!B150=\"Selectionner\",\"\",'2-Programmer les activités'!B150)","v":""},{"$f":"IF('2-Programmer les activités'!C150=\"Selectionner\",\"\",'2-Programmer les activités'!C150)","v":""},{"$f":"IF('2-Programmer les activités'!D150=\"\",\"\",'2-Programmer les activités'!D150)","v":""},null,{"$f":"IF('2-Programmer les activités'!H150=\"\",\"\",'2-Programmer les activités'!H150)","v":""},{"$f":"IF('2-Programmer les activités'!I150=\"Selectionner\",\"\",'2-Programmer les activités'!I150)","v":""},{"$f":"Param!AR144","v":""},{"$f":"'Param deadline'!AR144","v":""},{"$f":"Param!AS144","v":""},{"$f":"'Param deadline'!AS144","v":""},{"$f":"Param!AT144","v":""},{"$f":"'Param deadline'!AT144","v":""},{"$f":"Param!AU144","v":""},{"$f":"'Param deadline'!AU144","v":""},null,{"$f":"Param!AW144","v":""},{"$f":"'Param deadline'!AW144","v":""},{"$f":"Param!AX144","v":""},{"$f":"'Param deadline'!AX144","v":""},{"$f":"Param!AY144","v":""},{"$f":"'Param deadline'!AY144","v":""},{"$f":"Param!AZ144","v":""},{"$f":"'Param deadline'!AZ144","v":""},null,{"$f":"Param!BB144","v":""},{"$f":"'Param deadline'!BB144","v":""},{"$f":"Param!BC144","v":""},{"$f":"'Param deadline'!BC144","v":""},{"$f":"Param!BD144","v":""},{"$f":"'Param deadline'!BD144","v":""},{"$f":"Param!BE144","v":""},{"$f":"'Param deadline'!BE144","v":""}]
[{"$f":"IF('2-Programmer les activités'!A151=\"\",\"\",'2-Programmer les activités'!A151)","v":0},{"$f":"IF('2-Programmer les activités'!B151=\"Selectionner\",\"\",'2-Programmer les activités'!B151)","v":""},{"$f":"IF('2-Programmer les activités'!C151=\"Selectionner\",\"\",'2-Programmer les activités'!C151)","v":""},{"$f":"IF('2-Programmer les activités'!D151=\"\",\"\",'2-Programmer les activités'!D151)","v":""},null,{"$f":"IF('2-Programmer les activités'!H151=\"\",\"\",'2-Programmer les activités'!H151)","v":""},{"$f":"IF('2-Programmer les activités'!I151=\"Selectionner\",\"\",'2-Programmer les activités'!I151)","v":""},{"$f":"Param!AR145","v":""},{"$f":"'Param deadline'!AR145","v":""},{"$f":"Param!AS145","v":""},{"$f":"'Param deadline'!AS145","v":""},{"$f":"Param!AT145","v":""},{"$f":"'Param deadline'!AT145","v":""},{"$f":"Param!AU145","v":""},{"$f":"'Param deadline'!AU145","v":""},null,{"$f":"Param!AW145","v":""},{"$f":"'Param deadline'!AW145","v":""},{"$f":"Param!AX145","v":""},{"$f":"'Param deadline'!AX145","v":""},{"$f":"Param!AY145","v":""},{"$f":"'Param deadline'!AY145","v":""},{"$f":"Param!AZ145","v":""},{"$f":"'Param deadline'!AZ145","v":""},null,{"$f":"Param!BB145","v":""},{"$f":"'Param deadline'!BB145","v":""},{"$f":"Param!BC145","v":""},{"$f":"'Param deadline'!BC145","v":""},{"$f":"Param!BD145","v":""},{"$f":"'Param deadline'!BD145","v":""},{"$f":"Param!BE145","v":""},{"$f":"'Param deadline'!BE145","v":""}]
[{"$f":"IF('2-Programmer les activités'!A152=\"\",\"\",'2-Programmer les activités'!A152)","v":0},{"$f":"IF('2-Programmer les activités'!B152=\"Selectionner\",\"\",'2-Programmer les activités'!B152)","v":""},{"$f":"IF('2-Programmer les activités'!C152=\"Selectionner\",\"\",'2-Programmer les activités'!C152)","v":""},{"$f":"IF('2-Programmer les activités'!D152=\"\",\"\",'2-Programmer les activités'!D152)","v":""},null,{"$f":"IF('2-Programmer les activités'!H152=\"\",\"\",'2-Programmer les activités'!H152)","v":""},{"$f":"IF('2-Programmer les activités'!I152=\"Selectionner\",\"\",'2-Programmer les activités'!I152)","v":""},{"$f":"Param!AR146","v":""},{"$f":"'Param deadline'!AR146","v":""},{"$f":"Param!AS146","v":""},{"$f":"'Param deadline'!AS146","v":""},{"$f":"Param!AT146","v":""},{"$f":"'Param deadline'!AT146","v":""},{"$f":"Param!AU146","v":""},{"$f":"'Param deadline'!AU146","v":""},null,{"$f":"Param!AW146","v":""},{"$f":"'Param deadline'!AW146","v":""},{"$f":"Param!AX146","v":""},{"$f":"'Param deadline'!AX146","v":""},{"$f":"Param!AY146","v":""},{"$f":"'Param deadline'!AY146","v":""},{"$f":"Param!AZ146","v":""},{"$f":"'Param deadline'!AZ146","v":""},null,{"$f":"Param!BB146","v":""},{"$f":"'Param deadline'!BB146","v":""},{"$f":"Param!BC146","v":""},{"$f":"'Param deadline'!BC146","v":""},{"$f":"Param!BD146","v":""},{"$f":"'Param deadline'!BD146","v":""},{"$f":"Param!BE146","v":""},{"$f":"'Param deadline'!BE146","v":""}]
[{"$f":"IF('2-Programmer les activités'!A153=\"\",\"\",'2-Programmer les activités'!A153)","v":0},{"$f":"IF('2-Programmer les activités'!B153=\"Selectionner\",\"\",'2-Programmer les activités'!B153)","v":""},{"$f":"IF('2-Programmer les activités'!C153=\"Selectionner\",\"\",'2-Programmer les activités'!C153)","v":""},{"$f":"IF('2-Programmer les activités'!D153=\"\",\"\",'2-Programmer les activités'!D153)","v":""},null,{"$f":"IF('2-Programmer les activités'!H153=\"\",\"\",'2-Programmer les activités'!H153)","v":""},{"$f":"IF('2-Programmer les activités'!I153=\"Selectionner\",\"\",'2-Programmer les activités'!I153)","v":""},{"$f":"Param!AR147","v":""},{"$f":"'Param deadline'!AR147","v":""},{"$f":"Param!AS147","v":""},{"$f":"'Param deadline'!AS147","v":""},{"$f":"Param!AT147","v":""},{"$f":"'Param deadline'!AT147","v":""},{"$f":"Param!AU147","v":""},{"$f":"'Param deadline'!AU147","v":""},null,{"$f":"Param!AW147","v":""},{"$f":"'Param deadline'!AW147","v":""},{"$f":"Param!AX147","v":""},{"$f":"'Param deadline'!AX147","v":""},{"$f":"Param!AY147","v":""},{"$f":"'Param deadline'!AY147","v":""},{"$f":"Param!AZ147","v":""},{"$f":"'Param deadline'!AZ147","v":""},null,{"$f":"Param!BB147","v":""},{"$f":"'Param deadline'!BB147","v":""},{"$f":"Param!BC147","v":""},{"$f":"'Param deadline'!BC147","v":""},{"$f":"Param!BD147","v":""},{"$f":"'Param deadline'!BD147","v":""},{"$f":"Param!BE147","v":""},{"$f":"'Param deadline'!BE147","v":""}]
[{"$f":"IF('2-Programmer les activités'!A154=\"\",\"\",'2-Programmer les activités'!A154)","v":0},{"$f":"IF('2-Programmer les activités'!B154=\"Selectionner\",\"\",'2-Programmer les activités'!B154)","v":""},{"$f":"IF('2-Programmer les activités'!C154=\"Selectionner\",\"\",'2-Programmer les activités'!C154)","v":""},{"$f":"IF('2-Programmer les activités'!D154=\"\",\"\",'2-Programmer les activités'!D154)","v":""},null,{"$f":"IF('2-Programmer les activités'!H154=\"\",\"\",'2-Programmer les activités'!H154)","v":""},{"$f":"IF('2-Programmer les activités'!I154=\"Selectionner\",\"\",'2-Programmer les activités'!I154)","v":""},{"$f":"Param!AR148","v":""},{"$f":"'Param deadline'!AR148","v":""},{"$f":"Param!AS148","v":""},{"$f":"'Param deadline'!AS148","v":""},{"$f":"Param!AT148","v":""},{"$f":"'Param deadline'!AT148","v":""},{"$f":"Param!AU148","v":""},{"$f":"'Param deadline'!AU148","v":""},null,{"$f":"Param!AW148","v":""},{"$f":"'Param deadline'!AW148","v":""},{"$f":"Param!AX148","v":""},{"$f":"'Param deadline'!AX148","v":""},{"$f":"Param!AY148","v":""},{"$f":"'Param deadline'!AY148","v":""},{"$f":"Param!AZ148","v":""},{"$f":"'Param deadline'!AZ148","v":""},null,{"$f":"Param!BB148","v":""},{"$f":"'Param deadline'!BB148","v":""},{"$f":"Param!BC148","v":""},{"$f":"'Param deadline'!BC148","v":""},{"$f":"Param!BD148","v":""},{"$f":"'Param deadline'!BD148","v":""},{"$f":"Param!BE148","v":""},{"$f":"'Param deadline'!BE148","v":""}]
[{"$f":"IF('2-Programmer les activités'!A155=\"\",\"\",'2-Programmer les activités'!A155)","v":0},{"$f":"IF('2-Programmer les activités'!B155=\"Selectionner\",\"\",'2-Programmer les activités'!B155)","v":""},{"$f":"IF('2-Programmer les activités'!C155=\"Selectionner\",\"\",'2-Programmer les activités'!C155)","v":""},{"$f":"IF('2-Programmer les activités'!D155=\"\",\"\",'2-Programmer les activités'!D155)","v":""},null,{"$f":"IF('2-Programmer les activités'!H155=\"\",\"\",'2-Programmer les activités'!H155)","v":""},{"$f":"IF('2-Programmer les activités'!I155=\"Selectionner\",\"\",'2-Programmer les activités'!I155)","v":""},{"$f":"Param!AR149","v":""},{"$f":"'Param deadline'!AR149","v":""},{"$f":"Param!AS149","v":""},{"$f":"'Param deadline'!AS149","v":""},{"$f":"Param!AT149","v":""},{"$f":"'Param deadline'!AT149","v":""},{"$f":"Param!AU149","v":""},{"$f":"'Param deadline'!AU149","v":""},null,{"$f":"Param!AW149","v":""},{"$f":"'Param deadline'!AW149","v":""},{"$f":"Param!AX149","v":""},{"$f":"'Param deadline'!AX149","v":""},{"$f":"Param!AY149","v":""},{"$f":"'Param deadline'!AY149","v":""},{"$f":"Param!AZ149","v":""},{"$f":"'Param deadline'!AZ149","v":""},null,{"$f":"Param!BB149","v":""},{"$f":"'Param deadline'!BB149","v":""},{"$f":"Param!BC149","v":""},{"$f":"'Param deadline'!BC149","v":""},{"$f":"Param!BD149","v":""},{"$f":"'Param deadline'!BD149","v":""},{"$f":"Param!BE149","v":""},{"$f":"'Param deadline'!BE149","v":""}]
[{"$f":"IF('2-Programmer les activités'!A156=\"\",\"\",'2-Programmer les activités'!A156)","v":0},{"$f":"IF('2-Programmer les activités'!B156=\"Selectionner\",\"\",'2-Programmer les activités'!B156)","v":""},{"$f":"IF('2-Programmer les activités'!C156=\"Selectionner\",\"\",'2-Programmer les activités'!C156)","v":""},{"$f":"IF('2-Programmer les activités'!D156=\"\",\"\",'2-Programmer les activités'!D156)","v":""},null,{"$f":"IF('2-Programmer les activités'!H156=\"\",\"\",'2-Programmer les activités'!H156)","v":""},{"$f":"IF('2-Programmer les activités'!I156=\"Selectionner\",\"\",'2-Programmer les activités'!I156)","v":""},{"$f":"Param!AR150","v":""},{"$f":"'Param deadline'!AR150","v":""},{"$f":"Param!AS150","v":""},{"$f":"'Param deadline'!AS150","v":""},{"$f":"Param!AT150","v":""},{"$f":"'Param deadline'!AT150","v":""},{"$f":"Param!AU150","v":""},{"$f":"'Param deadline'!AU150","v":""},null,{"$f":"Param!AW150","v":""},{"$f":"'Param deadline'!AW150","v":""},{"$f":"Param!AX150","v":""},{"$f":"'Param deadline'!AX150","v":""},{"$f":"Param!AY150","v":""},{"$f":"'Param deadline'!AY150","v":""},{"$f":"Param!AZ150","v":""},{"$f":"'Param deadline'!AZ150","v":""},null,{"$f":"Param!BB150","v":""},{"$f":"'Param deadline'!BB150","v":""},{"$f":"Param!BC150","v":""},{"$f":"'Param deadline'!BC150","v":""},{"$f":"Param!BD150","v":""},{"$f":"'Param deadline'!BD150","v":""},{"$f":"Param!BE150","v":""},{"$f":"'Param deadline'!BE150","v":""}]
[{"$f":"IF('2-Programmer les activités'!A157=\"\",\"\",'2-Programmer les activités'!A157)","v":0},{"$f":"IF('2-Programmer les activités'!B157=\"Selectionner\",\"\",'2-Programmer les activités'!B157)","v":""},{"$f":"IF('2-Programmer les activités'!C157=\"Selectionner\",\"\",'2-Programmer les activités'!C157)","v":""},{"$f":"IF('2-Programmer les activités'!D157=\"\",\"\",'2-Programmer les activités'!D157)","v":""},null,{"$f":"IF('2-Programmer les activités'!H157=\"\",\"\",'2-Programmer les activités'!H157)","v":""},{"$f":"IF('2-Programmer les activités'!I157=\"Selectionner\",\"\",'2-Programmer les activités'!I157)","v":""},{"$f":"Param!AR151","v":""},{"$f":"'Param deadline'!AR151","v":""},{"$f":"Param!AS151","v":""},{"$f":"'Param deadline'!AS151","v":""},{"$f":"Param!AT151","v":""},{"$f":"'Param deadline'!AT151","v":""},{"$f":"Param!AU151","v":""},{"$f":"'Param deadline'!AU151","v":""},null,{"$f":"Param!AW151","v":""},{"$f":"'Param deadline'!AW151","v":""},{"$f":"Param!AX151","v":""},{"$f":"'Param deadline'!AX151","v":""},{"$f":"Param!AY151","v":""},{"$f":"'Param deadline'!AY151","v":""},{"$f":"Param!AZ151","v":""},{"$f":"'Param deadline'!AZ151","v":""},null,{"$f":"Param!BB151","v":""},{"$f":"'Param deadline'!BB151","v":""},{"$f":"Param!BC151","v":""},{"$f":"'Param deadline'!BC151","v":""},{"$f":"Param!BD151","v":""},{"$f":"'Param deadline'!BD151","v":""},{"$f":"Param!BE151","v":""},{"$f":"'Param deadline'!BE151","v":""}]
[{"$f":"IF('2-Programmer les activités'!A158=\"\",\"\",'2-Programmer les activités'!A158)","v":0},{"$f":"IF('2-Programmer les activités'!B158=\"Selectionner\",\"\",'2-Programmer les activités'!B158)","v":""},{"$f":"IF('2-Programmer les activités'!C158=\"Selectionner\",\"\",'2-Programmer les activités'!C158)","v":""},{"$f":"IF('2-Programmer les activités'!D158=\"\",\"\",'2-Programmer les activités'!D158)","v":""},null,{"$f":"IF('2-Programmer les activités'!H158=\"\",\"\",'2-Programmer les activités'!H158)","v":""},{"$f":"IF('2-Programmer les activités'!I158=\"Selectionner\",\"\",'2-Programmer les activités'!I158)","v":""},{"$f":"Param!AR152","v":""},{"$f":"'Param deadline'!AR152","v":""},{"$f":"Param!AS152","v":""},{"$f":"'Param deadline'!AS152","v":""},{"$f":"Param!AT152","v":""},{"$f":"'Param deadline'!AT152","v":""},{"$f":"Param!AU152","v":""},{"$f":"'Param deadline'!AU152","v":""},null,{"$f":"Param!AW152","v":""},{"$f":"'Param deadline'!AW152","v":""},{"$f":"Param!AX152","v":""},{"$f":"'Param deadline'!AX152","v":""},{"$f":"Param!AY152","v":""},{"$f":"'Param deadline'!AY152","v":""},{"$f":"Param!AZ152","v":""},{"$f":"'Param deadline'!AZ152","v":""},null,{"$f":"Param!BB152","v":""},{"$f":"'Param deadline'!BB152","v":""},{"$f":"Param!BC152","v":""},{"$f":"'Param deadline'!BC152","v":""},{"$f":"Param!BD152","v":""},{"$f":"'Param deadline'!BD152","v":""},{"$f":"Param!BE152","v":""},{"$f":"'Param deadline'!BE152","v":""}]

{"sheet":"4-Faire le suivi de l'execution","index":4,"n_rows":178,"n_cols":23,"rows_kept":178,"merged":[[0,1,0,6],[10,0,10,6]]}
[null,"SITUATION D'EXECUTION"]
[{"$nulls":3},"Informations",null,null,"Montant total","Montant depense","Economie"]
[]
[null,"Periode d'activite",null,{"$f":"IF('2-Programmer les activités'!D4=\"Selectionner\",\"\",'2-Programmer les activités'!D4)","v":"Janvier-Mars_2021"},null,{"$f":"'2-Programmer les activités'!K4","v":"GNF"},{"$f":"SUM(F12:F100)","v":{"v":200000,"d":"200,000.00"}},{"$f":"SUM(U12:U100)","v":{"v":80000,"d":"80,000.00"}},{"$f":"IFERROR((G4-H4),\"\")","v":{"v":120000,"d":"120,000.00"}},{"$nulls":4},{"$f":"'2-Programmer les activités'!K4","v":"GNF"}]
[null,"Pays",null,{"$f":"IF('2-Programmer les activités'!D5=\"Selectionner\",\"\",'2-Programmer les activités'!D5)","v":"Guinea"}]
[null,"Nom structure",null,{"$f":"IF('2-Programmer les activités'!D6=\"Selectionner\",\"\",'2-Programmer les activités'!D6)","v":"ONUSIDA"},null,{"$f":"'2-Programmer les activités'!K6","v":"USD"},{"$f":"G4/'2-Programmer les activités'!J6","v":{"v":22.22222222222222,"d":"22.22"}},{"$f":"H4/'2-Programmer les activités'!J6","v":{"v":8.88888888888889,"d":"8.89"}},{"$f":"IFERROR((G6-H6),\"\")","v":{"v":13.333333333333332,"d":"13.33"}},{"$nulls":4},{"$f":"'2-Programmer les activités'!K6","v":"USD"}]
[null,"Section concernee",null,"Selectionner"]
[]
[]
["Num.","Modules","Interventions","Intiule de l'activite",null,"Montant de l'activite","Responsable execution","Date limite de mise en oeuvre","Duree de jours restants",{"$nulls":4},"Date de mise a jour","Situation d'execution","activite realise","jours restants","Montant  total depense",null,null,"Montant  total depense","Economie realisee","Commentaires/ observations"]
[]
[{"$f":"IF('2-Programmer les activités'!A12=\"\",\"\",'2-Programmer les activités'!A12)","v":0},{"$f":"IF('2-Programmer les activités'!B12=\"Selectionner\",\"\",'2-Programmer les activités'!B12)","v":""},{"$f":"IF('2-Programmer les activités'!C12=\"Selectionner\",\"\",'2-Programmer les activités'!C12)","v":""},{"$f":"IF('2-Programmer les activités'!D12=\"\",\"\",'2-Programmer les activités'!D12)","v":""},null,{"$f":"IF('2-Programmer les activités'!H12=\"\",\"\",'2-Programmer les activités'!H12)","v":{"v":200000,"d":"200,000.0 "}},{"$f":"IF('2-Programmer les activités'!I12=\"Selectionner\",\"\",'2-Programmer les activités'!I12)","v":"MS"},{"$f":"IF('2-Programmer les activités'!J12=\"\",\"\",'2-Programmer les activités'!J12)","v":"2021-03-02"},{"$f":"IFERROR(IF(P12=1,\"\",Q12),\"\")","v":-372},{"$f":"IF(I12<0,1,0)","v":1},{"$f":"IF(H12=\"\",\"\",R12)","v":""},{"$nulls":3},"Achevé",{"$f":"IF(O12=\"Acheve\",1,0)","v":0},{"$f":"IFERROR((H12-TODAY()),\"\")","v":-372},{"$f":"IF(AND(I12<8,AND(I12>=0)),1,\"\")","v":""},{"$f":"IF(D12=\"Selectionner\",0,1)","v":1},null,{"v":80000,"d":"80,000"},{"$f":"IFERROR((F12-R12),\"\")","v":""}]
[{"$f":"IF('2-Programmer les activités'!A13=\"\",\"\",'2-Programmer les activités'!A13)","v":0},{"$f":"IF('2-Programmer les activités'!B13=\"Selectionner\",\"\",'2-Programmer les activités'!B13)","v":""},{"$f":"IF('2-Programmer les activités'!C13=\"Selectionner\",\"\",'2-Programmer les activités'!C13)","v":""},{"$f":"IF('2-Programmer les activités'!D13=\"\",\"\",'2-Programmer les activités'!D13)","v":""},null,{"$f":"IF('2-Programmer les activités'!H13=\"\",\"\",'2-Programmer les activités'!H13)","v":""},{"$f":"IF('2-Programmer les activités'!I13=\"Selectionner\",\"\",'2-Programmer les activités'!I13)","v":""},{"$f":"IF('2-Programmer les activités'!J13=\"\",\"\",'2-Programmer les activités'!J13)","v":""},{"$f":"IFERROR(IF(P13=1,\"\",Q13),\"\")","v":""},{"$f":"IF(I13<0,1,0)","v":0},"",{"$nulls":3},"Selectionner",{"$f":"IF(O13=\"Acheve\",1,0)","v":0},{"$f":"IFERROR((H13-TODAY()),\"\")","v":""},"",1,null,null,""]
[{"$f":"IF('2-Programmer les activités'!A14=\"\",\"\",'2-Programmer les activités'!A14)","v":0},{"$f":"IF('2-Programmer les activités'!B14=\"Selectionner\",\"\",'2-Programmer les activités'!B14)","v":""},{"$f":"IF('2-Programmer les activités'!C14=\"Selectionner\",\"\",'2-Programmer les activités'!C14)","v":""},{"$f":"IF('2-Programmer les activités'!D14=\"\",\"\",'2-Programmer les activités'!D14)","v":""},null,{"$f":"IF('2-Programmer les activités'!H14=\"\",\"\",'2-Programmer les activités'!H14)","v":""},{"$f":"IF('2-Programmer les activités'!I14=\"Selectionner\",\"\",'2-Programmer les activités'!I14)","v":""},{"$f":"IF('2-Programmer les activités'!J14=\"\",\"\",'2-Programmer les activités'!J14)","v":""},"",0,"",{"$nulls":3},"Selectionner",0,"","",1,null,null,""]
[{"$f":"IF('2-Programmer les activités'!A15=\"\",\"\",'2-Programmer les activités'!A15)","v":0},{"$f":"IF('2-Programmer les activités'!B15=\"Selectionner\",\"\",'2-Programmer les activités'!B15)","v":""},{"$f":"IF('2-Programmer les activités'!C15=\"Selectionner\",\"\",'2-Programmer les activités'!C15)","v":""},{"$f":"IF('2-Programmer les activités'!D15=\"\",\"\",'2-Programmer les activités'!D15)","v":""},null,{"$f":"IF('2-Programmer les activités'!H15=\"\",\"\",'2-Programmer les activités'!H15)","v":""},{"$f":"IF('2-Programmer les activités'!I15=\"Selectionner\",\"\",'2-Programmer les activités'!I15)","v":""},{"$f":"IF('2-Programmer les activités'!J15=\"\",\"\",'2-Programmer les activités'!J15)","v":""},"",0,"",{"$nulls":3},"Selectionner",0,"","",1,null,null,""]
[{"$f":"IF('2-Programmer les activités'!A16=\"\",\"\",'2-Programmer les activités'!A16)","v":0},{"$f":"IF('2-Programmer les activités'!B16=\"Selectionner\",\"\",'2-Programmer les activités'!B16)","v":""},{"$f":"IF('2-Programmer les activités'!C16=\"Selectionner\",\"\",'2-Programmer les activités'!C16)","v":""},{"$f":"IF('2-Programmer les activités'!D16=\"\",\"\",'2-Programmer les activités'!D16)","v":""},null,{"$f":"IF('2-Programmer les activités'!H16=\"\",\"\",'2-Programmer les activités'!H16)","v":""},{"$f":"IF('2-Programmer les activités'!I16=\"Selectionner\",\"\",'2-Programmer les activités'!I16)","v":""},{"$f":"IF('2-Programmer les activités'!J16=\"\",\"\",'2-Programmer les activités'!J16)","v":""},"",0,"",{"$nulls":3},"Selectionner",0,"","",1,null,null,""]
[{"$f":"IF('2-Programmer les activités'!A17=\"\",\"\",'2-Programmer les activités'!A17)","v":0},{"$f":"IF('2-Programmer les activités'!B17=\"Selectionner\",\"\",'2-Programmer les activités'!B17)","v":""},{"$f":"IF('2-Programmer les activités'!C17=\"Selectionner\",\"\",'2-Programmer les activités'!C17)","v":""},{"$f":"IF('2-Programmer les activités'!D17=\"\",\"\",'2-Programmer les activités'!D17)","v":""},null,{"$f":"IF('2-Programmer les activités'!H17=\"\",\"\",'2-Programmer les activités'!H17)","v":""},{"$f":"IF('2-Programmer les activités'!I17=\"Selectionner\",\"\",'2-Programmer les activités'!I17)","v":""},{"$f":"IF('2-Programmer les activités'!J17=\"\",\"\",'2-Programmer les activités'!J17)","v":""},"",0,"",{"$nulls":3},"Selectionner",0,"","",1,null,null,""]
[{"$f":"IF('2-Programmer les activités'!A18=\"\",\"\",'2-Programmer les activités'!A18)","v":0},{"$f":"IF('2-Programmer les activités'!B18=\"Selectionner\",\"\",'2-Programmer les activités'!B18)","v":""},{"$f":"IF('2-Programmer les activités'!C18=\"Selectionner\",\"\",'2-Programmer les activités'!C18)","v":""},{"$f":"IF('2-Programmer les activités'!D18=\"\",\"\",'2-Programmer les activités'!D18)","v":""},null,{"$f":"IF('2-Programmer les activités'!H18=\"\",\"\",'2-Programmer les activités'!H18)","v":""},{"$f":"IF('2-Programmer les activités'!I18=\"Selectionner\",\"\",'2-Programmer les activités'!I18)","v":""},{"$f":"IF('2-Programmer les activités'!J18=\"\",\"\",'2-Programmer les activités'!J18)","v":""},"",0,"",{"$nulls":3},"Selectionner",0,"","",1,null,null,""]
[{"$f":"IF('2-Programmer les activités'!A19=\"\",\"\",'2-Programmer les activités'!A19)","v":0},{"$f":"IF('2-Programmer les activités'!B19=\"Selectionner\",\"\",'2-Programmer les activités'!B19)","v":""},{"$f":"IF('2-Programmer les activités'!C19=\"Selectionner\",\"\",'2-Programmer les activités'!C19)","v":""},{"$f":"IF('2-Programmer les activités'!D19=\"\",\"\",'2-Programmer les activités'!D19)","v":""},null,{"$f":"IF('2-Programmer les activités'!H19=\"\",\"\",'2-Programmer les activités'!H19)","v":""},{"$f":"IF('2-Programmer les activités'!I19=\"Selectionner\",\"\",'2-Programmer les activités'!I19)","v":""},{"$f":"IF('2-Programmer les activités'!J19=\"\",\"\",'2-Programmer les activités'!J19)","v":""},"",0,"",{"$nulls":3},"Selectionner",0,"","",1,null,null,""]
[{"$f":"IF('2-Programmer les activités'!A20=\"\",\"\",'2-Programmer les activités'!A20)","v":0},{"$f":"IF('2-Programmer les activités'!B20=\"Selectionner\",\"\",'2-Programmer les activités'!B20)","v":""},{"$f":"IF('2-Programmer les activités'!C20=\"Selectionner\",\"\",'2-Programmer les activités'!C20)","v":""},{"$f":"IF('2-Programmer les activités'!D20=\"\",\"\",'2-Programmer les activités'!D20)","v":""},null,{"$f":"IF('2-Programmer les activités'!H20=\"\",\"\",'2-Programmer les activités'!H20)","v":""},{"$f":"IF('2-Programmer les activités'!I20=\"Selectionner\",\"\",'2-Programmer les activités'!I20)","v":""},{"$f":"IF('2-Programmer les activités'!J20=\"\",\"\",'2-Programmer les activités'!J20)","v":""},"",0,"",{"$nulls":3},"Selectionner",0,"","",1,null,null,""]
[{"$f":"IF('2-Programmer les activités'!A21=\"\",\"\",'2-Programmer les activités'!A21)","v":0},{"$f":"IF('2-Programmer les activités'!B21=\"Selectionner\",\"\",'2-Programmer les activités'!B21)","v":""},{"$f":"IF('2-Programmer les activités'!C21=\"Selectionner\",\"\",'2-Programmer les activités'!C21)","v":""},{"$f":"IF('2-Programmer les activités'!D21=\"\",\"\",'2-Programmer les activités'!D21)","v":""},null,{"$f":"IF('2-Programmer les activités'!H21=\"\",\"\",'2-Programmer les activités'!H21)","v":""},{"$f":"IF('2-Programmer les activités'!I21=\"Selectionner\",\"\",'2-Programmer les activités'!I21)","v":""},{"$f":"IF('2-Programmer les activités'!J21=\"\",\"\",'2-Programmer les activités'!J21)","v":""},"",0,"",{"$nulls":3},"Selectionner",0,"","",1,null,null,""]
[{"$f":"IF('2-Programmer les activités'!A22=\"\",\"\",'2-Programmer les activités'!A22)","v":0},{"$f":"IF('2-Programmer les activités'!B22=\"Selectionner\",\"\",'2-Programmer les activités'!B22)","v":""},{"$f":"IF('2-Programmer les activités'!C22=\"Selectionner\",\"\",'2-Programmer les activités'!C22)","v":""},{"$f":"IF('2-Programmer les activités'!D22=\"\",\"\",'2-Programmer les activités'!D22)","v":""},null,{"$f":"IF('2-Programmer les activités'!H22=\"\",\"\",'2-Programmer les activités'!H22)","v":""},{"$f":"IF('2-Programmer les activités'!I22=\"Selectionner\",\"\",'2-Programmer les activités'!I22)","v":""},{"$f":"IF('2-Programmer les activités'!J22=\"\",\"\",'2-Programmer les activités'!J22)","v":""},"",0,"",{"$nulls":3},"Selectionner",0,"","",1,null,null,""]
[{"$f":"IF('2-Programmer les activités'!A23=\"\",\"\",'2-Programmer les activités'!A23)","v":0},{"$f":"IF('2-Programmer les activités'!B23=\"Selectionner\",\"\",'2-Programmer les activités'!B23)","v":""},{"$f":"IF('2-Programmer les activités'!C23=\"Selectionner\",\"\",'2-Programmer les activités'!C23)","v":""},{"$f":"IF('2-Programmer les activités'!D23=\"\",\"\",'2-Programmer les activités'!D23)","v":""},null,{"$f":"IF('2-Programmer les activités'!H23=\"\",\"\",'2-Programmer les activités'!H23)","v":""},{"$f":"IF('2-Programmer les activités'!I23=\"Selectionner\",\"\",'2-Programmer les activités'!I23)","v":""},{"$f":"IF('2-Programmer les activités'!J23=\"\",\"\",'2-Programmer les activités'!J23)","v":""},"",0,"",{"$nulls":3},"Selectionner",0,"","",1,null,null,""]
[{"$f":"IF('2-Programmer les activités'!A24=\"\",\"\",'2-Programmer les activités'!A24)","v":0},{"$f":"IF('2-Programmer les activités'!B24=\"Selectionner\",\"\",'2-Programmer les activités'!B24)","v":""},{"$f":"IF('2-Programmer les activités'!C24=\"Selectionner\",\"\",'2-Programmer les activités'!C24)","v":""},{"$f":"IF('2-Programmer les activités'!D24=\"\",\"\",'2-Programmer les activités'!D24)","v":""},null,{"$f":"IF('2-Programmer les activités'!H24=\"\",\"\",'2-Programmer les activités'!H24)","v":""},{"$f":"IF('2-Programmer les activités'!I24=\"Selectionner\",\"\",'2-Programmer les activités'!I24)","v":""},{"$f":"IF('2-Programmer les activités'!J24=\"\",\"\",'2-Programmer les activités'!J24)","v":""},"",0,"",{"$nulls":3},"Selectionner",0,"","",1,null,null,""]
[{"$f":"IF('2-Programmer les activités'!A25=\"\",\"\",'2-Programmer les activités'!A25)","v":0},{"$f":"IF('2-Programmer les activités'!B25=\"Selectionner\",\"\",'2-Programmer les activités'!B25)","v":""},{"$f":"IF('2-Programmer les activités'!C25=\"Selectionner\",\"\",'2-Programmer les activités'!C25)","v":""},{"$f":"IF('2-Programmer les activités'!D25=\"\",\"\",'2-Programmer les activités'!D25)","v":""},null,{"$f":"IF('2-Programmer les activités'!H25=\"\",\"\",'2-Programmer les activités'!H25)","v":""},{"$f":"IF('2-Programmer les activités'!I25=\"Selectionner\",\"\",'2-Programmer les activités'!I25)","v":""},{"$f":"IF('2-Programmer les activités'!J25=\"\",\"\",'2-Programmer les activités'!J25)","v":""},"",0,"",{"$nulls":3},"Selectionner",0,"","",1,null,null,""]
[{"$f":"IF('2-Programmer les activités'!A26=\"\",\"\",'2-Programmer les activités'!A26)","v":0},{"$f":"IF('2-Programmer les activités'!B26=\"Selectionner\",\"\",'2-Programmer les activités'!B26)","v":""},{"$f":"IF('2-Programmer les activités'!C26=\"Selectionner\",\"\",'2-Programmer les activités'!C26)","v":""},{"$f":"IF('2-Programmer les activités'!D26=\"\",\"\",'2-Programmer les activités'!D26)","v":""},null,{"$f":"IF('2-Programmer les activités'!H26=\"\",\"\",'2-Programmer les activités'!H26)","v":""},{"$f":"IF('2-Programmer les activités'!I26=\"Selectionner\",\"\",'2-Programmer les activités'!I26)","v":""},{"$f":"IF('2-Programmer les activités'!J26=\"\",\"\",'2-Programmer les activités'!J26)","v":""},"",0,"",{"$nulls":3},"Selectionner",0,"","",1,null,null,""]
[{"$f":"IF('2-Programmer les activités'!A27=\"\",\"\",'2-Programmer les activités'!A27)","v":0},{"$f":"IF('2-Programmer les activités'!B27=\"Selectionner\",\"\",'2-Programmer les activités'!B27)","v":""},{"$f":"IF('2-Programmer les activités'!C27=\"Selectionner\",\"\",'2-Programmer les activités'!C27)","v":""},{"$f":"IF('2-Programmer les activités'!D27=\"\",\"\",'2-Programmer les activités'!D27)","v":""},null,{"$f":"IF('2-Programmer les activités'!H27=\"\",\"\",'2-Programmer les activités'!H27)","v":""},{"$f":"IF('2-Programmer les activités'!I27=\"Selectionner\",\"\",'2-Programmer les activités'!I27)","v":""},{"$f":"IF('2-Programmer les activités'!J27=\"\",\"\",'2-Programmer les activités'!J27)","v":""},"",0,"",{"$nulls":3},"Selectionner",0,"","",1,null,null,""]
[{"$f":"IF('2-Programmer les activités'!A28=\"\",\"\",'2-Programmer les activités'!A28)","v":0},{"$f":"IF('2-Programmer les activités'!B28=\"Selectionner\",\"\",'2-Programmer les activités'!B28)","v":""},{"$f":"IF('2-Programmer les activités'!C28=\"Selectionner\",\"\",'2-Programmer les activités'!C28)","v":""},{"$f":"IF('2-Programmer les activités'!D28=\"\",\"\",'2-Programmer les activités'!D28)","v":""},null,{"$f":"IF('2-Programmer les activités'!H28=\"\",\"\",'2-Programmer les activités'!H28)","v":""},{"$f":"IF('2-Programmer les activités'!I28=\"Selectionner\",\"\",'2-Programmer les activités'!I28)","v":""},{"$f":"IF('2-Programmer les activités'!J28=\"\",\"\",'2-Programmer les activités'!J28)","v":""},"",0,"",{"$nulls":3},"Selectionner",0,"","",1,null,null,""]
[{"$f":"IF('2-Programmer les activités'!A29=\"\",\"\",'2-Programmer les activités'!A29)","v":0},{"$f":"IF('2-Programmer les activités'!B29=\"Selectionner\",\"\",'2-Programmer les activités'!B29)","v":""},{"$f":"IF('2-Programmer les activités'!C29=\"Selectionner\",\"\",'2-Programmer les activités'!C29)","v":""},{"$f":"IF('2-Programmer les activités'!D29=\"\",\"\",'2-Programmer les activités'!D29)","v":""},null,{"$f":"IF('2-Programmer les activités'!H29=\"\",\"\",'2-Programmer les activités'!H29)","v":""},{"$f":"IF('2-Programmer les activités'!I29=\"Selectionner\",\"\",'2-Programmer les activités'!I29)","v":""},{"$f":"IF('2-Programmer les activités'!J29=\"\",\"\",'2-Programmer les activités'!J29)","v":""},"",0,"",{"$nulls":3},"Selectionner",0,"","",1,null,null,""]
[{"$f":"IF('2-Programmer les activités'!A30=\"\",\"\",'2-Programmer les activités'!A30)","v":0},{"$f":"IF('2-Programmer les activités'!B30=\"Selectionner\",\"\",'2-Programmer les activités'!B30)","v":""},{"$f":"IF('2-Programmer les activités'!C30=\"Selectionner\",\"\",'2-Programmer les activités'!C30)","v":""},{"$f":"IF('2-Programmer les activités'!D30=\"\",\"\",'2-Programmer les activités'!D30)","v":""},null,{"$f":"IF('2-Programmer les activités'!H30=\"\",\"\",'2-Programmer les activités'!H30)","v":""},{"$f":"IF('2-Programmer les activités'!I30=\"Selectionner\",\"\",'2-Programmer les activités'!I30)","v":""},{"$f":"IF('2-Programmer les activités'!J30=\"\",\"\",'2-Programmer les activités'!J30)","v":""},"",0,"",{"$nulls":3},"Selectionner",0,"","",1,null,null,""]
[{"$f":"IF('2-Programmer les activités'!A31=\"\",\"\",'2-Programmer les activités'!A31)","v":0},{"$f":"IF('2-Programmer les activités'!B31=\"Selectionner\",\"\",'2-Programmer les activités'!B31)","v":""},{"$f":"IF('2-Programmer les activités'!C31=\"Selectionner\",\"\",'2-Programmer les activités'!C31)","v":""},{"$f":"IF('2-Programmer les activités'!D31=\"\",\"\",'2-Programmer les activités'!D31)","v":""},null,{"$f":"IF('2-Programmer les activités'!H31=\"\",\"\",'2-Programmer les activités'!H31)","v":""},{"$f":"IF('2-Programmer les activités'!I31=\"Selectionner\",\"\",'2-Programmer les activités'!I31)","v":""},{"$f":"IF('2-Programmer les activités'!J31=\"\",\"\",'2-Programmer les activités'!J31)","v":""},"",0,"",{"$nulls":3},"Selectionner",0,"","",1,null,null,""]
[{"$f":"IF('2-Programmer les activités'!A32=\"\",\"\",'2-Programmer les activités'!A32)","v":0},{"$f":"IF('2-Programmer les activités'!B32=\"Selectionner\",\"\",'2-Programmer les activités'!B32)","v":""},{"$f":"IF('2-Programmer les activités'!C32=\"Selectionner\",\"\",'2-Programmer les activités'!C32)","v":""},{"$f":"IF('2-Programmer les activités'!D32=\"\",\"\",'2-Programmer les activités'!D32)","v":""},null,{"$f":"IF('2-Programmer les activités'!H32=\"\",\"\",'2-Programmer les activités'!H32)","v":""},{"$f":"IF('2-Programmer les activités'!I32=\"Selectionner\",\"\",'2-Programmer les activités'!I32)","v":""},{"$f":"IF('2-Programmer les activités'!J32=\"\",\"\",'2-Programmer les activités'!J32)","v":""},"",0,"",{"$nulls":3},"Selectionner",0,"","",1,null,null,""]
[{"$f":"IF('2-Programmer les activités'!A33=\"\",\"\",'2-Programmer les activités'!A33)","v":0},{"$f":"IF('2-Programmer les activités'!B33=\"Selectionner\",\"\",'2-Programmer les activités'!B33)","v":""},{"$f":"IF('2-Programmer les activités'!C33=\"Selectionner\",\"\",'2-Programmer les activités'!C33)","v":""},{"$f":"IF('2-Programmer les activités'!D33=\"\",\"\",'2-Programmer les activités'!D33)","v":""},null,{"$f":"IF('2-Programmer les activités'!H33=\"\",\"\",'2-Programmer les activités'!H33)","v":""},{"$f":"IF('2-Programmer les activités'!I33=\"Selectionner\",\"\",'2-Programmer les activités'!I33)","v":""},{"$f":"IF('2-Programmer les activités'!J33=\"\",\"\",'2-Programmer les activités'!J33)","v":""},"",0,"",{"$nulls":3},"Selectionner",0,"","",1,null,null,""]
[{"$f":"IF('2-Programmer les activités'!A34=\"\",\"\",'2-Programmer les activités'!A34)","v":0},{"$f":"IF('2-Programmer les activités'!B34=\"Selectionner\",\"\",'2-Programmer les activités'!B34)","v":""},{"$f":"IF('2-Programmer les activités'!C34=\"Selectionner\",\"\",'2-Programmer les activités'!C34)","v":""},{"$f":"IF('2-Programmer les activités'!D34=\"\",\"\",'2-Programmer les activités'!D34)","v":""},null,{"$f":"IF('2-Programmer les activités'!H34=\"\",\"\",'2-Programmer les activités'!H34)","v":""},{"$f":"IF('2-Programmer les activités'!I34=\"Selectionner\",\"\",'2-Programmer les activités'!I34)","v":""},{"$f":"IF('2-Programmer les activités'!J34=\"\",\"\",'2-Programmer les activités'!J34)","v":""},"",0,"",{"$nulls":3},"Selectionner",0,"","",1,null,null,""]
[{"$f":"IF('2-Programmer les activités'!A35=\"\",\"\",'2-Programmer les activités'!A35)","v":0},{"$f":"IF('2-Programmer les activités'!B35=\"Selectionner\",\"\",'2-Programmer les activités'!B35)","v":""},{"$f":"IF('2-Programmer les activités'!C35=\"Selectionner\",\"\",'2-Programmer les activités'!C35)","v":""},{"$f":"IF('2-Programmer les activités'!D35=\"\",\"\",'2-Programmer les activités'!D35)","v":""},null,{"$f":"IF('2-Programmer les activités'!H35=\"\",\"\",'2-Programmer les activités'!H35)","v":""},{"$f":"IF('2-Programmer les activités'!I35=\"Selectionner\",\"\",'2-Programmer les activités'!I35)","v":""},{"$f":"IF('2-Programmer les activités'!J35=\"\",\"\",'2-Programmer les activités'!J35)","v":""},"",0,"",{"$nulls":3},"Selectionner",0,"","",1,null,null,""]
[{"$f":"IF('2-Programmer les activités'!A36=\"\",\"\",'2-Programmer les activités'!A36)","v":0},{"$f":"IF('2-Programmer les activités'!B36=\"Selectionner\",\"\",'2-Programmer les activités'!B36)","v":""},{"$f":"IF('2-Programmer les activités'!C36=\"Selectionner\",\"\",'2-Programmer les activités'!C36)","v":""},{"$f":"IF('2-Programmer les activités'!D36=\"\",\"\",'2-Programmer les activités'!D36)","v":""},null,{"$f":"IF('2-Programmer les activités'!H36=\"\",\"\",'2-Programmer les activités'!H36)","v":""},{"$f":"IF('2-Programmer les activités'!I36=\"Selectionner\",\"\",'2-Programmer les activités'!I36)","v":""},{"$f":"IF('2-Programmer les activités'!J36=\"\",\"\",'2-Programmer les activités'!J36)","v":""},"",0,"",{"$nulls":3},"Selectionner",0,"","",1,null,null,""]
[{"$f":"IF('2-Programmer les activités'!A37=\"\",\"\",'2-Programmer les activités'!A37)","v":0},{"$f":"IF('2-Programmer les activités'!B37=\"Selectionner\",\"\",'2-Programmer les activités'!B37)","v":""},{"$f":"IF('2-Programmer les activités'!C37=\"Selectionner\",\"\",'2-Programmer les activités'!C37)","v":""},{"$f":"IF('2-Programmer les activités'!D37=\"\",\"\",'2-Programmer les activités'!D37)","v":""},null,{"$f":"IF('2-Programmer les activités'!H37=\"\",\"\",'2-Programmer les activités'!H37)","v":""},{"$f":"IF('2-Programmer les activités'!I37=\"Selectionner\",\"\",'2-Programmer les activités'!I37)","v":""},{"$f":"IF('2-Programmer les activités'!J37=\"\",\"\",'2-Programmer les activités'!J37)","v":""},"",0,"",{"$nulls":3},"Selectionner",0,"","",1,null,null,""]
[{"$f":"IF('2-Programmer les activités'!A38=\"\",\"\",'2-Programmer les activités'!A38)","v":0},{"$f":"IF('2-Programmer les activités'!B38=\"Selectionner\",\"\",'2-Programmer les activités'!B38)","v":""},{"$f":"IF('2-Programmer les activités'!C38=\"Selectionner\",\"\",'2-Programmer les activités'!C38)","v":""},{"$f":"IF('2-Programmer les activités'!D38=\"\",\"\",'2-Programmer les activités'!D38)","v":""},null,{"$f":"IF('2-Programmer les activités'!H38=\"\",\"\",'2-Programmer les activités'!H38)","v":""},{"$f":"IF('2-Programmer les activités'!I38=\"Selectionner\",\"\",'2-Programmer les activités'!I38)","v":""},{"$f":"IF('2-Programmer les activités'!J38=\"\",\"\",'2-Programmer les activités'!J38)","v":""},"",0,"",{"$nulls":3},"Selectionner",0,"","",1,null,null,""]
[{"$f":"IF('2-Programmer les activités'!A39=\"\",\"\",'2-Programmer les activités'!A39)","v":0},{"$f":"IF('2-Programmer les activités'!B39=\"Selectionner\",\"\",'2-Programmer les activités'!B39)","v":""},{"$f":"IF('2-Programmer les activités'!C39=\"Selectionner\",\"\",'2-Programmer les activités'!C39)","v":""},{"$f":"IF('2-Programmer les activités'!D39=\"\",\"\",'2-Programmer les activités'!D39)","v":""},null,{"$f":"IF('2-Programmer les activités'!H39=\"\",\"\",'2-Programmer les activités'!H39)","v":""},{"$f":"IF('2-Programmer les activités'!I39=\"Selectionner\",\"\",'2-Programmer les activités'!I39)","v":""},{"$f":"IF('2-Programmer les activités'!J39=\"\",\"\",'2-Programmer les activités'!J39)","v":""},"",0,"",{"$nulls":3},"Selectionner",0,"","",1,null,null,""]
[{"$f":"IF('2-Programmer les activités'!A40=\"\",\"\",'2-Programmer les activités'!A40)","v":0},{"$f":"IF('2-Programmer les activités'!B40=\"Selectionner\",\"\",'2-Programmer les activités'!B40)","v":""},{"$f":"IF('2-Programmer les activités'!C40=\"Selectionner\",\"\",'2-Programmer les activités'!C40)","v":""},{"$f":"IF('2-Programmer les activités'!D40=\"\",\"\",'2-Programmer les activités'!D40)","v":""},null,{"$f":"IF('2-Programmer les activités'!H40=\"\",\"\",'2-Programmer les activités'!H40)","v":""},{"$f":"IF('2-Programmer les activités'!I40=\"Selectionner\",\"\",'2-Programmer les activités'!I40)","v":""},{"$f":"IF('2-Programmer les activités'!J40=\"\",\"\",'2-Programmer les activités'!J40)","v":""},"",0,"",{"$nulls":3},"Selectionner",0,"","",1,null,null,""]
[{"$f":"IF('2-Programmer les activités'!A41=\"\",\"\",'2-Programmer les activités'!A41)","v":0},{"$f":"IF('2-Programmer les activités'!B41=\"Selectionner\",\"\",'2-Programmer les activités'!B41)","v":""},{"$f":"IF('2-Programmer les activités'!C41=\"Selectionner\",\"\",'2-Programmer les activités'!C41)","v":""},{"$f":"IF('2-Programmer les activités'!D41=\"\",\"\",'2-Programmer les activités'!D41)","v":""},null,{"$f":"IF('2-Programmer les activités'!H41=\"\",\"\",'2-Programmer les activités'!H41)","v":""},{"$f":"IF('2-Programmer les activités'!I41=\"Selectionner\",\"\",'2-Programmer les activités'!I41)","v":""},{"$f":"IF('2-Programmer les activités'!J41=\"\",\"\",'2-Programmer les activités'!J41)","v":""},"",0,"",{"$nulls":3},"Selectionner",0,"","",1,null,null,""]
[{"$f":"IF('2-Programmer les activités'!A42=\"\",\"\",'2-Programmer les activités'!A42)","v":0},{"$f":"IF('2-Programmer les activités'!B42=\"Selectionner\",\"\",'2-Programmer les activités'!B42)","v":""},{"$f":"IF('2-Programmer les activités'!C42=\"Selectionner\",\"\",'2-Programmer les activités'!C42)","v":""},{"$f":"IF('2-Programmer les activités'!D42=\"\",\"\",'2-Programmer les activités'!D42)","v":""},null,{"$f":"IF('2-Programmer les activités'!H42=\"\",\"\",'2-Programmer les activités'!H42)","v":""},{"$f":"IF('2-Programmer les activités'!I42=\"Selectionner\",\"\",'2-Programmer les activités'!I42)","v":""},{"$f":"IF('2-Programmer les activités'!J42=\"\",\"\",'2-Programmer les activités'!J42)","v":""},"",0,"",{"$nulls":3},"Selectionner",0,"","",1,null,null,""]
[{"$f":"IF('2-Programmer les activités'!A43=\"\",\"\",'2-Programmer les activités'!A43)","v":0},{"$f":"IF('2-Programmer les activités'!B43=\"Selectionner\",\"\",'2-Programmer les activités'!B43)","v":""},{"$f":"IF('2-Programmer les activités'!C43=\"Selectionner\",\"\",'2-Programmer les activités'!C43)","v":""},{"$f":"IF('2-Programmer les activités'!D43=\"\",\"\",'2-Programmer les activités'!D43)","v":""},null,{"$f":"IF('2-Programmer les activités'!H43=\"\",\"\",'2-Programmer les activités'!H43)","v":""},{"$f":"IF('2-Programmer les activités'!I43=\"Selectionner\",\"\",'2-Programmer les activités'!I43)","v":""},{"$f":"IF('2-Programmer les activités'!J43=\"\",\"\",'2-Programmer les activités'!J43)","v":""},"",0,"",{"$nulls":3},"Selectionner",0,"","",1,null,null,""]
[{"$f":"IF('2-Programmer les activités'!A44=\"\",\"\",'2-Programmer les activités'!A44)","v":0},{"$f":"IF('2-Programmer les activités'!B44=\"Selectionner\",\"\",'2-Programmer les activités'!B44)","v":""},{"$f":"IF('2-Programmer les activités'!C44=\"Selectionner\",\"\",'2-Programmer les activités'!C44)","v":""},{"$f":"IF('2-Programmer les activités'!D44=\"\",\"\",'2-Programmer les activités'!D44)","v":""},null,{"$f":"IF('2-Programmer les activités'!H44=\"\",\"\",'2-Programmer les activités'!H44)","v":""},{"$f":"IF('2-Programmer les activités'!I44=\"Selectionner\",\"\",'2-Programmer les activités'!I44)","v":""},{"$f":"IF('2-Programmer les activités'!J44=\"\",\"\",'2-Programmer les activités'!J44)","v":""},"",0,{"$f":"IF(H44=\"\",\"\",R44)","v":""},{"$nulls":3},"Selectionner",0,"",{"$f":"IF(AND(I44<8,AND(I44>=0)),1,\"\")","v":""},{"$f":"IF(D44=\"Selectionner\",0,1)","v":1},null,null,{"$f":"IFERROR((F44-R44),\"\")","v":""}]
[{"$f":"IF('2-Programmer les activités'!A45=\"\",\"\",'2-Programmer les activités'!A45)","v":0},{"$f":"IF('2-Programmer les activités'!B45=\"Selectionner\",\"\",'2-Programmer les activités'!B45)","v":""},{"$f":"IF('2-Programmer les activités'!C45=\"Selectionner\",\"\",'2-Programmer les activités'!C45)","v":""},{"$f":"IF('2-Programmer les activités'!D45=\"\",\"\",'2-Programmer les activités'!D45)","v":""},null,{"$f":"IF('2-Programmer les activités'!H45=\"\",\"\",'2-Programmer les activités'!H45)","v":""},{"$f":"IF('2-Programmer les activités'!I45=\"Selectionner\",\"\",'2-Programmer les activités'!I45)","v":""},{"$f":"IF('2-Programmer les activités'!J45=\"\",\"\",'2-Programmer les activités'!J45)","v":""},"",0,"",{"$nulls":3},"Selectionner",0,"","",1,null,null,""]
[{"$f":"IF('2-Programmer les activités'!A46=\"\",\"\",'2-Programmer les activités'!A46)","v":0},{"$f":"IF('2-Programmer les activités'!B46=\"Selectionner\",\"\",'2-Programmer les activités'!B46)","v":""},{"$f":"IF('2-Programmer les activités'!C46=\"Selectionner\",\"\",'2-Programmer les activités'!C46)","v":""},{"$f":"IF('2-Programmer les activités'!D46=\"\",\"\",'2-Programmer les activités'!D46)","v":""},null,{"$f":"IF('2-Programmer les activités'!H46=\"\",\"\",'2-Programmer les activités'!H46)","v":""},{"$f":"IF('2-Programmer les activités'!I46=\"Selectionner\",\"\",'2-Programmer les activités'!I46)","v":""},{"$f":"IF('2-Programmer les activités'!J46=\"\",\"\",'2-Programmer les activités'!J46)","v":""},"",0,"",{"$nulls":3},"Selectionner",0,"","",1,null,null,""]
[{"$f":"IF('2-Programmer les activités'!A47=\"\",\"\",'2-Programmer les activités'!A47)","v":0},{"$f":"IF('2-Programmer les activités'!B47=\"Selectionner\",\"\",'2-Programmer les activités'!B47)","v":""},{"$f":"IF('2-Programmer les activités'!C47=\"Selectionner\",\"\",'2-Programmer les activités'!C47)","v":""},{"$f":"IF('2-Programmer les activités'!D47=\"\",\"\",'2-Programmer les activités'!D47)","v":""},null,{"$f":"IF('2-Programmer les activités'!H47=\"\",\"\",'2-Programmer les activités'!H47)","v":""},{"$f":"IF('2-Programmer les activités'!I47=\"Selectionner\",\"\",'2-Programmer les activités'!I47)","v":""},{"$f":"IF('2-Programmer les activités'!J47=\"\",\"\",'2-Programmer les activités'!J47)","v":""},"",0,"",{"$nulls":3},"Selectionner",0,"","",1,null,null,""]
[{"$f":"IF('2-Programmer les activités'!A48=\"\",\"\",'2-Programmer les activités'!A48)","v":0},{"$f":"IF('2-Programmer les activités'!B48=\"Selectionner\",\"\",'2-Programmer les activités'!B48)","v":""},{"$f":"IF('2-Programmer les activités'!C48=\"Selectionner\",\"\",'2-Programmer les activités'!C48)","v":""},{"$f":"IF('2-Programmer les activités'!D48=\"\",\"\",'2-Programmer les activités'!D48)","v":""},null,{"$f":"IF('2-Programmer les activités'!H48=\"\",\"\",'2-Programmer les activités'!H48)","v":""},{"$f":"IF('2-Programmer les activités'!I48=\"Selectionner\",\"\",'2-Programmer les activités'!I48)","v":""},{"$f":"IF('2-Programmer les activités'!J48=\"\",\"\",'2-Programmer les activités'!J48)","v":""},"",0,"",{"$nulls":3},"Selectionner",0,"","",1,null,null,""]
[{"$f":"IF('2-Programmer les activités'!A49=\"\",\"\",'2-Programmer les activités'!A49)","v":0},{"$f":"IF('2-Programmer les activités'!B49=\"Selectionner\",\"\",'2-Programmer les activités'!B49)","v":""},{"$f":"IF('2-Programmer les activités'!C49=\"Selectionner\",\"\",'2-Programmer les activités'!C49)","v":""},{"$f":"IF('2-Programmer les activités'!D49=\"\",\"\",'2-Programmer les activités'!D49)","v":""},null,{"$f":"IF('2-Programmer les activités'!H49=\"\",\"\",'2-Programmer les activités'!H49)","v":""},{"$f":"IF('2-Programmer les activités'!I49=\"Selectionner\",\"\",'2-Programmer les activités'!I49)","v":""},{"$f":"IF('2-Programmer les activités'!J49=\"\",\"\",'2-Programmer les activités'!J49)","v":""},"",0,"",{"$nulls":3},"Selectionner",0,"","",1,null,null,""]
[{"$f":"IF('2-Programmer les activités'!A50=\"\",\"\",'2-Programmer les activités'!A50)","v":0},{"$f":"IF('2-Programmer les activités'!B50=\"Selectionner\",\"\",'2-Programmer les activités'!B50)","v":""},{"$f":"IF('2-Programmer les activités'!C50=\"Selectionner\",\"\",'2-Programmer les activités'!C50)","v":""},{"$f":"IF('2-Programmer les activités'!D50=\"\",\"\",'2-Programmer les activités'!D50)","v":""},null,{"$f":"IF('2-Programmer les activités'!H50=\"\",\"\",'2-Programmer les activités'!H50)","v":""},{"$f":"IF('2-Programmer les activités'!I50=\"Selectionner\",\"\",'2-Programmer les activités'!I50)","v":""},{"$f":"IF('2-Programmer les activités'!J50=\"\",\"\",'2-Programmer les activités'!J50)","v":""},"",0,"",{"$nulls":3},"Selectionner",0,"","",1,null,null,""]
[{"$f":"IF('2-Programmer les activités'!A51=\"\",\"\",'2-Programmer les activités'!A51)","v":0},{"$f":"IF('2-Programmer les activités'!B51=\"Selectionner\",\"\",'2-Programmer les activités'!B51)","v":""},{"$f":"IF('2-Programmer les activités'!C51=\"Selectionner\",\"\",'2-Programmer les activités'!C51)","v":""},{"$f":"IF('2-Programmer les activités'!D51=\"\",\"\",'2-Programmer les activités'!D51)","v":""},null,{"$f":"IF('2-Programmer les activités'!H51=\"\",\"\",'2-Programmer les activités'!H51)","v":""},{"$f":"IF('2-Programmer les activités'!I51=\"Selectionner\",\"\",'2-Programmer les activités'!I51)","v":""},{"$f":"IF('2-Programmer les activités'!J51=\"\",\"\",'2-Programmer les activités'!J51)","v":""},{"$f":"IFERROR(IF(P51=1,\"\",Q51),\"\")","v":""},0,"",{"$nulls":3},"Selectionner",0,{"$f":"IFERROR((H51-TODAY()),\"\")","v":""},"",1,null,null,""]
[{"$f":"IF('2-Programmer les activités'!A52=\"\",\"\",'2-Programmer les activités'!A52)","v":0},{"$f":"IF('2-Programmer les activités'!B52=\"Selectionner\",\"\",'2-Programmer les activités'!B52)","v":""},{"$f":"IF('2-Programmer les activités'!C52=\"Selectionner\",\"\",'2-Programmer les activités'!C52)","v":""},{"$f":"IF('2-Programmer les activités'!D52=\"\",\"\",'2-Programmer les activités'!D52)","v":""},null,{"$f":"IF('2-Programmer les activités'!H52=\"\",\"\",'2-Programmer les activités'!H52)","v":""},{"$f":"IF('2-Programmer les activités'!I52=\"Selectionner\",\"\",'2-Programmer les activités'!I52)","v":""},{"$f":"IF('2-Programmer les activités'!J52=\"\",\"\",'2-Programmer les activités'!J52)","v":""},"",0,"",{"$nulls":3},"Selectionner",0,"","",1,null,null,""]
[{"$f":"IF('2-Programmer les activités'!A53=\"\",\"\",'2-Programmer les activités'!A53)","v":0},{"$f":"IF('2-Programmer les activités'!B53=\"Selectionner\",\"\",'2-Programmer les activités'!B53)","v":""},{"$f":"IF('2-Programmer les activités'!C53=\"Selectionner\",\"\",'2-Programmer les activités'!C53)","v":""},{"$f":"IF('2-Programmer les activités'!D53=\"\",\"\",'2-Programmer les activités'!D53)","v":""},null,{"$f":"IF('2-Programmer les activités'!H53=\"\",\"\",'2-Programmer les activités'!H53)","v":""},{"$f":"IF('2-Programmer les activités'!I53=\"Selectionner\",\"\",'2-Programmer les activités'!I53)","v":""},{"$f":"IF('2-Programmer les activités'!J53=\"\",\"\",'2-Programmer les activités'!J53)","v":""},"",0,"",{"$nulls":3},"Selectionner",0,"","",1,null,null,""]
[{"$f":"IF('2-Programmer les activités'!A54=\"\",\"\",'2-Programmer les activités'!A54)","v":0},{"$f":"IF('2-Programmer les activités'!B54=\"Selectionner\",\"\",'2-Programmer les activités'!B54)","v":""},{"$f":"IF('2-Programmer les activités'!C54=\"Selectionner\",\"\",'2-Programmer les activités'!C54)","v":""},{"$f":"IF('2-Programmer les activités'!D54=\"\",\"\",'2-Programmer les activités'!D54)","v":""},null,{"$f":"IF('2-Programmer les activités'!H54=\"\",\"\",'2-Programmer les activités'!H54)","v":""},{"$f":"IF('2-Programmer les activités'!I54=\"Selectionner\",\"\",'2-Programmer les activités'!I54)","v":""},{"$f":"IF('2-Programmer les activités'!J54=\"\",\"\",'2-Programmer les activités'!J54)","v":""},"",0,"",{"$nulls":3},"Selectionner",0,"","",1,null,null,""]
[{"$f":"IF('2-Programmer les activités'!A55=\"\",\"\",'2-Programmer les activités'!A55)","v":0},{"$f":"IF('2-Programmer les activités'!B55=\"Selectionner\",\"\",'2-Programmer les activités'!B55)","v":""},{"$f":"IF('2-Programmer les activités'!C55=\"Selectionner\",\"\",'2-Programmer les activités'!C55)","v":""},{"$f":"IF('2-Programmer les activités'!D55=\"\",\"\",'2-Programmer les activités'!D55)","v":""},null,{"$f":"IF('2-Programmer les activités'!H55=\"\",\"\",'2-Programmer les activités'!H55)","v":""},{"$f":"IF('2-Programmer les activités'!I55=\"Selectionner\",\"\",'2-Programmer les activités'!I55)","v":""},{"$f":"IF('2-Programmer les activités'!J55=\"\",\"\",'2-Programmer les activités'!J55)","v":""},"",0,"",{"$nulls":3},"Selectionner",0,"","",1,null,null,""]
[{"$f":"IF('2-Programmer les activités'!A56=\"\",\"\",'2-Programmer les activités'!A56)","v":0},{"$f":"IF('2-Programmer les activités'!B56=\"Selectionner\",\"\",'2-Programmer les activités'!B56)","v":""},{"$f":"IF('2-Programmer les activités'!C56=\"Selectionner\",\"\",'2-Programmer les activités'!C56)","v":""},{"$f":"IF('2-Programmer les activités'!D56=\"\",\"\",'2-Programmer les activités'!D56)","v":""},null,{"$f":"IF('2-Programmer les activités'!H56=\"\",\"\",'2-Programmer les activités'!H56)","v":""},{"$f":"IF('2-Programmer les activités'!I56=\"Selectionner\",\"\",'2-Programmer les activités'!I56)","v":""},{"$f":"IF('2-Programmer les activités'!J56=\"\",\"\",'2-Programmer les activités'!J56)","v":""},"",0,"",{"$nulls":3},"Selectionner",0,"","",1,null,null,""]
[{"$f":"IF('2-Programmer les activités'!A57=\"\",\"\",'2-Programmer les activités'!A57)","v":0},{"$f":"IF('2-Programmer les activités'!B57=\"Selectionner\",\"\",'2-Programmer les activités'!B57)","v":""},{"$f":"IF('2-Programmer les activités'!C57=\"Selectionner\",\"\",'2-Programmer les activités'!C57)","v":""},{"$f":"IF('2-Programmer les activités'!D57=\"\",\"\",'2-Programmer les activités'!D57)","v":""},null,{"$f":"IF('2-Programmer les activités'!H57=\"\",\"\",'2-Programmer les activités'!H57)","v":""},{"$f":"IF('2-Programmer les activités'!I57=\"Selectionner\",\"\",'2-Programmer les activités'!I57)","v":""},{"$f":"IF('2-Programmer les activités'!J57=\"\",\"\",'2-Programmer les activités'!J57)","v":""},"",0,"",{"$nulls":3},"Selectionner",0,"","",1,null,null,""]
[{"$f":"IF('2-Programmer les activités'!A58=\"\",\"\",'2-Programmer les activités'!A58)","v":0},{"$f":"IF('2-Programmer les activités'!B58=\"Selectionner\",\"\",'2-Programmer les activités'!B58)","v":""},{"$f":"IF('2-Programmer les activités'!C58=\"Selectionner\",\"\",'2-Programmer les activités'!C58)","v":""},{"$f":"IF('2-Programmer les activités'!D58=\"\",\"\",'2-Programmer les activités'!D58)","v":""},null,{"$f":"IF('2-Programmer les activités'!H58=\"\",\"\",'2-Programmer les activités'!H58)","v":""},{"$f":"IF('2-Programmer les activités'!I58=\"Selectionner\",\"\",'2-Programmer les activités'!I58)","v":""},{"$f":"IF('2-Programmer les activités'!J58=\"\",\"\",'2-Programmer les activités'!J58)","v":""},"",0,"",{"$nulls":3},"Selectionner",0,"","",1,null,null,""]
[{"$f":"IF('2-Programmer les activités'!A59=\"\",\"\",'2-Programmer les activités'!A59)","v":0},{"$f":"IF('2-Programmer les activités'!B59=\"Selectionner\",\"\",'2-Programmer les activités'!B59)","v":""},{"$f":"IF('2-Programmer les activités'!C59=\"Selectionner\",\"\",'2-Programmer les activités'!C59)","v":""},{"$f":"IF('2-Programmer les activités'!D59=\"\",\"\",'2-Programmer les activités'!D59)","v":""},null,{"$f":"IF('2-Programmer les activités'!H59=\"\",\"\",'2-Programmer les activités'!H59)","v":""},{"$f":"IF('2-Programmer les activités'!I59=\"Selectionner\",\"\",'2-Programmer les activités'!I59)","v":""},{"$f":"IF('2-Programmer les activités'!J59=\"\",\"\",'2-Programmer les activités'!J59)","v":""},"",0,"",{"$nulls":3},"Selectionner",0,"","",1,null,null,""]
[{"$f":"IF('2-Programmer les activités'!A60=\"\",\"\",'2-Programmer les activités'!A60)","v":0},{"$f":"IF('2-Programmer les activités'!B60=\"Selectionner\",\"\",'2-Programmer les activités'!B60)","v":""},{"$f":"IF('2-Programmer les activités'!C60=\"Selectionner\",\"\",'2-Programmer les activités'!C60)","v":""},{"$f":"IF('2-Programmer les activités'!D60=\"\",\"\",'2-Programmer les activités'!D60)","v":""},null,{"$f":"IF('2-Programmer les activités'!H60=\"\",\"\",'2-Programmer les activités'!H60)","v":""},{"$f":"IF('2-Programmer les activités'!I60=\"Selectionner\",\"\",'2-Programmer les activités'!I60)","v":""},{"$f":"IF('2-Programmer les activités'!J60=\"\",\"\",'2-Programmer les activités'!J60)","v":""},"",0,"",{"$nulls":3},"Selectionner",0,"","",1,null,null,""]
[{"$f":"IF('2-Programmer les activités'!A61=\"\",\"\",'2-Programmer les activités'!A61)","v":0},{"$f":"IF('2-Programmer les activités'!B61=\"Selectionner\",\"\",'2-Programmer les activités'!B61)","v":""},{"$f":"IF('2-Programmer les activités'!C61=\"Selectionner\",\"\",'2-Programmer les activités'!C61)","v":""},{"$f":"IF('2-Programmer les activités'!D61=\"\",\"\",'2-Programmer les activités'!D61)","v":""},null,{"$f":"IF('2-Programmer les activités'!H61=\"\",\"\",'2-Programmer les activités'!H61)","v":""},{"$f":"IF('2-Programmer les activités'!I61=\"Selectionner\",\"\",'2-Programmer les activités'!I61)","v":""},{"$f":"IF('2-Programmer les activités'!J61=\"\",\"\",'2-Programmer les activités'!J61)","v":""},"",0,"",{"$nulls":3},"Selectionner",0,"","",1,null,null,""]
[{"$f":"IF('2-Programmer les activités'!A62=\"\",\"\",'2-Programmer les activités'!A62)","v":0},{"$f":"IF('2-Programmer les activités'!B62=\"Selectionner\",\"\",'2-Programmer les activités'!B62)","v":""},{"$f":"IF('2-Programmer les activités'!C62=\"Selectionner\",\"\",'2-Programmer les activités'!C62)","v":""},{"$f":"IF('2-Programmer les activités'!D62=\"\",\"\",'2-Programmer les activités'!D62)","v":""},null,{"$f":"IF('2-Programmer les activités'!H62=\"\",\"\",'2-Programmer les activités'!H62)","v":""},{"$f":"IF('2-Programmer les activités'!I62=\"Selectionner\",\"\",'2-Programmer les activités'!I62)","v":""},{"$f":"IF('2-Programmer les activités'!J62=\"\",\"\",'2-Programmer les activités'!J62)","v":""},"",0,"",{"$nulls":3},"Selectionner",0,"","",1,null,null,""]
[{"$f":"IF('2-Programmer les activités'!A63=\"\",\"\",'2-Programmer les activités'!A63)","v":0},{"$f":"IF('2-Programmer les activités'!B63=\"Selectionner\",\"\",'2-Programmer les activités'!B63)","v":""},{"$f":"IF('2-Programmer les activités'!C63=\"Selectionner\",\"\",'2-Programmer les activités'!C63)","v":""},{"$f":"IF('2-Programmer les activités'!D63=\"\",\"\",'2-Programmer les activités'!D63)","v":""},null,{"$f":"IF('2-Programmer les activités'!H63=\"\",\"\",'2-Programmer les activités'!H63)","v":""},{"$f":"IF('2-Programmer les activités'!I63=\"Selectionner\",\"\",'2-Programmer les activités'!I63)","v":""},{"$f":"IF('2-Programmer les activités'!J63=\"\",\"\",'2-Programmer les activités'!J63)","v":""},"",0,"",{"$nulls":3},"Selectionner",0,"","",1,null,null,""]
[{"$f":"IF('2-Programmer les activités'!A64=\"\",\"\",'2-Programmer les activités'!A64)","v":0},{"$f":"IF('2-Programmer les activités'!B64=\"Selectionner\",\"\",'2-Programmer les activités'!B64)","v":""},{"$f":"IF('2-Programmer les activités'!C64=\"Selectionner\",\"\",'2-Programmer les activités'!C64)","v":""},{"$f":"IF('2-Programmer les activités'!D64=\"\",\"\",'2-Programmer les activités'!D64)","v":""},null,{"$f":"IF('2-Programmer les activités'!H64=\"\",\"\",'2-Programmer les activités'!H64)","v":""},{"$f":"IF('2-Programmer les activités'!I64=\"Selectionner\",\"\",'2-Programmer les activités'!I64)","v":""},{"$f":"IF('2-Programmer les activités'!J64=\"\",\"\",'2-Programmer les activités'!J64)","v":""},"",0,"",{"$nulls":3},"Selectionner",0,"","",1,null,null,""]
[{"$f":"IF('2-Programmer les activités'!A65=\"\",\"\",'2-Programmer les activités'!A65)","v":0},{"$f":"IF('2-Programmer les activités'!B65=\"Selectionner\",\"\",'2-Programmer les activités'!B65)","v":""},{"$f":"IF('2-Programmer les activités'!C65=\"Selectionner\",\"\",'2-Programmer les activités'!C65)","v":""},{"$f":"IF('2-Programmer les activités'!D65=\"\",\"\",'2-Programmer les activités'!D65)","v":""},null,{"$f":"IF('2-Programmer les activités'!H65=\"\",\"\",'2-Programmer les activités'!H65)","v":""},{"$f":"IF('2-Programmer les activités'!I65=\"Selectionner\",\"\",'2-Programmer les activités'!I65)","v":""},{"$f":"IF('2-Programmer les activités'!J65=\"\",\"\",'2-Programmer les activités'!J65)","v":""},"",0,"",{"$nulls":3},"Selectionner",0,"","",1,null,null,""]
[{"$f":"IF('2-Programmer les activités'!A66=\"\",\"\",'2-Programmer les activités'!A66)","v":0},{"$f":"IF('2-Programmer les activités'!B66=\"Selectionner\",\"\",'2-Programmer les activités'!B66)","v":""},{"$f":"IF('2-Programmer les activités'!C66=\"Selectionner\",\"\",'2-Programmer les activités'!C66)","v":""},{"$f":"IF('2-Programmer les activités'!D66=\"\",\"\",'2-Programmer les activités'!D66)","v":""},null,{"$f":"IF('2-Programmer les activités'!H66=\"\",\"\",'2-Programmer les activités'!H66)","v":""},{"$f":"IF('2-Programmer les activités'!I66=\"Selectionner\",\"\",'2-Programmer les activités'!I66)","v":""},{"$f":"IF('2-Programmer les activités'!J66=\"\",\"\",'2-Programmer les activités'!J66)","v":""},"",0,"",{"$nulls":3},"Selectionner",0,"","",1,null,null,""]
[{"$f":"IF('2-Programmer les activités'!A67=\"\",\"\",'2-Programmer les activités'!A67)","v":0},{"$f":"IF('2-Programmer les activités'!B67=\"Selectionner\",\"\",'2-Programmer les activités'!B67)","v":""},{"$f":"IF('2-Programmer les activités'!C67=\"Selectionner\",\"\",'2-Programmer les activités'!C67)","v":""},{"$f":"IF('2-Programmer les activités'!D67=\"\",\"\",'2-Programmer les activités'!D67)","v":""},null,{"$f":"IF('2-Programmer les activités'!H67=\"\",\"\",'2-Programmer les activités'!H67)","v":""},{"$f":"IF('2-Programmer les activités'!I67=\"Selectionner\",\"\",'2-Programmer les activités'!I67)","v":""},{"$f":"IF('2-Programmer les activités'!J67=\"\",\"\",'2-Programmer les activités'!J67)","v":""},"",0,"",{"$nulls":3},"Selectionner",0,"","",1,null,null,""]
[{"$f":"IF('2-Programmer les activités'!A68=\"\",\"\",'2-Programmer les activités'!A68)","v":0},{"$f":"IF('2-Programmer les activités'!B68=\"Selectionner\",\"\",'2-Programmer les activités'!B68)","v":""},{"$f":"IF('2-Programmer les activités'!C68=\"Selectionner\",\"\",'2-Programmer les activités'!C68)","v":""},{"$f":"IF('2-Programmer les activités'!D68=\"\",\"\",'2-Programmer les activités'!D68)","v":""},null,{"$f":"IF('2-Programmer les activités'!H68=\"\",\"\",'2-Programmer les activités'!H68)","v":""},{"$f":"IF('2-Programmer les activités'!I68=\"Selectionner\",\"\",'2-Programmer les activités'!I68)","v":""},{"$f":"IF('2-Programmer les activités'!J68=\"\",\"\",'2-Programmer les activités'!J68)","v":""},"",0,"",{"$nulls":3},"Selectionner",0,"","",1,null,null,""]
[{"$f":"IF('2-Programmer les activités'!A69=\"\",\"\",'2-Programmer les activités'!A69)","v":0},{"$f":"IF('2-Programmer les activités'!B69=\"Selectionner\",\"\",'2-Programmer les activités'!B69)","v":""},{"$f":"IF('2-Programmer les activités'!C69=\"Selectionner\",\"\",'2-Programmer les activités'!C69)","v":""},{"$f":"IF('2-Programmer les activités'!D69=\"\",\"\",'2-Programmer les activités'!D69)","v":""},null,{"$f":"IF('2-Programmer les activités'!H69=\"\",\"\",'2-Programmer les activités'!H69)","v":""},{"$f":"IF('2-Programmer les activités'!I69=\"Selectionner\",\"\",'2-Programmer les activités'!I69)","v":""},{"$f":"IF('2-Programmer les activités'!J69=\"\",\"\",'2-Programmer les activités'!J69)","v":""},"",0,"",{"$nulls":3},"Selectionner",0,"","",1,null,null,""]
[{"$f":"IF('2-Programmer les activités'!A70=\"\",\"\",'2-Programmer les activités'!A70)","v":0},{"$f":"IF('2-Programmer les activités'!B70=\"Selectionner\",\"\",'2-Programmer les activités'!B70)","v":""},{"$f":"IF('2-Programmer les activités'!C70=\"Selectionner\",\"\",'2-Programmer les activités'!C70)","v":""},{"$f":"IF('2-Programmer les activités'!D70=\"\",\"\",'2-Programmer les activités'!D70)","v":""},null,{"$f":"IF('2-Programmer les activités'!H70=\"\",\"\",'2-Programmer les activités'!H70)","v":""},{"$f":"IF('2-Programmer les activités'!I70=\"Selectionner\",\"\",'2-Programmer les activités'!I70)","v":""},{"$f":"IF('2-Programmer les activités'!J70=\"\",\"\",'2-Programmer les activités'!J70)","v":""},"",0,"",{"$nulls":3},"Selectionner",0,"","",1,null,null,""]
[{"$f":"IF('2-Programmer les activités'!A71=\"\",\"\",'2-Programmer les activités'!A71)","v":0},{"$f":"IF('2-Programmer les activités'!B71=\"Selectionner\",\"\",'2-Programmer les activités'!B71)","v":""},{"$f":"IF('2-Programmer les activités'!C71=\"Selectionner\",\"\",'2-Programmer les activités'!C71)","v":""},{"$f":"IF('2-Programmer les activités'!D71=\"\",\"\",'2-Programmer les activités'!D71)","v":""},null,{"$f":"IF('2-Programmer les activités'!H71=\"\",\"\",'2-Programmer les activités'!H71)","v":""},{"$f":"IF('2-Programmer les activités'!I71=\"Selectionner\",\"\",'2-Programmer les activités'!I71)","v":""},{"$f":"IF('2-Programmer les activités'!J71=\"\",\"\",'2-Programmer les activités'!J71)","v":""},"",0,"",{"$nulls":3},"Selectionner",0,"","",1,null,null,""]
[{"$f":"IF('2-Programmer les activités'!A72=\"\",\"\",'2-Programmer les activités'!A72)","v":0},{"$f":"IF('2-Programmer les activités'!B72=\"Selectionner\",\"\",'2-Programmer les activités'!B72)","v":""},{"$f":"IF('2-Programmer les activités'!C72=\"Selectionner\",\"\",'2-Programmer les activités'!C72)","v":""},{"$f":"IF('2-Programmer les activités'!D72=\"\",\"\",'2-Programmer les activités'!D72)","v":""},null,{"$f":"IF('2-Programmer les activités'!H72=\"\",\"\",'2-Programmer les activités'!H72)","v":""},{"$f":"IF('2-Programmer les activités'!I72=\"Selectionner\",\"\",'2-Programmer les activités'!I72)","v":""},{"$f":"IF('2-Programmer les activités'!J72=\"\",\"\",'2-Programmer les activités'!J72)","v":""},"",0,"",{"$nulls":3},"Selectionner",0,"","",1,null,null,""]
[{"$f":"IF('2-Programmer les activités'!A73=\"\",\"\",'2-Programmer les activités'!A73)","v":0},{"$f":"IF('2-Programmer les activités'!B73=\"Selectionner\",\"\",'2-Programmer les activités'!B73)","v":""},{"$f":"IF('2-Programmer les activités'!C73=\"Selectionner\",\"\",'2-Programmer les activités'!C73)","v":""},{"$f":"IF('2-Programmer les activités'!D73=\"\",\"\",'2-Programmer les activités'!D73)","v":""},null,{"$f":"IF('2-Programmer les activités'!H73=\"\",\"\",'2-Programmer les activités'!H73)","v":""},{"$f":"IF('2-Programmer les activités'!I73=\"Selectionner\",\"\",'2-Programmer les activités'!I73)","v":""},{"$f":"IF('2-Programmer les activités'!J73=\"\",\"\",'2-Programmer les activités'!J73)","v":""},"",0,"",{"$nulls":3},"Selectionner",0,"","",1,null,null,""]
[{"$f":"IF('2-Programmer les activités'!A74=\"\",\"\",'2-Programmer les activités'!A74)","v":0},{"$f":"IF('2-Programmer les activités'!B74=\"Selectionner\",\"\",'2-Programmer les activités'!B74)","v":""},{"$f":"IF('2-Programmer les activités'!C74=\"Selectionner\",\"\",'2-Programmer les activités'!C74)","v":""},{"$f":"IF('2-Programmer les activités'!D74=\"\",\"\",'2-Programmer les activités'!D74)","v":""},null,{"$f":"IF('2-Programmer les activités'!H74=\"\",\"\",'2-Programmer les activités'!H74)","v":""},{"$f":"IF('2-Programmer les activités'!I74=\"Selectionner\",\"\",'2-Programmer les activités'!I74)","v":""},{"$f":"IF('2-Programmer les activités'!J74=\"\",\"\",'2-Programmer les activités'!J74)","v":""},"",0,"",{"$nulls":3},"Selectionner",0,"","",1,null,null,""]
[{"$f":"IF('2-Programmer les activités'!A75=\"\",\"\",'2-Programmer les activités'!A75)","v":0},{"$f":"IF('2-Programmer les activités'!B75=\"Selectionner\",\"\",'2-Programmer les activités'!B75)","v":""},{"$f":"IF('2-Programmer les activités'!C75=\"Selectionner\",\"\",'2-Programmer les activités'!C75)","v":""},{"$f":"IF('2-Programmer les activités'!D75=\"\",\"\",'2-Programmer les activités'!D75)","v":""},null,{"$f":"IF('2-Programmer les activités'!H75=\"\",\"\",'2-Programmer les activités'!H75)","v":""},{"$f":"IF('2-Programmer les activités'!I75=\"Selectionner\",\"\",'2-Programmer les activités'!I75)","v":""},{"$f":"IF('2-Programmer les activités'!J75=\"\",\"\",'2-Programmer les activités'!J75)","v":""},"",0,"",{"$nulls":3},"Selectionner",0,"","",1,null,null,""]
[{"$f":"IF('2-Programmer les activités'!A76=\"\",\"\",'2-Programmer les activités'!A76)","v":0},{"$f":"IF('2-Programmer les activités'!B76=\"Selectionner\",\"\",'2-Programmer les activités'!B76)","v":""},{"$f":"IF('2-Programmer les activités'!C76=\"Selectionner\",\"\",'2-Programmer les activités'!C76)","v":""},{"$f":"IF('2-Programmer les activités'!D76=\"\",\"\",'2-Programmer les activités'!D76)","v":""},null,{"$f":"IF('2-Programmer les activités'!H76=\"\",\"\",'2-Programmer les activités'!H76)","v":""},{"$f":"IF('2-Programmer les activités'!I76=\"Selectionner\",\"\",'2-Programmer les activités'!I76)","v":""},{"$f":"IF('2-Programmer les activités'!J76=\"\",\"\",'2-Programmer les activités'!J76)","v":""},"",0,{"$f":"IF(H76=\"\",\"\",R76)","v":""},{"$nulls":3},"Selectionner",0,"",{"$f":"IF(AND(I76<8,AND(I76>=0)),1,\"\")","v":""},{"$f":"IF(D76=\"Selectionner\",0,1)","v":1},null,null,{"$f":"IFERROR((F76-R76),\"\")","v":""}]
[{"$f":"IF('2-Programmer les activités'!A77=\"\",\"\",'2-Programmer les activités'!A77)","v":0},{"$f":"IF('2-Programmer les activités'!B77=\"Selectionner\",\"\",'2-Programmer les activités'!B77)","v":""},{"$f":"IF('2-Programmer les activités'!C77=\"Selectionner\",\"\",'2-Programmer les activités'!C77)","v":""},{"$f":"IF('2-Programmer les activités'!D77=\"\",\"\",'2-Programmer les activités'!D77)","v":""},null,{"$f":"IF('2-Programmer les activités'!H77=\"\",\"\",'2-Programmer les activités'!H77)","v":""},{"$f":"IF('2-Programmer les activités'!I77=\"Selectionner\",\"\",'2-Programmer les activités'!I77)","v":""},{"$f":"IF('2-Programmer les activités'!J77=\"\",\"\",'2-Programmer les activités'!J77)","v":""},"",{"$f":"IF(I77<0,1,0)","v":0},"",{"$nulls":3},"Selectionner",{"$f":"IF(O77=\"Acheve\",1,0)","v":0},"","",1,null,null,""]
[{"$f":"IF('2-Programmer les activités'!A78=\"\",\"\",'2-Programmer les activités'!A78)","v":0},{"$f":"IF('2-Programmer les activités'!B78=\"Selectionner\",\"\",'2-Programmer les activités'!B78)","v":""},{"$f":"IF('2-Programmer les activités'!C78=\"Selectionner\",\"\",'2-Programmer les activités'!C78)","v":""},{"$f":"IF('2-Programmer les activités'!D78=\"\",\"\",'2-Programmer les activités'!D78)","v":""},null,{"$f":"IF('2-Programmer les activités'!H78=\"\",\"\",'2-Programmer les activités'!H78)","v":""},{"$f":"IF('2-Programmer les activités'!I78=\"Selectionner\",\"\",'2-Programmer les activités'!I78)","v":""},{"$f":"IF('2-Programmer les activités'!J78=\"\",\"\",'2-Programmer les activités'!J78)","v":""},"",0,"",{"$nulls":3},"Selectionner",0,"","",1,null,null,""]
[{"$f":"IF('2-Programmer les activités'!A79=\"\",\"\",'2-Programmer les activités'!A79)","v":0},{"$f":"IF('2-Programmer les activités'!B79=\"Selectionner\",\"\",'2-Programmer les activités'!B79)","v":""},{"$f":"IF('2-Programmer les activités'!C79=\"Selectionner\",\"\",'2-Programmer les activités'!C79)","v":""},{"$f":"IF('2-Programmer les activités'!D79=\"\",\"\",'2-Programmer les activités'!D79)","v":""},null,{"$f":"IF('2-Programmer les activités'!H79=\"\",\"\",'2-Programmer les activités'!H79)","v":""},{"$f":"IF('2-Programmer les activités'!I79=\"Selectionner\",\"\",'2-Programmer les activités'!I79)","v":""},{"$f":"IF('2-Programmer les activités'!J79=\"\",\"\",'2-Programmer les activités'!J79)","v":""},"",0,"",{"$nulls":3},"Selectionner",0,"","",1,null,null,""]
[{"$f":"IF('2-Programmer les activités'!A80=\"\",\"\",'2-Programmer les activités'!A80)","v":0},{"$f":"IF('2-Programmer les activités'!B80=\"Selectionner\",\"\",'2-Programmer les activités'!B80)","v":""},{"$f":"IF('2-Programmer les activités'!C80=\"Selectionner\",\"\",'2-Programmer les activités'!C80)","v":""},{"$f":"IF('2-Programmer les activités'!D80=\"\",\"\",'2-Programmer les activités'!D80)","v":""},null,{"$f":"IF('2-Programmer les activités'!H80=\"\",\"\",'2-Programmer les activités'!H80)","v":""},{"$f":"IF('2-Programmer les activités'!I80=\"Selectionner\",\"\",'2-Programmer les activités'!I80)","v":""},{"$f":"IF('2-Programmer les activités'!J80=\"\",\"\",'2-Programmer les activités'!J80)","v":""},"",0,"",{"$nulls":3},"Selectionner",0,"","",1,null,null,""]
[{"$f":"IF('2-Programmer les activités'!A81=\"\",\"\",'2-Programmer les activités'!A81)","v":0},{"$f":"IF('2-Programmer les activités'!B81=\"Selectionner\",\"\",'2-Programmer les activités'!B81)","v":""},{"$f":"IF('2-Programmer les activités'!C81=\"Selectionner\",\"\",'2-Programmer les activités'!C81)","v":""},{"$f":"IF('2-Programmer les activités'!D81=\"\",\"\",'2-Programmer les activités'!D81)","v":""},null,{"$f":"IF('2-Programmer les activités'!H81=\"\",\"\",'2-Programmer les activités'!H81)","v":""},{"$f":"IF('2-Programmer les activités'!I81=\"Selectionner\",\"\",'2-Programmer les activités'!I81)","v":""},{"$f":"IF('2-Programmer les activités'!J81=\"\",\"\",'2-Programmer les activités'!J81)","v":""},"",0,"",{"$nulls":3},"Selectionner",0,"","",1,null,null,""]
[{"$f":"IF('2-Programmer les activités'!A82=\"\",\"\",'2-Programmer les activités'!A82)","v":0},{"$f":"IF('2-Programmer les activités'!B82=\"Selectionner\",\"\",'2-Programmer les activités'!B82)","v":""},{"$f":"IF('2-Programmer les activités'!C82=\"Selectionner\",\"\",'2-Programmer les activités'!C82)","v":""},{"$f":"IF('2-Programmer les activités'!D82=\"\",\"\",'2-Programmer les activités'!D82)","v":""},null,{"$f":"IF('2-Programmer les activités'!H82=\"\",\"\",'2-Programmer les activités'!H82)","v":""},{"$f":"IF('2-Programmer les activités'!I82=\"Selectionner\",\"\",'2-Programmer les activités'!I82)","v":""},{"$f":"IF('2-Programmer les activités'!J82=\"\",\"\",'2-Programmer les activités'!J82)","v":""},"",0,"",{"$nulls":3},"Selectionner",0,"","",1,null,null,""]
[{"$f":"IF('2-Programmer les activités'!A83=\"\",\"\",'2-Programmer les activités'!A83)","v":0},{"$f":"IF('2-Programmer les activités'!B83=\"Selectionner\",\"\",'2-Programmer les activités'!B83)","v":""},{"$f":"IF('2-Programmer les activités'!C83=\"Selectionner\",\"\",'2-Programmer les activités'!C83)","v":""},{"$f":"IF('2-Programmer les activités'!D83=\"\",\"\",'2-Programmer les activités'!D83)","v":""},null,{"$f":"IF('2-Programmer les activités'!H83=\"\",\"\",'2-Programmer les activités'!H83)","v":""},{"$f":"IF('2-Programmer les activités'!I83=\"Selectionner\",\"\",'2-Programmer les activités'!I83)","v":""},{"$f":"IF('2-Programmer les activités'!J83=\"\",\"\",'2-Programmer les activités'!J83)","v":""},"",0,"",{"$nulls":3},"Selectionner",0,"","",1,null,null,""]
[{"$f":"IF('2-Programmer les activités'!A84=\"\",\"\",'2-Programmer les activités'!A84)","v":0},{"$f":"IF('2-Programmer les activités'!B84=\"Selectionner\",\"\",'2-Programmer les activités'!B84)","v":""},{"$f":"IF('2-Programmer les activités'!C84=\"Selectionner\",\"\",'2-Programmer les activités'!C84)","v":""},{"$f":"IF('2-Programmer les activités'!D84=\"\",\"\",'2-Programmer les activités'!D84)","v":""},null,{"$f":"IF('2-Programmer les activités'!H84=\"\",\"\",'2-Programmer les activités'!H84)","v":""},{"$f":"IF('2-Programmer les activités'!I84=\"Selectionner\",\"\",'2-Programmer les activités'!I84)","v":""},{"$f":"IF('2-Programmer les activités'!J84=\"\",\"\",'2-Programmer les activités'!J84)","v":""},"",0,"",{"$nulls":3},"Selectionner",0,"","",1,null,null,""]
[{"$f":"IF('2-Programmer les activités'!A85=\"\",\"\",'2-Programmer les activités'!A85)","v":0},{"$f":"IF('2-Programmer les activités'!B85=\"Selectionner\",\"\",'2-Programmer les activités'!B85)","v":""},{"$f":"IF('2-Programmer les activités'!C85=\"Selectionner\",\"\",'2-Programmer les activités'!C85)","v":""},{"$f":"IF('2-Programmer les activités'!D85=\"\",\"\",'2-Programmer les activités'!D85)","v":""},null,{"$f":"IF('2-Programmer les activités'!H85=\"\",\"\",'2-Programmer les activités'!H85)","v":""},{"$f":"IF('2-Programmer les activités'!I85=\"Selectionner\",\"\",'2-Programmer les activités'!I85)","v":""},{"$f":"IF('2-Programmer les activités'!J85=\"\",\"\",'2-Programmer les activités'!J85)","v":""},"",0,"",{"$nulls":3},"Selectionner",0,"","",1,null,null,""]
[{"$f":"IF('2-Programmer les activités'!A86=\"\",\"\",'2-Programmer les activités'!A86)","v":0},{"$f":"IF('2-Programmer les activités'!B86=\"Selectionner\",\"\",'2-Programmer les activités'!B86)","v":""},{"$f":"IF('2-Programmer les activités'!C86=\"Selectionner\",\"\",'2-Programmer les activités'!C86)","v":""},{"$f":"IF('2-Programmer les activités'!D86=\"\",\"\",'2-Programmer les activités'!D86)","v":""},null,{"$f":"IF('2-Programmer les activités'!H86=\"\",\"\",'2-Programmer les activités'!H86)","v":""},{"$f":"IF('2-Programmer les activités'!I86=\"Selectionner\",\"\",'2-Programmer les activités'!I86)","v":""},{"$f":"IF('2-Programmer les activités'!J86=\"\",\"\",'2-Programmer les activités'!J86)","v":""},"",0,"",{"$nulls":3},"Selectionner",0,"","",1,null,null,""]
[{"$f":"IF('2-Programmer les activités'!A87=\"\",\"\",'2-Programmer les activités'!A87)","v":0},{"$f":"IF('2-Programmer les activités'!B87=\"Selectionner\",\"\",'2-Programmer les activités'!B87)","v":""},{"$f":"IF('2-Programmer les activités'!C87=\"Selectionner\",\"\",'2-Programmer les activités'!C87)","v":""},{"$f":"IF('2-Programmer les activités'!D87=\"\",\"\",'2-Programmer les activités'!D87)","v":""},null,{"$f":"IF('2-Programmer les activités'!H87=\"\",\"\",'2-Programmer les activités'!H87)","v":""},{"$f":"IF('2-Programmer les activités'!I87=\"Selectionner\",\"\",'2-Programmer les activités'!I87)","v":""},{"$f":"IF('2-Programmer les activités'!J87=\"\",\"\",'2-Programmer les activités'!J87)","v":""},"",0,"",{"$nulls":3},"Selectionner",0,"","",1,null,null,""]
[{"$f":"IF('2-Programmer les activités'!A88=\"\",\"\",'2-Programmer les activités'!A88)","v":0},{"$f":"IF('2-Programmer les activités'!B88=\"Selectionner\",\"\",'2-Programmer les activités'!B88)","v":""},{"$f":"IF('2-Programmer les activités'!C88=\"Selectionner\",\"\",'2-Programmer les activités'!C88)","v":""},{"$f":"IF('2-Programmer les activités'!D88=\"\",\"\",'2-Programmer les activités'!D88)","v":""},null,{"$f":"IF('2-Programmer les activités'!H88=\"\",\"\",'2-Programmer les activités'!H88)","v":""},{"$f":"IF('2-Programmer les activités'!I88=\"Selectionner\",\"\",'2-Programmer les activités'!I88)","v":""},{"$f":"IF('2-Programmer les activités'!J88=\"\",\"\",'2-Programmer les activités'!J88)","v":""},"",0,"",{"$nulls":3},"Selectionner",0,"","",1,null,null,""]
[{"$f":"IF('2-Programmer les activités'!A89=\"\",\"\",'2-Programmer les activités'!A89)","v":0},{"$f":"IF('2-Programmer les activités'!B89=\"Selectionner\",\"\",'2-Programmer les activités'!B89)","v":""},{"$f":"IF('2-Programmer les activités'!C89=\"Selectionner\",\"\",'2-Programmer les activités'!C89)","v":""},{"$f":"IF('2-Programmer les activités'!D89=\"\",\"\",'2-Programmer les activités'!D89)","v":""},null,{"$f":"IF('2-Programmer les activités'!H89=\"\",\"\",'2-Programmer les activités'!H89)","v":""},{"$f":"IF('2-Programmer les activités'!I89=\"Selectionner\",\"\",'2-Programmer les activités'!I89)","v":""},{"$f":"IF('2-Programmer les activités'!J89=\"\",\"\",'2-Programmer les activités'!J89)","v":""},"",0,"",{"$nulls":3},"Selectionner",0,"","",1,null,null,""]
[{"$f":"IF('2-Programmer les activités'!A90=\"\",\"\",'2-Programmer les activités'!A90)","v":0},{"$f":"IF('2-Programmer les activités'!B90=\"Selectionner\",\"\",'2-Programmer les activités'!B90)","v":""},{"$f":"IF('2-Programmer les activités'!C90=\"Selectionner\",\"\",'2-Programmer les activités'!C90)","v":""},{"$f":"IF('2-Programmer les activités'!D90=\"\",\"\",'2-Programmer les activités'!D90)","v":""},null,{"$f":"IF('2-Programmer les activités'!H90=\"\",\"\",'2-Programmer les activités'!H90)","v":""},{"$f":"IF('2-Programmer les activités'!I90=\"Selectionner\",\"\",'2-Programmer les activités'!I90)","v":""},{"$f":"IF('2-Programmer les activités'!J90=\"\",\"\",'2-Programmer les activités'!J90)","v":""},"",0,"",{"$nulls":3},"Selectionner",0,"","",1,null,null,""]
[{"$f":"IF('2-Programmer les activités'!A91=\"\",\"\",'2-Programmer les activités'!A91)","v":0},{"$f":"IF('2-Programmer les activités'!B91=\"Selectionner\",\"\",'2-Programmer les activités'!B91)","v":""},{"$f":"IF('2-Programmer les activités'!C91=\"Selectionner\",\"\",'2-Programmer les activités'!C91)","v":""},{"$f":"IF('2-Programmer les activités'!D91=\"\",\"\",'2-Programmer les activités'!D91)","v":""},null,{"$f":"IF('2-Programmer les activités'!H91=\"\",\"\",'2-Programmer les activités'!H91)","v":""},{"$f":"IF('2-Programmer les activités'!I91=\"Selectionner\",\"\",'2-Programmer les activités'!I91)","v":""},{"$f":"IF('2-Programmer les activités'!J91=\"\",\"\",'2-Programmer les activités'!J91)","v":""},"",0,"",{"$nulls":3},"Selectionner",0,"","",1,null,null,""]
[{"$f":"IF('2-Programmer les activités'!A92=\"\",\"\",'2-Programmer les activités'!A92)","v":0},{"$f":"IF('2-Programmer les activités'!B92=\"Selectionner\",\"\",'2-Programmer les activités'!B92)","v":""},{"$f":"IF('2-Programmer les activités'!C92=\"Selectionner\",\"\",'2-Programmer les activités'!C92)","v":""},{"$f":"IF('2-Programmer les activités'!D92=\"\",\"\",'2-Programmer les activités'!D92)","v":""},null,{"$f":"IF('2-Programmer les activités'!H92=\"\",\"\",'2-Programmer les activités'!H92)","v":""},{"$f":"IF('2-Programmer les activités'!I92=\"Selectionner\",\"\",'2-Programmer les activités'!I92)","v":""},{"$f":"IF('2-Programmer les activités'!J92=\"\",\"\",'2-Programmer les activités'!J92)","v":""},"",0,"",{"$nulls":3},"Selectionner",0,"","",1,null,null,""]
[{"$f":"IF('2-Programmer les activités'!A93=\"\",\"\",'2-Programmer les activités'!A93)","v":0},{"$f":"IF('2-Programmer les activités'!B93=\"Selectionner\",\"\",'2-Programmer les activités'!B93)","v":""},{"$f":"IF('2-Programmer les activités'!C93=\"Selectionner\",\"\",'2-Programmer les activités'!C93)","v":""},{"$f":"IF('2-Programmer les activités'!D93=\"\",\"\",'2-Programmer les activités'!D93)","v":""},null,{"$f":"IF('2-Programmer les activités'!H93=\"\",\"\",'2-Programmer les activités'!H93)","v":""},{"$f":"IF('2-Programmer les activités'!I93=\"Selectionner\",\"\",'2-Programmer les activités'!I93)","v":""},{"$f":"IF('2-Programmer les activités'!J93=\"\",\"\",'2-Programmer les activités'!J93)","v":""},"",0,"",{"$nulls":3},"Selectionner",0,"","",1,null,null,""]
[{"$f":"IF('2-Programmer les activités'!A94=\"\",\"\",'2-Programmer les activités'!A94)","v":0},{"$f":"IF('2-Programmer les activités'!B94=\"Selectionner\",\"\",'2-Programmer les activités'!B94)","v":""},{"$f":"IF('2-Programmer les activités'!C94=\"Selectionner\",\"\",'2-Programmer les activités'!C94)","v":""},{"$f":"IF('2-Programmer les activités'!D94=\"\",\"\",'2-Programmer les activités'!D94)","v":""},null,{"$f":"IF('2-Programmer les activités'!H94=\"\",\"\",'2-Programmer les activités'!H94)","v":""},{"$f":"IF('2-Programmer les activités'!I94=\"Selectionner\",\"\",'2-Programmer les activités'!I94)","v":""},{"$f":"IF('2-Programmer les activités'!J94=\"\",\"\",'2-Programmer les activités'!J94)","v":""},"",0,"",{"$nulls":3},"Selectionner",0,"","",1,null,null,""]
[{"$f":"IF('2-Programmer les activités'!A95=\"\",\"\",'2-Programmer les activités'!A95)","v":0},{"$f":"IF('2-Programmer les activités'!B95=\"Selectionner\",\"\",'2-Programmer les activités'!B95)","v":""},{"$f":"IF('2-Programmer les activités'!C95=\"Selectionner\",\"\",'2-Programmer les activités'!C95)","v":""},{"$f":"IF('2-Programmer les activités'!D95=\"\",\"\",'2-Programmer les activités'!D95)","v":""},null,{"$f":"IF('2-Programmer les activités'!H95=\"\",\"\",'2-Programmer les activités'!H95)","v":""},{"$f":"IF('2-Programmer les activités'!I95=\"Selectionner\",\"\",'2-Programmer les activités'!I95)","v":""},{"$f":"IF('2-Programmer les activités'!J95=\"\",\"\",'2-Programmer les activités'!J95)","v":""},"",0,"",{"$nulls":3},"Selectionner",0,"","",1,null,null,""]
[{"$f":"IF('2-Programmer les activités'!A96=\"\",\"\",'2-Programmer les activités'!A96)","v":0},{"$f":"IF('2-Programmer les activités'!B96=\"Selectionner\",\"\",'2-Programmer les activités'!B96)","v":""},{"$f":"IF('2-Programmer les activités'!C96=\"Selectionner\",\"\",'2-Programmer les activités'!C96)","v":""},{"$f":"IF('2-Programmer les activités'!D96=\"\",\"\",'2-Programmer les activités'!D96)","v":""},null,{"$f":"IF('2-Programmer les activités'!H96=\"\",\"\",'2-Programmer les activités'!H96)","v":""},{"$f":"IF('2-Programmer les activités'!I96=\"Selectionner\",\"\",'2-Programmer les activités'!I96)","v":""},{"$f":"IF('2-Programmer les activités'!J96=\"\",\"\",'2-Programmer les activités'!J96)","v":""},"",0,"",{"$nulls":3},"Selectionner",0,"","",1,null,null,""]
[{"$f":"IF('2-Programmer les activités'!A97=\"\",\"\",'2-Programmer les activités'!A97)","v":0},{"$f":"IF('2-Programmer les activités'!B97=\"Selectionner\",\"\",'2-Programmer les activités'!B97)","v":""},{"$f":"IF('2-Programmer les activités'!C97=\"Selectionner\",\"\",'2-Programmer les activités'!C97)","v":""},{"$f":"IF('2-Programmer les activités'!D97=\"\",\"\",'2-Programmer les activités'!D97)","v":""},null,{"$f":"IF('2-Programmer les activités'!H97=\"\",\"\",'2-Programmer les activités'!H97)","v":""},{"$f":"IF('2-Programmer les activités'!I97=\"Selectionner\",\"\",'2-Programmer les activités'!I97)","v":""},{"$f":"IF('2-Programmer les activités'!J97=\"\",\"\",'2-Programmer les activités'!J97)","v":""},"",0,"",{"$nulls":3},"Selectionner",0,"","",1,null,null,""]
[{"$f":"IF('2-Programmer les activités'!A98=\"\",\"\",'2-Programmer les activités'!A98)","v":0},{"$f":"IF('2-Programmer les activités'!B98=\"Selectionner\",\"\",'2-Programmer les activités'!B98)","v":""},{"$f":"IF('2-Programmer les activités'!C98=\"Selectionner\",\"\",'2-Programmer les activités'!C98)","v":""},{"$f":"IF('2-Programmer les activités'!D98=\"\",\"\",'2-Programmer les activités'!D98)","v":""},null,{"$f":"IF('2-Programmer les activités'!H98=\"\",\"\",'2-Programmer les activités'!H98)","v":""},{"$f":"IF('2-Programmer les activités'!I98=\"Selectionner\",\"\",'2-Programmer les activités'!I98)","v":""},{"$f":"IF('2-Programmer les activités'!J98=\"\",\"\",'2-Programmer les activités'!J98)","v":""},"",0,"",{"$nulls":3},"Selectionner",0,"","",1,null,null,""]
[{"$f":"IF('2-Programmer les activités'!A99=\"\",\"\",'2-Programmer les activités'!A99)","v":0},{"$f":"IF('2-Programmer les activités'!B99=\"Selectionner\",\"\",'2-Programmer les activités'!B99)","v":""},{"$f":"IF('2-Programmer les activités'!C99=\"Selectionner\",\"\",'2-Programmer les activités'!C99)","v":""},{"$f":"IF('2-Programmer les activités'!D99=\"\",\"\",'2-Programmer les activités'!D99)","v":""},null,{"$f":"IF('2-Programmer les activités'!H99=\"\",\"\",'2-Programmer les activités'!H99)","v":""},{"$f":"IF('2-Programmer les activités'!I99=\"Selectionner\",\"\",'2-Programmer les activités'!I99)","v":""},{"$f":"IF('2-Programmer les activités'!J99=\"\",\"\",'2-Programmer les activités'!J99)","v":""},"",0,"",{"$nulls":3},"Selectionner",0,"","",1,null,null,""]
[{"$f":"IF('2-Programmer les activités'!A100=\"\",\"\",'2-Programmer les activités'!A100)","v":0},{"$f":"IF('2-Programmer les activités'!B100=\"Selectionner\",\"\",'2-Programmer les activités'!B100)","v":""},{"$f":"IF('2-Programmer les activités'!C100=\"Selectionner\",\"\",'2-Programmer les activités'!C100)","v":""},{"$f":"IF('2-Programmer les activités'!D100=\"\",\"\",'2-Programmer les activités'!D100)","v":""},null,{"$f":"IF('2-Programmer les activités'!H100=\"\",\"\",'2-Programmer les activités'!H100)","v":""},{"$f":"IF('2-Programmer les activités'!I100=\"Selectionner\",\"\",'2-Programmer les activités'!I100)","v":""},{"$f":"IF('2-Programmer les activités'!J100=\"\",\"\",'2-Programmer les activités'!J100)","v":""},"",0,"",{"$nulls":3},"Selectionner",0,"","",1,null,null,""]
[{"$f":"IF('2-Programmer les activités'!A101=\"\",\"\",'2-Programmer les activités'!A101)","v":0},{"$f":"IF('2-Programmer les activités'!B101=\"Selectionner\",\"\",'2-Programmer les activités'!B101)","v":""},{"$f":"IF('2-Programmer les activités'!C101=\"Selectionner\",\"\",'2-Programmer les activités'!C101)","v":""},{"$f":"IF('2-Programmer les activités'!D101=\"\",\"\",'2-Programmer les activités'!D101)","v":""},null,{"$f":"IF('2-Programmer les activités'!H101=\"\",\"\",'2-Programmer les activités'!H101)","v":""},{"$f":"IF('2-Programmer les activités'!I101=\"Selectionner\",\"\",'2-Programmer les activités'!I101)","v":""},{"$f":"IF('2-Programmer les activités'!J101=\"\",\"\",'2-Programmer les activités'!J101)","v":""},"",0,"",{"$nulls":3},"Selectionner",0,"","",1,null,null,""]
[{"$f":"IF('2-Programmer les activités'!A102=\"\",\"\",'2-Programmer les activités'!A102)","v":0},{"$f":"IF('2-Programmer les activités'!B102=\"Selectionner\",\"\",'2-Programmer les activités'!B102)","v":""},{"$f":"IF('2-Programmer les activités'!C102=\"Selectionner\",\"\",'2-Programmer les activités'!C102)","v":""},{"$f":"IF('2-Programmer les activités'!D102=\"\",\"\",'2-Programmer les activités'!D102)","v":""},null,{"$f":"IF('2-Programmer les activités'!H102=\"\",\"\",'2-Programmer les activités'!H102)","v":""},{"$f":"IF('2-Programmer les activités'!I102=\"Selectionner\",\"\",'2-Programmer les activités'!I102)","v":""},{"$f":"IF('2-Programmer les activités'!J102=\"\",\"\",'2-Programmer les activités'!J102)","v":""},"",0,"",{"$nulls":3},"Selectionner",0,"","",1,null,null,""]
[{"$f":"IF('2-Programmer les activités'!A103=\"\",\"\",'2-Programmer les activités'!A103)","v":0},{"$f":"IF('2-Programmer les activités'!B103=\"Selectionner\",\"\",'2-Programmer les activités'!B103)","v":""},{"$f":"IF('2-Programmer les activités'!C103=\"Selectionner\",\"\",'2-Programmer les activités'!C103)","v":""},{"$f":"IF('2-Programmer les activités'!D103=\"\",\"\",'2-Programmer les activités'!D103)","v":""},null,{"$f":"IF('2-Programmer les activités'!H103=\"\",\"\",'2-Programmer les activités'!H103)","v":""},{"$f":"IF('2-Programmer les activités'!I103=\"Selectionner\",\"\",'2-Programmer les activités'!I103)","v":""},{"$f":"IF('2-Programmer les activités'!J103=\"\",\"\",'2-Programmer les activités'!J103)","v":""},"",0,"",{"$nulls":3},"Selectionner",0,"","",1,null,null,""]
[{"$f":"IF('2-Programmer les activités'!A104=\"\",\"\",'2-Programmer les activités'!A104)","v":0},{"$f":"IF('2-Programmer les activités'!B104=\"Selectionner\",\"\",'2-Programmer les activités'!B104)","v":""},{"$f":"IF('2-Programmer les activités'!C104=\"Selectionner\",\"\",'2-Programmer les activités'!C104)","v":""},{"$f":"IF('2-Programmer les activités'!D104=\"\",\"\",'2-Programmer les activités'!D104)","v":""},null,{"$f":"IF('2-Programmer les activités'!H104=\"\",\"\",'2-Programmer les activités'!H104)","v":""},{"$f":"IF('2-Programmer les activités'!I104=\"Selectionner\",\"\",'2-Programmer les activités'!I104)","v":""},{"$f":"IF('2-Programmer les activités'!J104=\"\",\"\",'2-Programmer les activités'!J104)","v":""},"",0,"",{"$nulls":3},"Selectionner",0,"","",1,null,null,""]
[{"$f":"IF('2-Programmer les activités'!A105=\"\",\"\",'2-Programmer les activités'!A105)","v":0},{"$f":"IF('2-Programmer les activités'!B105=\"Selectionner\",\"\",'2-Programmer les activités'!B105)","v":""},{"$f":"IF('2-Programmer les activités'!C105=\"Selectionner\",\"\",'2-Programmer les activités'!C105)","v":""},{"$f":"IF('2-Programmer les activités'!D105=\"\",\"\",'2-Programmer les activités'!D105)","v":""},null,{"$f":"IF('2-Programmer les activités'!H105=\"\",\"\",'2-Programmer les activités'!H105)","v":""},{"$f":"IF('2-Programmer les activités'!I105=\"Selectionner\",\"\",'2-Programmer les activités'!I105)","v":""},{"$f":"IF('2-Programmer les activités'!J105=\"\",\"\",'2-Programmer les activités'!J105)","v":""},"",0,"",{"$nulls":3},"Selectionner",0,"","",1,null,null,""]
[{"$f":"IF('2-Programmer les activités'!A106=\"\",\"\",'2-Programmer les activités'!A106)","v":0},{"$f":"IF('2-Programmer les activités'!B106=\"Selectionner\",\"\",'2-Programmer les activités'!B106)","v":""},{"$f":"IF('2-Programmer les activités'!C106=\"Selectionner\",\"\",'2-Programmer les activités'!C106)","v":""},{"$f":"IF('2-Programmer les activités'!D106=\"\",\"\",'2-Programmer les activités'!D106)","v":""},null,{"$f":"IF('2-Programmer les activités'!H106=\"\",\"\",'2-Programmer les activités'!H106)","v":""},{"$f":"IF('2-Programmer les activités'!I106=\"Selectionner\",\"\",'2-Programmer les activités'!I106)","v":""},{"$f":"IF('2-Programmer les activités'!J106=\"\",\"\",'2-Programmer les activités'!J106)","v":""},"",0,"",{"$nulls":3},"Selectionner",0,"","",1,null,null,""]
[{"$f":"IF('2-Programmer les activités'!A107=\"\",\"\",'2-Programmer les activités'!A107)","v":0},{"$f":"IF('2-Programmer les activités'!B107=\"Selectionner\",\"\",'2-Programmer les activités'!B107)","v":""},{"$f":"IF('2-Programmer les activités'!C107=\"Selectionner\",\"\",'2-Programmer les activités'!C107)","v":""},{"$f":"IF('2-Programmer les activités'!D107=\"\",\"\",'2-Programmer les activités'!D107)","v":""},null,{"$f":"IF('2-Programmer les activités'!H107=\"\",\"\",'2-Programmer les activités'!H107)","v":""},{"$f":"IF('2-Programmer les activités'!I107=\"Selectionner\",\"\",'2-Programmer les activités'!I107)","v":""},{"$f":"IF('2-Programmer les activités'!J107=\"\",\"\",'2-Programmer les activités'!J107)","v":""},"",0,"",{"$nulls":3},"Selectionner",0,"","",1,null,null,""]
[{"$f":"IF('2-Programmer les activités'!A108=\"\",\"\",'2-Programmer les activités'!A108)","v":0},{"$f":"IF('2-Programmer les activités'!B108=\"Selectionner\",\"\",'2-Programmer les activités'!B108)","v":""},{"$f":"IF('2-Programmer les activités'!C108=\"Selectionner\",\"\",'2-Programmer les activités'!C108)","v":""},{"$f":"IF('2-Programmer les activités'!D108=\"\",\"\",'2-Programmer les activités'!D108)","v":""},null,{"$f":"IF('2-Programmer les activités'!H108=\"\",\"\",'2-Programmer les activités'!H108)","v":""},{"$f":"IF('2-Programmer les activités'!I108=\"Selectionner\",\"\",'2-Programmer les activités'!I108)","v":""},{"$f":"IF('2-Programmer les activités'!J108=\"\",\"\",'2-Programmer les activités'!J108)","v":""},"",0,{"$f":"IF(H108=\"\",\"\",R108)","v":""},{"$nulls":3},"Selectionner",0,"",{"$f":"IF(AND(I108<8,AND(I108>=0)),1,\"\")","v":""},{"$f":"IF(D108=\"Selectionner\",0,1)","v":1},null,null,{"$f":"IFERROR((F108-R108),\"\")","v":""}]
[{"$f":"IF('2-Programmer les activités'!A109=\"\",\"\",'2-Programmer les activités'!A109)","v":0},{"$f":"IF('2-Programmer les activités'!B109=\"Selectionner\",\"\",'2-Programmer les activités'!B109)","v":""},{"$f":"IF('2-Programmer les activités'!C109=\"Selectionner\",\"\",'2-Programmer les activités'!C109)","v":""},{"$f":"IF('2-Programmer les activités'!D109=\"\",\"\",'2-Programmer les activités'!D109)","v":""},null,{"$f":"IF('2-Programmer les activités'!H109=\"\",\"\",'2-Programmer les activités'!H109)","v":""},{"$f":"IF('2-Programmer les activités'!I109=\"Selectionner\",\"\",'2-Programmer les activités'!I109)","v":""},{"$f":"IF('2-Programmer les activités'!J109=\"\",\"\",'2-Programmer les activités'!J109)","v":""},"",0,"",{"$nulls":3},"Selectionner",0,"","",1,null,null,""]
[{"$f":"IF('2-Programmer les activités'!A110=\"\",\"\",'2-Programmer les activités'!A110)","v":0},{"$f":"IF('2-Programmer les activités'!B110=\"Selectionner\",\"\",'2-Programmer les activités'!B110)","v":""},{"$f":"IF('2-Programmer les activités'!C110=\"Selectionner\",\"\",'2-Programmer les activités'!C110)","v":""},{"$f":"IF('2-Programmer les activités'!D110=\"\",\"\",'2-Programmer les activités'!D110)","v":""},null,{"$f":"IF('2-Programmer les activités'!H110=\"\",\"\",'2-Programmer les activités'!H110)","v":""},{"$f":"IF('2-Programmer les activités'!I110=\"Selectionner\",\"\",'2-Programmer les activités'!I110)","v":""},{"$f":"IF('2-Programmer les activités'!J110=\"\",\"\",'2-Programmer les activités'!J110)","v":""},"",0,"",{"$nulls":3},"Selectionner",0,"","",1,null,null,""]
[{"$f":"IF('2-Programmer les activités'!A111=\"\",\"\",'2-Programmer les activités'!A111)","v":0},{"$f":"IF('2-Programmer les activités'!B111=\"Selectionner\",\"\",'2-Programmer les activités'!B111)","v":""},{"$f":"IF('2-Programmer les activités'!C111=\"Selectionner\",\"\",'2-Programmer les activités'!C111)","v":""},{"$f":"IF('2-Programmer les activités'!D111=\"\",\"\",'2-Programmer les activités'!D111)","v":""},null,{"$f":"IF('2-Programmer les activités'!H111=\"\",\"\",'2-Programmer les activités'!H111)","v":""},{"$f":"IF('2-Programmer les activités'!I111=\"Selectionner\",\"\",'2-Programmer les activités'!I111)","v":""},{"$f":"IF('2-Programmer les activités'!J111=\"\",\"\",'2-Programmer les activités'!J111)","v":""},"",0,"",{"$nulls":3},"Selectionner",0,"","",1,null,null,""]
[{"$f":"IF('2-Programmer les activités'!A112=\"\",\"\",'2-Programmer les activités'!A112)","v":0},{"$f":"IF('2-Programmer les activités'!B112=\"Selectionner\",\"\",'2-Programmer les activités'!B112)","v":""},{"$f":"IF('2-Programmer les activités'!C112=\"Selectionner\",\"\",'2-Programmer les activités'!C112)","v":""},{"$f":"IF('2-Programmer les activités'!D112=\"\",\"\",'2-Programmer les activités'!D112)","v":""},null,{"$f":"IF('2-Programmer les activités'!H112=\"\",\"\",'2-Programmer les activités'!H112)","v":""},{"$f":"IF('2-Programmer les activités'!I112=\"Selectionner\",\"\",'2-Programmer les activités'!I112)","v":""},{"$f":"IF('2-Programmer les activités'!J112=\"\",\"\",'2-Programmer les activités'!J112)","v":""},"",0,"",{"$nulls":3},"Selectionner",0,"","",1,null,null,""]
[{"$f":"IF('2-Programmer les activités'!A113=\"\",\"\",'2-Programmer les activités'!A113)","v":0},{"$f":"IF('2-Programmer les activités'!B113=\"Selectionner\",\"\",'2-Programmer les activités'!B113)","v":""},{"$f":"IF('2-Programmer les activités'!C113=\"Selectionner\",\"\",'2-Programmer les activités'!C113)","v":""},{"$f":"IF('2-Programmer les activités'!D113=\"\",\"\",'2-Programmer les activités'!D113)","v":""},null,{"$f":"IF('2-Programmer les activités'!H113=\"\",\"\",'2-Programmer les activités'!H113)","v":""},{"$f":"IF('2-Programmer les activités'!I113=\"Selectionner\",\"\",'2-Programmer les activités'!I113)","v":""},{"$f":"IF('2-Programmer les activités'!J113=\"\",\"\",'2-Programmer les activités'!J113)","v":""},"",0,"",{"$nulls":3},"Selectionner",0,"","",1,null,null,""]
[{"$f":"IF('2-Programmer les activités'!A114=\"\",\"\",'2-Programmer les activités'!A114)","v":0},{"$f":"IF('2-Programmer les activités'!B114=\"Selectionner\",\"\",'2-Programmer les activités'!B114)","v":""},{"$f":"IF('2-Programmer les activités'!C114=\"Selectionner\",\"\",'2-Programmer les activités'!C114)","v":""},{"$f":"IF('2-Programmer les activités'!D114=\"\",\"\",'2-Programmer les activités'!D114)","v":""},null,{"$f":"IF('2-Programmer les activités'!H114=\"\",\"\",'2-Programmer les activités'!H114)","v":""},{"$f":"IF('2-Programmer les activités'!I114=\"Selectionner\",\"\",'2-Programmer les activités'!I114)","v":""},{"$f":"IF('2-Programmer les activités'!J114=\"\",\"\",'2-Programmer les activités'!J114)","v":""},"",0,"",{"$nulls":3},"Selectionner",0,"","",1,null,null,""]
[{"$f":"IF('2-Programmer les activités'!A115=\"\",\"\",'2-Programmer les activités'!A115)","v":0},{"$f":"IF('2-Programmer les activités'!B115=\"Selectionner\",\"\",'2-Programmer les activités'!B115)","v":""},{"$f":"IF('2-Programmer les activités'!C115=\"Selectionner\",\"\",'2-Programmer les activités'!C115)","v":""},{"$f":"IF('2-Programmer les activités'!D115=\"\",\"\",'2-Programmer les activités'!D115)","v":""},null,{"$f":"IF('2-Programmer les activités'!H115=\"\",\"\",'2-Programmer les activités'!H115)","v":""},{"$f":"IF('2-Programmer les activités'!I115=\"Selectionner\",\"\",'2-Programmer les activités'!I115)","v":""},{"$f":"IF('2-Programmer les activités'!J115=\"\",\"\",'2-Programmer les activités'!J115)","v":""},{"$f":"IFERROR(IF(P115=1,\"\",Q115),\"\")","v":""},0,"",{"$nulls":3},"Selectionner",0,{"$f":"IFERROR((H115-TODAY()),\"\")","v":""},"",1,null,null,""]
[{"$f":"IF('2-Programmer les activités'!A116=\"\",\"\",'2-Programmer les activités'!A116)","v":0},{"$f":"IF('2-Programmer les activités'!B116=\"Selectionner\",\"\",'2-Programmer les activités'!B116)","v":""},{"$f":"IF('2-Programmer les activités'!C116=\"Selectionner\",\"\",'2-Programmer les activités'!C116)","v":""},{"$f":"IF('2-Programmer les activités'!D116=\"\",\"\",'2-Programmer les activités'!D116)","v":""},null,{"$f":"IF('2-Programmer les activités'!H116=\"\",\"\",'2-Programmer les activités'!H116)","v":""},{"$f":"IF('2-Programmer les activités'!I116=\"Selectionner\",\"\",'2-Programmer les activités'!I116)","v":""},{"$f":"IF('2-Programmer les activités'!J116=\"\",\"\",'2-Programmer les activités'!J116)","v":""},"",0,"",{"$nulls":3},"Selectionner",0,"","",1,null,null,""]
[{"$f":"IF('2-Programmer les activités'!A117=\"\",\"\",'2-Programmer les activités'!A117)","v":0},{"$f":"IF('2-Programmer les activités'!B117=\"Selectionner\",\"\",'2-Programmer les activités'!B117)","v":""},{"$f":"IF('2-Programmer les activités'!C117=\"Selectionner\",\"\",'2-Programmer les activités'!C117)","v":""},{"$f":"IF('2-Programmer les activités'!D117=\"\",\"\",'2-Programmer les activités'!D117)","v":""},null,{"$f":"IF('2-Programmer les activités'!H117=\"\",\"\",'2-Programmer les activités'!H117)","v":""},{"$f":"IF('2-Programmer les activités'!I117=\"Selectionner\",\"\",'2-Programmer les activités'!I117)","v":""},{"$f":"IF('2-Programmer les activités'!J117=\"\",\"\",'2-Programmer les activités'!J117)","v":""},"",0,"",{"$nulls":3},"Selectionner",0,"","",1,null,null,""]
[{"$f":"IF('2-Programmer les activités'!A118=\"\",\"\",'2-Programmer les activités'!A118)","v":0},{"$f":"IF('2-Programmer les activités'!B118=\"Selectionner\",\"\",'2-Programmer les activités'!B118)","v":""},{"$f":"IF('2-Programmer les activités'!C118=\"Selectionner\",\"\",'2-Programmer les activités'!C118)","v":""},{"$f":"IF('2-Programmer les activités'!D118=\"\",\"\",'2-Programmer les activités'!D118)","v":""},null,{"$f":"IF('2-Programmer les activités'!H118=\"\",\"\",'2-Programmer les activités'!H118)","v":""},{"$f":"IF('2-Programmer les activités'!I118=\"Selectionner\",\"\",'2-Programmer les activités'!I118)","v":""},{"$f":"IF('2-Programmer les activités'!J118=\"\",\"\",'2-Programmer les activités'!J118)","v":""},"",0,"",{"$nulls":3},"Selectionner",0,"","",1,null,null,""]
[{"$f":"IF('2-Programmer les activités'!A119=\"\",\"\",'2-Programmer les activités'!A119)","v":0},{"$f":"IF('2-Programmer les activités'!B119=\"Selectionner\",\"\",'2-Programmer les activités'!B119)","v":""},{"$f":"IF('2-Programmer les activités'!C119=\"Selectionner\",\"\",'2-Programmer les activités'!C119)","v":""},{"$f":"IF('2-Programmer les activités'!D119=\"\",\"\",'2-Programmer les activités'!D119)","v":""},null,{"$f":"IF('2-Programmer les activités'!H119=\"\",\"\",'2-Programmer les activités'!H119)","v":""},{"$f":"IF('2-Programmer les activités'!I119=\"Selectionner\",\"\",'2-Programmer les activités'!I119)","v":""},{"$f":"IF('2-Programmer les activités'!J119=\"\",\"\",'2-Programmer les activités'!J119)","v":""},"",0,"",{"$nulls":3},"Selectionner",0,"","",1,null,null,""]
[{"$f":"IF('2-Programmer les activités'!A120=\"\",\"\",'2-Programmer les activités'!A120)","v":0},{"$f":"IF('2-Programmer les activités'!B120=\"Selectionner\",\"\",'2-Programmer les activités'!B120)","v":""},{"$f":"IF('2-Programmer les activités'!C120=\"Selectionner\",\"\",'2-Programmer les activités'!C120)","v":""},{"$f":"IF('2-Programmer les activités'!D120=\"\",\"\",'2-Programmer les activités'!D120)","v":""},null,{"$f":"IF('2-Programmer les activités'!H120=\"\",\"\",'2-Programmer les activités'!H120)","v":""},{"$f":"IF('2-Programmer les activités'!I120=\"Selectionner\",\"\",'2-Programmer les activités'!I120)","v":""},{"$f":"IF('2-Programmer les activités'!J120=\"\",\"\",'2-Programmer les activités'!J120)","v":""},"",0,"",{"$nulls":3},"Selectionner",0,"","",1,null,null,""]
[{"$f":"IF('2-Programmer les activités'!A121=\"\",\"\",'2-Programmer les activités'!A121)","v":0},{"$f":"IF('2-Programmer les activités'!B121=\"Selectionner\",\"\",'2-Programmer les activités'!B121)","v":""},{"$f":"IF('2-Programmer les activités'!C121=\"Selectionner\",\"\",'2-Programmer les activités'!C121)","v":""},{"$f":"IF('2-Programmer les activités'!D121=\"\",\"\",'2-Programmer les activités'!D121)","v":""},null,{"$f":"IF('2-Programmer les activités'!H121=\"\",\"\",'2-Programmer les activités'!H121)","v":""},{"$f":"IF('2-Programmer les activités'!I121=\"Selectionner\",\"\",'2-Programmer les activités'!I121)","v":""},{"$f":"IF('2-Programmer les activités'!J121=\"\",\"\",'2-Programmer les activités'!J121)","v":""},"",0,"",{"$nulls":3},"Selectionner",0,"","",1,null,null,""]
[{"$f":"IF('2-Programmer les activités'!A122=\"\",\"\",'2-Programmer les activités'!A122)","v":0},{"$f":"IF('2-Programmer les activités'!B122=\"Selectionner\",\"\",'2-Programmer les activités'!B122)","v":""},{"$f":"IF('2-Programmer les activités'!C122=\"Selectionner\",\"\",'2-Programmer les activités'!C122)","v":""},{"$f":"IF('2-Programmer les activités'!D122=\"\",\"\",'2-Programmer les activités'!D122)","v":""},null,{"$f":"IF('2-Programmer les activités'!H122=\"\",\"\",'2-Programmer les activités'!H122)","v":""},{"$f":"IF('2-Programmer les activités'!I122=\"Selectionner\",\"\",'2-Programmer les activités'!I122)","v":""},{"$f":"IF('2-Programmer les activités'!J122=\"\",\"\",'2-Programmer les activités'!J122)","v":""},"",0,"",{"$nulls":3},"Selectionner",0,"","",1,null,null,""]
[{"$f":"IF('2-Programmer les activités'!A123=\"\",\"\",'2-Programmer les activités'!A123)","v":0},{"$f":"IF('2-Programmer les activités'!B123=\"Selectionner\",\"\",'2-Programmer les activités'!B123)","v":""},{"$f":"IF('2-Programmer les activités'!C123=\"Selectionner\",\"\",'2-Programmer les activités'!C123)","v":""},{"$f":"IF('2-Programmer les activités'!D123=\"\",\"\",'2-Programmer les activités'!D123)","v":""},null,{"$f":"IF('2-Programmer les activités'!H123=\"\",\"\",'2-Programmer les activités'!H123)","v":""},{"$f":"IF('2-Programmer les activités'!I123=\"Selectionner\",\"\",'2-Programmer les activités'!I123)","v":""},{"$f":"IF('2-Programmer les activités'!J123=\"\",\"\",'2-Programmer les activités'!J123)","v":""},"",0,"",{"$nulls":3},"Selectionner",0,"","",1,null,null,""]
[{"$f":"IF('2-Programmer les activités'!A124=\"\",\"\",'2-Programmer les activités'!A124)","v":0},{"$f":"IF('2-Programmer les activités'!B124=\"Selectionner\",\"\",'2-Programmer les activités'!B124)","v":""},{"$f":"IF('2-Programmer les activités'!C124=\"Selectionner\",\"\",'2-Programmer les activités'!C124)","v":""},{"$f":"IF('2-Programmer les activités'!D124=\"\",\"\",'2-Programmer les activités'!D124)","v":""},null,{"$f":"IF('2-Programmer les activités'!H124=\"\",\"\",'2-Programmer les activités'!H124)","v":""},{"$f":"IF('2-Programmer les activités'!I124=\"Selectionner\",\"\",'2-Programmer les activités'!I124)","v":""},{"$f":"IF('2-Programmer les activités'!J124=\"\",\"\",'2-Programmer les activités'!J124)","v":""},"",0,"",{"$nulls":3},"Selectionner",0,"","",1,null,null,""]
[{"$f":"IF('2-Programmer les activités'!A125=\"\",\"\",'2-Programmer les activités'!A125)","v":0},{"$f":"IF('2-Programmer les activités'!B125=\"Selectionner\",\"\",'2-Programmer les activités'!B125)","v":""},{"$f":"IF('2-Programmer les activités'!C125=\"Selectionner\",\"\",'2-Programmer les activités'!C125)","v":""},{"$f":"IF('2-Programmer les activités'!D125=\"\",\"\",'2-Programmer les activités'!D125)","v":""},null,{"$f":"IF('2-Programmer les activités'!H125=\"\",\"\",'2-Programmer les activités'!H125)","v":""},{"$f":"IF('2-Programmer les activités'!I125=\"Selectionner\",\"\",'2-Programmer les activités'!I125)","v":""},{"$f":"IF('2-Programmer les activités'!J125=\"\",\"\",'2-Programmer les activités'!J125)","v":""},"",0,"",{"$nulls":3},"Selectionner",0,"","",1,null,null,""]
[{"$f":"IF('2-Programmer les activités'!A126=\"\",\"\",'2-Programmer les activités'!A126)","v":0},{"$f":"IF('2-Programmer les activités'!B126=\"Selectionner\",\"\",'2-Programmer les activités'!B126)","v":""},{"$f":"IF('2-Programmer les activités'!C126=\"Selectionner\",\"\",'2-Programmer les activités'!C126)","v":""},{"$f":"IF('2-Programmer les activités'!D126=\"\",\"\",'2-Programmer les activités'!D126)","v":""},null,{"$f":"IF('2-Programmer les activités'!H126=\"\",\"\",'2-Programmer les activités'!H126)","v":""},{"$f":"IF('2-Programmer les activités'!I126=\"Selectionner\",\"\",'2-Programmer les activités'!I126)","v":""},{"$f":"IF('2-Programmer les activités'!J126=\"\",\"\",'2-Programmer les activités'!J126)","v":""},"",0,"",{"$nulls":3},"Selectionner",0,"","",1,null,null,""]
[{"$f":"IF('2-Programmer les activités'!A127=\"\",\"\",'2-Programmer les activités'!A127)","v":0},{"$f":"IF('2-Programmer les activités'!B127=\"Selectionner\",\"\",'2-Programmer les activités'!B127)","v":""},{"$f":"IF('2-Programmer les activités'!C127=\"Selectionner\",\"\",'2-Programmer les activités'!C127)","v":""},{"$f":"IF('2-Programmer les activités'!D127=\"\",\"\",'2-Programmer les activités'!D127)","v":""},null,{"$f":"IF('2-Programmer les activités'!H127=\"\",\"\",'2-Programmer les activités'!H127)","v":""},{"$f":"IF('2-Programmer les activités'!I127=\"Selectionner\",\"\",'2-Programmer les activités'!I127)","v":""},{"$f":"IF('2-Programmer les activités'!J127=\"\",\"\",'2-Programmer les activités'!J127)","v":""},"",0,"",{"$nulls":3},"Selectionner",0,"","",1,null,null,""]
[{"$f":"IF('2-Programmer les activités'!A128=\"\",\"\",'2-Programmer les activités'!A128)","v":0},{"$f":"IF('2-Programmer les activités'!B128=\"Selectionner\",\"\",'2-Programmer les activités'!B128)","v":""},{"$f":"IF('2-Programmer les activités'!C128=\"Selectionner\",\"\",'2-Programmer les activités'!C128)","v":""},{"$f":"IF('2-Programmer les activités'!D128=\"\",\"\",'2-Programmer les activités'!D128)","v":""},null,{"$f":"IF('2-Programmer les activités'!H128=\"\",\"\",'2-Programmer les activités'!H128)","v":""},{"$f":"IF('2-Programmer les activités'!I128=\"Selectionner\",\"\",'2-Programmer les activités'!I128)","v":""},{"$f":"IF('2-Programmer les activités'!J128=\"\",\"\",'2-Programmer les activités'!J128)","v":""},"",0,"",{"$nulls":3},"Selectionner",0,"","",1,null,null,""]
[{"$f":"IF('2-Programmer les activités'!A129=\"\",\"\",'2-Programmer les activités'!A129)","v":0},{"$f":"IF('2-Programmer les activités'!B129=\"Selectionner\",\"\",'2-Programmer les activités'!B129)","v":""},{"$f":"IF('2-Programmer les activités'!C129=\"Selectionner\",\"\",'2-Programmer les activités'!C129)","v":""},{"$f":"IF('2-Programmer les activités'!D129=\"\",\"\",'2-Programmer les activités'!D129)","v":""},null,{"$f":"IF('2-Programmer les activités'!H129=\"\",\"\",'2-Programmer les activités'!H129)","v":""},{"$f":"IF('2-Programmer les activités'!I129=\"Selectionner\",\"\",'2-Programmer les activités'!I129)","v":""},{"$f":"IF('2-Programmer les activités'!J129=\"\",\"\",'2-Programmer les activités'!J129)","v":""},"",0,"",{"$nulls":3},"Selectionner",0,"","",1,null,null,""]
[{"$f":"IF('2-Programmer les activités'!A130=\"\",\"\",'2-Programmer les activités'!A130)","v":0},{"$f":"IF('2-Programmer les activités'!B130=\"Selectionner\",\"\",'2-Programmer les activités'!B130)","v":""},{"$f":"IF('2-Programmer les activités'!C130=\"Selectionner\",\"\",'2-Programmer les activités'!C130)","v":""},{"$f":"IF('2-Programmer les activités'!D130=\"\",\"\",'2-Programmer les activités'!D130)","v":""},null,{"$f":"IF('2-Programmer les activités'!H130=\"\",\"\",'2-Programmer les activités'!H130)","v":""},{"$f":"IF('2-Programmer les activités'!I130=\"Selectionner\",\"\",'2-Programmer les activités'!I130)","v":""},{"$f":"IF('2-Programmer les activités'!J130=\"\",\"\",'2-Programmer les activités'!J130)","v":""},"",0,"",{"$nulls":3},"Selectionner",0,"","",1,null,null,""]
[{"$f":"IF('2-Programmer les activités'!A131=\"\",\"\",'2-Programmer les activités'!A131)","v":0},{"$f":"IF('2-Programmer les activités'!B131=\"Selectionner\",\"\",'2-Programmer les activités'!B131)","v":""},{"$f":"IF('2-Programmer les activités'!C131=\"Selectionner\",\"\",'2-Programmer les activités'!C131)","v":""},{"$f":"IF('2-Programmer les activités'!D131=\"\",\"\",'2-Programmer les activités'!D131)","v":""},null,{"$f":"IF('2-Programmer les activités'!H131=\"\",\"\",'2-Programmer les activités'!H131)","v":""},{"$f":"IF('2-Programmer les activités'!I131=\"Selectionner\",\"\",'2-Programmer les activités'!I131)","v":""},{"$f":"IF('2-Programmer les activités'!J131=\"\",\"\",'2-Programmer les activités'!J131)","v":""},"",0,"",{"$nulls":3},"Selectionner",0,"","",1,null,null,""]
[{"$f":"IF('2-Programmer les activités'!A132=\"\",\"\",'2-Programmer les activités'!A132)","v":0},{"$f":"IF('2-Programmer les activités'!B132=\"Selectionner\",\"\",'2-Programmer les activités'!B132)","v":""},{"$f":"IF('2-Programmer les activités'!C132=\"Selectionner\",\"\",'2-Programmer les activités'!C132)","v":""},{"$f":"IF('2-Programmer les activités'!D132=\"\",\"\",'2-Programmer les activités'!D132)","v":""},null,{"$f":"IF('2-Programmer les activités'!H132=\"\",\"\",'2-Programmer les activités'!H132)","v":""},{"$f":"IF('2-Programmer les activités'!I132=\"Selectionner\",\"\",'2-Programmer les activités'!I132)","v":""},{"$f":"IF('2-Programmer les activités'!J132=\"\",\"\",'2-Programmer les activités'!J132)","v":""},"",0,"",{"$nulls":3},"Selectionner",0,"","",1,null,null,""]
[{"$f":"IF('2-Programmer les activités'!A133=\"\",\"\",'2-Programmer les activités'!A133)","v":0},{"$f":"IF('2-Programmer les activités'!B133=\"Selectionner\",\"\",'2-Programmer les activités'!B133)","v":""},{"$f":"IF('2-Programmer les activités'!C133=\"Selectionner\",\"\",'2-Programmer les activités'!C133)","v":""},{"$f":"IF('2-Programmer les activités'!D133=\"\",\"\",'2-Programmer les activités'!D133)","v":""},null,{"$f":"IF('2-Programmer les activités'!H133=\"\",\"\",'2-Programmer les activités'!H133)","v":""},{"$f":"IF('2-Programmer les activités'!I133=\"Selectionner\",\"\",'2-Programmer les activités'!I133)","v":""},{"$f":"IF('2-Programmer les activités'!J133=\"\",\"\",'2-Programmer les activités'!J133)","v":""},"",0,"",{"$nulls":3},"Selectionner",0,"","",1,null,null,""]
[{"$f":"IF('2-Programmer les activités'!A134=\"\",\"\",'2-Programmer les activités'!A134)","v":0},{"$f":"IF('2-Programmer les activités'!B134=\"Selectionner\",\"\",'2-Programmer les activités'!B134)","v":""},{"$f":"IF('2-Programmer les activités'!C134=\"Selectionner\",\"\",'2-Programmer les activités'!C134)","v":""},{"$f":"IF('2-Programmer les activités'!D134=\"\",\"\",'2-Programmer les activités'!D134)","v":""},null,{"$f":"IF('2-Programmer les activités'!H134=\"\",\"\",'2-Programmer les activités'!H134)","v":""},{"$f":"IF('2-Programmer les activités'!I134=\"Selectionner\",\"\",'2-Programmer les activités'!I134)","v":""},{"$f":"IF('2-Programmer les activités'!J134=\"\",\"\",'2-Programmer les activités'!J134)","v":""},"",0,"",{"$nulls":3},"Selectionner",0,"","",1,null,null,""]
[{"$f":"IF('2-Programmer les activités'!A135=\"\",\"\",'2-Programmer les activités'!A135)","v":0},{"$f":"IF('2-Programmer les activités'!B135=\"Selectionner\",\"\",'2-Programmer les activités'!B135)","v":""},{"$f":"IF('2-Programmer les activités'!C135=\"Selectionner\",\"\",'2-Programmer les activités'!C135)","v":""},{"$f":"IF('2-Programmer les activités'!D135=\"\",\"\",'2-Programmer les activités'!D135)","v":""},null,{"$f":"IF('2-Programmer les activités'!H135=\"\",\"\",'2-Programmer les activités'!H135)","v":""},{"$f":"IF('2-Programmer les activités'!I135=\"Selectionner\",\"\",'2-Programmer les activités'!I135)","v":""},{"$f":"IF('2-Programmer les activités'!J135=\"\",\"\",'2-Programmer les activités'!J135)","v":""},"",0,"",{"$nulls":3},"Selectionner",0,"","",1,null,null,""]
[{"$f":"IF('2-Programmer les activités'!A136=\"\",\"\",'2-Programmer les activités'!A136)","v":0},{"$f":"IF('2-Programmer les activités'!B136=\"Selectionner\",\"\",'2-Programmer les activités'!B136)","v":""},{"$f":"IF('2-Programmer les activités'!C136=\"Selectionner\",\"\",'2-Programmer les activités'!C136)","v":""},{"$f":"IF('2-Programmer les activités'!D136=\"\",\"\",'2-Programmer les activités'!D136)","v":""},null,{"$f":"IF('2-Programmer les activités'!H136=\"\",\"\",'2-Programmer les activités'!H136)","v":""},{"$f":"IF('2-Programmer les activités'!I136=\"Selectionner\",\"\",'2-Programmer les activités'!I136)","v":""},{"$f":"IF('2-Programmer les activités'!J136=\"\",\"\",'2-Programmer les activités'!J136)","v":""},"",0,"",{"$nulls":3},"Selectionner",0,"","",1,null,null,""]
[{"$f":"IF('2-Programmer les activités'!A137=\"\",\"\",'2-Programmer les activités'!A137)","v":0},{"$f":"IF('2-Programmer les activités'!B137=\"Selectionner\",\"\",'2-Programmer les activités'!B137)","v":""},{"$f":"IF('2-Programmer les activités'!C137=\"Selectionner\",\"\",'2-Programmer les activités'!C137)","v":""},{"$f":"IF('2-Programmer les activités'!D137=\"\",\"\",'2-Programmer les activités'!D137)","v":""},null,{"$f":"IF('2-Programmer les activités'!H137=\"\",\"\",'2-Programmer les activités'!H137)","v":""},{"$f":"IF('2-Programmer les activités'!I137=\"Selectionner\",\"\",'2-Programmer les activités'!I137)","v":""},{"$f":"IF('2-Programmer les activités'!J137=\"\",\"\",'2-Programmer les activités'!J137)","v":""},"",0,"",{"$nulls":3},"Selectionner",0,"","",1,null,null,""]
[{"$f":"IF('2-Programmer les activités'!A138=\"\",\"\",'2-Programmer les activités'!A138)","v":0},{"$f":"IF('2-Programmer les activités'!B138=\"Selectionner\",\"\",'2-Programmer les activités'!B138)","v":""},{"$f":"IF('2-Programmer les activités'!C138=\"Selectionner\",\"\",'2-Programmer les activités'!C138)","v":""},{"$f":"IF('2-Programmer les activités'!D138=\"\",\"\",'2-Programmer les activités'!D138)","v":""},null,{"$f":"IF('2-Programmer les activités'!H138=\"\",\"\",'2-Programmer les activités'!H138)","v":""},{"$f":"IF('2-Programmer les activités'!I138=\"Selectionner\",\"\",'2-Programmer les activités'!I138)","v":""},{"$f":"IF('2-Programmer les activités'!J138=\"\",\"\",'2-Programmer les activités'!J138)","v":""},"",0,"",{"$nulls":3},"Selectionner",0,"","",1,null,null,""]
[{"$f":"IF('2-Programmer les activités'!A139=\"\",\"\",'2-Programmer les activités'!A139)","v":0},{"$f":"IF('2-Programmer les activités'!B139=\"Selectionner\",\"\",'2-Programmer les activités'!B139)","v":""},{"$f":"IF('2-Programmer les activités'!C139=\"Selectionner\",\"\",'2-Programmer les activités'!C139)","v":""},{"$f":"IF('2-Programmer les activités'!D139=\"\",\"\",'2-Programmer les activités'!D139)","v":""},null,{"$f":"IF('2-Programmer les activités'!H139=\"\",\"\",'2-Programmer les activités'!H139)","v":""},{"$f":"IF('2-Programmer les activités'!I139=\"Selectionner\",\"\",'2-Programmer les activités'!I139)","v":""},{"$f":"IF('2-Programmer les activités'!J139=\"\",\"\",'2-Programmer les activités'!J139)","v":""},"",0,"",{"$nulls":3},"Selectionner",0,"","",1,null,null,""]
[{"$f":"IF('2-Programmer les activités'!A140=\"\",\"\",'2-Programmer les activités'!A140)","v":0},{"$f":"IF('2-Programmer les activités'!B140=\"Selectionner\",\"\",'2-Programmer les activités'!B140)","v":""},{"$f":"IF('2-Programmer les activités'!C140=\"Selectionner\",\"\",'2-Programmer les activités'!C140)","v":""},{"$f":"IF('2-Programmer les activités'!D140=\"\",\"\",'2-Programmer les activités'!D140)","v":""},null,{"$f":"IF('2-Programmer les activités'!H140=\"\",\"\",'2-Programmer les activités'!H140)","v":""},{"$f":"IF('2-Programmer les activités'!I140=\"Selectionner\",\"\",'2-Programmer les activités'!I140)","v":""},{"$f":"IF('2-Programmer les activités'!J140=\"\",\"\",'2-Programmer les activités'!J140)","v":""},"",0,{"$f":"IF(H140=\"\",\"\",R140)","v":""},{"$nulls":3},"Selectionner",0,"",{"$f":"IF(AND(I140<8,AND(I140>=0)),1,\"\")","v":""},1,null,null,{"$f":"IFERROR((F140-R140),\"\")","v":""}]
[{"$f":"IF('2-Programmer les activités'!A141=\"\",\"\",'2-Programmer les activités'!A141)","v":0},{"$f":"IF('2-Programmer les activités'!B141=\"Selectionner\",\"\",'2-Programmer les activités'!B141)","v":""},{"$f":"IF('2-Programmer les activités'!C141=\"Selectionner\",\"\",'2-Programmer les activités'!C141)","v":""},{"$f":"IF('2-Programmer les activités'!D141=\"\",\"\",'2-Programmer les activités'!D141)","v":""},null,{"$f":"IF('2-Programmer les activités'!H141=\"\",\"\",'2-Programmer les activités'!H141)","v":""},{"$f":"IF('2-Programmer les activités'!I141=\"Selectionner\",\"\",'2-Programmer les activités'!I141)","v":""},{"$f":"IF('2-Programmer les activités'!J141=\"\",\"\",'2-Programmer les activités'!J141)","v":""},"",{"$f":"IF(I141<0,1,0)","v":0},"",{"$nulls":3},"Selectionner",{"$f":"IF(O141=\"Acheve\",1,0)","v":0},"","",{"$f":"IF(D141=\"Selectionner\",0,1)","v":1},null,null,""]
[{"$f":"IF('2-Programmer les activités'!A142=\"\",\"\",'2-Programmer les activités'!A142)","v":0},{"$f":"IF('2-Programmer les activités'!B142=\"Selectionner\",\"\",'2-Programmer les activités'!B142)","v":""},{"$f":"IF('2-Programmer les activités'!C142=\"Selectionner\",\"\",'2-Programmer les activités'!C142)","v":""},{"$f":"IF('2-Programmer les activités'!D142=\"\",\"\",'2-Programmer les activités'!D142)","v":""},null,{"$f":"IF('2-Programmer les activités'!H142=\"\",\"\",'2-Programmer les activités'!H142)","v":""},{"$f":"IF('2-Programmer les activités'!I142=\"Selectionner\",\"\",'2-Programmer les activités'!I142)","v":""},{"$f":"IF('2-Programmer les activités'!J142=\"\",\"\",'2-Programmer les activités'!J142)","v":""},"",0,"",{"$nulls":3},"Selectionner",0,"","",1,null,null,""]
[{"$f":"IF('2-Programmer les activités'!A143=\"\",\"\",'2-Programmer les activités'!A143)","v":0},{"$f":"IF('2-Programmer les activités'!B143=\"Selectionner\",\"\",'2-Programmer les activités'!B143)","v":""},{"$f":"IF('2-Programmer les activités'!C143=\"Selectionner\",\"\",'2-Programmer les activités'!C143)","v":""},{"$f":"IF('2-Programmer les activités'!D143=\"\",\"\",'2-Programmer les activités'!D143)","v":""},null,{"$f":"IF('2-Programmer les activités'!H143=\"\",\"\",'2-Programmer les activités'!H143)","v":""},{"$f":"IF('2-Programmer les activités'!I143=\"Selectionner\",\"\",'2-Programmer les activités'!I143)","v":""},{"$f":"IF('2-Programmer les activités'!J143=\"\",\"\",'2-Programmer les activités'!J143)","v":""},"",0,"",{"$nulls":3},"Selectionner",0,"","",1,null,null,""]
[{"$f":"IF('2-Programmer les activités'!A144=\"\",\"\",'2-Programmer les activités'!A144)","v":0},{"$f":"IF('2-Programmer les activités'!B144=\"Selectionner\",\"\",'2-Programmer les activités'!B144)","v":""},{"$f":"IF('2-Programmer les activités'!C144=\"Selectionner\",\"\",'2-Programmer les activités'!C144)","v":""},{"$f":"IF('2-Programmer les activités'!D144=\"\",\"\",'2-Programmer les activités'!D144)","v":""},null,{"$f":"IF('2-Programmer les activités'!H144=\"\",\"\",'2-Programmer les activités'!H144)","v":""},{"$f":"IF('2-Programmer les activités'!I144=\"Selectionner\",\"\",'2-Programmer les activités'!I144)","v":""},{"$f":"IF('2-Programmer les activités'!J144=\"\",\"\",'2-Programmer les activités'!J144)","v":""},"",0,"",{"$nulls":3},"Selectionner",0,"","",1,null,null,""]
[{"$f":"IF('2-Programmer les activités'!A145=\"\",\"\",'2-Programmer les activités'!A145)","v":0},{"$f":"IF('2-Programmer les activités'!B145=\"Selectionner\",\"\",'2-Programmer les activités'!B145)","v":""},{"$f":"IF('2-Programmer les activités'!C145=\"Selectionner\",\"\",'2-Programmer les activités'!C145)","v":""},{"$f":"IF('2-Programmer les activités'!D145=\"\",\"\",'2-Programmer les activités'!D145)","v":""},null,{"$f":"IF('2-Programmer les activités'!H145=\"\",\"\",'2-Programmer les activités'!H145)","v":""},{"$f":"IF('2-Programmer les activités'!I145=\"Selectionner\",\"\",'2-Programmer les activités'!I145)","v":""},{"$f":"IF('2-Programmer les activités'!J145=\"\",\"\",'2-Programmer les activités'!J145)","v":""},"",0,"",{"$nulls":3},"Selectionner",0,"","",1,null,null,""]
[{"$f":"IF('2-Programmer les activités'!A146=\"\",\"\",'2-Programmer les activités'!A146)","v":0},{"$f":"IF('2-Programmer les activités'!B146=\"Selectionner\",\"\",'2-Programmer les activités'!B146)","v":""},{"$f":"IF('2-Programmer les activités'!C146=\"Selectionner\",\"\",'2-Programmer les activités'!C146)","v":""},{"$f":"IF('2-Programmer les activités'!D146=\"\",\"\",'2-Programmer les activités'!D146)","v":""},null,{"$f":"IF('2-Programmer les activités'!H146=\"\",\"\",'2-Programmer les activités'!H146)","v":""},{"$f":"IF('2-Programmer les activités'!I146=\"Selectionner\",\"\",'2-Programmer les activités'!I146)","v":""},{"$f":"IF('2-Programmer les activités'!J146=\"\",\"\",'2-Programmer les activités'!J146)","v":""},"",0,"",{"$nulls":3},"Selectionner",0,"","",1,null,null,""]
[{"$f":"IF('2-Programmer les activités'!A147=\"\",\"\",'2-Programmer les activités'!A147)","v":0},{"$f":"IF('2-Programmer les activités'!B147=\"Selectionner\",\"\",'2-Programmer les activités'!B147)","v":""},{"$f":"IF('2-Programmer les activités'!C147=\"Selectionner\",\"\",'2-Programmer les activités'!C147)","v":""},{"$f":"IF('2-Programmer les activités'!D147=\"\",\"\",'2-Programmer les activités'!D147)","v":""},null,{"$f":"IF('2-Programmer les activités'!H147=\"\",\"\",'2-Programmer les activités'!H147)","v":""},{"$f":"IF('2-Programmer les activités'!I147=\"Selectionner\",\"\",'2-Programmer les activités'!I147)","v":""},{"$f":"IF('2-Programmer les activités'!J147=\"\",\"\",'2-Programmer les activités'!J147)","v":""},"",0,"",{"$nulls":3},"Selectionner",0,"","",1,null,null,""]
[{"$f":"IF('2-Programmer les activités'!A148=\"\",\"\",'2-Programmer les activités'!A148)","v":0},{"$f":"IF('2-Programmer les activités'!B148=\"Selectionner\",\"\",'2-Programmer les activités'!B148)","v":""},{"$f":"IF('2-Programmer les activités'!C148=\"Selectionner\",\"\",'2-Programmer les activités'!C148)","v":""},{"$f":"IF('2-Programmer les activités'!D148=\"\",\"\",'2-Programmer les activités'!D148)","v":""},null,{"$f":"IF('2-Programmer les activités'!H148=\"\",\"\",'2-Programmer les activités'!H148)","v":""},{"$f":"IF('2-Programmer les activités'!I148=\"Selectionner\",\"\",'2-Programmer les activités'!I148)","v":""},{"$f":"IF('2-Programmer les activités'!J148=\"\",\"\",'2-Programmer les activités'!J148)","v":""},"",0,"",{"$nulls":3},"Selectionner",0,"","",1,null,null,""]
[{"$f":"IF('2-Programmer les activités'!A149=\"\",\"\",'2-Programmer les activités'!A149)","v":0},{"$f":"IF('2-Programmer les activités'!B149=\"Selectionner\",\"\",'2-Programmer les activités'!B149)","v":""},{"$f":"IF('2-Programmer les activités'!C149=\"Selectionner\",\"\",'2-Programmer les activités'!C149)","v":""},{"$f":"IF('2-Programmer les activités'!D149=\"\",\"\",'2-Programmer les activités'!D149)","v":""},null,{"$f":"IF('2-Programmer les activités'!H149=\"\",\"\",'2-Programmer les activités'!H149)","v":""},{"$f":"IF('2-Programmer les activités'!I149=\"Selectionner\",\"\",'2-Programmer les activités'!I149)","v":""},{"$f":"IF('2-Programmer les activités'!J149=\"\",\"\",'2-Programmer les activités'!J149)","v":""},"",0,"",{"$nulls":3},"Selectionner",0,"","",1,null,null,""]
[{"$f":"IF('2-Programmer les activités'!A150=\"\",\"\",'2-Programmer les activités'!A150)","v":0},{"$f":"IF('2-Programmer les activités'!B150=\"Selectionner\",\"\",'2-Programmer les activités'!B150)","v":""},{"$f":"IF('2-Programmer les activités'!C150=\"Selectionner\",\"\",'2-Programmer les activités'!C150)","v":""},{"$f":"IF('2-Programmer les activités'!D150=\"\",\"\",'2-Programmer les activités'!D150)","v":""},null,{"$f":"IF('2-Programmer les activités'!H150=\"\",\"\",'2-Programmer les activités'!H150)","v":""},{"$f":"IF('2-Programmer les activités'!I150=\"Selectionner\",\"\",'2-Programmer les activités'!I150)","v":""},{"$f":"IF('2-Programmer les activités'!J150=\"\",\"\",'2-Programmer les activités'!J150)","v":""},"",0,"",{"$nulls":3},"Selectionner",0,"","",1,null,null,""]
[{"$f":"IF('2-Programmer les activités'!A151=\"\",\"\",'2-Programmer les activités'!A151)","v":0},{"$f":"IF('2-Programmer les activités'!B151=\"Selectionner\",\"\",'2-Programmer les activités'!B151)","v":""},{"$f":"IF('2-Programmer les activités'!C151=\"Selectionner\",\"\",'2-Programmer les activités'!C151)","v":""},{"$f":"IF('2-Programmer les activités'!D151=\"\",\"\",'2-Programmer les activités'!D151)","v":""},null,{"$f":"IF('2-Programmer les activités'!H151=\"\",\"\",'2-Programmer les activités'!H151)","v":""},{"$f":"IF('2-Programmer les activités'!I151=\"Selectionner\",\"\",'2-Programmer les activités'!I151)","v":""},{"$f":"IF('2-Programmer les activités'!J151=\"\",\"\",'2-Programmer les activités'!J151)","v":""},"",0,"",{"$nulls":3},"Selectionner",0,"","",1,null,null,""]
[{"$f":"IF('2-Programmer les activités'!A152=\"\",\"\",'2-Programmer les activités'!A152)","v":0},{"$f":"IF('2-Programmer les activités'!B152=\"Selectionner\",\"\",'2-Programmer les activités'!B152)","v":""},{"$f":"IF('2-Programmer les activités'!C152=\"Selectionner\",\"\",'2-Programmer les activités'!C152)","v":""},{"$f":"IF('2-Programmer les activités'!D152=\"\",\"\",'2-Programmer les activités'!D152)","v":""},null,{"$f":"IF('2-Programmer les activités'!H152=\"\",\"\",'2-Programmer les activités'!H152)","v":""},{"$f":"IF('2-Programmer les activités'!I152=\"Selectionner\",\"\",'2-Programmer les activités'!I152)","v":""},{"$f":"IF('2-Programmer les activités'!J152=\"\",\"\",'2-Programmer les activités'!J152)","v":""},"",0,"",{"$nulls":3},"Selectionner",0,"","",1,null,null,""]
[{"$f":"IF('2-Programmer les activités'!A153=\"\",\"\",'2-Programmer les activités'!A153)","v":0},{"$f":"IF('2-Programmer les activités'!B153=\"Selectionner\",\"\",'2-Programmer les activités'!B153)","v":""},{"$f":"IF('2-Programmer les activités'!C153=\"Selectionner\",\"\",'2-Programmer les activités'!C153)","v":""},{"$f":"IF('2-Programmer les activités'!D153=\"\",\"\",'2-Programmer les activités'!D153)","v":""},null,{"$f":"IF('2-Programmer les activités'!H153=\"\",\"\",'2-Programmer les activités'!H153)","v":""},{"$f":"IF('2-Programmer les activités'!I153=\"Selectionner\",\"\",'2-Programmer les activités'!I153)","v":""},{"$f":"IF('2-Programmer les activités'!J153=\"\",\"\",'2-Programmer les activités'!J153)","v":""},"",0,"",{"$nulls":3},"Selectionner",0,"","",1,null,null,""]
[{"$f":"IF('2-Programmer les activités'!A154=\"\",\"\",'2-Programmer les activités'!A154)","v":0},{"$f":"IF('2-Programmer les activités'!B154=\"Selectionner\",\"\",'2-Programmer les activités'!B154)","v":""},{"$f":"IF('2-Programmer les activités'!C154=\"Selectionner\",\"\",'2-Programmer les activités'!C154)","v":""},{"$f":"IF('2-Programmer les activités'!D154=\"\",\"\",'2-Programmer les activités'!D154)","v":""},null,{"$f":"IF('2-Programmer les activités'!H154=\"\",\"\",'2-Programmer les activités'!H154)","v":""},{"$f":"IF('2-Programmer les activités'!I154=\"Selectionner\",\"\",'2-Programmer les activités'!I154)","v":""},{"$f":"IF('2-Programmer les activités'!J154=\"\",\"\",'2-Programmer les activités'!J154)","v":""},"",0,"",{"$nulls":3},"Selectionner",0,"","",1,null,null,""]
[{"$f":"IF('2-Programmer les activités'!A155=\"\",\"\",'2-Programmer les activités'!A155)","v":0},{"$f":"IF('2-Programmer les activités'!B155=\"Selectionner\",\"\",'2-Programmer les activités'!B155)","v":""},{"$f":"IF('2-Programmer les activités'!C155=\"Selectionner\",\"\",'2-Programmer les activités'!C155)","v":""},{"$f":"IF('2-Programmer les activités'!D155=\"\",\"\",'2-Programmer les activités'!D155)","v":""},null,{"$f":"IF('2-Programmer les activités'!H155=\"\",\"\",'2-Programmer les activités'!H155)","v":""},{"$f":"IF('2-Programmer les activités'!I155=\"Selectionner\",\"\",'2-Programmer les activités'!I155)","v":""},{"$f":"IF('2-Programmer les activités'!J155=\"\",\"\",'2-Programmer les activités'!J155)","v":""},"",0,"",{"$nulls":3},"Selectionner",0,"","",1,null,null,""]
[{"$f":"IF('2-Programmer les activités'!A156=\"\",\"\",'2-Programmer les activités'!A156)","v":0},{"$f":"IF('2-Programmer les activités'!B156=\"Selectionner\",\"\",'2-Programmer les activités'!B156)","v":""},{"$f":"IF('2-Programmer les activités'!C156=\"Selectionner\",\"\",'2-Programmer les activités'!C156)","v":""},{"$f":"IF('2-Programmer les activités'!D156=\"\",\"\",'2-Programmer les activités'!D156)","v":""},null,{"$f":"IF('2-Programmer les activités'!H156=\"\",\"\",'2-Programmer les activités'!H156)","v":""},{"$f":"IF('2-Programmer les activités'!I156=\"Selectionner\",\"\",'2-Programmer les activités'!I156)","v":""},{"$f":"IF('2-Programmer les activités'!J156=\"\",\"\",'2-Programmer les activités'!J156)","v":""},"",0,"",{"$nulls":3},"Selectionner",0,"","",1,null,null,""]
[{"$f":"IF('2-Programmer les activités'!A157=\"\",\"\",'2-Programmer les activités'!A157)","v":0},{"$f":"IF('2-Programmer les activités'!B157=\"Selectionner\",\"\",'2-Programmer les activités'!B157)","v":""},{"$f":"IF('2-Programmer les activités'!C157=\"Selectionner\",\"\",'2-Programmer les activités'!C157)","v":""},{"$f":"IF('2-Programmer les activités'!D157=\"\",\"\",'2-Programmer les activités'!D157)","v":""},null,{"$f":"IF('2-Programmer les activités'!H157=\"\",\"\",'2-Programmer les activités'!H157)","v":""},{"$f":"IF('2-Programmer les activités'!I157=\"Selectionner\",\"\",'2-Programmer les activités'!I157)","v":""},{"$f":"IF('2-Programmer les activités'!J157=\"\",\"\",'2-Programmer les activités'!J157)","v":""},"",0,"",{"$nulls":3},"Selectionner",0,"","",1,null,null,""]
[{"$f":"IF('2-Programmer les activités'!A158=\"\",\"\",'2-Programmer les activités'!A158)","v":0},{"$f":"IF('2-Programmer les activités'!B158=\"Selectionner\",\"\",'2-Programmer les activités'!B158)","v":""},{"$f":"IF('2-Programmer les activités'!C158=\"Selectionner\",\"\",'2-Programmer les activités'!C158)","v":""},{"$f":"IF('2-Programmer les activités'!D158=\"\",\"\",'2-Programmer les activités'!D158)","v":""},null,{"$f":"IF('2-Programmer les activités'!H158=\"\",\"\",'2-Programmer les activités'!H158)","v":""},{"$f":"IF('2-Programmer les activités'!I158=\"Selectionner\",\"\",'2-Programmer les activités'!I158)","v":""},{"$f":"IF('2-Programmer les activités'!J158=\"\",\"\",'2-Programmer les activités'!J158)","v":""},"",0,"",{"$nulls":3},"Selectionner",0,"","",1,null,null,""]
[{"$f":"IF('2-Programmer les activités'!A159=\"\",\"\",'2-Programmer les activités'!A159)","v":0},{"$f":"IF('2-Programmer les activités'!B159=\"Selectionner\",\"\",'2-Programmer les activités'!B159)","v":""},{"$f":"IF('2-Programmer les activités'!C159=\"Selectionner\",\"\",'2-Programmer les activités'!C159)","v":""},{"$f":"IF('2-Programmer les activités'!D159=\"\",\"\",'2-Programmer les activités'!D159)","v":""},null,{"$f":"IF('2-Programmer les activités'!H159=\"\",\"\",'2-Programmer les activités'!H159)","v":""},{"$f":"IF('2-Programmer les activités'!I159=\"Selectionner\",\"\",'2-Programmer les activités'!I159)","v":""},{"$f":"IF('2-Programmer les activités'!J159=\"\",\"\",'2-Programmer les activités'!J159)","v":""},"",0,"",{"$nulls":3},"Selectionner",0,"","",1,null,null,""]
[{"$f":"IF('2-Programmer les activités'!A160=\"\",\"\",'2-Programmer les activités'!A160)","v":0},{"$f":"IF('2-Programmer les activités'!B160=\"Selectionner\",\"\",'2-Programmer les activités'!B160)","v":""},{"$f":"IF('2-Programmer les activités'!C160=\"Selectionner\",\"\",'2-Programmer les activités'!C160)","v":""},{"$f":"IF('2-Programmer les activités'!D160=\"\",\"\",'2-Programmer les activités'!D160)","v":""},null,{"$f":"IF('2-Programmer les activités'!H160=\"\",\"\",'2-Programmer les activités'!H160)","v":""},{"$f":"IF('2-Programmer les activités'!I160=\"Selectionner\",\"\",'2-Programmer les activités'!I160)","v":""},{"$f":"IF('2-Programmer les activités'!J160=\"\",\"\",'2-Programmer les activités'!J160)","v":""},"",0,"",{"$nulls":3},"Selectionner",0,"","",1,null,null,""]
[{"$f":"IF('2-Programmer les activités'!A161=\"\",\"\",'2-Programmer les activités'!A161)","v":0},{"$f":"IF('2-Programmer les activités'!B161=\"Selectionner\",\"\",'2-Programmer les activités'!B161)","v":""},{"$f":"IF('2-Programmer les activités'!C161=\"Selectionner\",\"\",'2-Programmer les activités'!C161)","v":""},{"$f":"IF('2-Programmer les activités'!D161=\"\",\"\",'2-Programmer les activités'!D161)","v":""},null,{"$f":"IF('2-Programmer les activités'!H161=\"\",\"\",'2-Programmer les activités'!H161)","v":""},{"$f":"IF('2-Programmer les activités'!I161=\"Selectionner\",\"\",'2-Programmer les activités'!I161)","v":""},{"$f":"IF('2-Programmer les activités'!J161=\"\",\"\",'2-Programmer les activités'!J161)","v":""},"",0,"",{"$nulls":3},"Selectionner",0,"","",1,null,null,""]
[{"$f":"IF('2-Programmer les activités'!A162=\"\",\"\",'2-Programmer les activités'!A162)","v":0},{"$f":"IF('2-Programmer les activités'!B162=\"Selectionner\",\"\",'2-Programmer les activités'!B162)","v":""},{"$f":"IF('2-Programmer les activités'!C162=\"Selectionner\",\"\",'2-Programmer les activités'!C162)","v":""},{"$f":"IF('2-Programmer les activités'!D162=\"\",\"\",'2-Programmer les activités'!D162)","v":""},null,{"$f":"IF('2-Programmer les activités'!H162=\"\",\"\",'2-Programmer les activités'!H162)","v":""},{"$f":"IF('2-Programmer les activités'!I162=\"Selectionner\",\"\",'2-Programmer les activités'!I162)","v":""},{"$f":"IF('2-Programmer les activités'!J162=\"\",\"\",'2-Programmer les activités'!J162)","v":""},"",0,"",{"$nulls":3},"Selectionner",0,"","",1,null,null,""]
[{"$f":"IF('2-Programmer les activités'!A163=\"\",\"\",'2-Programmer les activités'!A163)","v":0},{"$f":"IF('2-Programmer les activités'!B163=\"Selectionner\",\"\",'2-Programmer les activités'!B163)","v":""},{"$f":"IF('2-Programmer les activités'!C163=\"Selectionner\",\"\",'2-Programmer les activités'!C163)","v":""},{"$f":"IF('2-Programmer les activités'!D163=\"\",\"\",'2-Programmer les activités'!D163)","v":""},null,{"$f":"IF('2-Programmer les activités'!H163=\"\",\"\",'2-Programmer les activités'!H163)","v":""},{"$f":"IF('2-Programmer les activités'!I163=\"Selectionner\",\"\",'2-Programmer les activités'!I163)","v":""},{"$f":"IF('2-Programmer les activités'!J163=\"\",\"\",'2-Programmer les activités'!J163)","v":""},"",0,"",{"$nulls":3},"Selectionner",0,"","",1,null,null,""]
[{"$f":"IF('2-Programmer les activités'!A164=\"\",\"\",'2-Programmer les activités'!A164)","v":0},{"$f":"IF('2-Programmer les activités'!B164=\"Selectionner\",\"\",'2-Programmer les activités'!B164)","v":""},{"$f":"IF('2-Programmer les activités'!C164=\"Selectionner\",\"\",'2-Programmer les activités'!C164)","v":""},{"$f":"IF('2-Programmer les activités'!D164=\"\",\"\",'2-Programmer les activités'!D164)","v":""},null,{"$f":"IF('2-Programmer les activités'!H164=\"\",\"\",'2-Programmer les activités'!H164)","v":""},{"$f":"IF('2-Programmer les activités'!I164=\"Selectionner\",\"\",'2-Programmer les activités'!I164)","v":""},{"$f":"IF('2-Programmer les activités'!J164=\"\",\"\",'2-Programmer les activités'!J164)","v":""},"",0,"",{"$nulls":3},"Selectionner",0,"","",1,null,null,""]
[{"$f":"IF('2-Programmer les activités'!A165=\"\",\"\",'2-Programmer les activités'!A165)","v":0},{"$f":"IF('2-Programmer les activités'!B165=\"Selectionner\",\"\",'2-Programmer les activités'!B165)","v":""},{"$f":"IF('2-Programmer les activités'!C165=\"Selectionner\",\"\",'2-Programmer les activités'!C165)","v":""},{"$f":"IF('2-Programmer les activités'!D165=\"\",\"\",'2-Programmer les activités'!D165)","v":""},null,{"$f":"IF('2-Programmer les activités'!H165=\"\",\"\",'2-Programmer les activités'!H165)","v":""},{"$f":"IF('2-Programmer les activités'!I165=\"Selectionner\",\"\",'2-Programmer les activités'!I165)","v":""},{"$f":"IF('2-Programmer les activités'!J165=\"\",\"\",'2-Programmer les activités'!J165)","v":""},"",0,"",{"$nulls":3},"Selectionner",0,"","",1,null,null,""]
[{"$f":"IF('2-Programmer les activités'!A166=\"\",\"\",'2-Programmer les activités'!A166)","v":0},{"$f":"IF('2-Programmer les activités'!B166=\"Selectionner\",\"\",'2-Programmer les activités'!B166)","v":""},{"$f":"IF('2-Programmer les activités'!C166=\"Selectionner\",\"\",'2-Programmer les activités'!C166)","v":""},{"$f":"IF('2-Programmer les activités'!D166=\"\",\"\",'2-Programmer les activités'!D166)","v":""},null,{"$f":"IF('2-Programmer les activités'!H166=\"\",\"\",'2-Programmer les activités'!H166)","v":""},{"$f":"IF('2-Programmer les activités'!I166=\"Selectionner\",\"\",'2-Programmer les activités'!I166)","v":""},{"$f":"IF('2-Programmer les activités'!J166=\"\",\"\",'2-Programmer les activités'!J166)","v":""},"",0,"",{"$nulls":3},"Selectionner",0,"","",1,null,null,""]
[{"$f":"IF('2-Programmer les activités'!A167=\"\",\"\",'2-Programmer les activités'!A167)","v":0},{"$f":"IF('2-Programmer les activités'!B167=\"Selectionner\",\"\",'2-Programmer les activités'!B167)","v":""},{"$f":"IF('2-Programmer les activités'!C167=\"Selectionner\",\"\",'2-Programmer les activités'!C167)","v":""},{"$f":"IF('2-Programmer les activités'!D167=\"\",\"\",'2-Programmer les activités'!D167)","v":""},null,{"$f":"IF('2-Programmer les activités'!H167=\"\",\"\",'2-Programmer les activités'!H167)","v":""},{"$f":"IF('2-Programmer les activités'!I167=\"Selectionner\",\"\",'2-Programmer les activités'!I167)","v":""},{"$f":"IF('2-Programmer les activités'!J167=\"\",\"\",'2-Programmer les activités'!J167)","v":""},"",0,"",{"$nulls":3},"Selectionner",0,"","",1,null,null,""]
[{"$f":"IF('2-Programmer les activités'!A168=\"\",\"\",'2-Programmer les activités'!A168)","v":0},{"$f":"IF('2-Programmer les activités'!B168=\"Selectionner\",\"\",'2-Programmer les activités'!B168)","v":""},{"$f":"IF('2-Programmer les activités'!C168=\"Selectionner\",\"\",'2-Programmer les activités'!C168)","v":""},{"$f":"IF('2-Programmer les activités'!D168=\"\",\"\",'2-Programmer les activités'!D168)","v":""},null,{"$f":"IF('2-Programmer les activités'!H168=\"\",\"\",'2-Programmer les activités'!H168)","v":""},{"$f":"IF('2-Programmer les activités'!I168=\"Selectionner\",\"\",'2-Programmer les activités'!I168)","v":""},{"$f":"IF('2-Programmer les activités'!J168=\"\",\"\",'2-Programmer les activités'!J168)","v":""},"",0,"",{"$nulls":3},"Selectionner",0,"","",1,null,null,""]
[{"$f":"IF('2-Programmer les activités'!A169=\"\",\"\",'2-Programmer les activités'!A169)","v":0},{"$f":"IF('2-Programmer les activités'!B169=\"Selectionner\",\"\",'2-Programmer les activités'!B169)","v":""},{"$f":"IF('2-Programmer les activités'!C169=\"Selectionner\",\"\",'2-Programmer les activités'!C169)","v":""},{"$f":"IF('2-Programmer les activités'!D169=\"\",\"\",'2-Programmer les activités'!D169)","v":""},null,{"$f":"IF('2-Programmer les activités'!H169=\"\",\"\",'2-Programmer les activités'!H169)","v":""},{"$f":"IF('2-Programmer les activités'!I169=\"Selectionner\",\"\",'2-Programmer les activités'!I169)","v":""},{"$f":"IF('2-Programmer les activités'!J169=\"\",\"\",'2-Programmer les activités'!J169)","v":""},"",0,"",{"$nulls":3},"Selectionner",0,"","",1,null,null,""]
[{"$f":"IF('2-Programmer les activités'!A170=\"\",\"\",'2-Programmer les activités'!A170)","v":0},{"$f":"IF('2-Programmer les activités'!B170=\"Selectionner\",\"\",'2-Programmer les activités'!B170)","v":""},{"$f":"IF('2-Programmer les activités'!C170=\"Selectionner\",\"\",'2-Programmer les activités'!C170)","v":""},{"$f":"IF('2-Programmer les activités'!D170=\"\",\"\",'2-Programmer les activités'!D170)","v":""},null,{"$f":"IF('2-Programmer les activités'!H170=\"\",\"\",'2-Programmer les activités'!H170)","v":""},{"$f":"IF('2-Programmer les activités'!I170=\"Selectionner\",\"\",'2-Programmer les activités'!I170)","v":""},{"$f":"IF('2-Programmer les activités'!J170=\"\",\"\",'2-Programmer les activités'!J170)","v":""},"",0,"",{"$nulls":3},"Selectionner",0,"","",1,null,null,""]
[{"$f":"IF('2-Programmer les activités'!A171=\"\",\"\",'2-Programmer les activités'!A171)","v":0},{"$f":"IF('2-Programmer les activités'!B171=\"Selectionner\",\"\",'2-Programmer les activités'!B171)","v":""},{"$f":"IF('2-Programmer les activités'!C171=\"Selectionner\",\"\",'2-Programmer les activités'!C171)","v":""},{"$f":"IF('2-Programmer les activités'!D171=\"\",\"\",'2-Programmer les activités'!D171)","v":""},null,{"$f":"IF('2-Programmer les activités'!H171=\"\",\"\",'2-Programmer les activités'!H171)","v":""},{"$f":"IF('2-Programmer les activités'!I171=\"Selectionner\",\"\",'2-Programmer les activités'!I171)","v":""},{"$f":"IF('2-Programmer les activités'!J171=\"\",\"\",'2-Programmer les activités'!J171)","v":""},"",0,"",{"$nulls":3},"Selectionner",0,"","",1,null,null,""]
[{"$f":"IF('2-Programmer les activités'!A172=\"\",\"\",'2-Programmer les activités'!A172)","v":0},{"$f":"IF('2-Programmer les activités'!B172=\"Selectionner\",\"\",'2-Programmer les activités'!B172)","v":""},{"$f":"IF('2-Programmer les activités'!C172=\"Selectionner\",\"\",'2-Programmer les activités'!C172)","v":""},{"$f":"IF('2-Programmer les activités'!D172=\"\",\"\",'2-Programmer les activités'!D172)","v":""},null,{"$f":"IF('2-Programmer les activités'!H172=\"\",\"\",'2-Programmer les activités'!H172)","v":""},{"$f":"IF('2-Programmer les activités'!I172=\"Selectionner\",\"\",'2-Programmer les activités'!I172)","v":""},{"$f":"IF('2-Programmer les activités'!J172=\"\",\"\",'2-Programmer les activités'!J172)","v":""},"",0,{"$f":"IF(H172=\"\",\"\",R172)","v":""},{"$nulls":3},"Selectionner",0,"",{"$f":"IF(AND(I172<8,AND(I172>=0)),1,\"\")","v":""},1,null,null,{"$f":"IFERROR((F172-R172),\"\")","v":""}]
[{"$f":"IF('2-Programmer les activités'!A173=\"\",\"\",'2-Programmer les activités'!A173)","v":0},{"$f":"IF('2-Programmer les activités'!B173=\"Selectionner\",\"\",'2-Programmer les activités'!B173)","v":""},{"$f":"IF('2-Programmer les activités'!C173=\"Selectionner\",\"\",'2-Programmer les activités'!C173)","v":""},{"$f":"IF('2-Programmer les activités'!D173=\"\",\"\",'2-Programmer les activités'!D173)","v":""},null,{"$f":"IF('2-Programmer les activités'!H173=\"\",\"\",'2-Programmer les activités'!H173)","v":""},{"$f":"IF('2-Programmer les activités'!I173=\"Selectionner\",\"\",'2-Programmer les activités'!I173)","v":""},{"$f":"IF('2-Programmer les activités'!J173=\"\",\"\",'2-Programmer les activités'!J173)","v":""},"",0,"",{"$nulls":3},"Selectionner",0,"","",1,null,null,""]
[{"$f":"IF('2-Programmer les activités'!A174=\"\",\"\",'2-Programmer les activités'!A174)","v":0},{"$f":"IF('2-Programmer les activités'!B174=\"Selectionner\",\"\",'2-Programmer les activités'!B174)","v":""},{"$f":"IF('2-Programmer les activités'!C174=\"Selectionner\",\"\",'2-Programmer les activités'!C174)","v":""},{"$f":"IF('2-Programmer les activités'!D174=\"\",\"\",'2-Programmer les activités'!D174)","v":""},null,{"$f":"IF('2-Programmer les activités'!H174=\"\",\"\",'2-Programmer les activités'!H174)","v":""},{"$f":"IF('2-Programmer les activités'!I174=\"Selectionner\",\"\",'2-Programmer les activités'!I174)","v":""},{"$f":"IF('2-Programmer les activités'!J174=\"\",\"\",'2-Programmer les activités'!J174)","v":""},"",0,"",{"$nulls":3},"Selectionner",0,"","",1,null,null,""]
[{"$f":"IF('2-Programmer les activités'!A175=\"\",\"\",'2-Programmer les activités'!A175)","v":0},{"$f":"IF('2-Programmer les activités'!B175=\"Selectionner\",\"\",'2-Programmer les activités'!B175)","v":""},{"$f":"IF('2-Programmer les activités'!C175=\"Selectionner\",\"\",'2-Programmer les activités'!C175)","v":""},{"$f":"IF('2-Programmer les activités'!D175=\"\",\"\",'2-Programmer les activités'!D175)","v":""},null,{"$f":"IF('2-Programmer les activités'!H175=\"\",\"\",'2-Programmer les activités'!H175)","v":""},{"$f":"IF('2-Programmer les activités'!I175=\"Selectionner\",\"\",'2-Programmer les activités'!I175)","v":""},{"$f":"IF('2-Programmer les activités'!J175=\"\",\"\",'2-Programmer les activités'!J175)","v":""},"",0,"",{"$nulls":3},"Selectionner",0,"","",1,null,null,""]
[{"$f":"IF('2-Programmer les activités'!A176=\"\",\"\",'2-Programmer les activités'!A176)","v":0},{"$f":"IF('2-Programmer les activités'!B176=\"Selectionner\",\"\",'2-Programmer les activités'!B176)","v":""},{"$f":"IF('2-Programmer les activités'!C176=\"Selectionner\",\"\",'2-Programmer les activités'!C176)","v":""},{"$f":"IF('2-Programmer les activités'!D176=\"\",\"\",'2-Programmer les activités'!D176)","v":""},null,{"$f":"IF('2-Programmer les activités'!H176=\"\",\"\",'2-Programmer les activités'!H176)","v":""},{"$f":"IF('2-Programmer les activités'!I176=\"Selectionner\",\"\",'2-Programmer les activités'!I176)","v":""},{"$f":"IF('2-Programmer les activités'!J176=\"\",\"\",'2-Programmer les activités'!J176)","v":""},"",0,"",{"$nulls":3},"Selectionner",0,"","",1,null,null,""]
[{"$f":"IF('2-Programmer les activités'!A177=\"\",\"\",'2-Programmer les activités'!A177)","v":0},{"$f":"IF('2-Programmer les activités'!B177=\"Selectionner\",\"\",'2-Programmer les activités'!B177)","v":""},{"$f":"IF('2-Programmer les activités'!C177=\"Selectionner\",\"\",'2-Programmer les activités'!C177)","v":""},{"$f":"IF('2-Programmer les activités'!D177=\"\",\"\",'2-Programmer les activités'!D177)","v":""},null,{"$f":"IF('2-Programmer les activités'!H177=\"\",\"\",'2-Programmer les activités'!H177)","v":""},{"$f":"IF('2-Programmer les activités'!I177=\"Selectionner\",\"\",'2-Programmer les activités'!I177)","v":""},{"$f":"IF('2-Programmer les activités'!J177=\"\",\"\",'2-Programmer les activités'!J177)","v":""},"",0,"",{"$nulls":3},"Selectionner",0,"","",1,null,null,""]
[{"$f":"IF('2-Programmer les activités'!A178=\"\",\"\",'2-Programmer les activités'!A178)","v":0},{"$f":"IF('2-Programmer les activités'!B178=\"Selectionner\",\"\",'2-Programmer les activités'!B178)","v":""},{"$f":"IF('2-Programmer les activités'!C178=\"Selectionner\",\"\",'2-Programmer les activités'!C178)","v":""},{"$f":"IF('2-Programmer les activités'!D178=\"\",\"\",'2-Programmer les activités'!D178)","v":""},null,{"$f":"IF('2-Programmer les activités'!H178=\"\",\"\",'2-Programmer les activités'!H178)","v":""},{"$f":"IF('2-Programmer les activités'!I178=\"Selectionner\",\"\",'2-Programmer les activités'!I178)","v":""},{"$f":"IF('2-Programmer les activités'!J178=\"\",\"\",'2-Programmer les activités'!J178)","v":""},"",0,"",{"$nulls":3},"Selectionner",0,"","",1,null,null,""]

{"sheet":"5-Voir la synthèse","index":5,"n_rows":27,"n_cols":7,"rows_kept":27,"merged":[[0,1,0,8],[12,3,12,5],[24,2,24,4],[25,2,25,4],[26,2,26,4]]}
[null,"SYNTHESE DU BUDGET ET SITUATION DE MISE EN OEUVRE TRIMESTRIELLE DES ACTIVITES"]
[{"$nulls":3},"Informations",null,"Montant total"]
[]
[null,"Periode d'activite",null,{"$f":"'2-Programmer les activités'!D4","v":"Janvier-Mars_2021"},null,{"$f":"F21","v":{"v":200000,"d":"200,000.00"}},{"$f":"'2-Programmer les activités'!K4","v":"GNF"}]
[null,"Pays",null,{"$f":"'2-Programmer les activités'!D5","v":"Guinea"}]
[null,"Instutition/Structure",null,{"$f":"'2-Programmer les activités'!D6","v":"ONUSIDA"}]
[]
[]
[]
[]
[null,"SITUATION D'EXECUTION PHYSIQUE"]
[]
[{"$nulls":3},"Situation execution activite"]
[{"$nulls":3},"Nombre","Proportion","Montant"]
[null,null,"Achevé",{"$f":"COUNTIF('4-Faire le suivi de l''execution'!O:O,C15)","v":1},{"$f":"IFERROR(D15/$D$21,\"\")","v":{"v":0.005988023952095809,"d":"1%"}},{"$f":"SUMIF('4-Faire le suivi de l''execution'!O:O,'5-Voir la synthèse'!C15,'4-Faire le suivi de l''execution'!F:F)","v":{"v":200000,"d":"200,000"}}]
[null,null,"Débuté et très avance",{"$f":"COUNTIF('4-Faire le suivi de l''execution'!O:O,C16)","v":0},{"$f":"IFERROR(D16/$D$21,\"\")","v":{"v":0,"d":"0%"}},{"$f":"SUMIF('4-Faire le suivi de l''execution'!O:O,'5-Voir la synthèse'!C16,'4-Faire le suivi de l''execution'!F:F)","v":0}]
[null,null,"Débuté et moyennement avancé",{"$f":"COUNTIF('4-Faire le suivi de l''execution'!O:O,C17)","v":0},{"v":0,"d":"0%"},{"$f":"SUMIF('4-Faire le suivi de l''execution'!O:O,'5-Voir la synthèse'!C17,'4-Faire le suivi de l''execution'!F:F)","v":0}]
[null,null,"Débuté et peu avancé",{"$f":"COUNTIF('4-Faire le suivi de l''execution'!O:O,C18)","v":0},{"v":0,"d":"0%"},{"$f":"SUMIF('4-Faire le suivi de l''execution'!O:O,'5-Voir la synthèse'!C18,'4-Faire le suivi de l''execution'!F:F)","v":0}]
[null,null,"Non débuté",{"$f":"COUNTIF('4-Faire le suivi de l''execution'!O:O,C19)","v":0},{"$f":"IFERROR(D19/$D$21,\"\")","v":{"v":0,"d":"0%"}},{"$f":"SUMIF('4-Faire le suivi de l''execution'!O:O,'5-Voir la synthèse'!C19,'4-Faire le suivi de l''execution'!F:F)","v":0}]
[null,null,"Information non disponible/Non applicable",{"$f":"COUNTIF('4-Faire le suivi de l''execution'!O:O,C20)","v":0},{"v":0,"d":"0%"},{"$f":"SUMIF('4-Faire le suivi de l''execution'!O:O,'5-Voir la synthèse'!C20,'4-Faire le suivi de l''execution'!F:F)","v":0}]
[null,null,"Total",{"$f":"SUM('4-Faire le suivi de l''execution'!S:S)","v":167},null,{"$f":"SUM(F15:F20)","v":{"v":200000,"d":"200,000"}}]
[]
[null,"SITUATION D'EXECUTION FINANCIERE"]
[{"$nulls":5},{"$f":"'2-Programmer les activités'!K4","v":"GNF"},{"$f":"'2-Programmer les activités'!K6","v":"USD"}]
[null,null,"Montan total programme",null,null,{"$f":"'2-Programmer les activités'!I4","v":{"v":200000,"d":"200,000"}},{"$f":"IFERROR(F25/'2-Programmer les activités'!J6,\"\")","v":{"v":22.22222222222222,"d":"22.22 "}}]
[null,null,"Montant total depense",null,null,{"$f":"'4-Faire le suivi de l''execution'!H4","v":{"v":80000,"d":"80,000"}},{"$f":"IFERROR(F26/'2-Programmer les activités'!J6,\"\")","v":{"v":8.88888888888889,"d":"8.89 "}}]
[null,null,"Economie",null,null,{"$f":"F25-F26","v":{"v":120000,"d":"120,000"}},{"$f":"IFERROR(G25-G26,\"\")","v":{"v":13.333333333333332,"d":"13.33 "}}]

{"sheet":"Param","index":6,"n_rows":480,"n_cols":92,"rows_kept":480,"hidden":true}
[]
[{"$nulls":91},"Typologie. Activité"]
[{"$nulls":16},1,2,3,{"$nulls":3},1,2,3,{"$nulls":34},1,{"$nulls":18},"-","XUA",null,"Selectionner",{"$nulls":9},"Selectionner"]
[{"$nulls":3},{"$f":"TODAY()","v":"2022-03-09"},{"$f":"YEAR(D4)","v":2022},{"$nulls":11},{"$f":"O22","v":"Subvention VIH"},{"$f":"O23","v":"Subvention TB"},{"$f":"O24","v":0},{"$nulls":3},{"$f":"Q4","v":"Subvention VIH"},{"$f":"R4","v":"Subvention TB"},0,{"$nulls":18},{"$f":"IFERROR(VLOOKUP(F19,C19:D31,2,FALSE),\"\")","v":""},{"$nulls":4},{"$f":"IFERROR(VLOOKUP(F19,$C$32:$D$44,2,FALSE),\"\")","v":""},{"$nulls":4},{"$f":"IFERROR(VLOOKUP(F19,$C$45:$D$57,2,FALSE),\"\")","v":""},{"$nulls":5},"Colonne1",null,null,"Selectionner",null,null,"Selectionner",{"$nulls":4},"Selectionner",null,"Selectionner",{"$nulls":5},"Afghani","Pul","؋","AFN",{"$f":"CA4","v":"Afghani"},{"$nulls":8},{"$f":"IF(Setup!I7=\"\",\"\",Setup!I7)","v":"Evaluation"}]
[{"$nulls":4},"Selectionner",{"$nulls":10},"Modules","Selectionner","Selectionner","Selectionner",null,null,"Interventions","Selectionner","Selectionner","Selectionner",{"$nulls":8},"mois","mois-chif","jour","annee","concat","S1","S2","S3","S4",null,"S1","S2","S3","S4",null,"S1","S2","S3","S4",null,"S1","S2","S3","S4",null,null,"Selectionner",{"$f":"IFERROR(IF($BH$3=\"\",\"\",'1_Lister les activités'!A7),\"\")","v":1},null,{"$f":"IFERROR(BH6,\"\")","v":"Planifier"},{"$f":"IFERROR(IF($BH$3=\"\",\"\",'1_Lister les activités'!B7),\"\")","v":12},{"$f":"IFERROR(BL5,\"\")","v":12},{"$f":"IFERROR(BK5,\"\")","v":"Planifier"},{"$f":"IFERROR(IF($BH$3=\"\",\"\",'1_Lister les activités'!C7),\"\")","v":"Evaluation"},{"$nulls":3},"Afghanistan",null,"Achevé",{"$nulls":5},"Algerian Dinar","Santeem","د.ج","DZD",{"$f":"CA5","v":"Algerian Dinar"},{"$nulls":8},{"$f":"IF(Setup!I8=\"\",\"\",Setup!I8)","v":""}]
[{"$nulls":3},"Janvier-Mars",{"$f":"CONCATENATE(D6,\"_\",$E$4)","v":"Janvier-Mars_2022"},1,{"$nulls":3},"Select",{"$nulls":12},"Changement de comportement dans le cadre des programmes destinés à la population générale",{"$nulls":9},{"$f":"IF('2-Programmer les activités'!J12=\"\",\"\",'2-Programmer les activités'!J12)","v":"2021-03-02"},{"$f":"IF(AG6=\"\",\"\",MONTH(AG6))","v":3},{"$f":"IFERROR(VLOOKUP(AH6,$A$110:$B$121,2,FALSE),\"\")","v":"mars"},{"$f":"IF(AG6=\"\",\"\",DAY(AG6))","v":2},{"$f":"IFERROR(YEAR(AG6),\"\")","v":2021},{"$f":"IFERROR(CONCATENATE(AI6,\"-\",AK6),\"\")","v":"mars-2021"},{"$f":"IF(AJ6<8,\"X\",\"\")","v":"X"},{"$f":"IF(AND(AJ6>7,AND(AJ6<15)),\"X\",\"\")","v":""},{"$f":"IF(AND(AJ6>14,AND(AJ6<22)),\"X\",\"\")","v":""},{"$f":"IF(AJ6>21,\"X\",\"\")","v":""},null,{"$f":"IF(AL6=$AR$4,AM6,\"\")","v":""},{"$f":"IF(AL6=$AR$4,AN6,\"\")","v":""},{"$f":"IF(AL6=$AR$4,AO6,\"\")","v":""},{"$f":"IF(AL6=$AR$4,AP6,\"\")","v":""},null,{"$f":"IF(AL6=$AW$4,AM6,\"\")","v":""},{"$f":"IF(AL6=$AW$4,AN6,\"\")","v":""},{"$f":"IF(AL6=$AW$4,AO6,\"\")","v":""},{"$f":"IF(AL6=$AW$4,AP6,\"\")","v":""},null,{"$f":"IF(AL6=$BB$4,AM6,\"\")","v":""},{"$f":"IF(AL6=$BB$4,AN6,\"\")","v":""},{"$f":"IF(AL6=$BB$4,AO6,\"\")","v":""},{"$f":"IF(AL6=$BB$4,AP6,\"\")","v":""},null,null,{"$f":"IF(OR('1_Lister les activités'!D7=\"\",'1_Lister les activités'!D7=0),\"\",'1_Lister les activités'!D7)","v":"Planifier"},{"$f":"IFERROR(IF($BH$3=\"\",\"\",'1_Lister les activités'!A8),\"\")","v":2},null,"Executer",{"$f":"IFERROR(IF($BH$3=\"\",\"\",'1_Lister les activités'!B8),\"\")","v":1},{"$f":"IFERROR(BL6,\"\")","v":1},{"$f":"IFERROR(BK6,\"\")","v":"Executer"},{"$f":"IFERROR(IF($BH$3=\"\",\"\",'1_Lister les activités'!C8),\"\")","v":"Evaluation"},{"$nulls":3},"Albania",null,"Débuté et très avance",{"$nulls":5},"Argentine Peso","Centavo","$","ARS","Argentine Peso",{"$nulls":8},{"$f":"IF(Setup!I9=\"\",\"\",Setup!I9)","v":""}]
[{"$nulls":3},"Avril-Juin",{"$f":"CONCATENATE(D7,\"_\",$E$4)","v":"Avril-Juin_2022"},2,{"$nulls":3},{"$f":"'2-Programmer les activités'!F12","v":0},{"$f":"'2-Programmer les activités'!G12","v":0},{"$nulls":11},"Dépistage du VIH et conseil dans le cadre des programmes destinés à la population générale",{"$nulls":9},{"$f":"IF('2-Programmer les activités'!J13=\"\",\"\",'2-Programmer les activités'!J13)","v":""},{"$f":"IF(AG7=\"\",\"\",MONTH(AG7))","v":""},"",{"$f":"IF(AG7=\"\",\"\",DAY(AG7))","v":""},{"$f":"IFERROR(YEAR(AG7),\"\")","v":""},{"$f":"IFERROR(CONCATENATE(AI7,\"-\",AK7),\"\")","v":"-"},{"$f":"IF(AJ7<8,\"X\",\"\")","v":""},{"$f":"IF(AND(AJ7>7,AND(AJ7<15)),\"X\",\"\")","v":""},{"$f":"IF(AND(AJ7>14,AND(AJ7<22)),\"X\",\"\")","v":""},{"$f":"IF(AJ7>21,\"X\",\"\")","v":"X"},null,{"$f":"IF(AL7=$AR$4,AM7,\"\")","v":""},{"$f":"IF(AL7=$AR$4,AN7,\"\")","v":""},{"$f":"IF(AL7=$AR$4,AO7,\"\")","v":""},{"$f":"IF(AL7=$AR$4,AP7,\"\")","v":""},null,{"$f":"IF(AL7=$AW$4,AM7,\"\")","v":""},{"$f":"IF(AL7=$AW$4,AN7,\"\")","v":""},{"$f":"IF(AL7=$AW$4,AO7,\"\")","v":""},{"$f":"IF(AL7=$AW$4,AP7,\"\")","v":""},null,{"$f":"IF(AL7=$BB$4,AM7,\"\")","v":""},{"$f":"IF(AL7=$BB$4,AN7,\"\")","v":""},{"$f":"IF(AL7=$BB$4,AO7,\"\")","v":""},{"$f":"IF(AL7=$BB$4,AP7,\"\")","v":""},null,null,{"$f":"IF(OR('1_Lister les activités'!D8=\"\",'1_Lister les activités'!D8=0),\"\",'1_Lister les activités'!D8)","v":"Executer"},{"$f":"IFERROR(IF($BH$3=\"\",\"\",'1_Lister les activités'!A9),\"\")","v":3},null,"Suivre",{"$f":"IFERROR(IF($BH$3=\"\",\"\",'1_Lister les activités'!B9),\"\")","v":2},2,"Suivre",{"$f":"IFERROR(IF($BH$3=\"\",\"\",'1_Lister les activités'!C9),\"\")","v":"Evaluation"},{"$nulls":3},"Algeria",null,"Débuté et moyennement avancé",{"$nulls":5},"Armenian Dram","Luma","դր.","AMD","Armenian Dram",{"$nulls":8},{"$f":"IF(Setup!I10=\"\",\"\",Setup!I10)","v":""}]
[{"$nulls":3},"Juillet-Septembre",{"$f":"CONCATENATE(D8,\"_\",$E$4)","v":"Juillet-Septembre_2022"},3,{"$nulls":3},{"$f":"'2-Programmer les activités'!F13","v":0},{"$f":"'2-Programmer les activités'!G13","v":0},{"$nulls":11},"Autres interventions réalisées auprès de la population générale : veuillez préciser",{"$nulls":9},{"$f":"IF('2-Programmer les activités'!J14=\"\",\"\",'2-Programmer les activités'!J14)","v":""},"","","","","-","","","","X",null,"","","","",null,"","","","",null,"","","","",null,null,{"$f":"IF(OR('1_Lister les activités'!D9=\"\",'1_Lister les activités'!D9=0),\"\",'1_Lister les activités'!D9)","v":"Suivre"},{"$f":"IFERROR(IF($BH$3=\"\",\"\",'1_Lister les activités'!A10),\"\")","v":4},null,"Evaluer",{"$f":"IFERROR(IF($BH$3=\"\",\"\",'1_Lister les activités'!B10),\"\")","v":0},0,"Evaluer",{"$f":"IFERROR(IF($BH$3=\"\",\"\",'1_Lister les activités'!C10),\"\")","v":"Selectionner"},{"$nulls":3},"Angola",null,"Débuté et peu avancé",{"$nulls":5},"Aruban Florin","Cent","ƒ","AWG","Aruban Florin",{"$nulls":8},{"$f":"IF(Setup!I11=\"\",\"\",Setup!I11)","v":""}]
[{"$nulls":3},"Octobre-Decembre",{"$f":"CONCATENATE(D9,\"_\",$E$4)","v":"Octobre-Decembre_2022"},4,{"$nulls":3},{"$f":"'2-Programmer les activités'!F14","v":0},{"$f":"'2-Programmer les activités'!G14","v":0},{"$nulls":11},"Changement de comportement dans le cadre des programmes destinés aux hommes ayant des rapports sexuels avec des hommes et aux transgenres",{"$nulls":9},{"$f":"IF('2-Programmer les activités'!J15=\"\",\"\",'2-Programmer les activités'!J15)","v":""},"","","","","-","","","","X",null,"","","","",null,"","","","",null,"","","","",null,null,{"$f":"IF(OR('1_Lister les activités'!D10=\"\",'1_Lister les activités'!D10=0),\"\",'1_Lister les activités'!D10)","v":"Evaluer"},{"$f":"IFERROR(IF($BH$3=\"\",\"\",'1_Lister les activités'!A11),\"\")","v":5},null,"Rendre compte",{"$f":"IFERROR(IF($BH$3=\"\",\"\",'1_Lister les activités'!B11),\"\")","v":0},0,"Rendre compte",{"$f":"IFERROR(IF($BH$3=\"\",\"\",'1_Lister les activités'!C11),\"\")","v":"Selectionner"},{"$nulls":3},"Argentina",null,"Non débuté",{"$nulls":5},"Australian Dollar","Cent","$","AUD","Australian Dollar",{"$nulls":8},{"$f":"IF(Setup!I12=\"\",\"\",Setup!I12)","v":""}]
[{"$nulls":3},"Janvier-Mars",{"$f":"CONCATENATE(D10,\"_\",$E$4+1)","v":"Janvier-Mars_2023"},5,{"$nulls":3},{"$f":"'2-Programmer les activités'!F15","v":0},{"$f":"'2-Programmer les activités'!G15","v":0},{"$nulls":11},"Préservatifs dans le cadre des programmes destinés aux hommes ayant des rapports sexuels avec des hommes et aux transgenres",{"$nulls":9},{"$f":"IF('2-Programmer les activités'!J16=\"\",\"\",'2-Programmer les activités'!J16)","v":""},"","","","","-","","","","X",null,"","","","",null,"","","","",null,"","","","",null,null,{"$f":"IF(OR('1_Lister les activités'!D11=\"\",'1_Lister les activités'!D11=0),\"\",'1_Lister les activités'!D11)","v":"Rendre compte"},{"$f":"IFERROR(IF($BH$3=\"\",\"\",'1_Lister les activités'!A12),\"\")","v":""},null,"",{"$f":"IFERROR(IF($BH$3=\"\",\"\",'1_Lister les activités'!B12),\"\")","v":0},0,"",{"$f":"IFERROR(IF($BH$3=\"\",\"\",'1_Lister les activités'!C12),\"\")","v":"Selectionner"},{"$nulls":3},"Armenia",null,"Information non disponible/Non applicable",{"$nulls":5},"Azerbaijanian Manat","Qəpik","-","AZN","Azerbaijanian Manat",{"$nulls":8},{"$f":"IF(Setup!I13=\"\",\"\",Setup!I13)","v":""}]
[{"$nulls":3},"Avril-Juin",{"$f":"CONCATENATE(D11,\"_\",$E$4+1)","v":"Avril-Juin_2023"},6,{"$nulls":3},{"$f":"'2-Programmer les activités'!F16","v":0},{"$f":"'2-Programmer les activités'!G16","v":0},{"$nulls":11},"Dépistage du VIH et conseil dans le cadre des programmes destinés aux hommes ayant des rapports sexuels avec des hommes et aux transgenres",{"$nulls":9},{"$f":"IF('2-Programmer les activités'!J17=\"\",\"\",'2-Programmer les activités'!J17)","v":""},"","","","","-","","","","X",null,"","","","",null,"","","","",null,"","","","",null,null,{"$f":"IF(OR('1_Lister les activités'!D12=\"\",'1_Lister les activités'!D12=0),\"\",'1_Lister les activités'!D12)","v":""},{"$f":"IFERROR(IF($BH$3=\"\",\"\",'1_Lister les activités'!A13),\"\")","v":""},null,"",{"$f":"IFERROR(IF($BH$3=\"\",\"\",'1_Lister les activités'!B13),\"\")","v":0},0,"",{"$f":"IFERROR(IF($BH$3=\"\",\"\",'1_Lister les activités'!C13),\"\")","v":"Selectionner"},{"$nulls":3},"Azerbaijan",{"$nulls":7},"Bahamian Dollar","Cent","$","BSD","Bahamian Dollar",{"$nulls":8},{"$f":"IF(Setup!I14=\"\",\"\",Setup!I14)","v":""}]
[{"$nulls":3},"Juillet-Septembre",{"$f":"CONCATENATE(D12,\"_\",$E$4+1)","v":"Juillet-Septembre_2023"},7,{"$nulls":3},{"$f":"'2-Programmer les activités'!F17","v":0},{"$f":"'2-Programmer les activités'!G17","v":0},{"$nulls":11},"Diagnostic et traitement des infections sexuellement transmissibles dans le cadre des programmes destinés aux hommes ayant des rapports sexuels avec des hommes et aux transgenres",{"$nulls":9},{"$f":"IF('2-Programmer les activités'!J18=\"\",\"\",'2-Programmer les activités'!J18)","v":""},"","","","","-","","","","X",null,"","","","",null,"","","","",null,"","",{"$f":"IF(AL12=$BB$4,AO12,\"\")","v":""},"",null,null,{"$f":"IF(OR('1_Lister les activités'!D13=\"\",'1_Lister les activités'!D13=0),\"\",'1_Lister les activités'!D13)","v":""},{"$f":"IFERROR(IF($BH$3=\"\",\"\",'1_Lister les activités'!A14),\"\")","v":""},null,"",{"$f":"IFERROR(IF($BH$3=\"\",\"\",'1_Lister les activités'!B14),\"\")","v":0},0,"",{"$f":"IFERROR(IF($BH$3=\"\",\"\",'1_Lister les activités'!C14),\"\")","v":"Selectionner"},{"$nulls":3},"Bangladesh",{"$nulls":7},"Bahraini Dinar","Fils",".د.ب","BHD","Bahraini Dinar",{"$nulls":8},{"$f":"IF(Setup!I15=\"\",\"\",Setup!I15)","v":""}]
[{"$nulls":3},"Octobre-Decembre",{"$f":"CONCATENATE(D13,\"_\",$E$4+1)","v":"Octobre-Decembre_2023"},8,{"$nulls":3},{"$f":"'2-Programmer les activités'!F18","v":0},{"$f":"'2-Programmer les activités'!G18","v":0},{"$nulls":5},"",{"$nulls":5},"Autres interventions réalisées auprès des hommes ayant des rapports sexuels avec des hommes et des transgenres : veuillez préciser",{"$nulls":9},{"$f":"IF('2-Programmer les activités'!J19=\"\",\"\",'2-Programmer les activités'!J19)","v":""},"","","","","-","","","","X",null,"","","","",null,"","","","",null,"","","","",null,null,{"$f":"IF(OR('1_Lister les activités'!D14=\"\",'1_Lister les activités'!D14=0),\"\",'1_Lister les activités'!D14)","v":""},{"$f":"IFERROR(IF($BH$3=\"\",\"\",'1_Lister les activités'!A15),\"\")","v":""},null,"",{"$f":"IFERROR(IF($BH$3=\"\",\"\",'1_Lister les activités'!B15),\"\")","v":0},0,"",{"$f":"IFERROR(IF($BH$3=\"\",\"\",'1_Lister les activités'!C15),\"\")","v":"Selectionner"},{"$nulls":3},"Belarus",{"$nulls":7},"Baht","Satang","฿","THB","Baht",{"$nulls":8},{"$f":"IF(Setup!I16=\"\",\"\",Setup!I16)","v":""}]
[{"$nulls":3},"Janvier-Mars",{"$f":"CONCATENATE(D14,\"_\",$E$4+2)","v":"Janvier-Mars_2024"},9,{"$nulls":3},{"$f":"'2-Programmer les activités'!F19","v":0},{"$f":"'2-Programmer les activités'!G19","v":0},{"$nulls":5},"",{"$nulls":5},"Changement de comportement dans le cadre des programmes destinés aux professionnels du sexe et à leurs clients",{"$nulls":9},{"$f":"IF('2-Programmer les activités'!J20=\"\",\"\",'2-Programmer les activités'!J20)","v":""},"","","","","-","","","","X",null,"","","","",null,"","","","",null,"","","","",null,null,{"$f":"IF(OR('1_Lister les activités'!D15=\"\",'1_Lister les activités'!D15=0),\"\",'1_Lister les activités'!D15)","v":""},{"$f":"IFERROR(IF($BH$3=\"\",\"\",'1_Lister les activités'!A16),\"\")","v":""},null,"",{"$f":"IFERROR(IF($BH$3=\"\",\"\",'1_Lister les activités'!B16),\"\")","v":0},0,"",{"$f":"IFERROR(IF($BH$3=\"\",\"\",'1_Lister les activités'!C16),\"\")","v":"Selectionner"},{"$nulls":3},"Belize",{"$nulls":7},"Balboa","Centésimo","B/.","PAB","Balboa",{"$nulls":8},{"$f":"IF(Setup!I17=\"\",\"\",Setup!I17)","v":""}]
[{"$nulls":3},"Avril-Juin",{"$f":"CONCATENATE(D15,\"_\",$E$4+2)","v":"Avril-Juin_2024"},10,{"$nulls":3},{"$f":"'2-Programmer les activités'!F20","v":0},{"$f":"'2-Programmer les activités'!G20","v":0},{"$nulls":5},"",{"$nulls":5},"Dépistage du VIH et conseil dans le cadre des programmes destinés aux professionnels du sexe et à leurs clients",{"$nulls":9},{"$f":"IF('2-Programmer les activités'!J21=\"\",\"\",'2-Programmer les activités'!J21)","v":""},"","","","","-","","","","X",null,"","","","",null,"","","","",null,"","","","",null,null,{"$f":"IF(OR('1_Lister les activités'!D16=\"\",'1_Lister les activités'!D16=0),\"\",'1_Lister les activités'!D16)","v":""},{"$f":"IFERROR(IF($BH$3=\"\",\"\",'1_Lister les activités'!A17),\"\")","v":""},null,"",{"$f":"IFERROR(IF($BH$3=\"\",\"\",'1_Lister les activités'!B17),\"\")","v":0},0,"",{"$f":"IFERROR(IF($BH$3=\"\",\"\",'1_Lister les activités'!C17),\"\")","v":"Selectionner"},{"$nulls":3},"Benin",{"$nulls":7},"Barbados Dollar","Cent","$","BBD","Barbados Dollar",{"$nulls":8},{"$f":"IF(Setup!I18=\"\",\"\",Setup!I18)","v":""}]
[{"$nulls":3},"Juillet-Septembre","Juillet-Septembre_2024",11,{"$nulls":3},{"$f":"'2-Programmer les activités'!F21","v":0},{"$f":"'2-Programmer les activités'!G21","v":0},{"$nulls":11},"Changement de comportement dans le cadre des programmes destinés aux autres populations vulnérables",{"$nulls":9},{"$f":"IF('2-Programmer les activités'!J22=\"\",\"\",'2-Programmer les activités'!J22)","v":""},"","","","","-","","","","X",null,"","","","",null,"","","","",null,"","","","",null,null,{"$f":"IF(OR('1_Lister les activités'!D17=\"\",'1_Lister les activités'!D17=0),\"\",'1_Lister les activités'!D17)","v":""},{"$f":"IFERROR(IF($BH$3=\"\",\"\",'1_Lister les activités'!A18),\"\")","v":""},null,"",{"$f":"IFERROR(IF($BH$3=\"\",\"\",'1_Lister les activités'!B18),\"\")","v":0},0,"",{"$f":"IFERROR(IF($BH$3=\"\",\"\",'1_Lister les activités'!C18),\"\")","v":"Selectionner"},{"$nulls":3},"Bolivia (Plurinational State)",{"$nulls":7},"Belarussian Ruble","Kapyeyka","Br","BYR","Belarussian Ruble",{"$nulls":8},{"$f":"IF(Setup!I19=\"\",\"\",Setup!I19)","v":""}]
[{"$nulls":3},"Octobre-Decembre","Octobre-Decembre_2024",12,{"$nulls":3},{"$f":"'2-Programmer les activités'!F22","v":0},{"$f":"'2-Programmer les activités'!G22","v":0},{"$nulls":11},"Dépistage du VIH et conseil dans le cadre des programmes destinés aux autres populations vulnérables",{"$nulls":9},{"$f":"IF('2-Programmer les activités'!J23=\"\",\"\",'2-Programmer les activités'!J23)","v":""},"","","","","-","","","","X",null,"","","","",null,"","","","",null,"","","","",null,null,{"$f":"IF(OR('1_Lister les activités'!D18=\"\",'1_Lister les activités'!D18=0),\"\",'1_Lister les activités'!D18)","v":""},{"$f":"IFERROR(IF($BH$3=\"\",\"\",'1_Lister les activités'!A19),\"\")","v":""},null,"",{"$f":"IFERROR(IF($BH$3=\"\",\"\",'1_Lister les activités'!B19),\"\")","v":0},0,"",{"$f":"IFERROR(IF($BH$3=\"\",\"\",'1_Lister les activités'!C19),\"\")","v":"Selectionner"},{"$nulls":3},"Bosnia and Herzegovina",{"$nulls":7},"Belize Dollar","Cent","$","BZD","Belize Dollar",{"$nulls":8},{"$f":"IF(Setup!I20=\"\",\"\",Setup!I20)","v":""}]
[{"$nulls":9},{"$f":"'2-Programmer les activités'!F23","v":0},{"$f":"'2-Programmer les activités'!G23","v":0},{"$nulls":11},"Volet 1 : prévention primaire de l'infection à VIH chez les femmes en âge de procréer",{"$nulls":9},{"$f":"IF('2-Programmer les activités'!J24=\"\",\"\",'2-Programmer les activités'!J24)","v":""},"","","","","-","","","","X",null,"","","","",null,"","","","",null,"","","","",null,null,{"$f":"IF(OR('1_Lister les activités'!D19=\"\",'1_Lister les activités'!D19=0),\"\",'1_Lister les activités'!D19)","v":""},{"$f":"IFERROR(IF($BH$3=\"\",\"\",'1_Lister les activités'!A20),\"\")","v":""},null,"",{"$f":"IFERROR(IF($BH$3=\"\",\"\",'1_Lister les activités'!B20),\"\")","v":0},0,"",{"$f":"IFERROR(IF($BH$3=\"\",\"\",'1_Lister les activités'!C20),\"\")","v":"Selectionner"},{"$nulls":3},"Brazil",{"$nulls":7},"Bermudian Dollar","Cent","$","BMD","Bermudian Dollar",{"$nulls":8},{"$f":"IF(Setup!I22=\"\",\"\",Setup!I22)","v":""}]
[null,null,0,"Selectionner",{"$f":"'2-Programmer les activités'!D4","v":"Janvier-Mars_2021"},{"$f":"IFERROR(VLOOKUP(E19,$E$5:$F$17,2,FALSE),\"\")","v":""},{"$nulls":3},{"$f":"'2-Programmer les activités'!F24","v":0},{"$f":"'2-Programmer les activités'!G24","v":0},{"$nulls":11},"Volet 3 : prévention de la transmission verticale du VIH",{"$nulls":9},{"$f":"IF('2-Programmer les activités'!J25=\"\",\"\",'2-Programmer les activités'!J25)","v":""},"","","","","-","","","","X",null,"","","","",null,"","","","",null,"","","","",null,null,{"$f":"IF(OR('1_Lister les activités'!D20=\"\",'1_Lister les activités'!D20=0),\"\",'1_Lister les activités'!D20)","v":""},{"$f":"IFERROR(IF($BH$3=\"\",\"\",'1_Lister les activités'!A21),\"\")","v":""},null,"",{"$f":"IFERROR(IF($BH$3=\"\",\"\",'1_Lister les activités'!B21),\"\")","v":0},0,"",{"$f":"IFERROR(IF($BH$3=\"\",\"\",'1_Lister les activités'!C21),\"\")","v":"Selectionner"},{"$nulls":3},"Bulgaria",{"$nulls":7},"Bolivar","Céntimo","Bs F","VEF","Bolivar",{"$nulls":8},{"$f":"IF(Setup!I23=\"\",\"\",Setup!I23)","v":""}]
["Janvier","2016-01-01",1,{"$f":"CONCATENATE(F24,\"-\",E4)","v":"janv-2022"},{"$nulls":5},{"$f":"'2-Programmer les activités'!F25","v":0},{"$f":"'2-Programmer les activités'!G25","v":0},{"$nulls":11},"Observance du traitement",{"$nulls":9},{"$f":"IF('2-Programmer les activités'!J26=\"\",\"\",'2-Programmer les activités'!J26)","v":""},"","","","","-","","","",{"$f":"IF(AJ20>21,\"X\",\"\")","v":"X"},null,"","","","",null,"","","","",null,"","","","",null,null,{"$f":"IF(OR('1_Lister les activités'!D21=\"\",'1_Lister les activités'!D21=0),\"\",'1_Lister les activités'!D21)","v":""},{"$f":"IFERROR(IF($BH$3=\"\",\"\",'1_Lister les activités'!A22),\"\")","v":""},null,"",{"$f":"IFERROR(IF($BH$3=\"\",\"\",'1_Lister les activités'!B22),\"\")","v":0},0,"",{"$f":"IFERROR(IF($BH$3=\"\",\"\",'1_Lister les activités'!C22),\"\")","v":"Selectionner"},{"$nulls":3},"Burkina Faso",{"$nulls":7},"Boliviano","Centavo","Bs.","BOB","Boliviano",{"$nulls":8},{"$f":"IF(Setup!I24=\"\",\"\",Setup!I24)","v":""}]
["Avril","2016-04-01",2,{"$f":"CONCATENATE(F27,\"-\",E4)","v":"avr-2022"},null,{"$f":"IF(F6=1,\"Janvier\",si)","v":"Janvier"},{"$nulls":3},{"$f":"'2-Programmer les activités'!F26","v":0},{"$f":"'2-Programmer les activités'!G26","v":0},{"$nulls":3},"Selectionner",{"$nulls":7},"Conseil et soutien psycho-social",{"$nulls":9},{"$f":"IF('2-Programmer les activités'!J27=\"\",\"\",'2-Programmer les activités'!J27)","v":""},"","","","","-","","","","X",null,"","","","",null,"","","","",null,"","","","",null,null,{"$f":"IF(OR('1_Lister les activités'!D22=\"\",'1_Lister les activités'!D22=0),\"\",'1_Lister les activités'!D22)","v":""},{"$f":"IFERROR(IF($BH$3=\"\",\"\",'1_Lister les activités'!A23),\"\")","v":""},null,"",{"$f":"IFERROR(IF($BH$3=\"\",\"\",'1_Lister les activités'!B23),\"\")","v":0},0,"",{"$f":"IFERROR(IF($BH$3=\"\",\"\",'1_Lister les activités'!C23),\"\")","v":"Selectionner"},{"$nulls":3},"Burundi",{"$nulls":7},"Bond Markets Unit European Composite Unit (EURCO)","-","-","XBA","Bond Markets Unit European Composite Unit (EURCO)",{"$nulls":8},{"$f":"IF(Setup!I25=\"\",\"\",Setup!I25)","v":""}]
["Juillet","2016-07-01",3,{"$f":"CONCATENATE(F30,\"-\",E4)","v":"juil-2022"},{"$nulls":5},{"$f":"'2-Programmer les activités'!F27","v":0},{"$f":"'2-Programmer les activités'!G27","v":0},{"$nulls":3},"Subvention VIH",1,{"$nulls":6},"Soins hospitaliers",{"$nulls":9},{"$f":"IF('2-Programmer les activités'!J28=\"\",\"\",'2-Programmer les activités'!J28)","v":""},"","","","","-","","","","X",null,"","","","",null,"","","","",null,"","","","",null,null,{"$f":"IF(OR('1_Lister les activités'!D23=\"\",'1_Lister les activités'!D23=0),\"\",'1_Lister les activités'!D23)","v":""},{"$f":"IFERROR(IF($BH$3=\"\",\"\",'1_Lister les activités'!A24),\"\")","v":""},null,"",{"$f":"IFERROR(IF($BH$3=\"\",\"\",'1_Lister les activités'!B24),\"\")","v":0},0,"",{"$f":"IFERROR(IF($BH$3=\"\",\"\",'1_Lister les activités'!C24),\"\")","v":"Selectionner"},{"$nulls":3},"Buthan",{"$nulls":7},"Bond Markets Unit European Monetary Unit (E.M.U.-6)","-","-","XBB","Bond Markets Unit European Monetary Unit (E.M.U.-6)"]
["Octobre","2016-10-01",4,{"$f":"CONCATENATE(F33,\"-\",E4)","v":"oct-2022"},{"$nulls":5},{"$f":"'2-Programmer les activités'!F28","v":0},{"$f":"'2-Programmer les activités'!G28","v":0},{"$nulls":3},"Subvention TB",2,{"$nulls":6},"Autres interventions réalisées dans le cadre du traitement : veuillez préciser",{"$nulls":9},{"$f":"IF('2-Programmer les activités'!J29=\"\",\"\",'2-Programmer les activités'!J29)","v":""},"","","","","-","","","","X",null,"","","","",null,"","","","",null,"","","","",null,null,{"$f":"IF(OR('1_Lister les activités'!D24=\"\",'1_Lister les activités'!D24=0),\"\",'1_Lister les activités'!D24)","v":""},{"$f":"IFERROR(IF($BH$3=\"\",\"\",'1_Lister les activités'!A25),\"\")","v":""},null,"",{"$f":"IFERROR(IF($BH$3=\"\",\"\",'1_Lister les activités'!B25),\"\")","v":0},0,"",{"$f":"IFERROR(IF($BH$3=\"\",\"\",'1_Lister les activités'!C25),\"\")","v":"Selectionner"},{"$nulls":3},"Cambodia",{"$nulls":7},"Bond Markets Unit European Unit of Account 17 (E.U.A.-17)","-","-","XBD","Bond Markets Unit European Unit of Account 17 (E.U.A.-17)"]
["Janvier","2017-01-01",5,{"$f":"CONCATENATE(F24,\"-\",E4+1)","v":"janv-2023"},null,"janv",{"$nulls":3},{"$f":"'2-Programmer les activités'!F29","v":0},{"$f":"'2-Programmer les activités'!G29","v":0},{"$nulls":11},"Dépistage et diagnostic des maladies",{"$nulls":9},{"$f":"IF('2-Programmer les activités'!J30=\"\",\"\",'2-Programmer les activités'!J30)","v":""},"","","","","-","","","","X",null,"","","","",null,"","","","",null,"","","","",null,null,{"$f":"IF(OR('1_Lister les activités'!D25=\"\",'1_Lister les activités'!D25=0),\"\",'1_Lister les activités'!D25)","v":""},{"$f":"IFERROR(IF($BH$3=\"\",\"\",'1_Lister les activités'!A26),\"\")","v":""},null,"",{"$f":"IFERROR(IF($BH$3=\"\",\"\",'1_Lister les activités'!B26),\"\")","v":0},0,"",{"$f":"IFERROR(IF($BH$3=\"\",\"\",'1_Lister les activités'!C26),\"\")","v":"Selectionner"},{"$nulls":3},"Cameroon",{"$nulls":7},"Bond Markets Unit European Unit of Account 9 (E.U.A.-9)","-","-","XBC","Bond Markets Unit European Unit of Account 9 (E.U.A.-9)"]
["Avril","2017-04-01",6,{"$f":"CONCATENATE(F27,\"-\",E4+1)","v":"avr-2023"},null,"févr",{"$nulls":3},{"$f":"'2-Programmer les activités'!F30","v":0},{"$f":"'2-Programmer les activités'!G30","v":0},{"$nulls":11},"Traitement",{"$nulls":9},{"$f":"IF('2-Programmer les activités'!J31=\"\",\"\",'2-Programmer les activités'!J31)","v":""},"","","","","-","","","","X",null,"","","","",null,"","","","",null,"","","","",null,null,{"$f":"IF(OR('1_Lister les activités'!D26=\"\",'1_Lister les activités'!D26=0),\"\",'1_Lister les activités'!D26)","v":""},{"$f":"IFERROR(IF($BH$3=\"\",\"\",'1_Lister les activités'!A27),\"\")","v":""},null,"",{"$f":"IFERROR(IF($BH$3=\"\",\"\",'1_Lister les activités'!B27),\"\")","v":0},0,"",{"$f":"IFERROR(IF($BH$3=\"\",\"\",'1_Lister les activités'!C27),\"\")","v":"Selectionner"},{"$nulls":3},"Cape Verde",{"$nulls":7},"Brazilian Real","Centavo","R$","BRL","Brazilian Real"]
["Juillet","2017-07-01",7,{"$f":"CONCATENATE(F30,\"-\",E4+1)","v":"juil-2023"},null,"mars",{"$nulls":3},{"$f":"'2-Programmer les activités'!F31","v":0},{"$f":"'2-Programmer les activités'!G31","v":0},{"$nulls":11},"Prise en charge communautaire de la tuberculose",{"$nulls":9},{"$f":"IF('2-Programmer les activités'!J32=\"\",\"\",'2-Programmer les activités'!J32)","v":""},"","","","","-","","","","X",null,"","","","",null,"","","","",null,"","","","",null,null,{"$f":"IF(OR('1_Lister les activités'!D27=\"\",'1_Lister les activités'!D27=0),\"\",'1_Lister les activités'!D27)","v":""},{"$f":"IFERROR(IF($BH$3=\"\",\"\",'1_Lister les activités'!A28),\"\")","v":""},null,"",{"$f":"IFERROR(IF($BH$3=\"\",\"\",'1_Lister les activités'!B28),\"\")","v":0},0,"",{"$f":"IFERROR(IF($BH$3=\"\",\"\",'1_Lister les activités'!C28),\"\")","v":"Selectionner"},{"$nulls":3},"Central African Republic",{"$nulls":7},"Brunei Dollar","Sen","$","BND","Brunei Dollar"]
["Octobre","2017-10-01",8,{"$f":"CONCATENATE(F33,\"-\",E4+1)","v":"oct-2023"},null,"avr",{"$nulls":3},{"$f":"'2-Programmer les activités'!F32","v":0},{"$f":"'2-Programmer les activités'!G32","v":0},{"$nulls":11},"Populations clés touchées",{"$nulls":9},{"$f":"IF('2-Programmer les activités'!J33=\"\",\"\",'2-Programmer les activités'!J33)","v":""},"","","","","-","","","","X",null,"","","","",null,"","","","",null,"","","","",null,null,{"$f":"IF(OR('1_Lister les activités'!D28=\"\",'1_Lister les activités'!D28=0),\"\",'1_Lister les activités'!D28)","v":""},{"$f":"IFERROR(IF($BH$3=\"\",\"\",'1_Lister les activités'!A29),\"\")","v":""},null,"",{"$f":"IFERROR(IF($BH$3=\"\",\"\",'1_Lister les activités'!B29),\"\")","v":0},0,"",{"$f":"IFERROR(IF($BH$3=\"\",\"\",'1_Lister les activités'!C29),\"\")","v":"Selectionner"},{"$nulls":3},"Chad",{"$nulls":7},"Bulgarian Lev","Stotinka","лв","BGN","Bulgarian Lev"]
["Janvier ","2018-01-01",9,{"$f":"CONCATENATE(F24,\"-\",E4+2)","v":"janv-2024"},null,"mai",{"$nulls":3},{"$f":"'2-Programmer les activités'!F33","v":0},{"$f":"'2-Programmer les activités'!G33","v":0},{"$nulls":11},"Interventions concertées de lutte contre la tuberculose et le VIH",{"$nulls":9},{"$f":"IF('2-Programmer les activités'!J34=\"\",\"\",'2-Programmer les activités'!J34)","v":""},"","","","","-","","","","X",null,"","","","",null,"","","","",null,"","","","",null,null,{"$f":"IF(OR('1_Lister les activités'!D29=\"\",'1_Lister les activités'!D29=0),\"\",'1_Lister les activités'!D29)","v":""},{"$f":"IFERROR(IF($BH$3=\"\",\"\",'1_Lister les activités'!A30),\"\")","v":""},null,"",{"$f":"IFERROR(IF($BH$3=\"\",\"\",'1_Lister les activités'!B30),\"\")","v":0},0,"",{"$f":"IFERROR(IF($BH$3=\"\",\"\",'1_Lister les activités'!C30),\"\")","v":"Selectionner"},{"$nulls":3},"Chile",{"$nulls":7},"Burundi Franc","Centime","Fr","BIF","Burundi Franc"]
["Avril ","2018-04-01",10,{"$f":"CONCATENATE(F27,\"-\",E4+2)","v":"avr-2024"},null,"juin",{"$nulls":3},{"$f":"'2-Programmer les activités'!F34","v":0},{"$f":"'2-Programmer les activités'!G34","v":0},{"$nulls":11},"Autre",{"$nulls":9},{"$f":"IF('2-Programmer les activités'!J35=\"\",\"\",'2-Programmer les activités'!J35)","v":""},"","","","","-","","","","X",null,"","","","",null,"","","","",null,"","","","",null,null,{"$f":"IF(OR('1_Lister les activités'!D30=\"\",'1_Lister les activités'!D30=0),\"\",'1_Lister les activités'!D30)","v":""},{"$f":"IFERROR(IF($BH$3=\"\",\"\",'1_Lister les activités'!A31),\"\")","v":""},null,"",{"$f":"IFERROR(IF($BH$3=\"\",\"\",'1_Lister les activités'!B31),\"\")","v":0},0,"",{"$f":"IFERROR(IF($BH$3=\"\",\"\",'1_Lister les activités'!C31),\"\")","v":"Selectionner"},{"$nulls":3},"China",{"$nulls":7},"Canadian Dollar","Cent","$","CAD","Canadian Dollar"]
["Juillet","2018-07-01",11,{"$f":"CONCATENATE(F30,\"-\",E4+2)","v":"juil-2024"},null,"juil",{"$nulls":3},{"$f":"'2-Programmer les activités'!F35","v":0},{"$f":"'2-Programmer les activités'!G35","v":0},{"$nulls":11},"Communication régulière de l’information",{"$nulls":9},{"$f":"IF('2-Programmer les activités'!J36=\"\",\"\",'2-Programmer les activités'!J36)","v":""},"","","","","-","","","","X",null,"","","","",null,"","","","",null,"","","","",null,null,{"$f":"IF(OR('1_Lister les activités'!D31=\"\",'1_Lister les activités'!D31=0),\"\",'1_Lister les activités'!D31)","v":""},{"$f":"IFERROR(IF($BH$3=\"\",\"\",'1_Lister les activités'!A32),\"\")","v":""},null,"",{"$f":"IFERROR(IF($BH$3=\"\",\"\",'1_Lister les activités'!B32),\"\")","v":0},0,"",{"$f":"IFERROR(IF($BH$3=\"\",\"\",'1_Lister les activités'!C32),\"\")","v":"Selectionner"},{"$nulls":3},"Colombia",{"$nulls":7},"Cape Verde Escudo","Centavo","Esc","CVE","Cape Verde Escudo"]
["Octobre ","2018-10-01",12,{"$f":"CONCATENATE(F33,\"-\",E4+2)","v":"oct-2024"},null,"août",{"$nulls":3},{"$f":"'2-Programmer les activités'!F36","v":0},{"$f":"'2-Programmer les activités'!G36","v":0},{"$nulls":11},"Analyse, examen et transparence",{"$nulls":9},{"$f":"IF('2-Programmer les activités'!J37=\"\",\"\",'2-Programmer les activités'!J37)","v":""},"","","","","-","","","","X",null,"","","","",null,"","","","",null,"","","","",null,null,{"$f":"IF(OR('1_Lister les activités'!D32=\"\",'1_Lister les activités'!D32=0),\"\",'1_Lister les activités'!D32)","v":""},{"$f":"IFERROR(IF($BH$3=\"\",\"\",'1_Lister les activités'!A33),\"\")","v":""},null,"",{"$f":"IFERROR(IF($BH$3=\"\",\"\",'1_Lister les activités'!B33),\"\")","v":0},0,"",{"$f":"IFERROR(IF($BH$3=\"\",\"\",'1_Lister les activités'!C33),\"\")","v":"Selectionner"},{"$nulls":3},"Comoros",{"$nulls":7},"Cayman Islands Dollar","Cent","$","KYD","Cayman Islands Dollar"]
[null,null,0,"Selectionner",null,"sept",{"$nulls":3},{"$f":"'2-Programmer les activités'!F37","v":0},{"$f":"'2-Programmer les activités'!G37","v":0},{"$nulls":11},"Enquête",{"$nulls":9},{"$f":"IF('2-Programmer les activités'!J38=\"\",\"\",'2-Programmer les activités'!J38)","v":""},"","","","","-","","","","X",null,"","","","",null,"","","","",null,"","","","",null,null,{"$f":"IF(OR('1_Lister les activités'!D33=\"\",'1_Lister les activités'!D33=0),\"\",'1_Lister les activités'!D33)","v":""},{"$f":"IFERROR(IF($BH$3=\"\",\"\",'1_Lister les activités'!A34),\"\")","v":""},null,"",{"$f":"IFERROR(IF($BH$3=\"\",\"\",'1_Lister les activités'!B34),\"\")","v":0},0,"",{"$f":"IFERROR(IF($BH$3=\"\",\"\",'1_Lister les activités'!C34),\"\")","v":"Selectionner"},{"$nulls":3},"Congo",{"$nulls":7},"CFA Franc BCEAO","Centime","Fr","XOF","CFA Franc BCEAO"]
["Fevrier","2016-02-01",1,{"$f":"CONCATENATE(F25,\"-\",E4)","v":"févr-2022"},null,"oct",{"$nulls":3},{"$f":"'2-Programmer les activités'!F38","v":0},{"$f":"'2-Programmer les activités'!G38","v":0},{"$nulls":11},"Sources de données administratives et financières",{"$nulls":9},{"$f":"IF('2-Programmer les activités'!J39=\"\",\"\",'2-Programmer les activités'!J39)","v":""},"","","","","-","","","","X",null,"","","","",null,"","","","",null,"","","","",null,null,{"$f":"IF(OR('1_Lister les activités'!D34=\"\",'1_Lister les activités'!D34=0),\"\",'1_Lister les activités'!D34)","v":""},{"$f":"IFERROR(IF($BH$3=\"\",\"\",'1_Lister les activités'!A35),\"\")","v":""},null,"",{"$f":"IFERROR(IF($BH$3=\"\",\"\",'1_Lister les activités'!B35),\"\")","v":0},0,"",{"$f":"IFERROR(IF($BH$3=\"\",\"\",'1_Lister les activités'!C35),\"\")","v":"Selectionner"},{"$nulls":3},"Congo (Democratic Republic)",{"$nulls":7},"CFA Franc BEAC","Centime","Fr","XAF","CFA Franc BEAC"]
["Mai","2016-05-01",2,{"$f":"CONCATENATE(F28,\"-\",E4)","v":"mai-2022"},null,"nov",{"$nulls":3},{"$f":"'2-Programmer les activités'!F39","v":0},{"$f":"'2-Programmer les activités'!G39","v":0},{"$nulls":11},"Gestion de subvention",{"$nulls":9},{"$f":"IF('2-Programmer les activités'!J40=\"\",\"\",'2-Programmer les activités'!J40)","v":""},"","","","","-","","","","X",null,"","","","",null,"","","","",null,"","","","",null,null,{"$f":"IF(OR('1_Lister les activités'!D35=\"\",'1_Lister les activités'!D35=0),\"\",'1_Lister les activités'!D35)","v":""},{"$f":"IFERROR(IF($BH$3=\"\",\"\",'1_Lister les activités'!A36),\"\")","v":""},null,"",{"$f":"IFERROR(IF($BH$3=\"\",\"\",'1_Lister les activités'!B36),\"\")","v":0},0,"",{"$f":"IFERROR(IF($BH$3=\"\",\"\",'1_Lister les activités'!C36),\"\")","v":"Selectionner"},{"$nulls":3},"Costa Rica",{"$nulls":7},"CFP Franc","Centime","Fr","XPF","CFP Franc"]
["Aout","2016-08-01",3,{"$f":"CONCATENATE(F31,\"-\",E4)","v":"août-2022"},null,"déc",{"$nulls":3},{"$f":"'2-Programmer les activités'!F40","v":0},{"$f":"'2-Programmer les activités'!G40","v":0},{"$nulls":21},{"$f":"IF('2-Programmer les activités'!J41=\"\",\"\",'2-Programmer les activités'!J41)","v":""},"","","","","-","","","","X",null,"","","","",null,"","","","",null,"","","","",null,null,{"$f":"IF(OR('1_Lister les activités'!D36=\"\",'1_Lister les activités'!D36=0),\"\",'1_Lister les activités'!D36)","v":""},{"$f":"IFERROR(IF($BH$3=\"\",\"\",'1_Lister les activités'!A37),\"\")","v":""},null,"",{"$f":"IFERROR(IF($BH$3=\"\",\"\",'1_Lister les activités'!B37),\"\")","v":0},0,"",{"$f":"IFERROR(IF($BH$3=\"\",\"\",'1_Lister les activités'!C37),\"\")","v":"Selectionner"},{"$nulls":3},"Cote d'Ivoire",{"$nulls":7},"Chilean Peso","Centavo","$","CLP","Chilean Peso"]
["Novembre","2016-11-01",4,{"$f":"CONCATENATE(F34,\"-\",E4)","v":"nov-2022"},{"$nulls":5},{"$f":"'2-Programmer les activités'!F41","v":0},{"$f":"'2-Programmer les activités'!G41","v":0},{"$nulls":21},{"$f":"IF('2-Programmer les activités'!J42=\"\",\"\",'2-Programmer les activités'!J42)","v":""},"","","","","-","","","","X",null,"","","","",null,"","","","",null,"","","","",null,null,{"$f":"IF(OR('1_Lister les activités'!D37=\"\",'1_Lister les activités'!D37=0),\"\",'1_Lister les activités'!D37)","v":""},{"$f":"IFERROR(IF($BH$3=\"\",\"\",'1_Lister les activités'!A38),\"\")","v":""},null,"",{"$f":"IFERROR(IF($BH$3=\"\",\"\",'1_Lister les activités'!B38),\"\")","v":0},0,"",{"$f":"IFERROR(IF($BH$3=\"\",\"\",'1_Lister les activités'!C38),\"\")","v":"Selectionner"},{"$nulls":3},"Croatia",{"$nulls":7},"Colombian Peso","Centavo","$","COP","Colombian Peso"]
["Fevrier","2017-02-01",5,{"$f":"CONCATENATE(F25,\"-\",E4+1)","v":"févr-2023"},{"$nulls":5},{"$f":"'2-Programmer les activités'!F42","v":0},{"$f":"'2-Programmer les activités'!G42","v":0},{"$nulls":21},{"$f":"IF('2-Programmer les activités'!J43=\"\",\"\",'2-Programmer les activités'!J43)","v":""},"","","","","-","","","","X",null,"","","","",null,"","","","",null,"","","","",null,null,{"$f":"IF(OR('1_Lister les activités'!D38=\"\",'1_Lister les activités'!D38=0),\"\",'1_Lister les activités'!D38)","v":""},{"$f":"IFERROR(IF($BH$3=\"\",\"\",'1_Lister les activités'!A39),\"\")","v":""},null,"",{"$f":"IFERROR(IF($BH$3=\"\",\"\",'1_Lister les activités'!B39),\"\")","v":0},0,"",{"$f":"IFERROR(IF($BH$3=\"\",\"\",'1_Lister les activités'!C39),\"\")","v":"Selectionner"},{"$nulls":3},"Cuba",{"$nulls":7},"Comoro Franc","Centime","Fr","KMF","Comoro Franc"]
["Mai","2017-05-01",6,{"$f":"CONCATENATE(F28,\"-\",E4+1)","v":"mai-2023"},{"$nulls":5},{"$f":"'2-Programmer les activités'!F43","v":0},{"$f":"'2-Programmer les activités'!G43","v":0},{"$nulls":21},{"$f":"IF('2-Programmer les activités'!J44=\"\",\"\",'2-Programmer les activités'!J44)","v":""},"","","","","-","","","","X",null,"","","","",null,"","","","",null,"","","","",null,null,{"$f":"IF(OR('1_Lister les activités'!D39=\"\",'1_Lister les activités'!D39=0),\"\",'1_Lister les activités'!D39)","v":""},{"$f":"IFERROR(IF($BH$3=\"\",\"\",'1_Lister les activités'!A40),\"\")","v":""},null,"",{"$f":"IFERROR(IF($BH$3=\"\",\"\",'1_Lister les activités'!B40),\"\")","v":0},0,"",{"$f":"IFERROR(IF($BH$3=\"\",\"\",'1_Lister les activités'!C40),\"\")","v":"Selectionner"},{"$nulls":3},"Djibouti",{"$nulls":7},"Congolese Franc","Centime","Fr","CDF","Congolese Franc"]
["Aout","2017-08-01",7,{"$f":"CONCATENATE(F31,\"-\",E4+1)","v":"août-2023"},{"$nulls":5},{"$f":"'2-Programmer les activités'!F44","v":0},{"$f":"'2-Programmer les activités'!G44","v":0},{"$nulls":21},{"$f":"IF('2-Programmer les activités'!J45=\"\",\"\",'2-Programmer les activités'!J45)","v":""},"","","","","-","","","","X",null,"","","","",null,"","","","",null,"","","","",null,null,{"$f":"IF(OR('1_Lister les activités'!D40=\"\",'1_Lister les activités'!D40=0),\"\",'1_Lister les activités'!D40)","v":""},{"$f":"IFERROR(IF($BH$3=\"\",\"\",'1_Lister les activités'!A41),\"\")","v":""},null,"",{"$f":"IFERROR(IF($BH$3=\"\",\"\",'1_Lister les activités'!B41),\"\")","v":0},0,"",{"$f":"IFERROR(IF($BH$3=\"\",\"\",'1_Lister les activités'!C41),\"\")","v":"Selectionner"},{"$nulls":3},"Dominican Republic",{"$nulls":7},"Convertible Mark","Fening","KM","BAM","Convertible Mark"]
["Novembre","2017-11-01",8,{"$f":"CONCATENATE(F34,\"-\",E4+1)","v":"nov-2023"},{"$nulls":5},{"$f":"'2-Programmer les activités'!F45","v":0},{"$f":"'2-Programmer les activités'!G45","v":0},{"$nulls":21},{"$f":"IF('2-Programmer les activités'!J46=\"\",\"\",'2-Programmer les activités'!J46)","v":""},"","","","","-","","","","X",null,"","","","",null,"","","","",null,"","","","",null,null,{"$f":"IF(OR('1_Lister les activités'!D41=\"\",'1_Lister les activités'!D41=0),\"\",'1_Lister les activités'!D41)","v":""},{"$f":"IFERROR(IF($BH$3=\"\",\"\",'1_Lister les activités'!A42),\"\")","v":""},null,"",{"$f":"IFERROR(IF($BH$3=\"\",\"\",'1_Lister les activités'!B42),\"\")","v":0},0,"",{"$f":"IFERROR(IF($BH$3=\"\",\"\",'1_Lister les activités'!C42),\"\")","v":"Selectionner"},{"$nulls":3},"Ecuador",{"$nulls":7},"Cordoba Oro","Centavo","C$","NIO","Cordoba Oro"]
["Fevrier ","2018-02-01",9,{"$f":"CONCATENATE(F25,\"-\",E4+2)","v":"févr-2024"},{"$nulls":5},{"$f":"'2-Programmer les activités'!F46","v":0},{"$f":"'2-Programmer les activités'!G46","v":0},{"$nulls":21},{"$f":"IF('2-Programmer les activités'!J47=\"\",\"\",'2-Programmer les activités'!J47)","v":""},"","","","","-","","","","X",null,"","","","",null,"","","","",null,"","","","",null,null,{"$f":"IF(OR('1_Lister les activités'!D42=\"\",'1_Lister les activités'!D42=0),\"\",'1_Lister les activités'!D42)","v":""},{"$f":"IFERROR(IF($BH$3=\"\",\"\",'1_Lister les activités'!A43),\"\")","v":""},null,"",{"$f":"IFERROR(IF($BH$3=\"\",\"\",'1_Lister les activités'!B43),\"\")","v":0},0,"",{"$f":"IFERROR(IF($BH$3=\"\",\"\",'1_Lister les activités'!C43),\"\")","v":"Selectionner"},{"$nulls":3},"Egypt",{"$nulls":7},"Costa Rican Colon","Céntimo","₡","CRC","Costa Rican Colon"]
["Mai ","2018-05-01",10,{"$f":"CONCATENATE(F28,\"-\",E4+2)","v":"mai-2024"},{"$nulls":5},{"$f":"'2-Programmer les activités'!F47","v":0},{"$f":"'2-Programmer les activités'!G47","v":0},{"$nulls":21},{"$f":"IF('2-Programmer les activités'!J48=\"\",\"\",'2-Programmer les activités'!J48)","v":""},"","",{"$f":"IF(AG42=\"\",\"\",DAY(AG42))","v":""},{"$f":"IFERROR(YEAR(AG42),\"\")","v":""},{"$f":"IFERROR(CONCATENATE(AI42,\"-\",AK42),\"\")","v":"-"},{"$f":"IF(AJ42<8,\"X\",\"\")","v":""},{"$f":"IF(AND(AJ42>7,AND(AJ42<15)),\"X\",\"\")","v":""},{"$f":"IF(AND(AJ42>14,AND(AJ42<22)),\"X\",\"\")","v":""},{"$f":"IF(AJ42>21,\"X\",\"\")","v":"X"},null,{"$f":"IF(AL42=$AR$4,AM42,\"\")","v":""},{"$f":"IF(AL42=$AR$4,AN42,\"\")","v":""},{"$f":"IF(AL42=$AR$4,AO42,\"\")","v":""},{"$f":"IF(AL42=$AR$4,AP42,\"\")","v":""},null,{"$f":"IF(AL42=$AW$4,AM42,\"\")","v":""},{"$f":"IF(AL42=$AW$4,AN42,\"\")","v":""},{"$f":"IF(AL42=$AW$4,AO42,\"\")","v":""},{"$f":"IF(AL42=$AW$4,AP42,\"\")","v":""},null,{"$f":"IF(AL42=$BB$4,AM42,\"\")","v":""},{"$f":"IF(AL42=$BB$4,AN42,\"\")","v":""},{"$f":"IF(AL42=$BB$4,AO42,\"\")","v":""},{"$f":"IF(AL42=$BB$4,AP42,\"\")","v":""},null,null,{"$f":"IF(OR('1_Lister les activités'!D43=\"\",'1_Lister les activités'!D43=0),\"\",'1_Lister les activités'!D43)","v":""},{"$f":"IFERROR(IF($BH$3=\"\",\"\",'1_Lister les activités'!A44),\"\")","v":""},null,"",{"$f":"IFERROR(IF($BH$3=\"\",\"\",'1_Lister les activités'!B44),\"\")","v":0},0,"",{"$f":"IFERROR(IF($BH$3=\"\",\"\",'1_Lister les activités'!C44),\"\")","v":"Selectionner"},{"$nulls":3},"El Salvador",{"$nulls":7},"Croatian Kuna","Lipa","kn","HRK","Croatian Kuna"]
["Aout","2018-08-01",11,{"$f":"CONCATENATE(F31,\"-\",E4+2)","v":"août-2024"},{"$nulls":5},{"$f":"'2-Programmer les activités'!F48","v":0},{"$f":"'2-Programmer les activités'!G48","v":0},{"$nulls":21},{"$f":"IF('2-Programmer les activités'!J49=\"\",\"\",'2-Programmer les activités'!J49)","v":""},"","",{"$f":"IF(AG43=\"\",\"\",DAY(AG43))","v":""},{"$f":"IFERROR(YEAR(AG43),\"\")","v":""},{"$f":"IFERROR(CONCATENATE(AI43,\"-\",AK43),\"\")","v":"-"},{"$f":"IF(AJ43<8,\"X\",\"\")","v":""},{"$f":"IF(AND(AJ43>7,AND(AJ43<15)),\"X\",\"\")","v":""},{"$f":"IF(AND(AJ43>14,AND(AJ43<22)),\"X\",\"\")","v":""},{"$f":"IF(AJ43>21,\"X\",\"\")","v":"X"},null,{"$f":"IF(AL43=$AR$4,AM43,\"\")","v":""},{"$f":"IF(AL43=$AR$4,AN43,\"\")","v":""},{"$f":"IF(AL43=$AR$4,AO43,\"\")","v":""},{"$f":"IF(AL43=$AR$4,AP43,\"\")","v":""},null,{"$f":"IF(AL43=$AW$4,AM43,\"\")","v":""},{"$f":"IF(AL43=$AW$4,AN43,\"\")","v":""},{"$f":"IF(AL43=$AW$4,AO43,\"\")","v":""},{"$f":"IF(AL43=$AW$4,AP43,\"\")","v":""},null,{"$f":"IF(AL43=$BB$4,AM43,\"\")","v":""},{"$f":"IF(AL43=$BB$4,AN43,\"\")","v":""},{"$f":"IF(AL43=$BB$4,AO43,\"\")","v":""},{"$f":"IF(AL43=$BB$4,AP43,\"\")","v":""},null,null,{"$f":"IF(OR('1_Lister les activités'!D44=\"\",'1_Lister les activités'!D44=0),\"\",'1_Lister les activités'!D44)","v":""},{"$f":"IFERROR(IF($BH$3=\"\",\"\",'1_Lister les activités'!A45),\"\")","v":""},null,"",{"$f":"IFERROR(IF($BH$3=\"\",\"\",'1_Lister les activités'!B45),\"\")","v":0},0,"",{"$f":"IFERROR(IF($BH$3=\"\",\"\",'1_Lister les activités'!C45),\"\")","v":"Selectionner"},{"$nulls":3},"Equatorial Guinea",{"$nulls":7},"Cuban Peso","Centavo","$","CUP","Cuban Peso"]
["Novembre","2018-11-01",12,{"$f":"CONCATENATE(F34,\"-\",E4+2)","v":"nov-2024"},{"$nulls":5},{"$f":"'2-Programmer les activités'!F49","v":0},{"$f":"'2-Programmer les activités'!G49","v":0},{"$nulls":21},{"$f":"IF('2-Programmer les activités'!J50=\"\",\"\",'2-Programmer les activités'!J50)","v":""},"","",{"$f":"IF(AG44=\"\",\"\",DAY(AG44))","v":""},{"$f":"IFERROR(YEAR(AG44),\"\")","v":""},{"$f":"IFERROR(CONCATENATE(AI44,\"-\",AK44),\"\")","v":"-"},{"$f":"IF(AJ44<8,\"X\",\"\")","v":""},{"$f":"IF(AND(AJ44>7,AND(AJ44<15)),\"X\",\"\")","v":""},{"$f":"IF(AND(AJ44>14,AND(AJ44<22)),\"X\",\"\")","v":""},{"$f":"IF(AJ44>21,\"X\",\"\")","v":"X"},null,{"$f":"IF(AL44=$AR$4,AM44,\"\")","v":""},{"$f":"IF(AL44=$AR$4,AN44,\"\")","v":""},{"$f":"IF(AL44=$AR$4,AO44,\"\")","v":""},{"$f":"IF(AL44=$AR$4,AP44,\"\")","v":""},null,{"$f":"IF(AL44=$AW$4,AM44,\"\")","v":""},{"$f":"IF(AL44=$AW$4,AN44,\"\")","v":""},{"$f":"IF(AL44=$AW$4,AO44,\"\")","v":""},{"$f":"IF(AL44=$AW$4,AP44,\"\")","v":""},null,{"$f":"IF(AL44=$BB$4,AM44,\"\")","v":""},{"$f":"IF(AL44=$BB$4,AN44,\"\")","v":""},{"$f":"IF(AL44=$BB$4,AO44,\"\")","v":""},{"$f":"IF(AL44=$BB$4,AP44,\"\")","v":""},null,null,{"$f":"IF(OR('1_Lister les activités'!D45=\"\",'1_Lister les activités'!D45=0),\"\",'1_Lister les activités'!D45)","v":""},{"$f":"IFERROR(IF($BH$3=\"\",\"\",'1_Lister les activités'!A46),\"\")","v":""},null,"",{"$f":"IFERROR(IF($BH$3=\"\",\"\",'1_Lister les activités'!B46),\"\")","v":0},0,"",{"$f":"IFERROR(IF($BH$3=\"\",\"\",'1_Lister les activités'!C46),\"\")","v":"Selectionner"},{"$nulls":3},"Eritrea",{"$nulls":7},"Czech Koruna","Haléř","Kč","CZK","Czech Koruna"]
[null,null,0,"Selectionner",{"$nulls":5},{"$f":"'2-Programmer les activités'!F50","v":0},{"$f":"'2-Programmer les activités'!G50","v":0},{"$nulls":21},{"$f":"IF('2-Programmer les activités'!J51=\"\",\"\",'2-Programmer les activités'!J51)","v":""},"","",{"$f":"IF(AG45=\"\",\"\",DAY(AG45))","v":""},{"$f":"IFERROR(YEAR(AG45),\"\")","v":""},{"$f":"IFERROR(CONCATENATE(AI45,\"-\",AK45),\"\")","v":"-"},{"$f":"IF(AJ45<8,\"X\",\"\")","v":""},{"$f":"IF(AND(AJ45>7,AND(AJ45<15)),\"X\",\"\")","v":""},{"$f":"IF(AND(AJ45>14,AND(AJ45<22)),\"X\",\"\")","v":""},{"$f":"IF(AJ45>21,\"X\",\"\")","v":"X"},null,{"$f":"IF(AL45=$AR$4,AM45,\"\")","v":""},{"$f":"IF(AL45=$AR$4,AN45,\"\")","v":""},{"$f":"IF(AL45=$AR$4,AO45,\"\")","v":""},{"$f":"IF(AL45=$AR$4,AP45,\"\")","v":""},null,{"$f":"IF(AL45=$AW$4,AM45,\"\")","v":""},{"$f":"IF(AL45=$AW$4,AN45,\"\")","v":""},{"$f":"IF(AL45=$AW$4,AO45,\"\")","v":""},{"$f":"IF(AL45=$AW$4,AP45,\"\")","v":""},null,{"$f":"IF(AL45=$BB$4,AM45,\"\")","v":""},{"$f":"IF(AL45=$BB$4,AN45,\"\")","v":""},{"$f":"IF(AL45=$BB$4,AO45,\"\")","v":""},{"$f":"IF(AL45=$BB$4,AP45,\"\")","v":""},null,null,{"$f":"IF(OR('1_Lister les activités'!D46=\"\",'1_Lister les activités'!D46=0),\"\",'1_Lister les activités'!D46)","v":""},{"$f":"IFERROR(IF($BH$3=\"\",\"\",'1_Lister les activités'!A47),\"\")","v":""},null,"",{"$f":"IFERROR(IF($BH$3=\"\",\"\",'1_Lister les activités'!B47),\"\")","v":0},0,"",{"$f":"IFERROR(IF($BH$3=\"\",\"\",'1_Lister les activités'!C47),\"\")","v":"Selectionner"},{"$nulls":3},"Estonia",{"$nulls":7},"Dalasi","Butut","D","GMD","Dalasi"]
["Mars","2016-03-01",1,{"$f":"CONCATENATE(F26,\"-\",E4)","v":"mars-2022"},{"$nulls":5},{"$f":"'2-Programmer les activités'!F51","v":0},{"$f":"'2-Programmer les activités'!G51","v":0},{"$nulls":21},{"$f":"IF('2-Programmer les activités'!J52=\"\",\"\",'2-Programmer les activités'!J52)","v":""},{"$f":"IF(AG46=\"\",\"\",MONTH(AG46))","v":""},"",{"$f":"IF(AG46=\"\",\"\",DAY(AG46))","v":""},{"$f":"IFERROR(YEAR(AG46),\"\")","v":""},{"$f":"IFERROR(CONCATENATE(AI46,\"-\",AK46),\"\")","v":"-"},{"$f":"IF(AJ46<8,\"X\",\"\")","v":""},{"$f":"IF(AND(AJ46>7,AND(AJ46<15)),\"X\",\"\")","v":""},{"$f":"IF(AND(AJ46>14,AND(AJ46<22)),\"X\",\"\")","v":""},{"$f":"IF(AJ46>21,\"X\",\"\")","v":"X"},null,{"$f":"IF(AL46=$AR$4,AM46,\"\")","v":""},{"$f":"IF(AL46=$AR$4,AN46,\"\")","v":""},{"$f":"IF(AL46=$AR$4,AO46,\"\")","v":""},{"$f":"IF(AL46=$AR$4,AP46,\"\")","v":""},null,{"$f":"IF(AL46=$AW$4,AM46,\"\")","v":""},{"$f":"IF(AL46=$AW$4,AN46,\"\")","v":""},{"$f":"IF(AL46=$AW$4,AO46,\"\")","v":""},{"$f":"IF(AL46=$AW$4,AP46,\"\")","v":""},null,{"$f":"IF(AL46=$BB$4,AM46,\"\")","v":""},{"$f":"IF(AL46=$BB$4,AN46,\"\")","v":""},{"$f":"IF(AL46=$BB$4,AO46,\"\")","v":""},{"$f":"IF(AL46=$BB$4,AP46,\"\")","v":""},null,null,{"$f":"IF(OR('1_Lister les activités'!D47=\"\",'1_Lister les activités'!D47=0),\"\",'1_Lister les activités'!D47)","v":""},{"$f":"IFERROR(IF($BH$3=\"\",\"\",'1_Lister les activités'!A48),\"\")","v":""},null,"",{"$f":"IFERROR(IF($BH$3=\"\",\"\",'1_Lister les activités'!B48),\"\")","v":0},0,"",{"$f":"IFERROR(IF($BH$3=\"\",\"\",'1_Lister les activités'!C48),\"\")","v":"Selectionner"},{"$nulls":3},"Ethipia",{"$nulls":7},"Danish Krone","Øre","kr","DKK","Danish Krone"]
["Juin","2016-06-01",2,{"$f":"CONCATENATE(F29,\"-\",E4)","v":"juin-2022"},{"$nulls":5},{"$f":"'2-Programmer les activités'!F52","v":0},{"$f":"'2-Programmer les activités'!G52","v":0},{"$nulls":21},{"$f":"IF('2-Programmer les activités'!J53=\"\",\"\",'2-Programmer les activités'!J53)","v":""},"","","","","-","","","","X",null,"","","","",null,"","","","",null,"","","","",null,null,{"$f":"IF(OR('1_Lister les activités'!D48=\"\",'1_Lister les activités'!D48=0),\"\",'1_Lister les activités'!D48)","v":""},{"$f":"IFERROR(IF($BH$3=\"\",\"\",'1_Lister les activités'!A49),\"\")","v":""},null,"",{"$f":"IFERROR(IF($BH$3=\"\",\"\",'1_Lister les activités'!B49),\"\")","v":0},0,"",{"$f":"IFERROR(IF($BH$3=\"\",\"\",'1_Lister les activités'!C49),\"\")","v":"Selectionner"},{"$nulls":3},"Fiji",{"$nulls":7},"Denar","Deni","ден","MKD","Denar"]
["Septembre","2016-09-01",3,{"$f":"CONCATENATE(F32,\"-\",E4)","v":"sept-2022"},{"$nulls":5},{"$f":"'2-Programmer les activités'!F53","v":0},{"$f":"'2-Programmer les activités'!G53","v":0},{"$nulls":21},{"$f":"IF('2-Programmer les activités'!J54=\"\",\"\",'2-Programmer les activités'!J54)","v":""},"","","","","-","","","","X",null,"","","","",null,"","","","",null,"","","","",null,null,{"$f":"IF(OR('1_Lister les activités'!D49=\"\",'1_Lister les activités'!D49=0),\"\",'1_Lister les activités'!D49)","v":""},{"$f":"IFERROR(IF($BH$3=\"\",\"\",'1_Lister les activités'!A50),\"\")","v":""},null,"",{"$f":"IFERROR(IF($BH$3=\"\",\"\",'1_Lister les activités'!B50),\"\")","v":0},0,"",{"$f":"IFERROR(IF($BH$3=\"\",\"\",'1_Lister les activités'!C50),\"\")","v":"Selectionner"},{"$nulls":3},"Gabon",{"$nulls":7},"Djibouti Franc","Centime","Fr","DJF","Djibouti Franc"]
["Decembre","2016-12-01",4,{"$f":"CONCATENATE(F35,\"-\",E4)","v":"déc-2022"},{"$nulls":5},{"$f":"'2-Programmer les activités'!F54","v":0},{"$f":"'2-Programmer les activités'!G54","v":0},{"$nulls":21},{"$f":"IF('2-Programmer les activités'!J55=\"\",\"\",'2-Programmer les activités'!J55)","v":""},"","","","","-","","","","X",null,"","","","",null,"","","","",null,"","","","",null,null,{"$f":"IF(OR('1_Lister les activités'!D50=\"\",'1_Lister les activités'!D50=0),\"\",'1_Lister les activités'!D50)","v":""},{"$f":"IFERROR(IF($BH$3=\"\",\"\",'1_Lister les activités'!A51),\"\")","v":""},null,"",{"$f":"IFERROR(IF($BH$3=\"\",\"\",'1_Lister les activités'!B51),\"\")","v":0},0,"",{"$f":"IFERROR(IF($BH$3=\"\",\"\",'1_Lister les activités'!C51),\"\")","v":"Selectionner"},{"$nulls":3},"Gambia",{"$nulls":7},"Dobra","Cêntimo","Db","STD","Dobra"]
["Mars","2017-03-01",5,{"$f":"CONCATENATE(F26,\"-\",E4+1)","v":"mars-2023"},{"$nulls":5},{"$f":"'2-Programmer les activités'!F55","v":0},{"$f":"'2-Programmer les activités'!G55","v":0},{"$nulls":21},{"$f":"IF('2-Programmer les activités'!J56=\"\",\"\",'2-Programmer les activités'!J56)","v":""},"","","","","-","","","","X",null,"","","","",null,"","","","",null,"","","","",null,null,{"$f":"IF(OR('1_Lister les activités'!D51=\"\",'1_Lister les activités'!D51=0),\"\",'1_Lister les activités'!D51)","v":""},{"$f":"IFERROR(IF($BH$3=\"\",\"\",'1_Lister les activités'!A52),\"\")","v":""},null,"",{"$f":"IFERROR(IF($BH$3=\"\",\"\",'1_Lister les activités'!B52),\"\")","v":0},0,"",{"$f":"IFERROR(IF($BH$3=\"\",\"\",'1_Lister les activités'!C52),\"\")","v":"Selectionner"},{"$nulls":3},"Georgia",{"$nulls":7},"Dominican Peso","Centavo","$","DOP","Dominican Peso"]
["Juin","2017-06-01",6,{"$f":"CONCATENATE(F29,\"-\",E4+1)","v":"juin-2023"},{"$nulls":5},{"$f":"'2-Programmer les activités'!F56","v":0},{"$f":"'2-Programmer les activités'!G56","v":0},{"$nulls":21},{"$f":"IF('2-Programmer les activités'!J57=\"\",\"\",'2-Programmer les activités'!J57)","v":""},"","","","","-","","","","X",null,"","","","",null,"","","","",null,"","","","",null,null,{"$f":"IF(OR('1_Lister les activités'!D52=\"\",'1_Lister les activités'!D52=0),\"\",'1_Lister les activités'!D52)","v":""},{"$f":"IFERROR(IF($BH$3=\"\",\"\",'1_Lister les activités'!A53),\"\")","v":""},null,"",{"$f":"IFERROR(IF($BH$3=\"\",\"\",'1_Lister les activités'!B53),\"\")","v":0},0,"",{"$f":"IFERROR(IF($BH$3=\"\",\"\",'1_Lister les activités'!C53),\"\")","v":"Selectionner"},{"$nulls":3},"Ghana",{"$nulls":7},"Dong","Hào","₫","VND","Dong"]
["Septembre","2017-09-01",7,{"$f":"CONCATENATE(F32,\"-\",E4+1)","v":"sept-2023"},{"$nulls":5},{"$f":"'2-Programmer les activités'!F57","v":0},{"$f":"'2-Programmer les activités'!G57","v":0},{"$nulls":21},{"$f":"IF('2-Programmer les activités'!J58=\"\",\"\",'2-Programmer les activités'!J58)","v":""},"","","","","-","","","","X",null,"","","","",null,"","","","",null,"","","","",null,null,{"$f":"IF(OR('1_Lister les activités'!D53=\"\",'1_Lister les activités'!D53=0),\"\",'1_Lister les activités'!D53)","v":""},{"$f":"IFERROR(IF($BH$3=\"\",\"\",'1_Lister les activités'!A54),\"\")","v":""},null,"",{"$f":"IFERROR(IF($BH$3=\"\",\"\",'1_Lister les activités'!B54),\"\")","v":0},0,"",{"$f":"IFERROR(IF($BH$3=\"\",\"\",'1_Lister les activités'!C54),\"\")","v":"Selectionner"},{"$nulls":3},"Guatemala",{"$nulls":7},"East Caribbean Dollar","Cent","$","XCD","East Caribbean Dollar"]
["Decembre","2017-12-01",8,{"$f":"CONCATENATE(F35,\"-\",E4+1)","v":"déc-2023"},{"$nulls":5},{"$f":"'2-Programmer les activités'!F58","v":0},{"$f":"'2-Programmer les activités'!G58","v":0},{"$nulls":21},{"$f":"IF('2-Programmer les activités'!J59=\"\",\"\",'2-Programmer les activités'!J59)","v":""},"","","","","-","","","","X",null,"","","","",null,"","","","",null,"","","","",null,null,{"$f":"IF(OR('1_Lister les activités'!D54=\"\",'1_Lister les activités'!D54=0),\"\",'1_Lister les activités'!D54)","v":""},{"$f":"IFERROR(IF($BH$3=\"\",\"\",'1_Lister les activités'!A55),\"\")","v":""},null,"",{"$f":"IFERROR(IF($BH$3=\"\",\"\",'1_Lister les activités'!B55),\"\")","v":0},0,"",{"$f":"IFERROR(IF($BH$3=\"\",\"\",'1_Lister les activités'!C55),\"\")","v":"Selectionner"},{"$nulls":3},"Guinea",{"$nulls":7},"Egyptian Pound","Piastre","£","EGP","Egyptian Pound"]
["Mars ","2018-03-01",9,{"$f":"CONCATENATE(F26,\"-\",E4+2)","v":"mars-2024"},{"$nulls":5},{"$f":"'2-Programmer les activités'!F59","v":0},{"$f":"'2-Programmer les activités'!G59","v":0},{"$nulls":21},{"$f":"IF('2-Programmer les activités'!J60=\"\",\"\",'2-Programmer les activités'!J60)","v":""},"","","","","-","","","","X",null,"","","","",null,"","","","",null,"","","","",null,null,{"$f":"IF(OR('1_Lister les activités'!D55=\"\",'1_Lister les activités'!D55=0),\"\",'1_Lister les activités'!D55)","v":""},{"$f":"IFERROR(IF($BH$3=\"\",\"\",'1_Lister les activités'!A56),\"\")","v":""},null,"",{"$f":"IFERROR(IF($BH$3=\"\",\"\",'1_Lister les activités'!B56),\"\")","v":0},0,"",{"$f":"IFERROR(IF($BH$3=\"\",\"\",'1_Lister les activités'!C56),\"\")","v":"Selectionner"},{"$nulls":3},"Guinea-Bissau",{"$nulls":7},"El Salvador Colon","-","-","SVC","El Salvador Colon"]
["Juin ","2018-06-01",10,{"$f":"CONCATENATE(F29,\"-\",E4+2)","v":"juin-2024"},{"$nulls":5},{"$f":"'2-Programmer les activités'!F60","v":0},{"$f":"'2-Programmer les activités'!G60","v":0},{"$nulls":21},{"$f":"IF('2-Programmer les activités'!J61=\"\",\"\",'2-Programmer les activités'!J61)","v":""},"","","","","-","","","","X",null,"","","","",null,"","","","",null,"","","","",null,null,{"$f":"IF(OR('1_Lister les activités'!D56=\"\",'1_Lister les activités'!D56=0),\"\",'1_Lister les activités'!D56)","v":""},{"$f":"IFERROR(IF($BH$3=\"\",\"\",'1_Lister les activités'!A57),\"\")","v":""},null,"",{"$f":"IFERROR(IF($BH$3=\"\",\"\",'1_Lister les activités'!B57),\"\")","v":0},0,"",{"$f":"IFERROR(IF($BH$3=\"\",\"\",'1_Lister les activités'!C57),\"\")","v":"Selectionner"},{"$nulls":3},"Guyana",{"$nulls":7},"Ethiopian Birr","Santim","Br","ETB","Ethiopian Birr"]
["Septembre ","2018-09-01",11,{"$f":"CONCATENATE(F32,\"-\",E4+2)","v":"sept-2024"},{"$nulls":5},{"$f":"'2-Programmer les activités'!F61","v":0},{"$f":"'2-Programmer les activités'!G61","v":0},{"$nulls":21},{"$f":"IF('2-Programmer les activités'!J62=\"\",\"\",'2-Programmer les activités'!J62)","v":""},"","","","","-","","","","X",null,"","","","",null,"","","","",null,"","","","",null,null,{"$f":"IF(OR('1_Lister les activités'!D57=\"\",'1_Lister les activités'!D57=0),\"\",'1_Lister les activités'!D57)","v":""},{"$f":"IFERROR(IF($BH$3=\"\",\"\",'1_Lister les activités'!A58),\"\")","v":""},null,"",{"$f":"IFERROR(IF($BH$3=\"\",\"\",'1_Lister les activités'!B58),\"\")","v":0},0,"",{"$f":"IFERROR(IF($BH$3=\"\",\"\",'1_Lister les activités'!C58),\"\")","v":"Selectionner"},{"$nulls":3},"Haiti",{"$nulls":7},"Euro","Cent","€","EUR","Euro"]
["Decembre ","2018-12-01",12,{"$f":"CONCATENATE(F35,\"-\",E4+2)","v":"déc-2024"},{"$nulls":5},{"$f":"'2-Programmer les activités'!F62","v":0},{"$f":"'2-Programmer les activités'!G62","v":0},{"$nulls":21},{"$f":"IF('2-Programmer les activités'!J63=\"\",\"\",'2-Programmer les activités'!J63)","v":""},"","","","","-","","","","X",null,"","","","",null,"","","","",null,"","","","",null,null,{"$f":"IF(OR('1_Lister les activités'!D58=\"\",'1_Lister les activités'!D58=0),\"\",'1_Lister les activités'!D58)","v":""},{"$f":"IFERROR(IF($BH$3=\"\",\"\",'1_Lister les activités'!A59),\"\")","v":""},null,"",{"$f":"IFERROR(IF($BH$3=\"\",\"\",'1_Lister les activités'!B59),\"\")","v":0},0,"",{"$f":"IFERROR(IF($BH$3=\"\",\"\",'1_Lister les activités'!C59),\"\")","v":"Selectionner"},{"$nulls":3},"Honduras",{"$nulls":7},"Falkland Islands Pound","Penny","£","FKP","Falkland Islands Pound"]
[{"$nulls":9},{"$f":"'2-Programmer les activités'!F63","v":0},{"$f":"'2-Programmer les activités'!G63","v":0},{"$nulls":21},{"$f":"IF('2-Programmer les activités'!J64=\"\",\"\",'2-Programmer les activités'!J64)","v":""},"","","","","-","","","","X",null,"","","","",null,"","","","",null,"","","","",null,null,{"$f":"IF(OR('1_Lister les activités'!D59=\"\",'1_Lister les activités'!D59=0),\"\",'1_Lister les activités'!D59)","v":""},{"$f":"IFERROR(IF($BH$3=\"\",\"\",'1_Lister les activités'!A60),\"\")","v":""},null,"",{"$f":"IFERROR(IF($BH$3=\"\",\"\",'1_Lister les activités'!B60),\"\")","v":0},0,"",{"$f":"IFERROR(IF($BH$3=\"\",\"\",'1_Lister les activités'!C60),\"\")","v":"Selectionner"},{"$nulls":3},"India",{"$nulls":7},"Fiji Dollar","Cent","$","FJD","Fiji Dollar"]
[{"$nulls":9},{"$f":"'2-Programmer les activités'!F64","v":0},{"$f":"'2-Programmer les activités'!G64","v":0},{"$nulls":21},{"$f":"IF('2-Programmer les activités'!J65=\"\",\"\",'2-Programmer les activités'!J65)","v":""},"","","","","-","","","","X",null,"","","","",null,"","","","",null,"","","","",null,null,{"$f":"IF(OR('1_Lister les activités'!D60=\"\",'1_Lister les activités'!D60=0),\"\",'1_Lister les activités'!D60)","v":""},{"$f":"IFERROR(IF($BH$3=\"\",\"\",'1_Lister les activités'!A61),\"\")","v":""},null,"",{"$f":"IFERROR(IF($BH$3=\"\",\"\",'1_Lister les activités'!B61),\"\")","v":0},0,"",{"$f":"IFERROR(IF($BH$3=\"\",\"\",'1_Lister les activités'!C61),\"\")","v":"Selectionner"},{"$nulls":3},"Indonesia",{"$nulls":7},"Forint","Fillér","Ft","HUF","Forint"]
[{"$nulls":9},{"$f":"'2-Programmer les activités'!F65","v":0},{"$f":"'2-Programmer les activités'!G65","v":0},{"$nulls":21},{"$f":"IF('2-Programmer les activités'!J66=\"\",\"\",'2-Programmer les activités'!J66)","v":""},"","","","","-","","","","X",null,"","","","",null,"","","","",null,"","","","",null,null,{"$f":"IF(OR('1_Lister les activités'!D61=\"\",'1_Lister les activités'!D61=0),\"\",'1_Lister les activités'!D61)","v":""},{"$f":"IFERROR(IF($BH$3=\"\",\"\",'1_Lister les activités'!A62),\"\")","v":""},null,"",{"$f":"IFERROR(IF($BH$3=\"\",\"\",'1_Lister les activités'!B62),\"\")","v":0},0,"",{"$f":"IFERROR(IF($BH$3=\"\",\"\",'1_Lister les activités'!C62),\"\")","v":"Selectionner"},{"$nulls":3},"Iran (Islamic Republic)",{"$nulls":7},"Ghana Cedi","Pesewa","₵","GHS","Ghana Cedi"]
[{"$nulls":9},{"$f":"'2-Programmer les activités'!F66","v":0},{"$f":"'2-Programmer les activités'!G66","v":0},{"$nulls":21},{"$f":"IF('2-Programmer les activités'!J67=\"\",\"\",'2-Programmer les activités'!J67)","v":""},"","","","","-","","","","X",null,"","","","",null,"","","","",null,"","","","",null,null,{"$f":"IF(OR('1_Lister les activités'!D62=\"\",'1_Lister les activités'!D62=0),\"\",'1_Lister les activités'!D62)","v":""},{"$f":"IFERROR(IF($BH$3=\"\",\"\",'1_Lister les activités'!A63),\"\")","v":""},null,"",{"$f":"IFERROR(IF($BH$3=\"\",\"\",'1_Lister les activités'!B63),\"\")","v":0},0,"",{"$f":"IFERROR(IF($BH$3=\"\",\"\",'1_Lister les activités'!C63),\"\")","v":"Selectionner"},{"$nulls":3},"Iraq",{"$nulls":7},"Gibraltar Pound","Penny","£","GIP","Gibraltar Pound"]
[{"$nulls":9},{"$f":"'2-Programmer les activités'!F67","v":0},{"$f":"'2-Programmer les activités'!G67","v":0},{"$nulls":21},{"$f":"IF('2-Programmer les activités'!J68=\"\",\"\",'2-Programmer les activités'!J68)","v":""},"","","","","-","","","","X",null,"","","","",null,"","","","",null,"","","","",null,null,{"$f":"IF(OR('1_Lister les activités'!D63=\"\",'1_Lister les activités'!D63=0),\"\",'1_Lister les activités'!D63)","v":""},{"$f":"IFERROR(IF($BH$3=\"\",\"\",'1_Lister les activités'!A64),\"\")","v":""},null,"",{"$f":"IFERROR(IF($BH$3=\"\",\"\",'1_Lister les activités'!B64),\"\")","v":0},0,"",{"$f":"IFERROR(IF($BH$3=\"\",\"\",'1_Lister les activités'!C64),\"\")","v":"Selectionner"},{"$nulls":3},"Jamaica",{"$nulls":7},"Gold","-","-","XAU","Gold"]
[{"$nulls":9},{"$f":"'2-Programmer les activités'!F68","v":0},{"$f":"'2-Programmer les activités'!G68","v":0},{"$nulls":21},{"$f":"IF('2-Programmer les activités'!J69=\"\",\"\",'2-Programmer les activités'!J69)","v":""},"","","","","-","","","","X",null,"","","","",null,"","","","",null,"","","","",null,null,{"$f":"IF(OR('1_Lister les activités'!D64=\"\",'1_Lister les activités'!D64=0),\"\",'1_Lister les activités'!D64)","v":""},{"$f":"IFERROR(IF($BH$3=\"\",\"\",'1_Lister les activités'!A65),\"\")","v":""},null,"",{"$f":"IFERROR(IF($BH$3=\"\",\"\",'1_Lister les activités'!B65),\"\")","v":0},0,"",{"$f":"IFERROR(IF($BH$3=\"\",\"\",'1_Lister les activités'!C65),\"\")","v":"Selectionner"},{"$nulls":3},"Jordan",{"$nulls":7},"Gourde","Centime","G","HTG","Gourde"]
[null,"2016-01-01",1,{"$nulls":6},{"$f":"'2-Programmer les activités'!F69","v":0},{"$f":"'2-Programmer les activités'!G69","v":0},{"$nulls":21},{"$f":"IF('2-Programmer les activités'!J70=\"\",\"\",'2-Programmer les activités'!J70)","v":""},"","","","","-","","","","X",null,"","","","",null,"","","","",null,"","","","",null,null,{"$f":"IF(OR('1_Lister les activités'!D65=\"\",'1_Lister les activités'!D65=0),\"\",'1_Lister les activités'!D65)","v":""},{"$f":"IFERROR(IF($BH$3=\"\",\"\",'1_Lister les activités'!A66),\"\")","v":""},null,"",{"$f":"IFERROR(IF($BH$3=\"\",\"\",'1_Lister les activités'!B66),\"\")","v":0},0,"",{"$f":"IFERROR(IF($BH$3=\"\",\"\",'1_Lister les activités'!C66),\"\")","v":"Selectionner"},{"$nulls":3},"Kazakhstan",{"$nulls":7},"Guarani","Céntimo","₲","PYG","Guarani"]
[null,"2016-04-01",1,{"$nulls":6},{"$f":"'2-Programmer les activités'!F70","v":0},{"$f":"'2-Programmer les activités'!G70","v":0},{"$nulls":21},{"$f":"IF('2-Programmer les activités'!J71=\"\",\"\",'2-Programmer les activités'!J71)","v":""},"","","","","-","","","","X",null,"","","","",null,"","","","",null,"","","","",null,null,{"$f":"IF(OR('1_Lister les activités'!D66=\"\",'1_Lister les activités'!D66=0),\"\",'1_Lister les activités'!D66)","v":""},{"$f":"IFERROR(IF($BH$3=\"\",\"\",'1_Lister les activités'!A67),\"\")","v":""},null,"",{"$f":"IFERROR(IF($BH$3=\"\",\"\",'1_Lister les activités'!B67),\"\")","v":0},0,"",{"$f":"IFERROR(IF($BH$3=\"\",\"\",'1_Lister les activités'!C67),\"\")","v":"Selectionner"},{"$nulls":3},"Kenya",{"$nulls":7},"Guinea Franc","Centime","Fr","GNF","Guinea Franc"]
[null,"2016-07-01",1,{"$nulls":6},{"$f":"'2-Programmer les activités'!F71","v":0},{"$f":"'2-Programmer les activités'!G71","v":0},{"$nulls":21},{"$f":"IF('2-Programmer les activités'!J72=\"\",\"\",'2-Programmer les activités'!J72)","v":""},"","","","","-","","","","X",null,"","","","",null,"","","","",null,"","","","",null,null,{"$f":"IF(OR('1_Lister les activités'!D67=\"\",'1_Lister les activités'!D67=0),\"\",'1_Lister les activités'!D67)","v":""},{"$f":"IFERROR(IF($BH$3=\"\",\"\",'1_Lister les activités'!A68),\"\")","v":""},null,"",{"$f":"IFERROR(IF($BH$3=\"\",\"\",'1_Lister les activités'!B68),\"\")","v":0},0,"",{"$f":"IFERROR(IF($BH$3=\"\",\"\",'1_Lister les activités'!C68),\"\")","v":"Selectionner"},{"$nulls":3},"Korea (Democratic Peoples Republic)",{"$nulls":7},"Guyana Dollar","Cent","$","GYD","Guyana Dollar"]
[null,"2016-10-01",1,{"$nulls":6},{"$f":"'2-Programmer les activités'!F72","v":0},{"$f":"'2-Programmer les activités'!G72","v":0},{"$nulls":21},{"$f":"IF('2-Programmer les activités'!J73=\"\",\"\",'2-Programmer les activités'!J73)","v":""},"","","","","-","","","","X",null,"","","","",null,"","","","",null,"","","","",null,null,{"$f":"IF(OR('1_Lister les activités'!D68=\"\",'1_Lister les activités'!D68=0),\"\",'1_Lister les activités'!D68)","v":""},{"$f":"IFERROR(IF($BH$3=\"\",\"\",'1_Lister les activités'!A69),\"\")","v":""},null,"",{"$f":"IFERROR(IF($BH$3=\"\",\"\",'1_Lister les activités'!B69),\"\")","v":0},0,"",{"$f":"IFERROR(IF($BH$3=\"\",\"\",'1_Lister les activités'!C69),\"\")","v":"Selectionner"},{"$nulls":3},"Kosovo",{"$nulls":7},"Hong Kong Dollar","Cent","$","HKD","Hong Kong Dollar"]
[null,"2017-01-01",1,{"$nulls":6},{"$f":"'2-Programmer les activités'!F73","v":0},{"$f":"'2-Programmer les activités'!G73","v":0},{"$nulls":21},{"$f":"IF('2-Programmer les activités'!J74=\"\",\"\",'2-Programmer les activités'!J74)","v":""},"","","","","-","","","","X",null,"","","","",null,"","","","",null,"","","","",null,null,{"$f":"IF(OR('1_Lister les activités'!D69=\"\",'1_Lister les activités'!D69=0),\"\",'1_Lister les activités'!D69)","v":""},{"$f":"IFERROR(IF($BH$3=\"\",\"\",'1_Lister les activités'!A70),\"\")","v":""},null,"",{"$f":"IFERROR(IF($BH$3=\"\",\"\",'1_Lister les activités'!B70),\"\")","v":0},0,"",{"$f":"IFERROR(IF($BH$3=\"\",\"\",'1_Lister les activités'!C70),\"\")","v":"Selectionner"},{"$nulls":3},"Kyrgyzstan",{"$nulls":7},"Hryvnia","Kopiyka","₴","UAH","Hryvnia"]
[null,"2017-04-01",1,{"$nulls":6},{"$f":"'2-Programmer les activités'!F74","v":0},{"$f":"'2-Programmer les activités'!G74","v":0},{"$nulls":21},{"$f":"IF('2-Programmer les activités'!J75=\"\",\"\",'2-Programmer les activités'!J75)","v":""},"","","","","-","","","","X",null,"","","","",null,"","","","",null,"","","","",null,null,{"$f":"IF(OR('1_Lister les activités'!D70=\"\",'1_Lister les activités'!D70=0),\"\",'1_Lister les activités'!D70)","v":""},{"$f":"IFERROR(IF($BH$3=\"\",\"\",'1_Lister les activités'!A71),\"\")","v":""},null,{"$f":"IFERROR(BH70,\"\")","v":""},{"$f":"IFERROR(IF($BH$3=\"\",\"\",'1_Lister les activités'!B71),\"\")","v":0},0,"",{"$f":"IFERROR(IF($BH$3=\"\",\"\",'1_Lister les activités'!C71),\"\")","v":"Selectionner"},{"$nulls":3},"Lao (Peoples Democratic Republic)",{"$nulls":7},"Iceland Krona","Eyrir","kr","ISK",{"$f":"CA69","v":"Iceland Krona"}]
[null,"2017-07-01",1,{"$nulls":6},{"$f":"'2-Programmer les activités'!F75","v":0},{"$f":"'2-Programmer les activités'!G75","v":0},{"$nulls":21},{"$f":"IF('2-Programmer les activités'!J76=\"\",\"\",'2-Programmer les activités'!J76)","v":""},"",{"$f":"IFERROR(VLOOKUP(AH70,$A$110:$B$121,2,FALSE),\"\")","v":""},"","","-","","","","X",null,"","","","",null,"","","","",null,"","","","",null,null,{"$f":"IF(OR('1_Lister les activités'!D71=\"\",'1_Lister les activités'!D71=0),\"\",'1_Lister les activités'!D71)","v":""},{"$f":"IFERROR(IF($BH$3=\"\",\"\",'1_Lister les activités'!A72),\"\")","v":""},null,"",{"$f":"IFERROR(IF($BH$3=\"\",\"\",'1_Lister les activités'!B72),\"\")","v":0},{"$f":"IFERROR(BL70,\"\")","v":0},{"$f":"IFERROR(BK70,\"\")","v":""},{"$f":"IFERROR(IF($BH$3=\"\",\"\",'1_Lister les activités'!C72),\"\")","v":"Selectionner"},{"$nulls":3},"Lesotho",{"$nulls":7},"Indian Rupee","Paisa","-","INR","Indian Rupee"]
[null,"2017-10-01",1,{"$nulls":6},{"$f":"'2-Programmer les activités'!F76","v":0},{"$f":"'2-Programmer les activités'!G76","v":0},{"$nulls":21},{"$f":"IF('2-Programmer les activités'!J77=\"\",\"\",'2-Programmer les activités'!J77)","v":""},"","","","","-","","","","X",null,"","","","",null,"","","","",null,"","","","",null,null,{"$f":"IF(OR('1_Lister les activités'!D72=\"\",'1_Lister les activités'!D72=0),\"\",'1_Lister les activités'!D72)","v":""},{"$f":"IFERROR(IF($BH$3=\"\",\"\",'1_Lister les activités'!A73),\"\")","v":""},null,"",{"$f":"IFERROR(IF($BH$3=\"\",\"\",'1_Lister les activités'!B73),\"\")","v":0},0,"",{"$f":"IFERROR(IF($BH$3=\"\",\"\",'1_Lister les activités'!C73),\"\")","v":"Selectionner"},{"$nulls":3},"Liberia",{"$nulls":7},"Iranian Rial","Dinar","﷼","IRR","Iranian Rial"]
[null,"2018-01-01",1,{"$nulls":6},{"$f":"'2-Programmer les activités'!F77","v":0},{"$f":"'2-Programmer les activités'!G77","v":0},{"$nulls":21},{"$f":"IF('2-Programmer les activités'!J78=\"\",\"\",'2-Programmer les activités'!J78)","v":""},"","","","","-","","","","X",null,"","","","",null,"","","","",null,"","","","",null,null,{"$f":"IF(OR('1_Lister les activités'!D73=\"\",'1_Lister les activités'!D73=0),\"\",'1_Lister les activités'!D73)","v":""},{"$f":"IFERROR(IF($BH$3=\"\",\"\",'1_Lister les activités'!A74),\"\")","v":""},null,"",{"$f":"IFERROR(IF($BH$3=\"\",\"\",'1_Lister les activités'!B74),\"\")","v":0},0,"",{"$f":"IFERROR(IF($BH$3=\"\",\"\",'1_Lister les activités'!C74),\"\")","v":"Selectionner"},{"$nulls":3},"Lutheran World Federation",{"$nulls":7},"Iraqi Dinar","Fils","ع.د","IQD","Iraqi Dinar"]
[null,"2018-04-01",1,{"$nulls":6},{"$f":"'2-Programmer les activités'!F78","v":0},{"$f":"'2-Programmer les activités'!G78","v":0},{"$nulls":21},{"$f":"IF('2-Programmer les activités'!J79=\"\",\"\",'2-Programmer les activités'!J79)","v":""},"","","","","-","","","","X",null,"","","","",null,"","","","",null,"","","","",null,null,{"$f":"IF(OR('1_Lister les activités'!D74=\"\",'1_Lister les activités'!D74=0),\"\",'1_Lister les activités'!D74)","v":""},{"$f":"IFERROR(IF($BH$3=\"\",\"\",'1_Lister les activités'!A75),\"\")","v":""},null,"",{"$f":"IFERROR(IF($BH$3=\"\",\"\",'1_Lister les activités'!B75),\"\")","v":0},0,"",{"$f":"IFERROR(IF($BH$3=\"\",\"\",'1_Lister les activités'!C75),\"\")","v":"Selectionner"},{"$nulls":3},"Macedonia (Former Yugoslav Republic)",{"$nulls":7},"Jamaican Dollar","Cent","$","JMD","Jamaican Dollar"]
[null,"2018-07-01",1,{"$nulls":6},{"$f":"'2-Programmer les activités'!F79","v":0},{"$f":"'2-Programmer les activités'!G79","v":0},{"$nulls":21},{"$f":"IF('2-Programmer les activités'!J80=\"\",\"\",'2-Programmer les activités'!J80)","v":""},"","","","","-","","","","X",null,"","","","",null,"","","","",null,"","","","",null,null,{"$f":"IF(OR('1_Lister les activités'!D75=\"\",'1_Lister les activités'!D75=0),\"\",'1_Lister les activités'!D75)","v":""},{"$f":"IFERROR(IF($BH$3=\"\",\"\",'1_Lister les activités'!A76),\"\")","v":""},null,"",{"$f":"IFERROR(IF($BH$3=\"\",\"\",'1_Lister les activités'!B76),\"\")","v":0},0,"",{"$f":"IFERROR(IF($BH$3=\"\",\"\",'1_Lister les activités'!C76),\"\")","v":"Selectionner"},{"$nulls":3},"Madagascar",{"$nulls":7},"Jordanian Dinar","Piastre","د.ا","JOD","Jordanian Dinar"]
[null,"2018-10-01",1,{"$nulls":6},{"$f":"'2-Programmer les activités'!F80","v":0},{"$f":"'2-Programmer les activités'!G80","v":0},{"$nulls":21},{"$f":"IF('2-Programmer les activités'!J81=\"\",\"\",'2-Programmer les activités'!J81)","v":""},"","","","","-","","","","X",null,"","","","",null,"","","","",null,"","","","",null,null,{"$f":"IF(OR('1_Lister les activités'!D76=\"\",'1_Lister les activités'!D76=0),\"\",'1_Lister les activités'!D76)","v":""},{"$f":"IFERROR(IF($BH$3=\"\",\"\",'1_Lister les activités'!A77),\"\")","v":""},null,"",{"$f":"IFERROR(IF($BH$3=\"\",\"\",'1_Lister les activités'!B77),\"\")","v":0},0,"",{"$f":"IFERROR(IF($BH$3=\"\",\"\",'1_Lister les activités'!C77),\"\")","v":"Selectionner"},{"$nulls":3},"Malawi",{"$nulls":7},"Kenyan Shilling","Cent","Sh","KES","Kenyan Shilling"]
[null,"2016-02-01",2,{"$nulls":6},{"$f":"'2-Programmer les activités'!F81","v":0},{"$f":"'2-Programmer les activités'!G81","v":0},{"$nulls":21},{"$f":"IF('2-Programmer les activités'!J82=\"\",\"\",'2-Programmer les activités'!J82)","v":""},"","","","","-","","","","X",null,"","","","",null,"","","","",null,"","","","",null,null,{"$f":"IF(OR('1_Lister les activités'!D77=\"\",'1_Lister les activités'!D77=0),\"\",'1_Lister les activités'!D77)","v":""},{"$f":"IFERROR(IF($BH$3=\"\",\"\",'1_Lister les activités'!A78),\"\")","v":""},null,"",{"$f":"IFERROR(IF($BH$3=\"\",\"\",'1_Lister les activités'!B78),\"\")","v":0},0,"",{"$f":"IFERROR(IF($BH$3=\"\",\"\",'1_Lister les activités'!C78),\"\")","v":"Selectionner"},{"$nulls":3},"Malaysia",{"$nulls":7},"Kina","Toea","K","PGK","Kina"]
[null,"2016-05-01",2,{"$nulls":6},{"$f":"'2-Programmer les activités'!F82","v":0},{"$f":"'2-Programmer les activités'!G82","v":0},{"$nulls":21},{"$f":"IF('2-Programmer les activités'!J83=\"\",\"\",'2-Programmer les activités'!J83)","v":""},"","","","","-","","","","X",null,"","","","",null,"","","","",null,"","","","",null,null,{"$f":"IF(OR('1_Lister les activités'!D78=\"\",'1_Lister les activités'!D78=0),\"\",'1_Lister les activités'!D78)","v":""},{"$f":"IFERROR(IF($BH$3=\"\",\"\",'1_Lister les activités'!A79),\"\")","v":""},null,"",{"$f":"IFERROR(IF($BH$3=\"\",\"\",'1_Lister les activités'!B79),\"\")","v":0},0,"",{"$f":"IFERROR(IF($BH$3=\"\",\"\",'1_Lister les activités'!C79),\"\")","v":"Selectionner"},{"$nulls":3},"Maldives",{"$nulls":7},"Kip","Att","₭","LAK","Kip"]
[null,"2016-08-01",2,{"$nulls":6},{"$f":"'2-Programmer les activités'!F83","v":0},{"$f":"'2-Programmer les activités'!G83","v":0},{"$nulls":21},{"$f":"IF('2-Programmer les activités'!J84=\"\",\"\",'2-Programmer les activités'!J84)","v":""},"","","","","-","","","","X",null,"","","","",null,"","","","",null,"","","","",null,null,{"$f":"IF(OR('1_Lister les activités'!D79=\"\",'1_Lister les activités'!D79=0),\"\",'1_Lister les activités'!D79)","v":""},{"$f":"IFERROR(IF($BH$3=\"\",\"\",'1_Lister les activités'!A80),\"\")","v":""},null,"",{"$f":"IFERROR(IF($BH$3=\"\",\"\",'1_Lister les activités'!B80),\"\")","v":0},0,"",{"$f":"IFERROR(IF($BH$3=\"\",\"\",'1_Lister les activités'!C80),\"\")","v":"Selectionner"},{"$nulls":3},"Mali",{"$nulls":7},"Kuwaiti Dinar","Fils","د.ك","KWD","Kuwaiti Dinar"]
[null,"2016-11-01",2,{"$nulls":6},{"$f":"'2-Programmer les activités'!F84","v":0},{"$f":"'2-Programmer les activités'!G84","v":0},{"$nulls":21},{"$f":"IF('2-Programmer les activités'!J85=\"\",\"\",'2-Programmer les activités'!J85)","v":""},"","","","","-","","","","X",null,"","","","",null,"","","","",null,"","","","",null,null,{"$f":"IF(OR('1_Lister les activités'!D80=\"\",'1_Lister les activités'!D80=0),\"\",'1_Lister les activités'!D80)","v":""},{"$f":"IFERROR(IF($BH$3=\"\",\"\",'1_Lister les activités'!A81),\"\")","v":""},null,"",{"$f":"IFERROR(IF($BH$3=\"\",\"\",'1_Lister les activités'!B81),\"\")","v":0},0,"",{"$f":"IFERROR(IF($BH$3=\"\",\"\",'1_Lister les activités'!C81),\"\")","v":"Selectionner"},{"$nulls":3},"Mauritania",{"$nulls":7},"Kwacha","Tambala","MK","MWK","Kwacha"]
[null,"2017-02-01",2,{"$nulls":6},{"$f":"'2-Programmer les activités'!F85","v":0},{"$f":"'2-Programmer les activités'!G85","v":0},{"$nulls":21},{"$f":"IF('2-Programmer les activités'!J86=\"\",\"\",'2-Programmer les activités'!J86)","v":""},"","","","","-","","","","X",null,"","","","",null,"","","","",null,"","","","",null,null,{"$f":"IF(OR('1_Lister les activités'!D81=\"\",'1_Lister les activités'!D81=0),\"\",'1_Lister les activités'!D81)","v":""},{"$f":"IFERROR(IF($BH$3=\"\",\"\",'1_Lister les activités'!A82),\"\")","v":""},null,"",{"$f":"IFERROR(IF($BH$3=\"\",\"\",'1_Lister les activités'!B82),\"\")","v":0},0,"",{"$f":"IFERROR(IF($BH$3=\"\",\"\",'1_Lister les activités'!C82),\"\")","v":"Selectionner"},{"$nulls":3},"Mauritius",{"$nulls":7},"Kwanza","Cêntimo","Kz","AOA","Kwanza"]
[null,"2017-05-01",2,{"$nulls":6},{"$f":"'2-Programmer les activités'!F86","v":0},{"$f":"'2-Programmer les activités'!G86","v":0},{"$nulls":21},{"$f":"IF('2-Programmer les activités'!J87=\"\",\"\",'2-Programmer les activités'!J87)","v":""},"","","","","-","","","","X",null,"","","","",null,"","","","",null,"","","","",null,null,{"$f":"IF(OR('1_Lister les activités'!D82=\"\",'1_Lister les activités'!D82=0),\"\",'1_Lister les activités'!D82)","v":""},{"$f":"IFERROR(IF($BH$3=\"\",\"\",'1_Lister les activités'!A83),\"\")","v":""},null,"",{"$f":"IFERROR(IF($BH$3=\"\",\"\",'1_Lister les activités'!B83),\"\")","v":0},0,"",{"$f":"IFERROR(IF($BH$3=\"\",\"\",'1_Lister les activités'!C83),\"\")","v":"Selectionner"},{"$nulls":3},"Mexico",{"$nulls":7},"Kyat","Pya","Ks","MMK","Kyat"]
[null,"2017-08-01",2,{"$nulls":6},{"$f":"'2-Programmer les activités'!F87","v":0},{"$f":"'2-Programmer les activités'!G87","v":0},{"$nulls":21},{"$f":"IF('2-Programmer les activités'!J88=\"\",\"\",'2-Programmer les activités'!J88)","v":""},"","","","","-","","","","X",null,"","","","",null,"","","","",null,"","","","",null,null,{"$f":"IF(OR('1_Lister les activités'!D83=\"\",'1_Lister les activités'!D83=0),\"\",'1_Lister les activités'!D83)","v":""},{"$f":"IFERROR(IF($BH$3=\"\",\"\",'1_Lister les activités'!A84),\"\")","v":""},null,"",{"$f":"IFERROR(IF($BH$3=\"\",\"\",'1_Lister les activités'!B84),\"\")","v":0},0,"",{"$f":"IFERROR(IF($BH$3=\"\",\"\",'1_Lister les activités'!C84),\"\")","v":"Selectionner"},{"$nulls":3},"Moldavia",{"$nulls":7},"Lari","Tetri","ლ","GEL","Lari"]
[null,"2017-11-01",2,{"$nulls":6},{"$f":"'2-Programmer les activités'!F88","v":0},{"$f":"'2-Programmer les activités'!G88","v":0},{"$nulls":21},{"$f":"IF('2-Programmer les activités'!J89=\"\",\"\",'2-Programmer les activités'!J89)","v":""},"","","","","-","","","","X",null,"","","","",null,"","","","",null,"","","","",null,null,{"$f":"IF(OR('1_Lister les activités'!D84=\"\",'1_Lister les activités'!D84=0),\"\",'1_Lister les activités'!D84)","v":""},{"$f":"IFERROR(IF($BH$3=\"\",\"\",'1_Lister les activités'!A85),\"\")","v":""},null,"",{"$f":"IFERROR(IF($BH$3=\"\",\"\",'1_Lister les activités'!B85),\"\")","v":0},0,"",{"$f":"IFERROR(IF($BH$3=\"\",\"\",'1_Lister les activités'!C85),\"\")","v":"Selectionner"},{"$nulls":3},"Mongolia",{"$nulls":7},"Latvian Lats","Santīms","Ls","LVL","Latvian Lats"]
[null,"2018-02-01",2,{"$nulls":6},{"$f":"'2-Programmer les activités'!F89","v":0},{"$f":"'2-Programmer les activités'!G89","v":0},{"$nulls":21},{"$f":"IF('2-Programmer les activités'!J90=\"\",\"\",'2-Programmer les activités'!J90)","v":""},"","","","","-","","","","X",null,"","","","",null,"","","","",null,"","","","",null,null,{"$f":"IF(OR('1_Lister les activités'!D85=\"\",'1_Lister les activités'!D85=0),\"\",'1_Lister les activités'!D85)","v":""},{"$f":"IFERROR(IF($BH$3=\"\",\"\",'1_Lister les activités'!A86),\"\")","v":""},null,"",{"$f":"IFERROR(IF($BH$3=\"\",\"\",'1_Lister les activités'!B86),\"\")","v":0},0,"",{"$f":"IFERROR(IF($BH$3=\"\",\"\",'1_Lister les activités'!C86),\"\")","v":"Selectionner"},{"$nulls":3},"Montenegro",{"$nulls":7},"Lebanese Pound","Piastre","ل.ل","LBP","Lebanese Pound"]
[null,"2018-05-01",2,{"$nulls":6},{"$f":"'2-Programmer les activités'!F90","v":0},{"$f":"'2-Programmer les activités'!G90","v":0},{"$nulls":21},{"$f":"IF('2-Programmer les activités'!J91=\"\",\"\",'2-Programmer les activités'!J91)","v":""},"","","","","-","","","","X",null,"","","","",null,"","","","",null,"","","","",null,null,{"$f":"IF(OR('1_Lister les activités'!D86=\"\",'1_Lister les activités'!D86=0),\"\",'1_Lister les activités'!D86)","v":""},{"$f":"IFERROR(IF($BH$3=\"\",\"\",'1_Lister les activités'!A87),\"\")","v":""},null,"",{"$f":"IFERROR(IF($BH$3=\"\",\"\",'1_Lister les activités'!B87),\"\")","v":0},0,"",{"$f":"IFERROR(IF($BH$3=\"\",\"\",'1_Lister les activités'!C87),\"\")","v":"Selectionner"},{"$nulls":3},"Morocco",{"$nulls":7},"Lek","Qindarkë","L","ALL","Lek"]
[null,"2018-08-01",2,{"$nulls":6},{"$f":"'2-Programmer les activités'!F91","v":0},{"$f":"'2-Programmer les activités'!G91","v":0},{"$nulls":21},{"$f":"IF('2-Programmer les activités'!J92=\"\",\"\",'2-Programmer les activités'!J92)","v":""},"","","","","-","","","","X",null,"","","","",null,"","","","",null,"","","","",null,null,{"$f":"IF(OR('1_Lister les activités'!D87=\"\",'1_Lister les activités'!D87=0),\"\",'1_Lister les activités'!D87)","v":""},{"$f":"IFERROR(IF($BH$3=\"\",\"\",'1_Lister les activités'!A88),\"\")","v":""},null,"",{"$f":"IFERROR(IF($BH$3=\"\",\"\",'1_Lister les activités'!B88),\"\")","v":0},0,"",{"$f":"IFERROR(IF($BH$3=\"\",\"\",'1_Lister les activités'!C88),\"\")","v":"Selectionner"},{"$nulls":3},"Mozambique",{"$nulls":7},"Lempira","Centavo","L","HNL","Lempira"]
[null,"2018-11-01",2,{"$nulls":6},{"$f":"'2-Programmer les activités'!F92","v":0},{"$f":"'2-Programmer les activités'!G92","v":0},{"$nulls":21},{"$f":"IF('2-Programmer les activités'!J93=\"\",\"\",'2-Programmer les activités'!J93)","v":""},"","","","","-","","","","X",null,"","","","",null,"","","","",null,"","","","",null,null,{"$f":"IF(OR('1_Lister les activités'!D88=\"\",'1_Lister les activités'!D88=0),\"\",'1_Lister les activités'!D88)","v":""},{"$f":"IFERROR(IF($BH$3=\"\",\"\",'1_Lister les activités'!A89),\"\")","v":""},null,"",{"$f":"IFERROR(IF($BH$3=\"\",\"\",'1_Lister les activités'!B89),\"\")","v":0},0,"",{"$f":"IFERROR(IF($BH$3=\"\",\"\",'1_Lister les activités'!C89),\"\")","v":"Selectionner"},{"$nulls":3},"Multicountry Africa (RMCC)",{"$nulls":7},"Leone","Cent","Le","SLL","Leone"]
[null,"2016-03-01",3,{"$nulls":6},{"$f":"'2-Programmer les activités'!F93","v":0},{"$f":"'2-Programmer les activités'!G93","v":0},{"$nulls":21},{"$f":"IF('2-Programmer les activités'!J94=\"\",\"\",'2-Programmer les activités'!J94)","v":""},"","","","","-","","","","X",null,"","","","",null,"","","","",null,"","","","",null,null,{"$f":"IF(OR('1_Lister les activités'!D89=\"\",'1_Lister les activités'!D89=0),\"\",'1_Lister les activités'!D89)","v":""},{"$f":"IFERROR(IF($BH$3=\"\",\"\",'1_Lister les activités'!A90),\"\")","v":""},null,"",{"$f":"IFERROR(IF($BH$3=\"\",\"\",'1_Lister les activités'!B90),\"\")","v":0},0,"",{"$f":"IFERROR(IF($BH$3=\"\",\"\",'1_Lister les activités'!C90),\"\")","v":"Selectionner"},{"$nulls":3},"Multicountry Africa (SADC)",{"$nulls":7},"Liberian Dollar","Cent","$","LRD","Liberian Dollar"]
[null,"2016-06-01",3,{"$nulls":6},{"$f":"'2-Programmer les activités'!F94","v":0},{"$f":"'2-Programmer les activités'!G94","v":0},{"$nulls":21},{"$f":"IF('2-Programmer les activités'!J95=\"\",\"\",'2-Programmer les activités'!J95)","v":""},"","","","","-","","","","X",null,"","","","",null,"","","","",null,"","","","",null,null,{"$f":"IF(OR('1_Lister les activités'!D90=\"\",'1_Lister les activités'!D90=0),\"\",'1_Lister les activités'!D90)","v":""},{"$f":"IFERROR(IF($BH$3=\"\",\"\",'1_Lister les activités'!A91),\"\")","v":""},null,"",{"$f":"IFERROR(IF($BH$3=\"\",\"\",'1_Lister les activités'!B91),\"\")","v":0},0,"",{"$f":"IFERROR(IF($BH$3=\"\",\"\",'1_Lister les activités'!C91),\"\")","v":"Selectionner"},{"$nulls":3},"Multicountry Americas (Andean)",{"$nulls":7},"Libyan Dinar","Dirham","ل.د","LYD","Libyan Dinar"]
[null,"2016-09-01",3,{"$nulls":6},{"$f":"'2-Programmer les activités'!F95","v":0},{"$f":"'2-Programmer les activités'!G95","v":0},{"$nulls":21},{"$f":"IF('2-Programmer les activités'!J96=\"\",\"\",'2-Programmer les activités'!J96)","v":""},"","","","","-","","","","X",null,"","","","",null,"","","","",null,"","","","",null,null,{"$f":"IF(OR('1_Lister les activités'!D91=\"\",'1_Lister les activités'!D91=0),\"\",'1_Lister les activités'!D91)","v":""},{"$f":"IFERROR(IF($BH$3=\"\",\"\",'1_Lister les activités'!A92),\"\")","v":""},null,"",{"$f":"IFERROR(IF($BH$3=\"\",\"\",'1_Lister les activités'!B92),\"\")","v":0},0,"",{"$f":"IFERROR(IF($BH$3=\"\",\"\",'1_Lister les activités'!C92),\"\")","v":"Selectionner"},{"$nulls":3},"Multicountry Americas (CARICOM/PANCAP)",{"$nulls":7},"Lilangeni","Cent","L","SZL","Lilangeni"]
[null,"2016-12-01",3,{"$nulls":6},{"$f":"'2-Programmer les activités'!F96","v":0},{"$f":"'2-Programmer les activités'!G96","v":0},{"$nulls":21},{"$f":"IF('2-Programmer les activités'!J97=\"\",\"\",'2-Programmer les activités'!J97)","v":""},"","","","","-","","","","X",null,"","","","",null,"","","","",null,"","","","",null,null,{"$f":"IF(OR('1_Lister les activités'!D92=\"\",'1_Lister les activités'!D92=0),\"\",'1_Lister les activités'!D92)","v":""},{"$f":"IFERROR(IF($BH$3=\"\",\"\",'1_Lister les activités'!A93),\"\")","v":""},null,"",{"$f":"IFERROR(IF($BH$3=\"\",\"\",'1_Lister les activités'!B93),\"\")","v":0},0,"",{"$f":"IFERROR(IF($BH$3=\"\",\"\",'1_Lister les activités'!C93),\"\")","v":"Selectionner"},{"$nulls":3},"Multicountry Americas (COPRECOS)",{"$nulls":7},"Lithuanian Litas","Centas","Lt","LTL","Lithuanian Litas"]
[null,"2017-03-01",3,{"$nulls":6},{"$f":"'2-Programmer les activités'!F97","v":0},{"$f":"'2-Programmer les activités'!G97","v":0},{"$nulls":21},{"$f":"IF('2-Programmer les activités'!J98=\"\",\"\",'2-Programmer les activités'!J98)","v":""},"","","","","-","","","","X",null,"","","","",null,"","","","",null,"","","","",null,null,{"$f":"IF(OR('1_Lister les activités'!D93=\"\",'1_Lister les activités'!D93=0),\"\",'1_Lister les activités'!D93)","v":""},{"$f":"IFERROR(IF($BH$3=\"\",\"\",'1_Lister les activités'!A94),\"\")","v":""},null,"",{"$f":"IFERROR(IF($BH$3=\"\",\"\",'1_Lister les activités'!B94),\"\")","v":0},0,"",{"$f":"IFERROR(IF($BH$3=\"\",\"\",'1_Lister les activités'!C94),\"\")","v":"Selectionner"},{"$nulls":3},"Multicountry Americas (CRN+)",{"$nulls":7},"Loti","Sente","L","LSL","Loti"]
[null,"2017-06-01",3,{"$nulls":6},{"$f":"'2-Programmer les activités'!F98","v":0},{"$f":"'2-Programmer les activités'!G98","v":0},{"$nulls":21},{"$f":"IF('2-Programmer les activités'!J99=\"\",\"\",'2-Programmer les activités'!J99)","v":""},"","","","","-","","","","X",null,"","","","",null,"","","","",null,"","","","",null,null,{"$f":"IF(OR('1_Lister les activités'!D94=\"\",'1_Lister les activités'!D94=0),\"\",'1_Lister les activités'!D94)","v":""},{"$f":"IFERROR(IF($BH$3=\"\",\"\",'1_Lister les activités'!A95),\"\")","v":""},null,"",{"$f":"IFERROR(IF($BH$3=\"\",\"\",'1_Lister les activités'!B95),\"\")","v":0},0,"",{"$f":"IFERROR(IF($BH$3=\"\",\"\",'1_Lister les activités'!C95),\"\")","v":"Selectionner"},{"$nulls":3},"Multicountry Americas (Meso)",{"$nulls":7},"Malagasy Ariary","Iraimbilanja","Ar","MGA","Malagasy Ariary"]
[null,"2017-09-01",3,{"$nulls":6},{"$f":"'2-Programmer les activités'!F99","v":0},{"$f":"'2-Programmer les activités'!G99","v":0},{"$nulls":21},{"$f":"IF('2-Programmer les activités'!J100=\"\",\"\",'2-Programmer les activités'!J100)","v":""},"","","","","-","","","","X",null,"","","","",null,"","","","",null,"","","","",null,null,{"$f":"IF(OR('1_Lister les activités'!D95=\"\",'1_Lister les activités'!D95=0),\"\",'1_Lister les activités'!D95)","v":""},{"$f":"IFERROR(IF($BH$3=\"\",\"\",'1_Lister les activités'!A96),\"\")","v":""},null,"",{"$f":"IFERROR(IF($BH$3=\"\",\"\",'1_Lister les activités'!B96),\"\")","v":0},0,"",{"$f":"IFERROR(IF($BH$3=\"\",\"\",'1_Lister les activités'!C96),\"\")","v":"Selectionner"},{"$nulls":3},"Multicountry Americas (OECS)",{"$nulls":7},"Malaysian Ringgit","Sen","RM","MYR","Malaysian Ringgit"]
[null,"2017-12-01",3,{"$nulls":6},{"$f":"'2-Programmer les activités'!F100","v":0},{"$f":"'2-Programmer les activités'!G100","v":0},{"$nulls":21},{"$f":"IF('2-Programmer les activités'!J101=\"\",\"\",'2-Programmer les activités'!J101)","v":""},"","","","","-","","","","X",null,"","","","",null,"","","","",null,"","","","",null,null,{"$f":"IF(OR('1_Lister les activités'!D96=\"\",'1_Lister les activités'!D96=0),\"\",'1_Lister les activités'!D96)","v":""},{"$f":"IFERROR(IF($BH$3=\"\",\"\",'1_Lister les activités'!A97),\"\")","v":""},null,"",{"$f":"IFERROR(IF($BH$3=\"\",\"\",'1_Lister les activités'!B97),\"\")","v":0},0,"",{"$f":"IFERROR(IF($BH$3=\"\",\"\",'1_Lister les activités'!C97),\"\")","v":"Selectionner"},{"$nulls":3},"Multicountry Americas (REDCA+)",{"$nulls":7},"Mauritius Rupee","Cent","₨","MUR","Mauritius Rupee"]
[null,"2018-03-01",3,{"$nulls":6},{"$f":"'2-Programmer les activités'!F101","v":0},{"$f":"'2-Programmer les activités'!G101","v":0},{"$nulls":21},{"$f":"IF('2-Programmer les activités'!J102=\"\",\"\",'2-Programmer les activités'!J102)","v":""},"","","","","-","","","","X",null,"","","","",null,"","","","",null,"","","","",null,null,{"$f":"IF(OR('1_Lister les activités'!D97=\"\",'1_Lister les activités'!D97=0),\"\",'1_Lister les activités'!D97)","v":""},{"$f":"IFERROR(IF($BH$3=\"\",\"\",'1_Lister les activités'!A98),\"\")","v":""},null,"",{"$f":"IFERROR(IF($BH$3=\"\",\"\",'1_Lister les activités'!B98),\"\")","v":0},0,"",{"$f":"IFERROR(IF($BH$3=\"\",\"\",'1_Lister les activités'!C98),\"\")","v":"Selectionner"},{"$nulls":3},"Multicountry Americas (REDTRASEX)",{"$nulls":7},"Mexican Peso","Centavo","$","MXN","Mexican Peso"]
[null,"2018-06-01",3,{"$nulls":6},{"$f":"'2-Programmer les activités'!F102","v":0},{"$f":"'2-Programmer les activités'!G102","v":0},{"$nulls":21},{"$f":"IF('2-Programmer les activités'!J103=\"\",\"\",'2-Programmer les activités'!J103)","v":""},"","","","","-","","","","X",null,"","","","",null,"","","","",null,"","","","",null,null,{"$f":"IF(OR('1_Lister les activités'!D98=\"\",'1_Lister les activités'!D98=0),\"\",'1_Lister les activités'!D98)","v":""},{"$f":"IFERROR(IF($BH$3=\"\",\"\",'1_Lister les activités'!A99),\"\")","v":""},null,"",{"$f":"IFERROR(IF($BH$3=\"\",\"\",'1_Lister les activités'!B99),\"\")","v":0},0,"",{"$f":"IFERROR(IF($BH$3=\"\",\"\",'1_Lister les activités'!C99),\"\")","v":"Selectionner"},{"$nulls":3},"Multicountry East Asia and Pacific (APN+)",{"$nulls":7},"Mexican Unidad de Inversion (UDI)","-","-","MXV","Mexican Unidad de Inversion (UDI)"]
[null,"2018-09-01",3,{"$nulls":6},{"$f":"'2-Programmer les activités'!F103","v":0},{"$f":"'2-Programmer les activités'!G103","v":0},{"$nulls":21},{"$f":"IF('2-Programmer les activités'!J104=\"\",\"\",'2-Programmer les activités'!J104)","v":""},"","","","","-","","","","X",null,"","","","",null,"","","","",null,"","","","",null,null,{"$f":"IF(OR('1_Lister les activités'!D99=\"\",'1_Lister les activités'!D99=0),\"\",'1_Lister les activités'!D99)","v":""},{"$f":"IFERROR(IF($BH$3=\"\",\"\",'1_Lister les activités'!A100),\"\")","v":""},null,"",{"$f":"IFERROR(IF($BH$3=\"\",\"\",'1_Lister les activités'!B100),\"\")","v":0},0,"",{"$f":"IFERROR(IF($BH$3=\"\",\"\",'1_Lister les activités'!C100),\"\")","v":"Selectionner"},{"$nulls":3},"Multicountry East Asia and Pacific (RAI)",{"$nulls":7},"Moldovan Leu","Ban","L","MDL","Moldovan Leu"]
[null,"2018-12-01",3,{"$nulls":6},{"$f":"'2-Programmer les activités'!F104","v":0},{"$f":"'2-Programmer les activités'!G104","v":0},{"$nulls":21},{"$f":"IF('2-Programmer les activités'!J105=\"\",\"\",'2-Programmer les activités'!J105)","v":""},"","","","","-","","","","X",null,"","","","",null,"","","","",null,"","","","",null,null,{"$f":"IF(OR('1_Lister les activités'!D100=\"\",'1_Lister les activités'!D100=0),\"\",'1_Lister les activités'!D100)","v":""},{"$f":"IFERROR(IF($BH$3=\"\",\"\",'1_Lister les activités'!A101),\"\")","v":""},null,"",{"$f":"IFERROR(IF($BH$3=\"\",\"\",'1_Lister les activités'!B101),\"\")","v":0},0,"",{"$f":"IFERROR(IF($BH$3=\"\",\"\",'1_Lister les activités'!C101),\"\")","v":"Selectionner"},{"$nulls":3},"Multicountry East Asia and Pacific (SEAN-HIVOS)",{"$nulls":7},"Moroccan Dirham","Centime","د. م.","MAD","Moroccan Dirham"]
[{"$nulls":9},{"$f":"'2-Programmer les activités'!F105","v":0},{"$f":"'2-Programmer les activités'!G105","v":0},{"$nulls":21},{"$f":"IF('2-Programmer les activités'!J106=\"\",\"\",'2-Programmer les activités'!J106)","v":""},"","","","","-","","","","X",null,"","","","",null,"","","","",null,"","","","",null,null,{"$f":"IF(OR('1_Lister les activités'!D101=\"\",'1_Lister les activités'!D101=0),\"\",'1_Lister les activités'!D101)","v":""},{"$f":"IFERROR(IF($BH$3=\"\",\"\",'1_Lister les activités'!A102),\"\")","v":""},null,"",{"$f":"IFERROR(IF($BH$3=\"\",\"\",'1_Lister les activités'!B102),\"\")","v":0},0,"",{"$f":"IFERROR(IF($BH$3=\"\",\"\",'1_Lister les activités'!C102),\"\")","v":"Selectionner"},{"$nulls":3},"Multicountry Eastern Europe- Central Aisa (EHRN)",{"$nulls":7},"Mozambique Metical","Centavo","MT","MZN","Mozambique Metical"]
[{"$nulls":9},{"$f":"'2-Programmer les activités'!F106","v":0},{"$f":"'2-Programmer les activités'!G106","v":0},{"$nulls":21},{"$f":"IF('2-Programmer les activités'!J107=\"\",\"\",'2-Programmer les activités'!J107)","v":""},"","","","","-","","","","X",null,"","","","",null,"","","","",null,"","","","",null,null,{"$f":"IF(OR('1_Lister les activités'!D102=\"\",'1_Lister les activités'!D102=0),\"\",'1_Lister les activités'!D102)","v":""},{"$f":"IFERROR(IF($BH$3=\"\",\"\",'1_Lister les activités'!A103),\"\")","v":""},null,"",{"$f":"IFERROR(IF($BH$3=\"\",\"\",'1_Lister les activités'!B103),\"\")","v":0},0,"",{"$f":"IFERROR(IF($BH$3=\"\",\"\",'1_Lister les activités'!C103),\"\")","v":"Selectionner"},{"$nulls":3},"Multicountry Middle East-North Africa (MENAHRA)",{"$nulls":7},"Mvdol","-","-","BOV","Mvdol"]
[{"$nulls":9},{"$f":"'2-Programmer les activités'!F107","v":0},{"$f":"'2-Programmer les activités'!G107","v":0},{"$nulls":21},{"$f":"IF('2-Programmer les activités'!J108=\"\",\"\",'2-Programmer les activités'!J108)","v":""},"","","","","-","","","","X",null,"","","","",null,"","","","",null,"","","","",null,null,{"$f":"IF(OR('1_Lister les activités'!D103=\"\",'1_Lister les activités'!D103=0),\"\",'1_Lister les activités'!D103)","v":""},{"$f":"IFERROR(IF($BH$3=\"\",\"\",'1_Lister les activités'!A104),\"\")","v":""},null,"",{"$f":"IFERROR(IF($BH$3=\"\",\"\",'1_Lister les activités'!B104),\"\")","v":0},0,"",{"$f":"IFERROR(IF($BH$3=\"\",\"\",'1_Lister les activités'!C104),\"\")","v":"Selectionner"},{"$nulls":3},"Multicountry South Asia",{"$nulls":7},"Naira","Kobo","₦","NGN","Naira"]
[{"$nulls":9},{"$f":"'2-Programmer les activités'!F108","v":0},{"$f":"'2-Programmer les activités'!G108","v":0},{"$nulls":21},{"$f":"IF('2-Programmer les activités'!J109=\"\",\"\",'2-Programmer les activités'!J109)","v":""},"","","","","-","","","","X",null,"","","","",null,"","","","",null,"","","","",null,null,{"$f":"IF(OR('1_Lister les activités'!D104=\"\",'1_Lister les activités'!D104=0),\"\",'1_Lister les activités'!D104)","v":""},{"$f":"IFERROR(IF($BH$3=\"\",\"\",'1_Lister les activités'!A105),\"\")","v":""},null,"",{"$f":"IFERROR(IF($BH$3=\"\",\"\",'1_Lister les activités'!B105),\"\")","v":0},0,"",{"$f":"IFERROR(IF($BH$3=\"\",\"\",'1_Lister les activités'!C105),\"\")","v":"Selectionner"},{"$nulls":3},"Multicountry Western Pacific",{"$nulls":7},"Nakfa","Cent","Nfk","ERN","Nakfa"]
[{"$nulls":9},{"$f":"'2-Programmer les activités'!F109","v":0},{"$f":"'2-Programmer les activités'!G109","v":0},{"$nulls":21},{"$f":"IF('2-Programmer les activités'!J110=\"\",\"\",'2-Programmer les activités'!J110)","v":""},"","","","","-","","","","X",null,"","","","",null,"","","","",null,"","","","",null,null,{"$f":"IF(OR('1_Lister les activités'!D105=\"\",'1_Lister les activités'!D105=0),\"\",'1_Lister les activités'!D105)","v":""},{"$f":"IFERROR(IF($BH$3=\"\",\"\",'1_Lister les activités'!A106),\"\")","v":""},null,"",{"$f":"IFERROR(IF($BH$3=\"\",\"\",'1_Lister les activités'!B106),\"\")","v":0},0,"",{"$f":"IFERROR(IF($BH$3=\"\",\"\",'1_Lister les activités'!C106),\"\")","v":"Selectionner"},{"$nulls":3},"Myanmar",{"$nulls":7},"Namibia Dollar","Cent","$","NAD","Namibia Dollar"]
[{"$nulls":9},{"$f":"'2-Programmer les activités'!F110","v":0},{"$f":"'2-Programmer les activités'!G110","v":0},{"$nulls":21},{"$f":"IF('2-Programmer les activités'!J111=\"\",\"\",'2-Programmer les activités'!J111)","v":""},"","","","","-","","","","X",null,"","","","",null,"","","","",null,"","","","",null,null,{"$f":"IF(OR('1_Lister les activités'!D106=\"\",'1_Lister les activités'!D106=0),\"\",'1_Lister les activités'!D106)","v":""},{"$f":"IFERROR(IF($BH$3=\"\",\"\",'1_Lister les activités'!A107),\"\")","v":""},null,"",{"$f":"IFERROR(IF($BH$3=\"\",\"\",'1_Lister les activités'!B107),\"\")","v":0},0,"",{"$f":"IFERROR(IF($BH$3=\"\",\"\",'1_Lister les activités'!C107),\"\")","v":"Selectionner"},{"$nulls":3},"Namibia",{"$nulls":7},"Nepalese Rupee","Paisa","₨","NPR","Nepalese Rupee"]
[{"$nulls":9},{"$f":"'2-Programmer les activités'!F111","v":0},{"$f":"'2-Programmer les activités'!G111","v":0},{"$nulls":21},{"$f":"IF('2-Programmer les activités'!J112=\"\",\"\",'2-Programmer les activités'!J112)","v":""},"","","","","-","","","","X",null,"","","","",null,"","","","",null,"","","","",null,null,{"$f":"IF(OR('1_Lister les activités'!D107=\"\",'1_Lister les activités'!D107=0),\"\",'1_Lister les activités'!D107)","v":""},{"$f":"IFERROR(IF($BH$3=\"\",\"\",'1_Lister les activités'!A108),\"\")","v":""},null,"",{"$f":"IFERROR(IF($BH$3=\"\",\"\",'1_Lister les activités'!B108),\"\")","v":0},0,"",{"$f":"IFERROR(IF($BH$3=\"\",\"\",'1_Lister les activités'!C108),\"\")","v":"Selectionner"},{"$nulls":3},"Nepal",{"$nulls":7},"Netherlands Antillean Guilder","Cent","ƒ","ANG","Netherlands Antillean Guilder"]
[{"$nulls":9},{"$f":"'2-Programmer les activités'!F112","v":0},{"$f":"'2-Programmer les activités'!G112","v":0},{"$nulls":21},{"$f":"IF('2-Programmer les activités'!J113=\"\",\"\",'2-Programmer les activités'!J113)","v":""},"","","","","-","","","","X",null,"","","","",null,"","","","",null,"","","","",null,null,{"$f":"IF(OR('1_Lister les activités'!D108=\"\",'1_Lister les activités'!D108=0),\"\",'1_Lister les activités'!D108)","v":""},{"$f":"IFERROR(IF($BH$3=\"\",\"\",'1_Lister les activités'!A109),\"\")","v":""},null,"",{"$f":"IFERROR(IF($BH$3=\"\",\"\",'1_Lister les activités'!B109),\"\")","v":0},0,"",{"$f":"IFERROR(IF($BH$3=\"\",\"\",'1_Lister les activités'!C109),\"\")","v":"Selectionner"},{"$nulls":3},"Nicaragua",{"$nulls":7},"New Israeli Sheqel","Agora","₪","ILS","New Israeli Sheqel"]
[{"$nulls":9},{"$f":"'2-Programmer les activités'!F113","v":0},{"$f":"'2-Programmer les activités'!G113","v":0},{"$nulls":21},{"$f":"IF('2-Programmer les activités'!J114=\"\",\"\",'2-Programmer les activités'!J114)","v":""},"","","","","-","","","","X",null,"","","","",null,"","","","",null,"","","","",null,null,{"$f":"IF(OR('1_Lister les activités'!D109=\"\",'1_Lister les activités'!D109=0),\"\",'1_Lister les activités'!D109)","v":""},{"$f":"IFERROR(IF($BH$3=\"\",\"\",'1_Lister les activités'!A110),\"\")","v":""},null,"",{"$f":"IFERROR(IF($BH$3=\"\",\"\",'1_Lister les activités'!B110),\"\")","v":0},0,"",{"$f":"IFERROR(IF($BH$3=\"\",\"\",'1_Lister les activités'!C110),\"\")","v":"Selectionner"},{"$nulls":3},"Niger",{"$nulls":7},"New Romanian Leu","Ban","L","RON","New Romanian Leu"]
[{"$nulls":9},{"$f":"'2-Programmer les activités'!F114","v":0},{"$f":"'2-Programmer les activités'!G114","v":0},{"$nulls":21},{"$f":"IF('2-Programmer les activités'!J115=\"\",\"\",'2-Programmer les activités'!J115)","v":""},"","","","","-","","","","X",null,"","","","",null,"","","","",null,"","","","",null,null,{"$f":"IF(OR('1_Lister les activités'!D110=\"\",'1_Lister les activités'!D110=0),\"\",'1_Lister les activités'!D110)","v":""},{"$f":"IFERROR(IF($BH$3=\"\",\"\",'1_Lister les activités'!A111),\"\")","v":""},null,"",{"$f":"IFERROR(IF($BH$3=\"\",\"\",'1_Lister les activités'!B111),\"\")","v":0},0,"",{"$f":"IFERROR(IF($BH$3=\"\",\"\",'1_Lister les activités'!C111),\"\")","v":"Selectionner"},{"$nulls":3},"Nigeria",{"$nulls":7},"New Taiwan Dollar","Cent","$","TWD","New Taiwan Dollar"]
[1,"janv",{"$f":"MONTH(D110)","v":1},"2016-01-01",{"$nulls":5},{"$f":"'2-Programmer les activités'!F115","v":0},{"$f":"'2-Programmer les activités'!G115","v":0},{"$nulls":21},{"$f":"IF('2-Programmer les activités'!J116=\"\",\"\",'2-Programmer les activités'!J116)","v":""},{"$f":"IF(AG110=\"\",\"\",MONTH(AG110))","v":""},"",{"$f":"IF(AG110=\"\",\"\",DAY(AG110))","v":""},{"$f":"IFERROR(YEAR(AG110),\"\")","v":""},{"$f":"IFERROR(CONCATENATE(AI110,\"-\",AK110),\"\")","v":"-"},{"$f":"IF(AJ110<8,\"X\",\"\")","v":""},{"$f":"IF(AND(AJ110>7,AND(AJ110<15)),\"X\",\"\")","v":""},{"$f":"IF(AND(AJ110>14,AND(AJ110<22)),\"X\",\"\")","v":""},{"$f":"IF(AJ110>21,\"X\",\"\")","v":"X"},null,{"$f":"IF(AL110=$AR$4,AM110,\"\")","v":""},{"$f":"IF(AL110=$AR$4,AN110,\"\")","v":""},{"$f":"IF(AL110=$AR$4,AO110,\"\")","v":""},{"$f":"IF(AL110=$AR$4,AP110,\"\")","v":""},null,{"$f":"IF(AL110=$AW$4,AM110,\"\")","v":""},{"$f":"IF(AL110=$AW$4,AN110,\"\")","v":""},{"$f":"IF(AL110=$AW$4,AO110,\"\")","v":""},{"$f":"IF(AL110=$AW$4,AP110,\"\")","v":""},null,{"$f":"IF(AL110=$BB$4,AM110,\"\")","v":""},{"$f":"IF(AL110=$BB$4,AN110,\"\")","v":""},{"$f":"IF(AL110=$BB$4,AO110,\"\")","v":""},{"$f":"IF(AL110=$BB$4,AP110,\"\")","v":""},null,null,{"$f":"IF(OR('1_Lister les activités'!D111=\"\",'1_Lister les activités'!D111=0),\"\",'1_Lister les activités'!D111)","v":""},{"$f":"IFERROR(IF($BH$3=\"\",\"\",'1_Lister les activités'!A112),\"\")","v":""},null,"",{"$f":"IFERROR(IF($BH$3=\"\",\"\",'1_Lister les activités'!B112),\"\")","v":0},0,"",{"$f":"IFERROR(IF($BH$3=\"\",\"\",'1_Lister les activités'!C112),\"\")","v":"Selectionner"},{"$nulls":3},"Pakistan",{"$nulls":7},"New Zealand Dollar","Cent","$","NZD","New Zealand Dollar"]
[2,"févr",null,"2016-02-01",{"$nulls":5},{"$f":"'2-Programmer les activités'!F116","v":0},{"$f":"'2-Programmer les activités'!G116","v":0},{"$nulls":21},{"$f":"IF('2-Programmer les activités'!J117=\"\",\"\",'2-Programmer les activités'!J117)","v":""},"","","","","-","","","","X",null,"","","","",null,"","","","",null,"","","","",null,null,{"$f":"IF(OR('1_Lister les activités'!D112=\"\",'1_Lister les activités'!D112=0),\"\",'1_Lister les activités'!D112)","v":""},{"$f":"IFERROR(IF($BH$3=\"\",\"\",'1_Lister les activités'!A113),\"\")","v":""},null,"",{"$f":"IFERROR(IF($BH$3=\"\",\"\",'1_Lister les activités'!B113),\"\")","v":0},0,"",{"$f":"IFERROR(IF($BH$3=\"\",\"\",'1_Lister les activités'!C113),\"\")","v":"Selectionner"},{"$nulls":3},"Palestine",{"$nulls":7},"Ngultrum","Chetrum","Nu.","BTN","Ngultrum"]
[3,"mars",null,"2016-03-01",{"$nulls":5},{"$f":"'2-Programmer les activités'!F117","v":0},{"$f":"'2-Programmer les activités'!G117","v":0},{"$nulls":21},{"$f":"IF('2-Programmer les activités'!J118=\"\",\"\",'2-Programmer les activités'!J118)","v":""},"","","","","-","","","","X",null,"","","","",null,"","","","",null,"","","","",null,null,{"$f":"IF(OR('1_Lister les activités'!D113=\"\",'1_Lister les activités'!D113=0),\"\",'1_Lister les activités'!D113)","v":""},{"$f":"IFERROR(IF($BH$3=\"\",\"\",'1_Lister les activités'!A114),\"\")","v":""},null,"",{"$f":"IFERROR(IF($BH$3=\"\",\"\",'1_Lister les activités'!B114),\"\")","v":0},0,"",{"$f":"IFERROR(IF($BH$3=\"\",\"\",'1_Lister les activités'!C114),\"\")","v":"Selectionner"},{"$nulls":3},"Panama",{"$nulls":7},"North Korean Won","Chon","₩","KPW","North Korean Won"]
[4,"avr",null,"2016-04-01",{"$nulls":5},{"$f":"'2-Programmer les activités'!F118","v":0},{"$f":"'2-Programmer les activités'!G118","v":0},{"$nulls":21},{"$f":"IF('2-Programmer les activités'!J119=\"\",\"\",'2-Programmer les activités'!J119)","v":""},"","","","","-","","","","X",null,"","","","",null,"","","","",null,"","","","",null,null,{"$f":"IF(OR('1_Lister les activités'!D114=\"\",'1_Lister les activités'!D114=0),\"\",'1_Lister les activités'!D114)","v":""},{"$f":"IFERROR(IF($BH$3=\"\",\"\",'1_Lister les activités'!A115),\"\")","v":""},null,"",{"$f":"IFERROR(IF($BH$3=\"\",\"\",'1_Lister les activités'!B115),\"\")","v":0},0,"",{"$f":"IFERROR(IF($BH$3=\"\",\"\",'1_Lister les activités'!C115),\"\")","v":"Selectionner"},{"$nulls":3},"Papua New Guinea",{"$nulls":7},"Norwegian Krone","Øre","kr","NOK","Norwegian Krone"]
[5,"mai",{"$nulls":7},{"$f":"'2-Programmer les activités'!F119","v":0},{"$f":"'2-Programmer les activités'!G119","v":0},{"$nulls":21},{"$f":"IF('2-Programmer les activités'!J120=\"\",\"\",'2-Programmer les activités'!J120)","v":""},"","","","","-","","","","X",null,"","","","",null,"","","","",null,"","","","",null,null,{"$f":"IF(OR('1_Lister les activités'!D115=\"\",'1_Lister les activités'!D115=0),\"\",'1_Lister les activités'!D115)","v":""},{"$f":"IFERROR(IF($BH$3=\"\",\"\",'1_Lister les activités'!A116),\"\")","v":""},null,"",{"$f":"IFERROR(IF($BH$3=\"\",\"\",'1_Lister les activités'!B116),\"\")","v":0},0,"",{"$f":"IFERROR(IF($BH$3=\"\",\"\",'1_Lister les activités'!C116),\"\")","v":"Selectionner"},{"$nulls":3},"Peru",{"$nulls":7},"Nuevo Sol","Céntimo","S/.","PEN","Nuevo Sol"]
[6,"juin",{"$nulls":7},{"$f":"'2-Programmer les activités'!F120","v":0},{"$f":"'2-Programmer les activités'!G120","v":0},{"$nulls":21},{"$f":"IF('2-Programmer les activités'!J121=\"\",\"\",'2-Programmer les activités'!J121)","v":""},"","","","","-","","","","X",null,"","","","",null,"","","","",null,"","","","",null,null,{"$f":"IF(OR('1_Lister les activités'!D116=\"\",'1_Lister les activités'!D116=0),\"\",'1_Lister les activités'!D116)","v":""},{"$f":"IFERROR(IF($BH$3=\"\",\"\",'1_Lister les activités'!A117),\"\")","v":""},null,"",{"$f":"IFERROR(IF($BH$3=\"\",\"\",'1_Lister les activités'!B117),\"\")","v":0},0,"",{"$f":"IFERROR(IF($BH$3=\"\",\"\",'1_Lister les activités'!C117),\"\")","v":"Selectionner"},{"$nulls":3},"Philippines",{"$nulls":7},"Ouguiya","Khoums","UM","MRO","Ouguiya"]
[7,"juil",{"$nulls":7},{"$f":"'2-Programmer les activités'!F121","v":0},{"$f":"'2-Programmer les activités'!G121","v":0},{"$nulls":21},{"$f":"IF('2-Programmer les activités'!J122=\"\",\"\",'2-Programmer les activités'!J122)","v":""},"","","","","-","","","","X",null,"","","","",null,"","","","",null,"","","","",null,null,{"$f":"IF(OR('1_Lister les activités'!D117=\"\",'1_Lister les activités'!D117=0),\"\",'1_Lister les activités'!D117)","v":""},{"$f":"IFERROR(IF($BH$3=\"\",\"\",'1_Lister les activités'!A118),\"\")","v":""},null,"",{"$f":"IFERROR(IF($BH$3=\"\",\"\",'1_Lister les activités'!B118),\"\")","v":0},0,"",{"$f":"IFERROR(IF($BH$3=\"\",\"\",'1_Lister les activités'!C118),\"\")","v":"Selectionner"},{"$nulls":3},"Romania",{"$nulls":7},"Pakistan Rupee","Paisa","₨","PKR","Pakistan Rupee"]
[8,"août",{"$nulls":7},{"$f":"'2-Programmer les activités'!F122","v":0},{"$f":"'2-Programmer les activités'!G122","v":0},{"$nulls":21},{"$f":"IF('2-Programmer les activités'!J123=\"\",\"\",'2-Programmer les activités'!J123)","v":""},"","","","","-","","","","X",null,"","","","",null,"","","","",null,"","","","",null,null,{"$f":"IF(OR('1_Lister les activités'!D118=\"\",'1_Lister les activités'!D118=0),\"\",'1_Lister les activités'!D118)","v":""},{"$f":"IFERROR(IF($BH$3=\"\",\"\",'1_Lister les activités'!A119),\"\")","v":""},null,"",{"$f":"IFERROR(IF($BH$3=\"\",\"\",'1_Lister les activités'!B119),\"\")","v":0},0,"",{"$f":"IFERROR(IF($BH$3=\"\",\"\",'1_Lister les activités'!C119),\"\")","v":"Selectionner"},{"$nulls":3},"Russian Federation",{"$nulls":7},"Palladium","-","-","XPD","Palladium"]
[9,"sept",{"$nulls":7},{"$f":"'2-Programmer les activités'!F123","v":0},{"$f":"'2-Programmer les activités'!G123","v":0},{"$nulls":21},{"$f":"IF('2-Programmer les activités'!J124=\"\",\"\",'2-Programmer les activités'!J124)","v":""},"","","","","-","","","","X",null,"","","","",null,"","","","",null,"","","","",null,null,{"$f":"IF(OR('1_Lister les activités'!D119=\"\",'1_Lister les activités'!D119=0),\"\",'1_Lister les activités'!D119)","v":""},{"$f":"IFERROR(IF($BH$3=\"\",\"\",'1_Lister les activités'!A120),\"\")","v":""},null,"",{"$f":"IFERROR(IF($BH$3=\"\",\"\",'1_Lister les activités'!B120),\"\")","v":0},0,"",{"$f":"IFERROR(IF($BH$3=\"\",\"\",'1_Lister les activités'!C120),\"\")","v":"Selectionner"},{"$nulls":3},"Rwanda",{"$nulls":7},"Pataca","Avo","P","MOP","Pataca"]
[10,"oct",{"$nulls":7},{"$f":"'2-Programmer les activités'!F124","v":0},{"$f":"'2-Programmer les activités'!G124","v":0},{"$nulls":21},{"$f":"IF('2-Programmer les activités'!J125=\"\",\"\",'2-Programmer les activités'!J125)","v":""},"","","","","-","","","","X",null,"","","","",null,"","","","",null,"","","","",null,null,{"$f":"IF(OR('1_Lister les activités'!D120=\"\",'1_Lister les activités'!D120=0),\"\",'1_Lister les activités'!D120)","v":""},{"$f":"IFERROR(IF($BH$3=\"\",\"\",'1_Lister les activités'!A121),\"\")","v":""},null,"",{"$f":"IFERROR(IF($BH$3=\"\",\"\",'1_Lister les activités'!B121),\"\")","v":0},0,"",{"$f":"IFERROR(IF($BH$3=\"\",\"\",'1_Lister les activités'!C121),\"\")","v":"Selectionner"},{"$nulls":3},"Sao Tome and Principe",{"$nulls":7},"Pa’anga","Seniti","T$","TOP","Pa’anga"]
[11,"nov",{"$nulls":7},{"$f":"'2-Programmer les activités'!F125","v":0},{"$f":"'2-Programmer les activités'!G125","v":0},{"$nulls":21},{"$f":"IF('2-Programmer les activités'!J126=\"\",\"\",'2-Programmer les activités'!J126)","v":""},"","","","","-","","","","X",null,"","","","",null,"","","","",null,"","","","",null,null,{"$f":"IF(OR('1_Lister les activités'!D121=\"\",'1_Lister les activités'!D121=0),\"\",'1_Lister les activités'!D121)","v":""},{"$f":"IFERROR(IF($BH$3=\"\",\"\",'1_Lister les activités'!A122),\"\")","v":""},null,"",{"$f":"IFERROR(IF($BH$3=\"\",\"\",'1_Lister les activités'!B122),\"\")","v":0},0,"",{"$f":"IFERROR(IF($BH$3=\"\",\"\",'1_Lister les activités'!C122),\"\")","v":"Selectionner"},{"$nulls":3},"Senegal",{"$nulls":7},"Peso Convertible","Centavo","$","CUC","Peso Convertible"]
[12,"déc",{"$nulls":7},{"$f":"'2-Programmer les activités'!F126","v":0},{"$f":"'2-Programmer les activités'!G126","v":0},{"$nulls":21},{"$f":"IF('2-Programmer les activités'!J127=\"\",\"\",'2-Programmer les activités'!J127)","v":""},"","","","","-","","","","X",null,"","","","",null,"","","","",null,"","","","",null,null,{"$f":"IF(OR('1_Lister les activités'!D122=\"\",'1_Lister les activités'!D122=0),\"\",'1_Lister les activités'!D122)","v":""},{"$f":"IFERROR(IF($BH$3=\"\",\"\",'1_Lister les activités'!A123),\"\")","v":""},null,"",{"$f":"IFERROR(IF($BH$3=\"\",\"\",'1_Lister les activités'!B123),\"\")","v":0},0,"",{"$f":"IFERROR(IF($BH$3=\"\",\"\",'1_Lister les activités'!C123),\"\")","v":"Selectionner"},{"$nulls":3},"Serbia",{"$nulls":7},"Peso Uruguayo","Centésimo","$","UYU","Peso Uruguayo"]
[{"$nulls":9},{"$f":"'2-Programmer les activités'!F127","v":0},{"$f":"'2-Programmer les activités'!G127","v":0},{"$nulls":21},{"$f":"IF('2-Programmer les activités'!J128=\"\",\"\",'2-Programmer les activités'!J128)","v":""},"","","","","-","","","","X",null,"","","","",null,"","","","",null,"","","","",null,null,{"$f":"IF(OR('1_Lister les activités'!D123=\"\",'1_Lister les activités'!D123=0),\"\",'1_Lister les activités'!D123)","v":""},{"$f":"IFERROR(IF($BH$3=\"\",\"\",'1_Lister les activités'!A124),\"\")","v":""},null,"",{"$f":"IFERROR(IF($BH$3=\"\",\"\",'1_Lister les activités'!B124),\"\")","v":0},0,"",{"$f":"IFERROR(IF($BH$3=\"\",\"\",'1_Lister les activités'!C124),\"\")","v":"Selectionner"},{"$nulls":3},"Sierra Leone",{"$nulls":7},"Philippine Peso","Centavo","₱","PHP","Philippine Peso"]
[{"$nulls":9},{"$f":"'2-Programmer les activités'!F128","v":0},{"$f":"'2-Programmer les activités'!G128","v":0},{"$nulls":21},{"$f":"IF('2-Programmer les activités'!J129=\"\",\"\",'2-Programmer les activités'!J129)","v":""},"","","","","-","","","","X",null,"","","","",null,"","","","",null,"","","","",null,null,{"$f":"IF(OR('1_Lister les activités'!D124=\"\",'1_Lister les activités'!D124=0),\"\",'1_Lister les activités'!D124)","v":""},{"$f":"IFERROR(IF($BH$3=\"\",\"\",'1_Lister les activités'!A125),\"\")","v":""},null,"",{"$f":"IFERROR(IF($BH$3=\"\",\"\",'1_Lister les activités'!B125),\"\")","v":0},0,"",{"$f":"IFERROR(IF($BH$3=\"\",\"\",'1_Lister les activités'!C125),\"\")","v":"Selectionner"},{"$nulls":3},"Solomon Islands",{"$nulls":7},"Platinum","-","-","XPT","Platinum"]
[{"$nulls":9},{"$f":"'2-Programmer les activités'!F129","v":0},{"$f":"'2-Programmer les activités'!G129","v":0},{"$nulls":21},{"$f":"IF('2-Programmer les activités'!J130=\"\",\"\",'2-Programmer les activités'!J130)","v":""},"","","","","-","","","","X",null,"","","","",null,"","","","",null,"","","","",null,null,{"$f":"IF(OR('1_Lister les activités'!D125=\"\",'1_Lister les activités'!D125=0),\"\",'1_Lister les activités'!D125)","v":""},{"$f":"IFERROR(IF($BH$3=\"\",\"\",'1_Lister les activités'!A126),\"\")","v":""},null,"",{"$f":"IFERROR(IF($BH$3=\"\",\"\",'1_Lister les activités'!B126),\"\")","v":0},0,"",{"$f":"IFERROR(IF($BH$3=\"\",\"\",'1_Lister les activités'!C126),\"\")","v":"Selectionner"},{"$nulls":3},"South Africa",{"$nulls":7},"Pound Sterling","Penny","£","GBP","Pound Sterling"]
[{"$nulls":9},{"$f":"'2-Programmer les activités'!F130","v":0},{"$f":"'2-Programmer les activités'!G130","v":0},{"$nulls":21},{"$f":"IF('2-Programmer les activités'!J131=\"\",\"\",'2-Programmer les activités'!J131)","v":""},"","","","","-","","","","X",null,"","","","",null,"","","","",null,"","","","",null,null,{"$f":"IF(OR('1_Lister les activités'!D126=\"\",'1_Lister les activités'!D126=0),\"\",'1_Lister les activités'!D126)","v":""},{"$f":"IFERROR(IF($BH$3=\"\",\"\",'1_Lister les activités'!A127),\"\")","v":""},null,"",{"$f":"IFERROR(IF($BH$3=\"\",\"\",'1_Lister les activités'!B127),\"\")","v":0},0,"",{"$f":"IFERROR(IF($BH$3=\"\",\"\",'1_Lister les activités'!C127),\"\")","v":"Selectionner"},{"$nulls":3},"South Sudan",{"$nulls":7},"Pula","Thebe","P","BWP","Pula"]
[{"$nulls":9},{"$f":"'2-Programmer les activités'!F131","v":0},{"$f":"'2-Programmer les activités'!G131","v":0},{"$nulls":21},{"$f":"IF('2-Programmer les activités'!J132=\"\",\"\",'2-Programmer les activités'!J132)","v":""},"","","","","-","","","","X",null,"","","","",null,"","","","",null,"","","","",null,null,{"$f":"IF(OR('1_Lister les activités'!D127=\"\",'1_Lister les activités'!D127=0),\"\",'1_Lister les activités'!D127)","v":""},{"$f":"IFERROR(IF($BH$3=\"\",\"\",'1_Lister les activités'!A128),\"\")","v":""},null,"",{"$f":"IFERROR(IF($BH$3=\"\",\"\",'1_Lister les activités'!B128),\"\")","v":0},0,"",{"$f":"IFERROR(IF($BH$3=\"\",\"\",'1_Lister les activités'!C128),\"\")","v":"Selectionner"},{"$nulls":3},"Sri Lanka",{"$nulls":7},"Qatari Rial","Dirham","ر.ق","QAR","Qatari Rial"]
[{"$nulls":9},{"$f":"'2-Programmer les activités'!F132","v":0},{"$f":"'2-Programmer les activités'!G132","v":0},{"$nulls":21},{"$f":"IF('2-Programmer les activités'!J133=\"\",\"\",'2-Programmer les activités'!J133)","v":""},"","","","","-","","","","X",null,"","","","",null,"","","","",null,"","","","",null,null,{"$f":"IF(OR('1_Lister les activités'!D128=\"\",'1_Lister les activités'!D128=0),\"\",'1_Lister les activités'!D128)","v":""},{"$f":"IFERROR(IF($BH$3=\"\",\"\",'1_Lister les activités'!A129),\"\")","v":""},null,"",{"$f":"IFERROR(IF($BH$3=\"\",\"\",'1_Lister les activités'!B129),\"\")","v":0},0,"",{"$f":"IFERROR(IF($BH$3=\"\",\"\",'1_Lister les activités'!C129),\"\")","v":"Selectionner"},{"$nulls":3},"Sudan",{"$nulls":7},"Quetzal","Centavo","Q","GTQ","Quetzal"]
[{"$nulls":9},{"$f":"'2-Programmer les activités'!F133","v":0},{"$f":"'2-Programmer les activités'!G133","v":0},{"$nulls":21},{"$f":"IF('2-Programmer les activités'!J134=\"\",\"\",'2-Programmer les activités'!J134)","v":""},"","","","","-","","","","X",null,"","","","",null,"","","","",null,"","","","",null,null,{"$f":"IF(OR('1_Lister les activités'!D129=\"\",'1_Lister les activités'!D129=0),\"\",'1_Lister les activités'!D129)","v":""},{"$f":"IFERROR(IF($BH$3=\"\",\"\",'1_Lister les activités'!A130),\"\")","v":""},null,"",{"$f":"IFERROR(IF($BH$3=\"\",\"\",'1_Lister les activités'!B130),\"\")","v":0},0,"",{"$f":"IFERROR(IF($BH$3=\"\",\"\",'1_Lister les activités'!C130),\"\")","v":"Selectionner"},{"$nulls":3},"Suriname",{"$nulls":7},"Rand","Cent","R","ZAR","Rand"]
[{"$nulls":9},{"$f":"'2-Programmer les activités'!F134","v":0},{"$f":"'2-Programmer les activités'!G134","v":0},{"$nulls":21},{"$f":"IF('2-Programmer les activités'!J135=\"\",\"\",'2-Programmer les activités'!J135)","v":""},"","","","","-","","","","X",null,"","","","",null,"","","","",null,"","","","",null,null,{"$f":"IF(OR('1_Lister les activités'!D130=\"\",'1_Lister les activités'!D130=0),\"\",'1_Lister les activités'!D130)","v":""},{"$f":"IFERROR(IF($BH$3=\"\",\"\",'1_Lister les activités'!A131),\"\")","v":""},null,"",{"$f":"IFERROR(IF($BH$3=\"\",\"\",'1_Lister les activités'!B131),\"\")","v":0},0,"",{"$f":"IFERROR(IF($BH$3=\"\",\"\",'1_Lister les activités'!C131),\"\")","v":"Selectionner"},{"$nulls":3},"Swaziland",{"$nulls":7},"Rial Omani","Baisa","ر.ع.","OMR","Rial Omani"]
[{"$nulls":9},{"$f":"'2-Programmer les activités'!F135","v":0},{"$f":"'2-Programmer les activités'!G135","v":0},{"$nulls":21},{"$f":"IF('2-Programmer les activités'!J136=\"\",\"\",'2-Programmer les activités'!J136)","v":""},"","","","","-","","","","X",null,"","","","",null,"","","","",null,"","","","",null,null,{"$f":"IF(OR('1_Lister les activités'!D131=\"\",'1_Lister les activités'!D131=0),\"\",'1_Lister les activités'!D131)","v":""},{"$f":"IFERROR(IF($BH$3=\"\",\"\",'1_Lister les activités'!A132),\"\")","v":""},null,"",{"$f":"IFERROR(IF($BH$3=\"\",\"\",'1_Lister les activités'!B132),\"\")","v":0},0,"",{"$f":"IFERROR(IF($BH$3=\"\",\"\",'1_Lister les activités'!C132),\"\")","v":"Selectionner"},{"$nulls":3},"Switzerland",{"$nulls":7},"Riel","Sen","៛","KHR","Riel"]
[{"$nulls":9},{"$f":"'2-Programmer les activités'!F136","v":0},{"$f":"'2-Programmer les activités'!G136","v":0},{"$nulls":21},{"$f":"IF('2-Programmer les activités'!J137=\"\",\"\",'2-Programmer les activités'!J137)","v":""},"","","","","-","","","","X",null,"","","","",null,"","","","",null,"","","","",null,null,{"$f":"IF(OR('1_Lister les activités'!D132=\"\",'1_Lister les activités'!D132=0),\"\",'1_Lister les activités'!D132)","v":""},{"$f":"IFERROR(IF($BH$3=\"\",\"\",'1_Lister les activités'!A133),\"\")","v":""},null,"",{"$f":"IFERROR(IF($BH$3=\"\",\"\",'1_Lister les activités'!B133),\"\")","v":0},0,"",{"$f":"IFERROR(IF($BH$3=\"\",\"\",'1_Lister les activités'!C133),\"\")","v":"Selectionner"},{"$nulls":3},"Syrian Arab Republic",{"$nulls":7},"Rufiyaa","Laari",".ރ","MVR","Rufiyaa"]
[{"$nulls":9},{"$f":"'2-Programmer les activités'!F137","v":0},{"$f":"'2-Programmer les activités'!G137","v":0},{"$nulls":21},{"$f":"IF('2-Programmer les activités'!J138=\"\",\"\",'2-Programmer les activités'!J138)","v":""},"","","","","-","","","","X",null,"","","","",null,"","","","",null,"","","","",null,null,{"$f":"IF(OR('1_Lister les activités'!D133=\"\",'1_Lister les activités'!D133=0),\"\",'1_Lister les activités'!D133)","v":""},{"$f":"IFERROR(IF($BH$3=\"\",\"\",'1_Lister les activités'!A134),\"\")","v":""},null,"",{"$f":"IFERROR(IF($BH$3=\"\",\"\",'1_Lister les activités'!B134),\"\")","v":0},0,"",{"$f":"IFERROR(IF($BH$3=\"\",\"\",'1_Lister les activités'!C134),\"\")","v":"Selectionner"},{"$nulls":3},"Tajikistan",{"$nulls":7},"Rupiah","Sen","Rp","IDR","Rupiah"]
[{"$nulls":9},{"$f":"'2-Programmer les activités'!F138","v":0},{"$f":"'2-Programmer les activités'!G138","v":0},{"$nulls":21},{"$f":"IF('2-Programmer les activités'!J139=\"\",\"\",'2-Programmer les activités'!J139)","v":""},"","","","","-","","","","X",null,"","","","",null,"","","","",null,"","","","",null,null,{"$f":"IF(OR('1_Lister les activités'!D134=\"\",'1_Lister les activités'!D134=0),\"\",'1_Lister les activités'!D134)","v":""},{"$f":"IFERROR(IF($BH$3=\"\",\"\",'1_Lister les activités'!A135),\"\")","v":""},null,{"$f":"IFERROR(BH134,\"\")","v":""},{"$f":"IFERROR(IF($BH$3=\"\",\"\",'1_Lister les activités'!B135),\"\")","v":0},0,"",{"$f":"IFERROR(IF($BH$3=\"\",\"\",'1_Lister les activités'!C135),\"\")","v":"Selectionner"},{"$nulls":3},"Tanzania (United Republic)",{"$nulls":7},"Russian Ruble","Kopek","р.","RUB",{"$f":"CA133","v":"Russian Ruble"}]
[{"$nulls":9},{"$f":"'2-Programmer les activités'!F139","v":0},{"$f":"'2-Programmer les activités'!G139","v":0},{"$nulls":21},{"$f":"IF('2-Programmer les activités'!J140=\"\",\"\",'2-Programmer les activités'!J140)","v":""},"",{"$f":"IFERROR(VLOOKUP(AH134,$A$110:$B$121,2,FALSE),\"\")","v":""},"","","-","","","","X",null,"","","","",null,"","","","",null,"","","","",null,null,{"$f":"IF(OR('1_Lister les activités'!D135=\"\",'1_Lister les activités'!D135=0),\"\",'1_Lister les activités'!D135)","v":""},{"$f":"IFERROR(IF($BH$3=\"\",\"\",'1_Lister les activités'!A136),\"\")","v":""},null,"",{"$f":"IFERROR(IF($BH$3=\"\",\"\",'1_Lister les activités'!B136),\"\")","v":0},{"$f":"IFERROR(BL134,\"\")","v":0},{"$f":"IFERROR(BK134,\"\")","v":""},{"$f":"IFERROR(IF($BH$3=\"\",\"\",'1_Lister les activités'!C136),\"\")","v":"Selectionner"},{"$nulls":3},"Thailand",{"$nulls":7},"Rwanda Franc","Centime","Fr","RWF","Rwanda Franc"]
[{"$nulls":9},{"$f":"'2-Programmer les activités'!F140","v":0},{"$f":"'2-Programmer les activités'!G140","v":0},{"$nulls":21},{"$f":"IF('2-Programmer les activités'!J141=\"\",\"\",'2-Programmer les activités'!J141)","v":""},"","","","","-","","","","X",null,"","","","",null,"","","","",null,"","","","",null,null,{"$f":"IF(OR('1_Lister les activités'!D136=\"\",'1_Lister les activités'!D136=0),\"\",'1_Lister les activités'!D136)","v":""},{"$f":"IFERROR(IF($BH$3=\"\",\"\",'1_Lister les activités'!A137),\"\")","v":""},null,"",{"$f":"IFERROR(IF($BH$3=\"\",\"\",'1_Lister les activités'!B137),\"\")","v":0},0,"",{"$f":"IFERROR(IF($BH$3=\"\",\"\",'1_Lister les activités'!C137),\"\")","v":"Selectionner"},{"$nulls":3},"Timor-Leste",{"$nulls":7},"Saint Helena Pound","Penny","£","SHP","Saint Helena Pound"]
[{"$nulls":9},{"$f":"'2-Programmer les activités'!F141","v":0},{"$f":"'2-Programmer les activités'!G141","v":0},{"$nulls":21},{"$f":"IF('2-Programmer les activités'!J142=\"\",\"\",'2-Programmer les activités'!J142)","v":""},"","","","","-","","","","X",null,"","","","",null,"","","","",null,"","","","",null,null,{"$f":"IF(OR('1_Lister les activités'!D137=\"\",'1_Lister les activités'!D137=0),\"\",'1_Lister les activités'!D137)","v":""},{"$f":"IFERROR(IF($BH$3=\"\",\"\",'1_Lister les activités'!A138),\"\")","v":""},null,"",{"$f":"IFERROR(IF($BH$3=\"\",\"\",'1_Lister les activités'!B138),\"\")","v":0},0,"",{"$f":"IFERROR(IF($BH$3=\"\",\"\",'1_Lister les activités'!C138),\"\")","v":"Selectionner"},{"$nulls":3},"Togo",{"$nulls":7},"Saudi Riyal","Halala","ر.س","SAR","Saudi Riyal"]
[{"$nulls":9},{"$f":"'2-Programmer les activités'!F142","v":0},{"$f":"'2-Programmer les activités'!G142","v":0},{"$nulls":21},{"$f":"IF('2-Programmer les activités'!J143=\"\",\"\",'2-Programmer les activités'!J143)","v":""},"","","","","-","","","","X",null,"","","","",null,"","","","",null,"","","","",null,null,{"$f":"IF(OR('1_Lister les activités'!D138=\"\",'1_Lister les activités'!D138=0),\"\",'1_Lister les activités'!D138)","v":""},{"$f":"IFERROR(IF($BH$3=\"\",\"\",'1_Lister les activités'!A139),\"\")","v":""},null,"",{"$f":"IFERROR(IF($BH$3=\"\",\"\",'1_Lister les activités'!B139),\"\")","v":0},0,"",{"$f":"IFERROR(IF($BH$3=\"\",\"\",'1_Lister les activités'!C139),\"\")","v":"Selectionner"},{"$nulls":3},"Tunusia",{"$nulls":7},"SDR (Special Drawing Right)","-","-","XDR","SDR (Special Drawing Right)"]
[{"$nulls":9},{"$f":"'2-Programmer les activités'!F143","v":0},{"$f":"'2-Programmer les activités'!G143","v":0},{"$nulls":21},{"$f":"IF('2-Programmer les activités'!J144=\"\",\"\",'2-Programmer les activités'!J144)","v":""},"","","","","-","","","","X",null,"","","","",null,"","","","",null,"","","","",null,null,{"$f":"IF(OR('1_Lister les activités'!D139=\"\",'1_Lister les activités'!D139=0),\"\",'1_Lister les activités'!D139)","v":""},{"$f":"IFERROR(IF($BH$3=\"\",\"\",'1_Lister les activités'!A140),\"\")","v":""},null,"",{"$f":"IFERROR(IF($BH$3=\"\",\"\",'1_Lister les activités'!B140),\"\")","v":0},0,"",{"$f":"IFERROR(IF($BH$3=\"\",\"\",'1_Lister les activités'!C140),\"\")","v":"Selectionner"},{"$nulls":3},"Turkey",{"$nulls":7},"Serbian Dinar","Para","дин.","RSD","Serbian Dinar"]
[{"$nulls":9},{"$f":"'2-Programmer les activités'!F144","v":0},{"$f":"'2-Programmer les activités'!G144","v":0},{"$nulls":21},{"$f":"IF('2-Programmer les activités'!J145=\"\",\"\",'2-Programmer les activités'!J145)","v":""},"","","","","-","","","","X",null,"","","","",null,"","","","",null,"","","","",null,null,{"$f":"IF(OR('1_Lister les activités'!D140=\"\",'1_Lister les activités'!D140=0),\"\",'1_Lister les activités'!D140)","v":""},{"$f":"IFERROR(IF($BH$3=\"\",\"\",'1_Lister les activités'!A141),\"\")","v":""},null,"",{"$f":"IFERROR(IF($BH$3=\"\",\"\",'1_Lister les activités'!B141),\"\")","v":0},0,"",{"$f":"IFERROR(IF($BH$3=\"\",\"\",'1_Lister les activités'!C141),\"\")","v":"Selectionner"},{"$nulls":3},"Turkmenistan",{"$nulls":7},"Seychelles Rupee","Cent","₨","SCR","Seychelles Rupee"]
[{"$nulls":9},{"$f":"'2-Programmer les activités'!F145","v":0},{"$f":"'2-Programmer les activités'!G145","v":0},{"$nulls":21},{"$f":"IF('2-Programmer les activités'!J146=\"\",\"\",'2-Programmer les activités'!J146)","v":""},"","","","","-","","","","X",null,"","","","",null,"","","","",null,"","","","",null,null,{"$f":"IF(OR('1_Lister les activités'!D141=\"\",'1_Lister les activités'!D141=0),\"\",'1_Lister les activités'!D141)","v":""},{"$f":"IFERROR(IF($BH$3=\"\",\"\",'1_Lister les activités'!A142),\"\")","v":""},null,"",{"$f":"IFERROR(IF($BH$3=\"\",\"\",'1_Lister les activités'!B142),\"\")","v":0},0,"",{"$f":"IFERROR(IF($BH$3=\"\",\"\",'1_Lister les activités'!C142),\"\")","v":"Selectionner"},{"$nulls":3},"Uganda",{"$nulls":7},"Silver","-","-","XAG","Silver"]
[{"$nulls":9},{"$f":"'2-Programmer les activités'!F146","v":0},{"$f":"'2-Programmer les activités'!G146","v":0},{"$nulls":21},{"$f":"IF('2-Programmer les activités'!J147=\"\",\"\",'2-Programmer les activités'!J147)","v":""},"","","","","-","","","","X",null,"","","","",null,"","","","",null,"","","","",null,null,{"$f":"IF(OR('1_Lister les activités'!D142=\"\",'1_Lister les activités'!D142=0),\"\",'1_Lister les activités'!D142)","v":""},{"$f":"IFERROR(IF($BH$3=\"\",\"\",'1_Lister les activités'!A143),\"\")","v":""},null,"",{"$f":"IFERROR(IF($BH$3=\"\",\"\",'1_Lister les activités'!B143),\"\")","v":0},0,"",{"$f":"IFERROR(IF($BH$3=\"\",\"\",'1_Lister les activités'!C143),\"\")","v":"Selectionner"},{"$nulls":3},"Ukraine",{"$nulls":7},"Singapore Dollar","Cent","$","SGD","Singapore Dollar"]
[{"$nulls":9},{"$f":"'2-Programmer les activités'!F147","v":0},{"$f":"'2-Programmer les activités'!G147","v":0},{"$nulls":21},{"$f":"IF('2-Programmer les activités'!J148=\"\",\"\",'2-Programmer les activités'!J148)","v":""},"","","","","-","","","","X",null,"","","","",null,"","","","",null,"","","","",null,null,{"$f":"IF(OR('1_Lister les activités'!D143=\"\",'1_Lister les activités'!D143=0),\"\",'1_Lister les activités'!D143)","v":""},{"$f":"IFERROR(IF($BH$3=\"\",\"\",'1_Lister les activités'!A144),\"\")","v":""},null,"",{"$f":"IFERROR(IF($BH$3=\"\",\"\",'1_Lister les activités'!B144),\"\")","v":0},0,"",{"$f":"IFERROR(IF($BH$3=\"\",\"\",'1_Lister les activités'!C144),\"\")","v":"Selectionner"},{"$nulls":3},"Uruguay",{"$nulls":7},"Solomon Islands Dollar","Cent","$","SBD","Solomon Islands Dollar"]
[{"$nulls":9},{"$f":"'2-Programmer les activités'!F148","v":0},{"$f":"'2-Programmer les activités'!G148","v":0},{"$nulls":21},{"$f":"IF('2-Programmer les activités'!J149=\"\",\"\",'2-Programmer les activités'!J149)","v":""},"","","","","-","","","","X",null,"","","","",null,"","","","",null,"","","","",null,null,{"$f":"IF(OR('1_Lister les activités'!D144=\"\",'1_Lister les activités'!D144=0),\"\",'1_Lister les activités'!D144)","v":""},{"$f":"IFERROR(IF($BH$3=\"\",\"\",'1_Lister les activités'!A145),\"\")","v":""},null,"",{"$f":"IFERROR(IF($BH$3=\"\",\"\",'1_Lister les activités'!B145),\"\")","v":0},0,"",{"$f":"IFERROR(IF($BH$3=\"\",\"\",'1_Lister les activités'!C145),\"\")","v":"Selectionner"},{"$nulls":3},"Uzbekistan",{"$nulls":7},"Som","Tyiyn","-","KGS","Som"]
[{"$nulls":9},{"$f":"'2-Programmer les activités'!F149","v":0},{"$f":"'2-Programmer les activités'!G149","v":0},{"$nulls":21},{"$f":"IF('2-Programmer les activités'!J150=\"\",\"\",'2-Programmer les activités'!J150)","v":""},"","","","","-","","","","X",null,"","","","",null,"","","","",null,"","","","",null,null,{"$f":"IF(OR('1_Lister les activités'!D145=\"\",'1_Lister les activités'!D145=0),\"\",'1_Lister les activités'!D145)","v":""},{"$f":"IFERROR(IF($BH$3=\"\",\"\",'1_Lister les activités'!A146),\"\")","v":""},null,"",{"$f":"IFERROR(IF($BH$3=\"\",\"\",'1_Lister les activités'!B146),\"\")","v":0},0,"",{"$f":"IFERROR(IF($BH$3=\"\",\"\",'1_Lister les activités'!C146),\"\")","v":"Selectionner"},{"$nulls":3},"Viet Nam",{"$nulls":7},"Somali Shilling","Cent","Sh","SOS","Somali Shilling"]
[{"$nulls":9},{"$f":"'2-Programmer les activités'!F150","v":0},{"$f":"'2-Programmer les activités'!G150","v":0},{"$nulls":21},{"$f":"IF('2-Programmer les activités'!J151=\"\",\"\",'2-Programmer les activités'!J151)","v":""},"","","","","-","","","","X",null,"","","","",null,"","","","",null,"","","","",null,null,{"$f":"IF(OR('1_Lister les activités'!D146=\"\",'1_Lister les activités'!D146=0),\"\",'1_Lister les activités'!D146)","v":""},{"$f":"IFERROR(IF($BH$3=\"\",\"\",'1_Lister les activités'!A147),\"\")","v":""},null,"",{"$f":"IFERROR(IF($BH$3=\"\",\"\",'1_Lister les activités'!B147),\"\")","v":0},0,"",{"$f":"IFERROR(IF($BH$3=\"\",\"\",'1_Lister les activités'!C147),\"\")","v":"Selectionner"},{"$nulls":3},"Yemen",{"$nulls":7},"Somoni","Diram","ЅМ","TJS","Somoni"]
[{"$nulls":9},{"$f":"'2-Programmer les activités'!F151","v":0},{"$f":"'2-Programmer les activités'!G151","v":0},{"$nulls":21},{"$f":"IF('2-Programmer les activités'!J152=\"\",\"\",'2-Programmer les activités'!J152)","v":""},"","","","","-","","","","X",null,"","","","",null,"","","","",null,"","","","",null,null,{"$f":"IF(OR('1_Lister les activités'!D147=\"\",'1_Lister les activités'!D147=0),\"\",'1_Lister les activités'!D147)","v":""},{"$f":"IFERROR(IF($BH$3=\"\",\"\",'1_Lister les activités'!A148),\"\")","v":""},null,"",{"$f":"IFERROR(IF($BH$3=\"\",\"\",'1_Lister les activités'!B148),\"\")","v":0},0,"",{"$f":"IFERROR(IF($BH$3=\"\",\"\",'1_Lister les activités'!C148),\"\")","v":"Selectionner"},{"$nulls":3},"Zambia",{"$nulls":7},"South Sudanese Pound","Piastre","£","SSP","South Sudanese Pound"]
[{"$nulls":9},{"$f":"'2-Programmer les activités'!F152","v":0},{"$f":"'2-Programmer les activités'!G152","v":0},{"$nulls":21},{"$f":"IF('2-Programmer les activités'!J153=\"\",\"\",'2-Programmer les activités'!J153)","v":""},"","","","","-","","","","X",null,"","","","",null,"","","","",null,"","","","",null,null,{"$f":"IF(OR('1_Lister les activités'!D148=\"\",'1_Lister les activités'!D148=0),\"\",'1_Lister les activités'!D148)","v":""},{"$f":"IFERROR(IF($BH$3=\"\",\"\",'1_Lister les activités'!A149),\"\")","v":""},null,"",{"$f":"IFERROR(IF($BH$3=\"\",\"\",'1_Lister les activités'!B149),\"\")","v":0},0,"",{"$f":"IFERROR(IF($BH$3=\"\",\"\",'1_Lister les activités'!C149),\"\")","v":"Selectionner"},{"$nulls":3},"Zanzibar",{"$nulls":7},"Sri Lanka Rupee","Cent","Rs","LKR","Sri Lanka Rupee"]
[{"$nulls":9},{"$f":"'2-Programmer les activités'!F153","v":0},{"$f":"'2-Programmer les activités'!G153","v":0},{"$nulls":21},{"$f":"IF('2-Programmer les activités'!J154=\"\",\"\",'2-Programmer les activités'!J154)","v":""},"","","","","-","","","","X",null,"","","","",null,"","","","",null,"","","","",null,null,{"$f":"IF(OR('1_Lister les activités'!D149=\"\",'1_Lister les activités'!D149=0),\"\",'1_Lister les activités'!D149)","v":""},{"$f":"IFERROR(IF($BH$3=\"\",\"\",'1_Lister les activités'!A150),\"\")","v":""},null,"",{"$f":"IFERROR(IF($BH$3=\"\",\"\",'1_Lister les activités'!B150),\"\")","v":0},0,"",{"$f":"IFERROR(IF($BH$3=\"\",\"\",'1_Lister les activités'!C150),\"\")","v":"Selectionner"},{"$nulls":3},"Zimbabwe",{"$nulls":7},"Sucre","-","-","XSU","Sucre"]
[{"$nulls":9},{"$f":"'2-Programmer les activités'!F154","v":0},{"$f":"'2-Programmer les activités'!G154","v":0},{"$nulls":21},{"$f":"IF('2-Programmer les activités'!J155=\"\",\"\",'2-Programmer les activités'!J155)","v":""},"","","","","-","","","","X",null,"","","","",null,"","","","",null,"","","","",null,null,{"$f":"IF(OR('1_Lister les activités'!D150=\"\",'1_Lister les activités'!D150=0),\"\",'1_Lister les activités'!D150)","v":""},{"$f":"IFERROR(IF($BH$3=\"\",\"\",'1_Lister les activités'!A151),\"\")","v":""},null,"",{"$f":"IFERROR(IF($BH$3=\"\",\"\",'1_Lister les activités'!B151),\"\")","v":0},0,"",{"$f":"IFERROR(IF($BH$3=\"\",\"\",'1_Lister les activités'!C151),\"\")","v":"Selectionner"},{"$nulls":11},"Sudanese Pound","Piastre","£","SDG","Sudanese Pound"]
[{"$nulls":9},{"$f":"'2-Programmer les activités'!F155","v":0},{"$f":"'2-Programmer les activités'!G155","v":0},{"$nulls":21},{"$f":"IF('2-Programmer les activités'!J156=\"\",\"\",'2-Programmer les activités'!J156)","v":""},"","","","","-","","","","X",null,"","","","",null,"","","","",null,"","","","",null,null,{"$f":"IF(OR('1_Lister les activités'!D151=\"\",'1_Lister les activités'!D151=0),\"\",'1_Lister les activités'!D151)","v":""},{"$f":"IFERROR(IF($BH$3=\"\",\"\",'1_Lister les activités'!A152),\"\")","v":""},null,"",{"$f":"IFERROR(IF($BH$3=\"\",\"\",'1_Lister les activités'!B152),\"\")","v":0},0,"",{"$f":"IFERROR(IF($BH$3=\"\",\"\",'1_Lister les activités'!C152),\"\")","v":"Selectionner"},{"$nulls":11},"Surinam Dollar","Cent","$","SRD","Surinam Dollar"]
[{"$nulls":9},{"$f":"'2-Programmer les activités'!F156","v":0},{"$f":"'2-Programmer les activités'!G156","v":0},{"$nulls":21},{"$f":"IF('2-Programmer les activités'!J157=\"\",\"\",'2-Programmer les activités'!J157)","v":""},"","","","","-","","","","X",null,"","","","",null,"","","","",null,"","","","",null,null,{"$f":"IF(OR('1_Lister les activités'!D152=\"\",'1_Lister les activités'!D152=0),\"\",'1_Lister les activités'!D152)","v":""},{"$f":"IFERROR(IF($BH$3=\"\",\"\",'1_Lister les activités'!A153),\"\")","v":""},null,"",{"$f":"IFERROR(IF($BH$3=\"\",\"\",'1_Lister les activités'!B153),\"\")","v":0},0,"",{"$f":"IFERROR(IF($BH$3=\"\",\"\",'1_Lister les activités'!C153),\"\")","v":"Selectionner"},{"$nulls":11},"Swedish Krona","Öre","kr","SEK","Swedish Krona"]
[{"$nulls":9},{"$f":"'2-Programmer les activités'!F157","v":0},{"$f":"'2-Programmer les activités'!G157","v":0},{"$nulls":21},{"$f":"IF('2-Programmer les activités'!J158=\"\",\"\",'2-Programmer les activités'!J158)","v":""},"","","","","-","","","","X",null,"","","","",null,"","","","",null,"","","","",null,null,{"$f":"IF(OR('1_Lister les activités'!D153=\"\",'1_Lister les activités'!D153=0),\"\",'1_Lister les activités'!D153)","v":""},{"$f":"IFERROR(IF($BH$3=\"\",\"\",'1_Lister les activités'!A154),\"\")","v":""},null,"",{"$f":"IFERROR(IF($BH$3=\"\",\"\",'1_Lister les activités'!B154),\"\")","v":0},0,"",{"$f":"IFERROR(IF($BH$3=\"\",\"\",'1_Lister les activités'!C154),\"\")","v":"Selectionner"},{"$nulls":11},"Swiss Franc","Rappen","Fr","CHF","Swiss Franc"]
[{"$nulls":9},{"$f":"'2-Programmer les activités'!F158","v":0},{"$f":"'2-Programmer les activités'!G158","v":0},{"$nulls":21},{"$f":"IF('2-Programmer les activités'!J159=\"\",\"\",'2-Programmer les activités'!J159)","v":""},"","","","","-","","","","X",null,"","","","",null,"","","","",null,"","","","",null,null,{"$f":"IF(OR('1_Lister les activités'!D154=\"\",'1_Lister les activités'!D154=0),\"\",'1_Lister les activités'!D154)","v":""},{"$f":"IFERROR(IF($BH$3=\"\",\"\",'1_Lister les activités'!A155),\"\")","v":""},null,"",{"$f":"IFERROR(IF($BH$3=\"\",\"\",'1_Lister les activités'!B155),\"\")","v":0},0,"",{"$f":"IFERROR(IF($BH$3=\"\",\"\",'1_Lister les activités'!C155),\"\")","v":"Selectionner"},{"$nulls":11},"Syrian Pound","Piastre","£","SYP","Syrian Pound"]
[{"$nulls":9},{"$f":"'2-Programmer les activités'!F159","v":0},{"$f":"'2-Programmer les activités'!G159","v":0},{"$nulls":21},{"$f":"IF('2-Programmer les activités'!J160=\"\",\"\",'2-Programmer les activités'!J160)","v":""},"","","","","-","","","","X",null,"","","","",null,"","","","",null,"","","","",null,null,{"$f":"IF(OR('1_Lister les activités'!D155=\"\",'1_Lister les activités'!D155=0),\"\",'1_Lister les activités'!D155)","v":""},{"$f":"IFERROR(IF($BH$3=\"\",\"\",'1_Lister les activités'!A156),\"\")","v":""},null,"",{"$f":"IFERROR(IF($BH$3=\"\",\"\",'1_Lister les activités'!B156),\"\")","v":0},0,"",{"$f":"IFERROR(IF($BH$3=\"\",\"\",'1_Lister les activités'!C156),\"\")","v":"Selectionner"},{"$nulls":11},"Taka","Paisa","৳","BDT","Taka"]
[{"$nulls":9},{"$f":"'2-Programmer les activités'!F160","v":0},{"$f":"'2-Programmer les activités'!G160","v":0},{"$nulls":21},{"$f":"IF('2-Programmer les activités'!J161=\"\",\"\",'2-Programmer les activités'!J161)","v":""},"","","","","-","","","","X",null,"","","","",null,"","","","",null,"","","","",null,null,{"$f":"IF(OR('1_Lister les activités'!D156=\"\",'1_Lister les activités'!D156=0),\"\",'1_Lister les activités'!D156)","v":""},{"$f":"IFERROR(IF($BH$3=\"\",\"\",'1_Lister les activités'!A157),\"\")","v":""},null,"",{"$f":"IFERROR(IF($BH$3=\"\",\"\",'1_Lister les activités'!B157),\"\")","v":0},0,"",{"$f":"IFERROR(IF($BH$3=\"\",\"\",'1_Lister les activités'!C157),\"\")","v":"Selectionner"},{"$nulls":11},"Tala","Sene","T","WST","Tala"]
[{"$nulls":9},{"$f":"'2-Programmer les activités'!F161","v":0},{"$f":"'2-Programmer les activités'!G161","v":0},{"$nulls":21},{"$f":"IF('2-Programmer les activités'!J162=\"\",\"\",'2-Programmer les activités'!J162)","v":""},"","","","","-","","","","X",null,"","","","",null,"","","","",null,"","","","",null,null,{"$f":"IF(OR('1_Lister les activités'!D157=\"\",'1_Lister les activités'!D157=0),\"\",'1_Lister les activités'!D157)","v":""},{"$f":"IFERROR(IF($BH$3=\"\",\"\",'1_Lister les activités'!A158),\"\")","v":""},null,"",{"$f":"IFERROR(IF($BH$3=\"\",\"\",'1_Lister les activités'!B158),\"\")","v":0},0,"",{"$f":"IFERROR(IF($BH$3=\"\",\"\",'1_Lister les activités'!C158),\"\")","v":"Selectionner"},{"$nulls":11},"Tanzanian Shilling","Cent","Sh","TZS","Tanzanian Shilling"]
[{"$nulls":9},{"$f":"'2-Programmer les activités'!F162","v":0},{"$f":"'2-Programmer les activités'!G162","v":0},{"$nulls":21},{"$f":"IF('2-Programmer les activités'!J163=\"\",\"\",'2-Programmer les activités'!J163)","v":""},"","","","","-","","","","X",null,"","","","",null,"","","","",null,"","","","",null,null,{"$f":"IF(OR('1_Lister les activités'!D158=\"\",'1_Lister les activités'!D158=0),\"\",'1_Lister les activités'!D158)","v":""},{"$f":"IFERROR(IF($BH$3=\"\",\"\",'1_Lister les activités'!A159),\"\")","v":""},null,"",{"$f":"IFERROR(IF($BH$3=\"\",\"\",'1_Lister les activités'!B159),\"\")","v":0},0,"",{"$f":"IFERROR(IF($BH$3=\"\",\"\",'1_Lister les activités'!C159),\"\")","v":"Selectionner"},{"$nulls":11},"Tenge","Tïın","₸","KZT","Tenge"]
[{"$nulls":9},{"$f":"'2-Programmer les activités'!F163","v":0},{"$f":"'2-Programmer les activités'!G163","v":0},{"$nulls":21},{"$f":"IF('2-Programmer les activités'!J164=\"\",\"\",'2-Programmer les activités'!J164)","v":""},"","","","","-","","","","X",null,"","","","",null,"","","","",null,"","","","",null,null,{"$f":"IF(OR('1_Lister les activités'!D159=\"\",'1_Lister les activités'!D159=0),\"\",'1_Lister les activités'!D159)","v":""},{"$f":"IFERROR(IF($BH$3=\"\",\"\",'1_Lister les activités'!A160),\"\")","v":""},null,"",{"$f":"IFERROR(IF($BH$3=\"\",\"\",'1_Lister les activités'!B160),\"\")","v":0},0,"",{"$f":"IFERROR(IF($BH$3=\"\",\"\",'1_Lister les activités'!C160),\"\")","v":"Selectionner"},{"$nulls":11},"Trinidad and Tobago Dollar","Cent","$","TTD","Trinidad and Tobago Dollar"]
[{"$nulls":9},{"$f":"'2-Programmer les activités'!F164","v":0},{"$f":"'2-Programmer les activités'!G164","v":0},{"$nulls":21},{"$f":"IF('2-Programmer les activités'!J165=\"\",\"\",'2-Programmer les activités'!J165)","v":""},"","","","","-","","","","X",null,"","","","",null,"","","","",null,"","","","",null,null,{"$f":"IF(OR('1_Lister les activités'!D160=\"\",'1_Lister les activités'!D160=0),\"\",'1_Lister les activités'!D160)","v":""},{"$f":"IFERROR(IF($BH$3=\"\",\"\",'1_Lister les activités'!A161),\"\")","v":""},null,"",{"$f":"IFERROR(IF($BH$3=\"\",\"\",'1_Lister les activités'!B161),\"\")","v":0},0,"",{"$f":"IFERROR(IF($BH$3=\"\",\"\",'1_Lister les activités'!C161),\"\")","v":"Selectionner"},{"$nulls":11},"Tugrik","Möngö","₮","MNT","Tugrik"]
[{"$nulls":9},{"$f":"'2-Programmer les activités'!F165","v":0},{"$f":"'2-Programmer les activités'!G165","v":0},{"$nulls":21},{"$f":"IF('2-Programmer les activités'!J166=\"\",\"\",'2-Programmer les activités'!J166)","v":""},"","","","","-","","","","X",null,"","","","",null,"","","","",null,"","","","",null,null,{"$f":"IF(OR('1_Lister les activités'!D161=\"\",'1_Lister les activités'!D161=0),\"\",'1_Lister les activités'!D161)","v":""},{"$f":"IFERROR(IF($BH$3=\"\",\"\",'1_Lister les activités'!A162),\"\")","v":""},null,"",{"$f":"IFERROR(IF($BH$3=\"\",\"\",'1_Lister les activités'!B162),\"\")","v":0},0,"",{"$f":"IFERROR(IF($BH$3=\"\",\"\",'1_Lister les activités'!C162),\"\")","v":"Selectionner"},{"$nulls":11},"Tunisian Dinar","Millime","د.ت","TND","Tunisian Dinar"]
[{"$nulls":9},{"$f":"'2-Programmer les activités'!F166","v":0},{"$f":"'2-Programmer les activités'!G166","v":0},{"$nulls":21},{"$f":"IF('2-Programmer les activités'!J167=\"\",\"\",'2-Programmer les activités'!J167)","v":""},"","","","","-","","","","X",null,"","","","",null,"","","","",null,"","","","",null,null,{"$f":"IF(OR('1_Lister les activités'!D162=\"\",'1_Lister les activités'!D162=0),\"\",'1_Lister les activités'!D162)","v":""},{"$f":"IFERROR(IF($BH$3=\"\",\"\",'1_Lister les activités'!A163),\"\")","v":""},null,"",{"$f":"IFERROR(IF($BH$3=\"\",\"\",'1_Lister les activités'!B163),\"\")","v":0},0,"",{"$f":"IFERROR(IF($BH$3=\"\",\"\",'1_Lister les activités'!C163),\"\")","v":"Selectionner"},{"$nulls":11},"Turkish Lira","Kuruş","-","TRY","Turkish Lira"]
[{"$nulls":9},{"$f":"'2-Programmer les activités'!F167","v":0},{"$f":"'2-Programmer les activités'!G167","v":0},{"$nulls":21},{"$f":"IF('2-Programmer les activités'!J168=\"\",\"\",'2-Programmer les activités'!J168)","v":""},"","","","","-","","","","X",null,"","","","",null,"","","","",null,"","","","",null,null,{"$f":"IF(OR('1_Lister les activités'!D163=\"\",'1_Lister les activités'!D163=0),\"\",'1_Lister les activités'!D163)","v":""},{"$f":"IFERROR(IF($BH$3=\"\",\"\",'1_Lister les activités'!A164),\"\")","v":""},null,"",{"$f":"IFERROR(IF($BH$3=\"\",\"\",'1_Lister les activités'!B164),\"\")","v":0},0,"",{"$f":"IFERROR(IF($BH$3=\"\",\"\",'1_Lister les activités'!C164),\"\")","v":"Selectionner"},{"$nulls":11},"Turkmenistan New Manat","Tennesi","m","TMT","Turkmenistan New Manat"]
[{"$nulls":9},{"$f":"'2-Programmer les activités'!F168","v":0},{"$f":"'2-Programmer les activités'!G168","v":0},{"$nulls":21},{"$f":"IF('2-Programmer les activités'!J169=\"\",\"\",'2-Programmer les activités'!J169)","v":""},"","","","","-","","","","X",null,"","","","",null,"","","","",null,"","","","",null,null,{"$f":"IF(OR('1_Lister les activités'!D164=\"\",'1_Lister les activités'!D164=0),\"\",'1_Lister les activités'!D164)","v":""},{"$f":"IFERROR(IF($BH$3=\"\",\"\",'1_Lister les activités'!A165),\"\")","v":""},null,"",{"$f":"IFERROR(IF($BH$3=\"\",\"\",'1_Lister les activités'!B165),\"\")","v":0},0,"",{"$f":"IFERROR(IF($BH$3=\"\",\"\",'1_Lister les activités'!C165),\"\")","v":"Selectionner"},{"$nulls":11},"UAE Dirham","Fils","د.إ","AED","UAE Dirham"]
[{"$nulls":9},{"$f":"'2-Programmer les activités'!F169","v":0},{"$f":"'2-Programmer les activités'!G169","v":0},{"$nulls":21},{"$f":"IF('2-Programmer les activités'!J170=\"\",\"\",'2-Programmer les activités'!J170)","v":""},"","","","","-","","","","X",null,"","","","",null,"","","","",null,"","","","",null,null,{"$f":"IF(OR('1_Lister les activités'!D165=\"\",'1_Lister les activités'!D165=0),\"\",'1_Lister les activités'!D165)","v":""},{"$f":"IFERROR(IF($BH$3=\"\",\"\",'1_Lister les activités'!A166),\"\")","v":""},null,"",{"$f":"IFERROR(IF($BH$3=\"\",\"\",'1_Lister les activités'!B166),\"\")","v":0},0,"",{"$f":"IFERROR(IF($BH$3=\"\",\"\",'1_Lister les activités'!C166),\"\")","v":"Selectionner"},{"$nulls":11},"Uganda Shilling","Cent","Sh","UGX","Uganda Shilling"]
[{"$nulls":9},{"$f":"'2-Programmer les activités'!F170","v":0},{"$f":"'2-Programmer les activités'!G170","v":0},{"$nulls":21},{"$f":"IF('2-Programmer les activités'!J171=\"\",\"\",'2-Programmer les activités'!J171)","v":""},"","","","","-","","","","X",null,"","","","",null,"","","","",null,"","","","",null,null,{"$f":"IF(OR('1_Lister les activités'!D166=\"\",'1_Lister les activités'!D166=0),\"\",'1_Lister les activités'!D166)","v":""},{"$f":"IFERROR(IF($BH$3=\"\",\"\",'1_Lister les activités'!A167),\"\")","v":""},null,"",{"$f":"IFERROR(IF($BH$3=\"\",\"\",'1_Lister les activités'!B167),\"\")","v":0},0,"",{"$f":"IFERROR(IF($BH$3=\"\",\"\",'1_Lister les activités'!C167),\"\")","v":"Selectionner"},{"$nulls":11},"UIC-Franc","-","-","XFU","UIC-Franc"]
[{"$nulls":9},{"$f":"'2-Programmer les activités'!F171","v":0},{"$f":"'2-Programmer les activités'!G171","v":0},{"$nulls":21},{"$f":"IF('2-Programmer les activités'!J172=\"\",\"\",'2-Programmer les activités'!J172)","v":""},"","","","","-","","","","X",null,"","","","",null,"","","","",null,"","","","",null,null,{"$f":"IF(OR('1_Lister les activités'!D167=\"\",'1_Lister les activités'!D167=0),\"\",'1_Lister les activités'!D167)","v":""},{"$f":"IFERROR(IF($BH$3=\"\",\"\",'1_Lister les activités'!A168),\"\")","v":""},null,"",{"$f":"IFERROR(IF($BH$3=\"\",\"\",'1_Lister les activités'!B168),\"\")","v":0},0,"",{"$f":"IFERROR(IF($BH$3=\"\",\"\",'1_Lister les activités'!C168),\"\")","v":"Selectionner"},{"$nulls":11},"Unidad de Valor Real","-","-","COU","Unidad de Valor Real"]
[{"$nulls":9},{"$f":"'2-Programmer les activités'!F172","v":0},{"$f":"'2-Programmer les activités'!G172","v":0},{"$nulls":21},{"$f":"IF('2-Programmer les activités'!J173=\"\",\"\",'2-Programmer les activités'!J173)","v":""},"","","","","-","","","","X",null,"","","","",null,"","","","",null,"","","","",null,null,{"$f":"IF(OR('1_Lister les activités'!D168=\"\",'1_Lister les activités'!D168=0),\"\",'1_Lister les activités'!D168)","v":""},{"$f":"IFERROR(IF($BH$3=\"\",\"\",'1_Lister les activités'!A169),\"\")","v":""},null,"",{"$f":"IFERROR(IF($BH$3=\"\",\"\",'1_Lister les activités'!B169),\"\")","v":0},0,"",{"$f":"IFERROR(IF($BH$3=\"\",\"\",'1_Lister les activités'!C169),\"\")","v":"Selectionner"},{"$nulls":11},"Unidades de fomento","-","-","CLF","Unidades de fomento"]
[{"$nulls":9},{"$f":"'2-Programmer les activités'!F173","v":0},{"$f":"'2-Programmer les activités'!G173","v":0},{"$nulls":21},{"$f":"IF('2-Programmer les activités'!J174=\"\",\"\",'2-Programmer les activités'!J174)","v":""},"","","","","-","","","","X",null,"","","","",null,"","","","",null,"","","","",null,null,{"$f":"IF(OR('1_Lister les activités'!D169=\"\",'1_Lister les activités'!D169=0),\"\",'1_Lister les activités'!D169)","v":""},{"$f":"IFERROR(IF($BH$3=\"\",\"\",'1_Lister les activités'!A170),\"\")","v":""},null,"",{"$f":"IFERROR(IF($BH$3=\"\",\"\",'1_Lister les activités'!B170),\"\")","v":0},0,"",{"$f":"IFERROR(IF($BH$3=\"\",\"\",'1_Lister les activités'!C170),\"\")","v":"Selectionner"},{"$nulls":11},"Uruguay Peso en Unidades Indexadas (URUIURUI)","-","-","UYI","Uruguay Peso en Unidades Indexadas (URUIURUI)"]
[{"$nulls":9},{"$f":"'2-Programmer les activités'!F174","v":0},{"$f":"'2-Programmer les activités'!G174","v":0},{"$nulls":21},{"$f":"IF('2-Programmer les activités'!J175=\"\",\"\",'2-Programmer les activités'!J175)","v":""},"","","","","-","","","","X",null,"","","","",null,"","","","",null,"","","","",null,null,{"$f":"IF(OR('1_Lister les activités'!D170=\"\",'1_Lister les activités'!D170=0),\"\",'1_Lister les activités'!D170)","v":""},{"$f":"IFERROR(IF($BH$3=\"\",\"\",'1_Lister les activités'!A171),\"\")","v":""},null,"",{"$f":"IFERROR(IF($BH$3=\"\",\"\",'1_Lister les activités'!B171),\"\")","v":0},0,"",{"$f":"IFERROR(IF($BH$3=\"\",\"\",'1_Lister les activités'!C171),\"\")","v":"Selectionner"},{"$nulls":11},"US Dollar","Cent","$","USD","US Dollar"]
[{"$nulls":9},{"$f":"'2-Programmer les activités'!F175","v":0},{"$f":"'2-Programmer les activités'!G175","v":0},{"$nulls":21},{"$f":"IF('2-Programmer les activités'!J176=\"\",\"\",'2-Programmer les activités'!J176)","v":""},"","","","","-","","","","X",null,"","","","",null,"","","","",null,"","","","",null,null,{"$f":"IF(OR('1_Lister les activités'!D171=\"\",'1_Lister les activités'!D171=0),\"\",'1_Lister les activités'!D171)","v":""},{"$f":"IFERROR(IF($BH$3=\"\",\"\",'1_Lister les activités'!A172),\"\")","v":""},null,"",{"$f":"IFERROR(IF($BH$3=\"\",\"\",'1_Lister les activités'!B172),\"\")","v":0},0,"",{"$f":"IFERROR(IF($BH$3=\"\",\"\",'1_Lister les activités'!C172),\"\")","v":"Selectionner"},{"$nulls":11},"US Dollar (Next day)","-","-","USN","US Dollar (Next day)"]
[{"$nulls":9},{"$f":"'2-Programmer les activités'!F176","v":0},{"$f":"'2-Programmer les activités'!G176","v":0},{"$nulls":21},{"$f":"IF('2-Programmer les activités'!J177=\"\",\"\",'2-Programmer les activités'!J177)","v":""},"","","","","-","","","","X",null,"","","","",null,"","","","",null,"","","","",null,null,{"$f":"IF(OR('1_Lister les activités'!D172=\"\",'1_Lister les activités'!D172=0),\"\",'1_Lister les activités'!D172)","v":""},{"$f":"IFERROR(IF($BH$3=\"\",\"\",'1_Lister les activités'!A173),\"\")","v":""},null,"",{"$f":"IFERROR(IF($BH$3=\"\",\"\",'1_Lister les activités'!B173),\"\")","v":0},0,"",{"$f":"IFERROR(IF($BH$3=\"\",\"\",'1_Lister les activités'!C173),\"\")","v":"Selectionner"},{"$nulls":11},"US Dollar (Same day)","-","-","USS","US Dollar (Same day)"]
[{"$nulls":9},{"$f":"'2-Programmer les activités'!F177","v":0},{"$f":"'2-Programmer les activités'!G177","v":0},{"$nulls":21},{"$f":"IF('2-Programmer les activités'!J178=\"\",\"\",'2-Programmer les activités'!J178)","v":""},"","","","","-","","","","X",null,"","","","",null,"","","","",null,"","","","",null,null,{"$f":"IF(OR('1_Lister les activités'!D173=\"\",'1_Lister les activités'!D173=0),\"\",'1_Lister les activités'!D173)","v":""},{"$f":"IFERROR(IF($BH$3=\"\",\"\",'1_Lister les activités'!A174),\"\")","v":""},null,"",{"$f":"IFERROR(IF($BH$3=\"\",\"\",'1_Lister les activités'!B174),\"\")","v":0},0,"",{"$f":"IFERROR(IF($BH$3=\"\",\"\",'1_Lister les activités'!C174),\"\")","v":"Selectionner"},{"$nulls":11},"Uzbekistan Sum","Tiyin","-","UZS","Uzbekistan Sum"]
[{"$nulls":9},{"$f":"'2-Programmer les activités'!F178","v":0},{"$f":"'2-Programmer les activités'!G178","v":0},{"$nulls":21},{"$f":"IF('2-Programmer les activités'!J179=\"\",\"\",'2-Programmer les activités'!J179)","v":""},"","","","","-","","","","X",null,"","","","",null,"","","","",null,"","","","",null,null,{"$f":"IF(OR('1_Lister les activités'!D174=\"\",'1_Lister les activités'!D174=0),\"\",'1_Lister les activités'!D174)","v":""},{"$f":"IFERROR(IF($BH$3=\"\",\"\",'1_Lister les activités'!A175),\"\")","v":""},null,"",{"$f":"IFERROR(IF($BH$3=\"\",\"\",'1_Lister les activités'!B175),\"\")","v":0},0,"",{"$f":"IFERROR(IF($BH$3=\"\",\"\",'1_Lister les activités'!C175),\"\")","v":"Selectionner"},{"$nulls":11},"Vatu","None","Vt","VUV","Vatu"]
[{"$nulls":9},{"$f":"'2-Programmer les activités'!F179","v":0},{"$f":"'2-Programmer les activités'!G179","v":0},{"$nulls":21},{"$f":"IF('2-Programmer les activités'!J180=\"\",\"\",'2-Programmer les activités'!J180)","v":""},{"$f":"IF(AG174=\"\",\"\",MONTH(AG174))","v":""},"",{"$f":"IF(AG174=\"\",\"\",DAY(AG174))","v":""},{"$f":"IFERROR(YEAR(AG174),\"\")","v":""},{"$f":"IFERROR(CONCATENATE(AI174,\"-\",AK174),\"\")","v":"-"},{"$f":"IF(AJ174<8,\"X\",\"\")","v":""},{"$f":"IF(AND(AJ174>7,AND(AJ174<15)),\"X\",\"\")","v":""},{"$f":"IF(AND(AJ174>14,AND(AJ174<22)),\"X\",\"\")","v":""},{"$f":"IF(AJ174>21,\"X\",\"\")","v":"X"},null,{"$f":"IF(AL174=$AR$4,AM174,\"\")","v":""},{"$f":"IF(AL174=$AR$4,AN174,\"\")","v":""},{"$f":"IF(AL174=$AR$4,AO174,\"\")","v":""},{"$f":"IF(AL174=$AR$4,AP174,\"\")","v":""},null,{"$f":"IF(AL174=$AW$4,AM174,\"\")","v":""},{"$f":"IF(AL174=$AW$4,AN174,\"\")","v":""},{"$f":"IF(AL174=$AW$4,AO174,\"\")","v":""},{"$f":"IF(AL174=$AW$4,AP174,\"\")","v":""},null,{"$f":"IF(AL174=$BB$4,AM174,\"\")","v":""},{"$f":"IF(AL174=$BB$4,AN174,\"\")","v":""},{"$f":"IF(AL174=$BB$4,AO174,\"\")","v":""},{"$f":"IF(AL174=$BB$4,AP174,\"\")","v":""},null,null,{"$f":"IF(OR('1_Lister les activités'!D175=\"\",'1_Lister les activités'!D175=0),\"\",'1_Lister les activités'!D175)","v":""},{"$f":"IFERROR(IF($BH$3=\"\",\"\",'1_Lister les activités'!A176),\"\")","v":""},null,"",{"$f":"IFERROR(IF($BH$3=\"\",\"\",'1_Lister les activités'!B176),\"\")","v":0},0,"",{"$f":"IFERROR(IF($BH$3=\"\",\"\",'1_Lister les activités'!C176),\"\")","v":"Selectionner"},{"$nulls":11},"WIR Euro","-","-","CHE","WIR Euro"]
[{"$nulls":9},{"$f":"'2-Programmer les activités'!F180","v":0},{"$f":"'2-Programmer les activités'!G180","v":0},{"$nulls":21},{"$f":"IF('2-Programmer les activités'!J181=\"\",\"\",'2-Programmer les activités'!J181)","v":""},"","","","","-","","","","X",null,"","","","",null,"","","","",null,"","","","",null,null,{"$f":"IF(OR('1_Lister les activités'!D176=\"\",'1_Lister les activités'!D176=0),\"\",'1_Lister les activités'!D176)","v":""},{"$f":"IFERROR(IF($BH$3=\"\",\"\",'1_Lister les activités'!A177),\"\")","v":""},null,"",{"$f":"IFERROR(IF($BH$3=\"\",\"\",'1_Lister les activités'!B177),\"\")","v":0},0,"",{"$f":"IFERROR(IF($BH$3=\"\",\"\",'1_Lister les activités'!C177),\"\")","v":"Selectionner"},{"$nulls":11},"WIR Franc","-","-","CHW","WIR Franc"]
[{"$nulls":9},{"$f":"'2-Programmer les activités'!F181","v":0},{"$f":"'2-Programmer les activités'!G181","v":0},{"$nulls":21},{"$f":"IF('2-Programmer les activités'!J182=\"\",\"\",'2-Programmer les activités'!J182)","v":""},"","","","","-","","","","X",null,"","","","",null,"","","","",null,"","","","",null,null,{"$f":"IF(OR('1_Lister les activités'!D177=\"\",'1_Lister les activités'!D177=0),\"\",'1_Lister les activités'!D177)","v":""},{"$f":"IFERROR(IF($BH$3=\"\",\"\",'1_Lister les activités'!A178),\"\")","v":""},null,"",{"$f":"IFERROR(IF($BH$3=\"\",\"\",'1_Lister les activités'!B178),\"\")","v":0},0,"",{"$f":"IFERROR(IF($BH$3=\"\",\"\",'1_Lister les activités'!C178),\"\")","v":"Selectionner"},{"$nulls":11},"Won","Jeon","₩","KRW","Won"]
[{"$nulls":9},{"$f":"'2-Programmer les activités'!F182","v":0},{"$f":"'2-Programmer les activités'!G182","v":0},{"$nulls":21},{"$f":"IF('2-Programmer les activités'!J183=\"\",\"\",'2-Programmer les activités'!J183)","v":""},"","","","","-","","","","X",null,"","","","",null,"","","","",null,"","","","",null,null,{"$f":"IF(OR('1_Lister les activités'!D178=\"\",'1_Lister les activités'!D178=0),\"\",'1_Lister les activités'!D178)","v":""},{"$f":"IFERROR(IF($BH$3=\"\",\"\",'1_Lister les activités'!A179),\"\")","v":""},null,"",{"$f":"IFERROR(IF($BH$3=\"\",\"\",'1_Lister les activités'!B179),\"\")","v":0},0,"",{"$f":"IFERROR(IF($BH$3=\"\",\"\",'1_Lister les activités'!C179),\"\")","v":"Selectionner"},{"$nulls":11},"Yemeni Rial","Fils","﷼","YER","Yemeni Rial"]
[{"$nulls":9},{"$f":"'2-Programmer les activités'!F183","v":0},{"$f":"'2-Programmer les activités'!G183","v":0},{"$nulls":21},{"$f":"IF('2-Programmer les activités'!J184=\"\",\"\",'2-Programmer les activités'!J184)","v":""},"","","","","-","","","","X",null,"","","","",null,"","","","",null,"","","","",null,null,{"$f":"IF(OR('1_Lister les activités'!D179=\"\",'1_Lister les activités'!D179=0),\"\",'1_Lister les activités'!D179)","v":""},{"$f":"IFERROR(IF($BH$3=\"\",\"\",'1_Lister les activités'!A180),\"\")","v":""},null,"",{"$f":"IFERROR(IF($BH$3=\"\",\"\",'1_Lister les activités'!B180),\"\")","v":0},0,"",{"$f":"IFERROR(IF($BH$3=\"\",\"\",'1_Lister les activités'!C180),\"\")","v":"Selectionner"},{"$nulls":11},"Yen","Sen","¥","JPY","Yen"]
[{"$nulls":9},{"$f":"'2-Programmer les activités'!F184","v":0},{"$f":"'2-Programmer les activités'!G184","v":0},{"$nulls":21},{"$f":"IF('2-Programmer les activités'!J185=\"\",\"\",'2-Programmer les activités'!J185)","v":""},"","","","","-","","","","X",null,"","","","",null,"","","","",null,"","","","",null,null,{"$f":"IF(OR('1_Lister les activités'!D180=\"\",'1_Lister les activités'!D180=0),\"\",'1_Lister les activités'!D180)","v":""},{"$f":"IFERROR(IF($BH$3=\"\",\"\",'1_Lister les activités'!A181),\"\")","v":""},null,"",{"$f":"IFERROR(IF($BH$3=\"\",\"\",'1_Lister les activités'!B181),\"\")","v":0},0,"",{"$f":"IFERROR(IF($BH$3=\"\",\"\",'1_Lister les activités'!C181),\"\")","v":"Selectionner"},{"$nulls":11},"Yuan Renminbi","Fen","¥","CNY","Yuan Renminbi"]
[{"$nulls":9},{"$f":"'2-Programmer les activités'!F185","v":0},{"$f":"'2-Programmer les activités'!G185","v":0},{"$nulls":21},{"$f":"IF('2-Programmer les activités'!J186=\"\",\"\",'2-Programmer les activités'!J186)","v":""},"","","","","-","","","","X",null,"","","","",null,"","","","",null,"","","","",null,null,{"$f":"IF(OR('1_Lister les activités'!D181=\"\",'1_Lister les activités'!D181=0),\"\",'1_Lister les activités'!D181)","v":""},{"$f":"IFERROR(IF($BH$3=\"\",\"\",'1_Lister les activités'!A182),\"\")","v":""},null,"",{"$f":"IFERROR(IF($BH$3=\"\",\"\",'1_Lister les activités'!B182),\"\")","v":0},0,"",{"$f":"IFERROR(IF($BH$3=\"\",\"\",'1_Lister les activités'!C182),\"\")","v":"Selectionner"},{"$nulls":11},"Zambian Kwacha","Ngwee","ZK","ZMW","Zambian Kwacha"]
[{"$nulls":9},{"$f":"'2-Programmer les activités'!F186","v":0},{"$f":"'2-Programmer les activités'!G186","v":0},{"$nulls":21},{"$f":"IF('2-Programmer les activités'!J187=\"\",\"\",'2-Programmer les activités'!J187)","v":""},"","","","","-","","","","X",null,"","","","",null,"","","","",null,"","","","",null,null,{"$f":"IF(OR('1_Lister les activités'!D182=\"\",'1_Lister les activités'!D182=0),\"\",'1_Lister les activités'!D182)","v":""},{"$f":"IFERROR(IF($BH$3=\"\",\"\",'1_Lister les activités'!A183),\"\")","v":""},null,"",{"$f":"IFERROR(IF($BH$3=\"\",\"\",'1_Lister les activités'!B183),\"\")","v":0},0,"",{"$f":"IFERROR(IF($BH$3=\"\",\"\",'1_Lister les activités'!C183),\"\")","v":"Selectionner"},{"$nulls":11},"Zimbabwe Dollar","-","-","ZWL","Zimbabwe Dollar"]
[{"$nulls":9},{"$f":"'2-Programmer les activités'!F187","v":0},{"$f":"'2-Programmer les activités'!G187","v":0},{"$nulls":21},{"$f":"IF('2-Programmer les activités'!J188=\"\",\"\",'2-Programmer les activités'!J188)","v":""},"","","","","-","","","","X",null,"","","","",null,"","","","",null,"","","","",null,null,{"$f":"IF(OR('1_Lister les activités'!D183=\"\",'1_Lister les activités'!D183=0),\"\",'1_Lister les activités'!D183)","v":""},{"$f":"IFERROR(IF($BH$3=\"\",\"\",'1_Lister les activités'!A184),\"\")","v":""},null,"",{"$f":"IFERROR(IF($BH$3=\"\",\"\",'1_Lister les activités'!B184),\"\")","v":0},0,"",{"$f":"IFERROR(IF($BH$3=\"\",\"\",'1_Lister les activités'!C184),\"\")","v":"Selectionner"},{"$nulls":11},"Zloty","Grosz","zł","PLN","Zloty"]
[{"$nulls":9},{"$f":"'2-Programmer les activités'!F188","v":0},{"$f":"'2-Programmer les activités'!G188","v":0},{"$nulls":21},{"$f":"IF('2-Programmer les activités'!J189=\"\",\"\",'2-Programmer les activités'!J189)","v":""},"","","","","-","","","","X",null,"","","","",null,"","","","",null,"","","","",null,null,{"$f":"IF(OR('1_Lister les activités'!D184=\"\",'1_Lister les activités'!D184=0),\"\",'1_Lister les activités'!D184)","v":""},{"$f":"IFERROR(IF($BH$3=\"\",\"\",'1_Lister les activités'!A185),\"\")","v":""},null,"",{"$f":"IFERROR(IF($BH$3=\"\",\"\",'1_Lister les activités'!B185),\"\")","v":0},0,"",{"$f":"IFERROR(IF($BH$3=\"\",\"\",'1_Lister les activités'!C185),\"\")","v":"Selectionner"}]
[{"$nulls":9},{"$f":"'2-Programmer les activités'!F189","v":0},{"$f":"'2-Programmer les activités'!G189","v":0},{"$nulls":21},{"$f":"IF('2-Programmer les activités'!J190=\"\",\"\",'2-Programmer les activités'!J190)","v":""},"","","","","-","","","","X",null,"","","","",null,"","","","",null,"","","","",null,null,{"$f":"IF(OR('1_Lister les activités'!D185=\"\",'1_Lister les activités'!D185=0),\"\",'1_Lister les activités'!D185)","v":""},{"$f":"IFERROR(IF($BH$3=\"\",\"\",'1_Lister les activités'!A186),\"\")","v":""},null,"",{"$f":"IFERROR(IF($BH$3=\"\",\"\",'1_Lister les activités'!B186),\"\")","v":0},0,"",{"$f":"IFERROR(IF($BH$3=\"\",\"\",'1_Lister les activités'!C186),\"\")","v":"Selectionner"}]
[{"$nulls":9},{"$f":"'2-Programmer les activités'!F190","v":0},{"$f":"'2-Programmer les activités'!G190","v":0},{"$nulls":21},{"$f":"IF('2-Programmer les activités'!J191=\"\",\"\",'2-Programmer les activités'!J191)","v":""},"","","","","-","","","","X",null,"","","","",null,"","","","",null,"","","","",null,null,{"$f":"IF(OR('1_Lister les activités'!D186=\"\",'1_Lister les activités'!D186=0),\"\",'1_Lister les activités'!D186)","v":""},{"$f":"IFERROR(IF($BH$3=\"\",\"\",'1_Lister les activités'!A187),\"\")","v":""},null,"",{"$f":"IFERROR(IF($BH$3=\"\",\"\",'1_Lister les activités'!B187),\"\")","v":0},0,"",{"$f":"IFERROR(IF($BH$3=\"\",\"\",'1_Lister les activités'!C187),\"\")","v":"Selectionner"}]
[{"$nulls":9},{"$f":"'2-Programmer les activités'!F191","v":0},{"$f":"'2-Programmer les activités'!G191","v":0},{"$nulls":21},{"$f":"IF('2-Programmer les activités'!J192=\"\",\"\",'2-Programmer les activités'!J192)","v":""},"","","","","-","","","","X",null,"","","","",null,"","","","",null,"","","","",null,null,{"$f":"IF(OR('1_Lister les activités'!D187=\"\",'1_Lister les activités'!D187=0),\"\",'1_Lister les activités'!D187)","v":""},{"$f":"IFERROR(IF($BH$3=\"\",\"\",'1_Lister les activités'!A188),\"\")","v":""},null,"",{"$f":"IFERROR(IF($BH$3=\"\",\"\",'1_Lister les activités'!B188),\"\")","v":0},0,"",{"$f":"IFERROR(IF($BH$3=\"\",\"\",'1_Lister les activités'!C188),\"\")","v":"Selectionner"}]
[{"$nulls":9},{"$f":"'2-Programmer les activités'!F192","v":0},{"$f":"'2-Programmer les activités'!G192","v":0},{"$nulls":21},{"$f":"IF('2-Programmer les activités'!J193=\"\",\"\",'2-Programmer les activités'!J193)","v":""},"","","","","-","","","","X",null,"","","","",null,"","","","",null,"","","","",null,null,{"$f":"IF(OR('1_Lister les activités'!D188=\"\",'1_Lister les activités'!D188=0),\"\",'1_Lister les activités'!D188)","v":""},{"$f":"IFERROR(IF($BH$3=\"\",\"\",'1_Lister les activités'!A189),\"\")","v":""},null,"",{"$f":"IFERROR(IF($BH$3=\"\",\"\",'1_Lister les activités'!B189),\"\")","v":0},0,"",{"$f":"IFERROR(IF($BH$3=\"\",\"\",'1_Lister les activités'!C189),\"\")","v":"Selectionner"}]
[{"$nulls":9},{"$f":"'2-Programmer les activités'!F193","v":0},{"$f":"'2-Programmer les activités'!G193","v":0},{"$nulls":21},{"$f":"IF('2-Programmer les activités'!J194=\"\",\"\",'2-Programmer les activités'!J194)","v":""},"","","","","-","","","","X",null,"","","","",null,"","","","",null,"","","","",null,null,{"$f":"IF(OR('1_Lister les activités'!D189=\"\",'1_Lister les activités'!D189=0),\"\",'1_Lister les activités'!D189)","v":""},{"$f":"IFERROR(IF($BH$3=\"\",\"\",'1_Lister les activités'!A190),\"\")","v":""},null,"",{"$f":"IFERROR(IF($BH$3=\"\",\"\",'1_Lister les activités'!B190),\"\")","v":0},0,"",{"$f":"IFERROR(IF($BH$3=\"\",\"\",'1_Lister les activités'!C190),\"\")","v":"Selectionner"}]
[{"$nulls":9},{"$f":"'2-Programmer les activités'!F194","v":0},{"$f":"'2-Programmer les activités'!G194","v":0},{"$nulls":21},{"$f":"IF('2-Programmer les activités'!J195=\"\",\"\",'2-Programmer les activités'!J195)","v":""},"","","","","-","","","","X",null,"","","","",null,"","","","",null,"","","","",null,null,{"$f":"IF(OR('1_Lister les activités'!D190=\"\",'1_Lister les activités'!D190=0),\"\",'1_Lister les activités'!D190)","v":""},{"$f":"IFERROR(IF($BH$3=\"\",\"\",'1_Lister les activités'!A191),\"\")","v":""},null,"",{"$f":"IFERROR(IF($BH$3=\"\",\"\",'1_Lister les activités'!B191),\"\")","v":0},0,"",{"$f":"IFERROR(IF($BH$3=\"\",\"\",'1_Lister les activités'!C191),\"\")","v":"Selectionner"}]
[{"$nulls":9},{"$f":"'2-Programmer les activités'!F195","v":0},{"$f":"'2-Programmer les activités'!G195","v":0},{"$nulls":21},{"$f":"IF('2-Programmer les activités'!J196=\"\",\"\",'2-Programmer les activités'!J196)","v":""},"","","","","-","","","","X",null,"","","","",null,"","","","",null,"","","","",null,null,{"$f":"IF(OR('1_Lister les activités'!D191=\"\",'1_Lister les activités'!D191=0),\"\",'1_Lister les activités'!D191)","v":""},{"$f":"IFERROR(IF($BH$3=\"\",\"\",'1_Lister les activités'!A192),\"\")","v":""},null,"",{"$f":"IFERROR(IF($BH$3=\"\",\"\",'1_Lister les activités'!B192),\"\")","v":0},0,"",{"$f":"IFERROR(IF($BH$3=\"\",\"\",'1_Lister les activités'!C192),\"\")","v":"Selectionner"}]
[{"$nulls":9},{"$f":"'2-Programmer les activités'!F196","v":0},{"$f":"'2-Programmer les activités'!G196","v":0},{"$nulls":21},{"$f":"IF('2-Programmer les activités'!J197=\"\",\"\",'2-Programmer les activités'!J197)","v":""},"","","","","-","","","","X",null,"","","","",null,"","","","",null,"","","","",null,null,{"$f":"IF(OR('1_Lister les activités'!D192=\"\",'1_Lister les activités'!D192=0),\"\",'1_Lister les activités'!D192)","v":""},{"$f":"IFERROR(IF($BH$3=\"\",\"\",'1_Lister les activités'!A193),\"\")","v":""},null,"",{"$f":"IFERROR(IF($BH$3=\"\",\"\",'1_Lister les activités'!B193),\"\")","v":0},0,"",{"$f":"IFERROR(IF($BH$3=\"\",\"\",'1_Lister les activités'!C193),\"\")","v":"Selectionner"}]
[{"$nulls":9},{"$f":"'2-Programmer les activités'!F197","v":0},{"$f":"'2-Programmer les activités'!G197","v":0},{"$nulls":21},{"$f":"IF('2-Programmer les activités'!J198=\"\",\"\",'2-Programmer les activités'!J198)","v":""},"","","","","-","","","","X",null,"","","","",null,"","","","",null,"","","","",null,null,{"$f":"IF(OR('1_Lister les activités'!D193=\"\",'1_Lister les activités'!D193=0),\"\",'1_Lister les activités'!D193)","v":""},{"$f":"IFERROR(IF($BH$3=\"\",\"\",'1_Lister les activités'!A194),\"\")","v":""},null,"",{"$f":"IFERROR(IF($BH$3=\"\",\"\",'1_Lister les activités'!B194),\"\")","v":0},0,"",{"$f":"IFERROR(IF($BH$3=\"\",\"\",'1_Lister les activités'!C194),\"\")","v":"Selectionner"}]
[{"$nulls":9},{"$f":"'2-Programmer les activités'!F198","v":0},{"$f":"'2-Programmer les activités'!G198","v":0},{"$nulls":21},{"$f":"IF('2-Programmer les activités'!J199=\"\",\"\",'2-Programmer les activités'!J199)","v":""},"","","","","-","","","","X",null,"","","","",null,"","","","",null,"","","","",null,null,{"$f":"IF(OR('1_Lister les activités'!D194=\"\",'1_Lister les activités'!D194=0),\"\",'1_Lister les activités'!D194)","v":""},{"$f":"IFERROR(IF($BH$3=\"\",\"\",'1_Lister les activités'!A195),\"\")","v":""},null,"",{"$f":"IFERROR(IF($BH$3=\"\",\"\",'1_Lister les activités'!B195),\"\")","v":0},0,"",{"$f":"IFERROR(IF($BH$3=\"\",\"\",'1_Lister les activités'!C195),\"\")","v":"Selectionner"}]
[{"$nulls":9},{"$f":"'2-Programmer les activités'!F199","v":0},{"$f":"'2-Programmer les activités'!G199","v":0},{"$nulls":21},{"$f":"IF('2-Programmer les activités'!J200=\"\",\"\",'2-Programmer les activités'!J200)","v":""},"","","","","-","","","","X",null,"","","","",null,"","","","",null,"","","","",null,null,{"$f":"IF(OR('1_Lister les activités'!D195=\"\",'1_Lister les activités'!D195=0),\"\",'1_Lister les activités'!D195)","v":""},{"$f":"IFERROR(IF($BH$3=\"\",\"\",'1_Lister les activités'!A196),\"\")","v":""},null,"",{"$f":"IFERROR(IF($BH$3=\"\",\"\",'1_Lister les activités'!B196),\"\")","v":0},0,"",{"$f":"IFERROR(IF($BH$3=\"\",\"\",'1_Lister les activités'!C196),\"\")","v":"Selectionner"}]
[{"$nulls":9},{"$f":"'2-Programmer les activités'!F200","v":0},{"$f":"'2-Programmer les activités'!G200","v":0},{"$nulls":21},{"$f":"IF('2-Programmer les activités'!J201=\"\",\"\",'2-Programmer les activités'!J201)","v":""},"","","","","-","","","","X",null,"","","","",null,"","","","",null,"","","","",null,null,{"$f":"IF(OR('1_Lister les activités'!D196=\"\",'1_Lister les activités'!D196=0),\"\",'1_Lister les activités'!D196)","v":""},{"$f":"IFERROR(IF($BH$3=\"\",\"\",'1_Lister les activités'!A197),\"\")","v":""},null,"",{"$f":"IFERROR(IF($BH$3=\"\",\"\",'1_Lister les activités'!B197),\"\")","v":0},0,"",{"$f":"IFERROR(IF($BH$3=\"\",\"\",'1_Lister les activités'!C197),\"\")","v":"Selectionner"}]
[{"$nulls":9},{"$f":"'2-Programmer les activités'!F201","v":0},{"$f":"'2-Programmer les activités'!G201","v":0},{"$nulls":21},{"$f":"IF('2-Programmer les activités'!J202=\"\",\"\",'2-Programmer les activités'!J202)","v":""},"","","","","-","","","","X",null,"","","","",null,"","","","",null,"","","","",null,null,{"$f":"IF(OR('1_Lister les activités'!D197=\"\",'1_Lister les activités'!D197=0),\"\",'1_Lister les activités'!D197)","v":""},{"$f":"IFERROR(IF($BH$3=\"\",\"\",'1_Lister les activités'!A198),\"\")","v":""},null,"",{"$f":"IFERROR(IF($BH$3=\"\",\"\",'1_Lister les activités'!B198),\"\")","v":0},0,"",{"$f":"IFERROR(IF($BH$3=\"\",\"\",'1_Lister les activités'!C198),\"\")","v":"Selectionner"}]
[{"$nulls":9},{"$f":"'2-Programmer les activités'!F202","v":0},{"$f":"'2-Programmer les activités'!G202","v":0},{"$nulls":21},{"$f":"IF('2-Programmer les activités'!J203=\"\",\"\",'2-Programmer les activités'!J203)","v":""},"","","","","-","","","","X",null,"","","","",null,"","","","",null,"","","","",null,null,{"$f":"IF(OR('1_Lister les activités'!D198=\"\",'1_Lister les activités'!D198=0),\"\",'1_Lister les activités'!D198)","v":""},{"$f":"IFERROR(IF($BH$3=\"\",\"\",'1_Lister les activités'!A199),\"\")","v":""},null,{"$f":"IFERROR(BH198,\"\")","v":""},{"$f":"IFERROR(IF($BH$3=\"\",\"\",'1_Lister les activités'!B199),\"\")","v":0},0,"",{"$f":"IFERROR(IF($BH$3=\"\",\"\",'1_Lister les activités'!C199),\"\")","v":"Selectionner"}]
[{"$nulls":9},{"$f":"'2-Programmer les activités'!F203","v":0},{"$f":"'2-Programmer les activités'!G203","v":0},{"$nulls":21},{"$f":"IF('2-Programmer les activités'!J204=\"\",\"\",'2-Programmer les activités'!J204)","v":""},"",{"$f":"IFERROR(VLOOKUP(AH198,$A$110:$B$121,2,FALSE),\"\")","v":""},"","","-","","","","X",null,"","","","",null,"","","","",null,"","","","",null,null,{"$f":"IF(OR('1_Lister les activités'!D199=\"\",'1_Lister les activités'!D199=0),\"\",'1_Lister les activités'!D199)","v":""},{"$f":"IFERROR(IF($BH$3=\"\",\"\",'1_Lister les activités'!A200),\"\")","v":""},null,"",{"$f":"IFERROR(IF($BH$3=\"\",\"\",'1_Lister les activités'!B200),\"\")","v":0},{"$f":"IFERROR(BL198,\"\")","v":0},{"$f":"IFERROR(BK198,\"\")","v":""},{"$f":"IFERROR(IF($BH$3=\"\",\"\",'1_Lister les activités'!C200),\"\")","v":"Selectionner"}]
[{"$nulls":9},{"$f":"'2-Programmer les activités'!F204","v":0},{"$f":"'2-Programmer les activités'!G204","v":0},{"$nulls":21},{"$f":"IF('2-Programmer les activités'!J205=\"\",\"\",'2-Programmer les activités'!J205)","v":""},"","","","","-","","","","X",null,"","","","",null,"","","","",null,"","","","",null,null,{"$f":"IF(OR('1_Lister les activités'!D200=\"\",'1_Lister les activités'!D200=0),\"\",'1_Lister les activités'!D200)","v":""},{"$f":"IFERROR(IF($BH$3=\"\",\"\",'1_Lister les activités'!A201),\"\")","v":""},null,"",{"$f":"IFERROR(IF($BH$3=\"\",\"\",'1_Lister les activités'!B201),\"\")","v":0},0,"",{"$f":"IFERROR(IF($BH$3=\"\",\"\",'1_Lister les activités'!C201),\"\")","v":"Selectionner"}]
[{"$nulls":9},{"$f":"'2-Programmer les activités'!F205","v":0},{"$f":"'2-Programmer les activités'!G205","v":0},{"$nulls":21},{"$f":"IF('2-Programmer les activités'!J206=\"\",\"\",'2-Programmer les activités'!J206)","v":""},"","","","","-","","","","X",null,"","","","",null,"","","","",null,"","","","",null,null,{"$f":"IF(OR('1_Lister les activités'!D201=\"\",'1_Lister les activités'!D201=0),\"\",'1_Lister les activités'!D201)","v":""},{"$f":"IFERROR(IF($BH$3=\"\",\"\",'1_Lister les activités'!A202),\"\")","v":""},null,"",{"$f":"IFERROR(IF($BH$3=\"\",\"\",'1_Lister les activités'!B202),\"\")","v":0},0,"",{"$f":"IFERROR(IF($BH$3=\"\",\"\",'1_Lister les activités'!C202),\"\")","v":"Selectionner"}]
[{"$nulls":9},{"$f":"'2-Programmer les activités'!F206","v":0},{"$f":"'2-Programmer les activités'!G206","v":0},{"$nulls":21},{"$f":"IF('2-Programmer les activités'!J207=\"\",\"\",'2-Programmer les activités'!J207)","v":""},"","","","","-","","","","X",null,"","","","",null,"","","","",null,"","","","",null,null,{"$f":"IF(OR('1_Lister les activités'!D202=\"\",'1_Lister les activités'!D202=0),\"\",'1_Lister les activités'!D202)","v":""},{"$f":"IFERROR(IF($BH$3=\"\",\"\",'1_Lister les activités'!A203),\"\")","v":""},null,"",{"$f":"IFERROR(IF($BH$3=\"\",\"\",'1_Lister les activités'!B203),\"\")","v":0},0,"",{"$f":"IFERROR(IF($BH$3=\"\",\"\",'1_Lister les activités'!C203),\"\")","v":"Selectionner"}]
[{"$nulls":9},{"$f":"'2-Programmer les activités'!F207","v":0},{"$f":"'2-Programmer les activités'!G207","v":0},{"$nulls":21},{"$f":"IF('2-Programmer les activités'!J208=\"\",\"\",'2-Programmer les activités'!J208)","v":""},"","","","","-","","","","X",null,"","","","",null,"","","","",null,"","","","",null,null,{"$f":"IF(OR('1_Lister les activités'!D203=\"\",'1_Lister les activités'!D203=0),\"\",'1_Lister les activités'!D203)","v":""},{"$f":"IFERROR(IF($BH$3=\"\",\"\",'1_Lister les activités'!A204),\"\")","v":""},null,"",{"$f":"IFERROR(IF($BH$3=\"\",\"\",'1_Lister les activités'!B204),\"\")","v":0},0,"",{"$f":"IFERROR(IF($BH$3=\"\",\"\",'1_Lister les activités'!C204),\"\")","v":"Selectionner"}]
[{"$nulls":9},{"$f":"'2-Programmer les activités'!F208","v":0},{"$f":"'2-Programmer les activités'!G208","v":0},{"$nulls":21},{"$f":"IF('2-Programmer les activités'!J209=\"\",\"\",'2-Programmer les activités'!J209)","v":""},"","","","","-","","","","X",null,"","","","",null,"","","","",null,"","","","",null,null,{"$f":"IF(OR('1_Lister les activités'!D204=\"\",'1_Lister les activités'!D204=0),\"\",'1_Lister les activités'!D204)","v":""},{"$f":"IFERROR(IF($BH$3=\"\",\"\",'1_Lister les activités'!A205),\"\")","v":""},null,"",{"$f":"IFERROR(IF($BH$3=\"\",\"\",'1_Lister les activités'!B205),\"\")","v":0},0,"",{"$f":"IFERROR(IF($BH$3=\"\",\"\",'1_Lister les activités'!C205),\"\")","v":"Selectionner"}]
[{"$nulls":9},{"$f":"'2-Programmer les activités'!F209","v":0},{"$f":"'2-Programmer les activités'!G209","v":0},{"$nulls":21},{"$f":"IF('2-Programmer les activités'!J210=\"\",\"\",'2-Programmer les activités'!J210)","v":""},"","","","","-","","","","X",null,"","","","",null,"","","","",null,"","","","",null,null,{"$f":"IF(OR('1_Lister les activités'!D205=\"\",'1_Lister les activités'!D205=0),\"\",'1_Lister les activités'!D205)","v":""},{"$f":"IFERROR(IF($BH$3=\"\",\"\",'1_Lister les activités'!A206),\"\")","v":""},null,"",{"$f":"IFERROR(IF($BH$3=\"\",\"\",'1_Lister les activités'!B206),\"\")","v":0},0,"",{"$f":"IFERROR(IF($BH$3=\"\",\"\",'1_Lister les activités'!C206),\"\")","v":"Selectionner"}]
[{"$nulls":9},{"$f":"'2-Programmer les activités'!F210","v":0},{"$f":"'2-Programmer les activités'!G210","v":0},{"$nulls":21},{"$f":"IF('2-Programmer les activités'!J211=\"\",\"\",'2-Programmer les activités'!J211)","v":""},"","","","","-","","","","X",null,"","","","",null,"","","","",null,"","","","",null,null,{"$f":"IF(OR('1_Lister les activités'!D206=\"\",'1_Lister les activités'!D206=0),\"\",'1_Lister les activités'!D206)","v":""},{"$f":"IFERROR(IF($BH$3=\"\",\"\",'1_Lister les activités'!A207),\"\")","v":""},null,"",{"$f":"IFERROR(IF($BH$3=\"\",\"\",'1_Lister les activités'!B207),\"\")","v":0},0,"",{"$f":"IFERROR(IF($BH$3=\"\",\"\",'1_Lister les activités'!C207),\"\")","v":"Selectionner"}]
[{"$nulls":9},{"$f":"'2-Programmer les activités'!F211","v":0},{"$f":"'2-Programmer les activités'!G211","v":0},{"$nulls":21},{"$f":"IF('2-Programmer les activités'!J212=\"\",\"\",'2-Programmer les activités'!J212)","v":""},"","","","","-","","","","X",null,"","","","",null,"","","","",null,"","","","",null,null,{"$f":"IF(OR('1_Lister les activités'!D207=\"\",'1_Lister les activités'!D207=0),\"\",'1_Lister les activités'!D207)","v":""},{"$f":"IFERROR(IF($BH$3=\"\",\"\",'1_Lister les activités'!A208),\"\")","v":""},null,"",{"$f":"IFERROR(IF($BH$3=\"\",\"\",'1_Lister les activités'!B208),\"\")","v":0},0,"",{"$f":"IFERROR(IF($BH$3=\"\",\"\",'1_Lister les activités'!C208),\"\")","v":"Selectionner"}]
[{"$nulls":9},{"$f":"'2-Programmer les activités'!F212","v":0},{"$f":"'2-Programmer les activités'!G212","v":0},{"$nulls":21},{"$f":"IF('2-Programmer les activités'!J213=\"\",\"\",'2-Programmer les activités'!J213)","v":""},"","","","","-","","","","X",null,"","","","",null,"","","","",null,"","","","",null,null,{"$f":"IF(OR('1_Lister les activités'!D208=\"\",'1_Lister les activités'!D208=0),\"\",'1_Lister les activités'!D208)","v":""},{"$f":"IFERROR(IF($BH$3=\"\",\"\",'1_Lister les activités'!A209),\"\")","v":""},null,"",{"$f":"IFERROR(IF($BH$3=\"\",\"\",'1_Lister les activités'!B209),\"\")","v":0},0,"",{"$f":"IFERROR(IF($BH$3=\"\",\"\",'1_Lister les activités'!C209),\"\")","v":"Selectionner"}]
[{"$nulls":9},{"$f":"'2-Programmer les activités'!F213","v":0},{"$f":"'2-Programmer les activités'!G213","v":0},{"$nulls":21},{"$f":"IF('2-Programmer les activités'!J214=\"\",\"\",'2-Programmer les activités'!J214)","v":""},"","","","","-","","","","X",null,"","","","",null,"","","","",null,"","","","",null,null,{"$f":"IF(OR('1_Lister les activités'!D209=\"\",'1_Lister les activités'!D209=0),\"\",'1_Lister les activités'!D209)","v":""},{"$f":"IFERROR(IF($BH$3=\"\",\"\",'1_Lister les activités'!A210),\"\")","v":""},null,"",{"$f":"IFERROR(IF($BH$3=\"\",\"\",'1_Lister les activités'!B210),\"\")","v":0},0,"",{"$f":"IFERROR(IF($BH$3=\"\",\"\",'1_Lister les activités'!C210),\"\")","v":"Selectionner"}]
[{"$nulls":9},{"$f":"'2-Programmer les activités'!F214","v":0},{"$f":"'2-Programmer les activités'!G214","v":0},{"$nulls":21},{"$f":"IF('2-Programmer les activités'!J215=\"\",\"\",'2-Programmer les activités'!J215)","v":""},"","","","","-","","","","X",null,"","","","",null,"","","","",null,"","","","",null,null,{"$f":"IF(OR('1_Lister les activités'!D210=\"\",'1_Lister les activités'!D210=0),\"\",'1_Lister les activités'!D210)","v":""},{"$f":"IFERROR(IF($BH$3=\"\",\"\",'1_Lister les activités'!A211),\"\")","v":""},null,"",{"$f":"IFERROR(IF($BH$3=\"\",\"\",'1_Lister les activités'!B211),\"\")","v":0},0,"",{"$f":"IFERROR(IF($BH$3=\"\",\"\",'1_Lister les activités'!C211),\"\")","v":"Selectionner"}]
[{"$nulls":9},{"$f":"'2-Programmer les activités'!F215","v":0},{"$f":"'2-Programmer les activités'!G215","v":0},{"$nulls":21},{"$f":"IF('2-Programmer les activités'!J216=\"\",\"\",'2-Programmer les activités'!J216)","v":""},"","","","","-","","","","X",null,"","","","",null,"","","","",null,"","","","",null,null,{"$f":"IF(OR('1_Lister les activités'!D211=\"\",'1_Lister les activités'!D211=0),\"\",'1_Lister les activités'!D211)","v":""},{"$f":"IFERROR(IF($BH$3=\"\",\"\",'1_Lister les activités'!A212),\"\")","v":""},null,"",{"$f":"IFERROR(IF($BH$3=\"\",\"\",'1_Lister les activités'!B212),\"\")","v":0},0,"",{"$f":"IFERROR(IF($BH$3=\"\",\"\",'1_Lister les activités'!C212),\"\")","v":"Selectionner"}]
[{"$nulls":9},{"$f":"'2-Programmer les activités'!F216","v":0},{"$f":"'2-Programmer les activités'!G216","v":0},{"$nulls":21},{"$f":"IF('2-Programmer les activités'!J217=\"\",\"\",'2-Programmer les activités'!J217)","v":""},"","","","","-","","","","X",null,"","","","",null,"","","","",null,"","","","",null,null,{"$f":"IF(OR('1_Lister les activités'!D212=\"\",'1_Lister les activités'!D212=0),\"\",'1_Lister les activités'!D212)","v":""},{"$f":"IFERROR(IF($BH$3=\"\",\"\",'1_Lister les activités'!A213),\"\")","v":""},null,"",{"$f":"IFERROR(IF($BH$3=\"\",\"\",'1_Lister les activités'!B213),\"\")","v":0},0,"",{"$f":"IFERROR(IF($BH$3=\"\",\"\",'1_Lister les activités'!C213),\"\")","v":"Selectionner"}]
[{"$nulls":9},{"$f":"'2-Programmer les activités'!F217","v":0},{"$f":"'2-Programmer les activités'!G217","v":0},{"$nulls":21},{"$f":"IF('2-Programmer les activités'!J218=\"\",\"\",'2-Programmer les activités'!J218)","v":""},"","","","","-","","","","X",null,"","","","",null,"","","","",null,"","","","",null,null,{"$f":"IF(OR('1_Lister les activités'!D213=\"\",'1_Lister les activités'!D213=0),\"\",'1_Lister les activités'!D213)","v":""},{"$f":"IFERROR(IF($BH$3=\"\",\"\",'1_Lister les activités'!A214),\"\")","v":""},null,"",{"$f":"IFERROR(IF($BH$3=\"\",\"\",'1_Lister les activités'!B214),\"\")","v":0},0,"",{"$f":"IFERROR(IF($BH$3=\"\",\"\",'1_Lister les activités'!C214),\"\")","v":"Selectionner"}]
[{"$nulls":9},{"$f":"'2-Programmer les activités'!F218","v":0},{"$f":"'2-Programmer les activités'!G218","v":0},{"$nulls":21},{"$f":"IF('2-Programmer les activités'!J219=\"\",\"\",'2-Programmer les activités'!J219)","v":""},"","","","","-","","","","X",null,"","","","",null,"","","","",null,"","","","",null,null,{"$f":"IF(OR('1_Lister les activités'!D214=\"\",'1_Lister les activités'!D214=0),\"\",'1_Lister les activités'!D214)","v":""},{"$f":"IFERROR(IF($BH$3=\"\",\"\",'1_Lister les activités'!A215),\"\")","v":""},null,"",{"$f":"IFERROR(IF($BH$3=\"\",\"\",'1_Lister les activités'!B215),\"\")","v":0},0,"",{"$f":"IFERROR(IF($BH$3=\"\",\"\",'1_Lister les activités'!C215),\"\")","v":"Selectionner"}]
[{"$nulls":9},{"$f":"'2-Programmer les activités'!F219","v":0},{"$f":"'2-Programmer les activités'!G219","v":0},{"$nulls":21},{"$f":"IF('2-Programmer les activités'!J220=\"\",\"\",'2-Programmer les activités'!J220)","v":""},"","","","","-","","","","X",null,"","","","",null,"","","","",null,"","","","",null,null,{"$f":"IF(OR('1_Lister les activités'!D215=\"\",'1_Lister les activités'!D215=0),\"\",'1_Lister les activités'!D215)","v":""},{"$f":"IFERROR(IF($BH$3=\"\",\"\",'1_Lister les activités'!A216),\"\")","v":""},null,"",{"$f":"IFERROR(IF($BH$3=\"\",\"\",'1_Lister les activités'!B216),\"\")","v":0},0,"",{"$f":"IFERROR(IF($BH$3=\"\",\"\",'1_Lister les activités'!C216),\"\")","v":"Selectionner"}]
[{"$nulls":9},{"$f":"'2-Programmer les activités'!F220","v":0},{"$f":"'2-Programmer les activités'!G220","v":0},{"$nulls":21},{"$f":"IF('2-Programmer les activités'!J221=\"\",\"\",'2-Programmer les activités'!J221)","v":""},"","","","","-","","","","X",null,"","","","",null,"","","","",null,"","","","",null,null,{"$f":"IF(OR('1_Lister les activités'!D216=\"\",'1_Lister les activités'!D216=0),\"\",'1_Lister les activités'!D216)","v":""},{"$f":"IFERROR(IF($BH$3=\"\",\"\",'1_Lister les activités'!A217),\"\")","v":""},null,"",{"$f":"IFERROR(IF($BH$3=\"\",\"\",'1_Lister les activités'!B217),\"\")","v":0},0,"",{"$f":"IFERROR(IF($BH$3=\"\",\"\",'1_Lister les activités'!C217),\"\")","v":"Selectionner"}]
[{"$nulls":9},{"$f":"'2-Programmer les activités'!F221","v":0},{"$f":"'2-Programmer les activités'!G221","v":0},{"$nulls":21},{"$f":"IF('2-Programmer les activités'!J222=\"\",\"\",'2-Programmer les activités'!J222)","v":""},"","","","","-","","","","X",null,"","","","",null,"","","","",null,"","","","",null,null,{"$f":"IF(OR('1_Lister les activités'!D217=\"\",'1_Lister les activités'!D217=0),\"\",'1_Lister les activités'!D217)","v":""},{"$f":"IFERROR(IF($BH$3=\"\",\"\",'1_Lister les activités'!A218),\"\")","v":""},null,"",{"$f":"IFERROR(IF($BH$3=\"\",\"\",'1_Lister les activités'!B218),\"\")","v":0},0,"",{"$f":"IFERROR(IF($BH$3=\"\",\"\",'1_Lister les activités'!C218),\"\")","v":"Selectionner"}]
[{"$nulls":9},{"$f":"'2-Programmer les activités'!F222","v":0},{"$f":"'2-Programmer les activités'!G222","v":0},{"$nulls":21},{"$f":"IF('2-Programmer les activités'!J223=\"\",\"\",'2-Programmer les activités'!J223)","v":""},"","","","","-","","","","X",null,"","","","",null,"","","","",null,"","","","",null,null,{"$f":"IF(OR('1_Lister les activités'!D218=\"\",'1_Lister les activités'!D218=0),\"\",'1_Lister les activités'!D218)","v":""},{"$f":"IFERROR(IF($BH$3=\"\",\"\",'1_Lister les activités'!A219),\"\")","v":""},null,"",{"$f":"IFERROR(IF($BH$3=\"\",\"\",'1_Lister les activités'!B219),\"\")","v":0},0,"",{"$f":"IFERROR(IF($BH$3=\"\",\"\",'1_Lister les activités'!C219),\"\")","v":"Selectionner"}]
[{"$nulls":9},{"$f":"'2-Programmer les activités'!F223","v":0},{"$f":"'2-Programmer les activités'!G223","v":0},{"$nulls":21},{"$f":"IF('2-Programmer les activités'!J224=\"\",\"\",'2-Programmer les activités'!J224)","v":""},"","","","","-","","","","X",null,"","","","",null,"","","","",null,"","","","",null,null,{"$f":"IF(OR('1_Lister les activités'!D219=\"\",'1_Lister les activités'!D219=0),\"\",'1_Lister les activités'!D219)","v":""},{"$f":"IFERROR(IF($BH$3=\"\",\"\",'1_Lister les activités'!A220),\"\")","v":""},null,"",{"$f":"IFERROR(IF($BH$3=\"\",\"\",'1_Lister les activités'!B220),\"\")","v":0},0,"",{"$f":"IFERROR(IF($BH$3=\"\",\"\",'1_Lister les activités'!C220),\"\")","v":"Selectionner"}]
[{"$nulls":9},{"$f":"'2-Programmer les activités'!F224","v":0},{"$f":"'2-Programmer les activités'!G224","v":0},{"$nulls":21},{"$f":"IF('2-Programmer les activités'!J225=\"\",\"\",'2-Programmer les activités'!J225)","v":""},"","","","","-","","","","X",null,"","","","",null,"","","","",null,"","","","",null,null,{"$f":"IF(OR('1_Lister les activités'!D220=\"\",'1_Lister les activités'!D220=0),\"\",'1_Lister les activités'!D220)","v":""},{"$f":"IFERROR(IF($BH$3=\"\",\"\",'1_Lister les activités'!A221),\"\")","v":""},null,"",{"$f":"IFERROR(IF($BH$3=\"\",\"\",'1_Lister les activités'!B221),\"\")","v":0},0,"",{"$f":"IFERROR(IF($BH$3=\"\",\"\",'1_Lister les activités'!C221),\"\")","v":"Selectionner"}]
[{"$nulls":9},{"$f":"'2-Programmer les activités'!F225","v":0},{"$f":"'2-Programmer les activités'!G225","v":0},{"$nulls":21},{"$f":"IF('2-Programmer les activités'!J226=\"\",\"\",'2-Programmer les activités'!J226)","v":""},"","","","","-","","","","X",null,"","","","",null,"","","","",null,"","","","",null,null,{"$f":"IF(OR('1_Lister les activités'!D221=\"\",'1_Lister les activités'!D221=0),\"\",'1_Lister les activités'!D221)","v":""},{"$f":"IFERROR(IF($BH$3=\"\",\"\",'1_Lister les activités'!A222),\"\")","v":""},null,"",{"$f":"IFERROR(IF($BH$3=\"\",\"\",'1_Lister les activités'!B222),\"\")","v":0},0,"",{"$f":"IFERROR(IF($BH$3=\"\",\"\",'1_Lister les activités'!C222),\"\")","v":"Selectionner"}]
[{"$nulls":9},{"$f":"'2-Programmer les activités'!F226","v":0},{"$f":"'2-Programmer les activités'!G226","v":0},{"$nulls":21},{"$f":"IF('2-Programmer les activités'!J227=\"\",\"\",'2-Programmer les activités'!J227)","v":""},"","","","","-","","","","X",null,"","","","",null,"","","","",null,"","","","",null,null,{"$f":"IF(OR('1_Lister les activités'!D222=\"\",'1_Lister les activités'!D222=0),\"\",'1_Lister les activités'!D222)","v":""},{"$f":"IFERROR(IF($BH$3=\"\",\"\",'1_Lister les activités'!A223),\"\")","v":""},null,"",{"$f":"IFERROR(IF($BH$3=\"\",\"\",'1_Lister les activités'!B223),\"\")","v":0},0,"",{"$f":"IFERROR(IF($BH$3=\"\",\"\",'1_Lister les activités'!C223),\"\")","v":"Selectionner"}]
[{"$nulls":9},{"$f":"'2-Programmer les activités'!F227","v":0},{"$f":"'2-Programmer les activités'!G227","v":0},{"$nulls":21},{"$f":"IF('2-Programmer les activités'!J228=\"\",\"\",'2-Programmer les activités'!J228)","v":""},"","","","","-","","","","X",null,"","","","",null,"","","","",null,"","","","",null,null,{"$f":"IF(OR('1_Lister les activités'!D223=\"\",'1_Lister les activités'!D223=0),\"\",'1_Lister les activités'!D223)","v":""},{"$f":"IFERROR(IF($BH$3=\"\",\"\",'1_Lister les activités'!A224),\"\")","v":""},null,"",{"$f":"IFERROR(IF($BH$3=\"\",\"\",'1_Lister les activités'!B224),\"\")","v":0},0,"",{"$f":"IFERROR(IF($BH$3=\"\",\"\",'1_Lister les activités'!C224),\"\")","v":"Selectionner"}]
[{"$nulls":9},{"$f":"'2-Programmer les activités'!F228","v":0},{"$f":"'2-Programmer les activités'!G228","v":0},{"$nulls":21},{"$f":"IF('2-Programmer les activités'!J229=\"\",\"\",'2-Programmer les activités'!J229)","v":""},"","","","","-","","","","X",null,"","","","",null,"","","","",null,"","","","",null,null,{"$f":"IF(OR('1_Lister les activités'!D224=\"\",'1_Lister les activités'!D224=0),\"\",'1_Lister les activités'!D224)","v":""},{"$f":"IFERROR(IF($BH$3=\"\",\"\",'1_Lister les activités'!A225),\"\")","v":""},null,"",{"$f":"IFERROR(IF($BH$3=\"\",\"\",'1_Lister les activités'!B225),\"\")","v":0},0,"",{"$f":"IFERROR(IF($BH$3=\"\",\"\",'1_Lister les activités'!C225),\"\")","v":"Selectionner"}]
[{"$nulls":9},{"$f":"'2-Programmer les activités'!F229","v":0},{"$f":"'2-Programmer les activités'!G229","v":0},{"$nulls":21},{"$f":"IF('2-Programmer les activités'!J230=\"\",\"\",'2-Programmer les activités'!J230)","v":""},"","","","","-","","","","X",null,"","","","",null,"","","","",null,"","","","",null,null,{"$f":"IF(OR('1_Lister les activités'!D225=\"\",'1_Lister les activités'!D225=0),\"\",'1_Lister les activités'!D225)","v":""},{"$f":"IFERROR(IF($BH$3=\"\",\"\",'1_Lister les activités'!A226),\"\")","v":""},null,"",{"$f":"IFERROR(IF($BH$3=\"\",\"\",'1_Lister les activités'!B226),\"\")","v":0},0,"",{"$f":"IFERROR(IF($BH$3=\"\",\"\",'1_Lister les activités'!C226),\"\")","v":"Selectionner"}]
[{"$nulls":9},{"$f":"'2-Programmer les activités'!F230","v":0},{"$f":"'2-Programmer les activités'!G230","v":0},{"$nulls":21},{"$f":"IF('2-Programmer les activités'!J231=\"\",\"\",'2-Programmer les activités'!J231)","v":""},"","","","","-","","","","X",null,"","","","",null,"","","","",null,"","","","",null,null,{"$f":"IF(OR('1_Lister les activités'!D226=\"\",'1_Lister les activités'!D226=0),\"\",'1_Lister les activités'!D226)","v":""},{"$f":"IFERROR(IF($BH$3=\"\",\"\",'1_Lister les activités'!A227),\"\")","v":""},null,"",{"$f":"IFERROR(IF($BH$3=\"\",\"\",'1_Lister les activités'!B227),\"\")","v":0},0,"",{"$f":"IFERROR(IF($BH$3=\"\",\"\",'1_Lister les activités'!C227),\"\")","v":"Selectionner"}]
[{"$nulls":9},{"$f":"'2-Programmer les activités'!F231","v":0},{"$f":"'2-Programmer les activités'!G231","v":0},{"$nulls":21},{"$f":"IF('2-Programmer les activités'!J232=\"\",\"\",'2-Programmer les activités'!J232)","v":""},"","","","","-","","","","X",null,"","","","",null,"","","","",null,"","","","",null,null,{"$f":"IF(OR('1_Lister les activités'!D227=\"\",'1_Lister les activités'!D227=0),\"\",'1_Lister les activités'!D227)","v":""},{"$f":"IFERROR(IF($BH$3=\"\",\"\",'1_Lister les activités'!A228),\"\")","v":""},null,"",{"$f":"IFERROR(IF($BH$3=\"\",\"\",'1_Lister les activités'!B228),\"\")","v":0},0,"",{"$f":"IFERROR(IF($BH$3=\"\",\"\",'1_Lister les activités'!C228),\"\")","v":"Selectionner"}]
[{"$nulls":9},{"$f":"'2-Programmer les activités'!F232","v":0},{"$f":"'2-Programmer les activités'!G232","v":0},{"$nulls":21},{"$f":"IF('2-Programmer les activités'!J233=\"\",\"\",'2-Programmer les activités'!J233)","v":""},"","","","","-","","","","X",null,"","","","",null,"","","","",null,"","","","",null,null,{"$f":"IF(OR('1_Lister les activités'!D228=\"\",'1_Lister les activités'!D228=0),\"\",'1_Lister les activités'!D228)","v":""},{"$f":"IFERROR(IF($BH$3=\"\",\"\",'1_Lister les activités'!A229),\"\")","v":""},null,"",{"$f":"IFERROR(IF($BH$3=\"\",\"\",'1_Lister les activités'!B229),\"\")","v":0},0,"",{"$f":"IFERROR(IF($BH$3=\"\",\"\",'1_Lister les activités'!C229),\"\")","v":"Selectionner"}]
[{"$nulls":9},{"$f":"'2-Programmer les activités'!F233","v":0},{"$f":"'2-Programmer les activités'!G233","v":0},{"$nulls":21},{"$f":"IF('2-Programmer les activités'!J234=\"\",\"\",'2-Programmer les activités'!J234)","v":""},"","","","","-","","","","X",null,"","","","",null,"","","","",null,"","","","",null,null,{"$f":"IF(OR('1_Lister les activités'!D229=\"\",'1_Lister les activités'!D229=0),\"\",'1_Lister les activités'!D229)","v":""},{"$f":"IFERROR(IF($BH$3=\"\",\"\",'1_Lister les activités'!A230),\"\")","v":""},null,"",{"$f":"IFERROR(IF($BH$3=\"\",\"\",'1_Lister les activités'!B230),\"\")","v":0},0,"",{"$f":"IFERROR(IF($BH$3=\"\",\"\",'1_Lister les activités'!C230),\"\")","v":"Selectionner"}]
[{"$nulls":9},{"$f":"'2-Programmer les activités'!F234","v":0},{"$f":"'2-Programmer les activités'!G234","v":0},{"$nulls":21},{"$f":"IF('2-Programmer les activités'!J235=\"\",\"\",'2-Programmer les activités'!J235)","v":""},"","","","","-","","","","X",null,"","","","",null,"","","","",null,"","","","",null,null,{"$f":"IF(OR('1_Lister les activités'!D230=\"\",'1_Lister les activités'!D230=0),\"\",'1_Lister les activités'!D230)","v":""},{"$f":"IFERROR(IF($BH$3=\"\",\"\",'1_Lister les activités'!A231),\"\")","v":""},null,"",{"$f":"IFERROR(IF($BH$3=\"\",\"\",'1_Lister les activités'!B231),\"\")","v":0},0,"",{"$f":"IFERROR(IF($BH$3=\"\",\"\",'1_Lister les activités'!C231),\"\")","v":"Selectionner"}]
[{"$nulls":9},{"$f":"'2-Programmer les activités'!F235","v":0},{"$f":"'2-Programmer les activités'!G235","v":0},{"$nulls":21},{"$f":"IF('2-Programmer les activités'!J236=\"\",\"\",'2-Programmer les activités'!J236)","v":""},"","","","","-","","","","X",null,"","","","",null,"","","","",null,"","","","",null,null,{"$f":"IF(OR('1_Lister les activités'!D231=\"\",'1_Lister les activités'!D231=0),\"\",'1_Lister les activités'!D231)","v":""},{"$f":"IFERROR(IF($BH$3=\"\",\"\",'1_Lister les activités'!A232),\"\")","v":""},null,"",{"$f":"IFERROR(IF($BH$3=\"\",\"\",'1_Lister les activités'!B232),\"\")","v":0},0,"",{"$f":"IFERROR(IF($BH$3=\"\",\"\",'1_Lister les activités'!C232),\"\")","v":"Selectionner"}]
[{"$nulls":9},{"$f":"'2-Programmer les activités'!F236","v":0},{"$f":"'2-Programmer les activités'!G236","v":0},{"$nulls":21},{"$f":"IF('2-Programmer les activités'!J237=\"\",\"\",'2-Programmer les activités'!J237)","v":""},"","","","","-","","","","X",null,"","","","",null,"","","","",null,"","","","",null,null,{"$f":"IF(OR('1_Lister les activités'!D232=\"\",'1_Lister les activités'!D232=0),\"\",'1_Lister les activités'!D232)","v":""},{"$f":"IFERROR(IF($BH$3=\"\",\"\",'1_Lister les activités'!A233),\"\")","v":""},null,"",{"$f":"IFERROR(IF($BH$3=\"\",\"\",'1_Lister les activités'!B233),\"\")","v":0},0,"",{"$f":"IFERROR(IF($BH$3=\"\",\"\",'1_Lister les activités'!C233),\"\")","v":"Selectionner"}]
[{"$nulls":9},{"$f":"'2-Programmer les activités'!F237","v":0},{"$f":"'2-Programmer les activités'!G237","v":0},{"$nulls":21},{"$f":"IF('2-Programmer les activités'!J238=\"\",\"\",'2-Programmer les activités'!J238)","v":""},"","","","","-","","","","X",null,"","","","",null,"","","","",null,"","","","",null,null,{"$f":"IF(OR('1_Lister les activités'!D233=\"\",'1_Lister les activités'!D233=0),\"\",'1_Lister les activités'!D233)","v":""},{"$f":"IFERROR(IF($BH$3=\"\",\"\",'1_Lister les activités'!A234),\"\")","v":""},null,"",{"$f":"IFERROR(IF($BH$3=\"\",\"\",'1_Lister les activités'!B234),\"\")","v":0},0,"",{"$f":"IFERROR(IF($BH$3=\"\",\"\",'1_Lister les activités'!C234),\"\")","v":"Selectionner"}]
[{"$nulls":9},{"$f":"'2-Programmer les activités'!F238","v":0},{"$f":"'2-Programmer les activités'!G238","v":0},{"$nulls":21},{"$f":"IF('2-Programmer les activités'!J239=\"\",\"\",'2-Programmer les activités'!J239)","v":""},"","","","","-","","","","X",null,"","","","",null,"","","","",null,"","","","",null,null,{"$f":"IF(OR('1_Lister les activités'!D234=\"\",'1_Lister les activités'!D234=0),\"\",'1_Lister les activités'!D234)","v":""},{"$f":"IFERROR(IF($BH$3=\"\",\"\",'1_Lister les activités'!A235),\"\")","v":""},null,"",{"$f":"IFERROR(IF($BH$3=\"\",\"\",'1_Lister les activités'!B235),\"\")","v":0},0,"",{"$f":"IFERROR(IF($BH$3=\"\",\"\",'1_Lister les activités'!C235),\"\")","v":"Selectionner"}]
[{"$nulls":9},{"$f":"'2-Programmer les activités'!F239","v":0},{"$f":"'2-Programmer les activités'!G239","v":0},{"$nulls":21},{"$f":"IF('2-Programmer les activités'!J240=\"\",\"\",'2-Programmer les activités'!J240)","v":""},"","","","","-","","","","X",null,"","","","",null,"","","","",null,"","","","",null,null,{"$f":"IF(OR('1_Lister les activités'!D235=\"\",'1_Lister les activités'!D235=0),\"\",'1_Lister les activités'!D235)","v":""},{"$f":"IFERROR(IF($BH$3=\"\",\"\",'1_Lister les activités'!A236),\"\")","v":""},null,"",{"$f":"IFERROR(IF($BH$3=\"\",\"\",'1_Lister les activités'!B236),\"\")","v":0},0,"",{"$f":"IFERROR(IF($BH$3=\"\",\"\",'1_Lister les activités'!C236),\"\")","v":"Selectionner"}]
[{"$nulls":9},{"$f":"'2-Programmer les activités'!F240","v":0},{"$f":"'2-Programmer les activités'!G240","v":0},{"$nulls":21},{"$f":"IF('2-Programmer les activités'!J241=\"\",\"\",'2-Programmer les activités'!J241)","v":""},"","","","","-","","","","X",null,"","","","",null,"","","","",null,"","","","",null,null,{"$f":"IF(OR('1_Lister les activités'!D236=\"\",'1_Lister les activités'!D236=0),\"\",'1_Lister les activités'!D236)","v":""},{"$f":"IFERROR(IF($BH$3=\"\",\"\",'1_Lister les activités'!A237),\"\")","v":""},null,"",{"$f":"IFERROR(IF($BH$3=\"\",\"\",'1_Lister les activités'!B237),\"\")","v":0},0,"",{"$f":"IFERROR(IF($BH$3=\"\",\"\",'1_Lister les activités'!C237),\"\")","v":"Selectionner"}]
[{"$nulls":9},{"$f":"'2-Programmer les activités'!F241","v":0},{"$f":"'2-Programmer les activités'!G241","v":0},{"$nulls":21},{"$f":"IF('2-Programmer les activités'!J242=\"\",\"\",'2-Programmer les activités'!J242)","v":""},"","","","","-","","","","X",null,"","","","",null,"","","","",null,"","","","",null,null,{"$f":"IF(OR('1_Lister les activités'!D237=\"\",'1_Lister les activités'!D237=0),\"\",'1_Lister les activités'!D237)","v":""},{"$f":"IFERROR(IF($BH$3=\"\",\"\",'1_Lister les activités'!A238),\"\")","v":""},null,"",{"$f":"IFERROR(IF($BH$3=\"\",\"\",'1_Lister les activités'!B238),\"\")","v":0},0,"",{"$f":"IFERROR(IF($BH$3=\"\",\"\",'1_Lister les activités'!C238),\"\")","v":"Selectionner"}]
[{"$nulls":9},{"$f":"'2-Programmer les activités'!F242","v":0},{"$f":"'2-Programmer les activités'!G242","v":0},{"$nulls":21},{"$f":"IF('2-Programmer les activités'!J243=\"\",\"\",'2-Programmer les activités'!J243)","v":""},"","","","","-","","","","X",null,"","","","",null,"","","","",null,"","","","",null,null,{"$f":"IF(OR('1_Lister les activités'!D238=\"\",'1_Lister les activités'!D238=0),\"\",'1_Lister les activités'!D238)","v":""},{"$f":"IFERROR(IF($BH$3=\"\",\"\",'1_Lister les activités'!A239),\"\")","v":""},null,"",{"$f":"IFERROR(IF($BH$3=\"\",\"\",'1_Lister les activités'!B239),\"\")","v":0},0,"",{"$f":"IFERROR(IF($BH$3=\"\",\"\",'1_Lister les activités'!C239),\"\")","v":"Selectionner"}]
[{"$nulls":9},{"$f":"'2-Programmer les activités'!F243","v":0},{"$f":"'2-Programmer les activités'!G243","v":0},{"$nulls":21},{"$f":"IF('2-Programmer les activités'!J244=\"\",\"\",'2-Programmer les activités'!J244)","v":""},{"$f":"IF(AG238=\"\",\"\",MONTH(AG238))","v":""},"",{"$f":"IF(AG238=\"\",\"\",DAY(AG238))","v":""},{"$f":"IFERROR(YEAR(AG238),\"\")","v":""},{"$f":"IFERROR(CONCATENATE(AI238,\"-\",AK238),\"\")","v":"-"},{"$f":"IF(AJ238<8,\"X\",\"\")","v":""},{"$f":"IF(AND(AJ238>7,AND(AJ238<15)),\"X\",\"\")","v":""},{"$f":"IF(AND(AJ238>14,AND(AJ238<22)),\"X\",\"\")","v":""},{"$f":"IF(AJ238>21,\"X\",\"\")","v":"X"},null,{"$f":"IF(AL238=$AR$4,AM238,\"\")","v":""},{"$f":"IF(AL238=$AR$4,AN238,\"\")","v":""},{"$f":"IF(AL238=$AR$4,AO238,\"\")","v":""},{"$f":"IF(AL238=$AR$4,AP238,\"\")","v":""},null,{"$f":"IF(AL238=$AW$4,AM238,\"\")","v":""},{"$f":"IF(AL238=$AW$4,AN238,\"\")","v":""},{"$f":"IF(AL238=$AW$4,AO238,\"\")","v":""},{"$f":"IF(AL238=$AW$4,AP238,\"\")","v":""},null,{"$f":"IF(AL238=$BB$4,AM238,\"\")","v":""},{"$f":"IF(AL238=$BB$4,AN238,\"\")","v":""},{"$f":"IF(AL238=$BB$4,AO238,\"\")","v":""},{"$f":"IF(AL238=$BB$4,AP238,\"\")","v":""},null,null,{"$f":"IF(OR('1_Lister les activités'!D239=\"\",'1_Lister les activités'!D239=0),\"\",'1_Lister les activités'!D239)","v":""},{"$f":"IFERROR(IF($BH$3=\"\",\"\",'1_Lister les activités'!A240),\"\")","v":""},null,"",{"$f":"IFERROR(IF($BH$3=\"\",\"\",'1_Lister les activités'!B240),\"\")","v":0},0,"",{"$f":"IFERROR(IF($BH$3=\"\",\"\",'1_Lister les activités'!C240),\"\")","v":"Selectionner"}]
[{"$nulls":9},{"$f":"'2-Programmer les activités'!F244","v":0},{"$f":"'2-Programmer les activités'!G244","v":0},{"$nulls":21},{"$f":"IF('2-Programmer les activités'!J245=\"\",\"\",'2-Programmer les activités'!J245)","v":""},"","","","","-","","","","X",null,"","","","",null,"","","","",null,"","","","",null,null,{"$f":"IF(OR('1_Lister les activités'!D240=\"\",'1_Lister les activités'!D240=0),\"\",'1_Lister les activités'!D240)","v":""},{"$f":"IFERROR(IF($BH$3=\"\",\"\",'1_Lister les activités'!A241),\"\")","v":""},null,"",{"$f":"IFERROR(IF($BH$3=\"\",\"\",'1_Lister les activités'!B241),\"\")","v":0},0,"",{"$f":"IFERROR(IF($BH$3=\"\",\"\",'1_Lister les activités'!C241),\"\")","v":"Selectionner"}]
[{"$nulls":9},{"$f":"'2-Programmer les activités'!F245","v":0},{"$f":"'2-Programmer les activités'!G245","v":0},{"$nulls":21},{"$f":"IF('2-Programmer les activités'!J246=\"\",\"\",'2-Programmer les activités'!J246)","v":""},"","","","","-","","","","X",null,"","","","",null,"","","","",null,"","","","",null,null,{"$f":"IF(OR('1_Lister les activités'!D241=\"\",'1_Lister les activités'!D241=0),\"\",'1_Lister les activités'!D241)","v":""},{"$f":"IFERROR(IF($BH$3=\"\",\"\",'1_Lister les activités'!A242),\"\")","v":""},null,"",{"$f":"IFERROR(IF($BH$3=\"\",\"\",'1_Lister les activités'!B242),\"\")","v":0},0,"",{"$f":"IFERROR(IF($BH$3=\"\",\"\",'1_Lister les activités'!C242),\"\")","v":"Selectionner"}]
[{"$nulls":9},{"$f":"'2-Programmer les activités'!F246","v":0},{"$f":"'2-Programmer les activités'!G246","v":0},{"$nulls":21},{"$f":"IF('2-Programmer les activités'!J247=\"\",\"\",'2-Programmer les activités'!J247)","v":""},"","","","","-","","","","X",null,"","","","",null,"","","","",null,"","","","",null,null,{"$f":"IF(OR('1_Lister les activités'!D242=\"\",'1_Lister les activités'!D242=0),\"\",'1_Lister les activités'!D242)","v":""},{"$f":"IFERROR(IF($BH$3=\"\",\"\",'1_Lister les activités'!A243),\"\")","v":""},null,"",{"$f":"IFERROR(IF($BH$3=\"\",\"\",'1_Lister les activités'!B243),\"\")","v":0},0,"",{"$f":"IFERROR(IF($BH$3=\"\",\"\",'1_Lister les activités'!C243),\"\")","v":"Selectionner"}]
[{"$nulls":9},{"$f":"'2-Programmer les activités'!F247","v":0},{"$f":"'2-Programmer les activités'!G247","v":0},{"$nulls":21},{"$f":"IF('2-Programmer les activités'!J248=\"\",\"\",'2-Programmer les activités'!J248)","v":""},"","","","","-","","","","X",null,"","","","",null,"","","","",null,"","","","",null,null,{"$f":"IF(OR('1_Lister les activités'!D243=\"\",'1_Lister les activités'!D243=0),\"\",'1_Lister les activités'!D243)","v":""},{"$f":"IFERROR(IF($BH$3=\"\",\"\",'1_Lister les activités'!A244),\"\")","v":""},null,"",{"$f":"IFERROR(IF($BH$3=\"\",\"\",'1_Lister les activités'!B244),\"\")","v":0},0,"",{"$f":"IFERROR(IF($BH$3=\"\",\"\",'1_Lister les activités'!C244),\"\")","v":"Selectionner"}]
[{"$nulls":9},{"$f":"'2-Programmer les activités'!F248","v":0},{"$f":"'2-Programmer les activités'!G248","v":0},{"$nulls":21},{"$f":"IF('2-Programmer les activités'!J249=\"\",\"\",'2-Programmer les activités'!J249)","v":""},"","","","","-","","","","X",null,"","","","",null,"","","","",null,"","","","",null,null,{"$f":"IF(OR('1_Lister les activités'!D244=\"\",'1_Lister les activités'!D244=0),\"\",'1_Lister les activités'!D244)","v":""},{"$f":"IFERROR(IF($BH$3=\"\",\"\",'1_Lister les activités'!A245),\"\")","v":""},null,"",{"$f":"IFERROR(IF($BH$3=\"\",\"\",'1_Lister les activités'!B245),\"\")","v":0},0,"",{"$f":"IFERROR(IF($BH$3=\"\",\"\",'1_Lister les activités'!C245),\"\")","v":"Selectionner"}]
[{"$nulls":9},{"$f":"'2-Programmer les activités'!F249","v":0},{"$f":"'2-Programmer les activités'!G249","v":0},{"$nulls":21},{"$f":"IF('2-Programmer les activités'!J250=\"\",\"\",'2-Programmer les activités'!J250)","v":""},"","","","","-","","","","X",null,"","","","",null,"","","","",null,"","","","",null,null,{"$f":"IF(OR('1_Lister les activités'!D245=\"\",'1_Lister les activités'!D245=0),\"\",'1_Lister les activités'!D245)","v":""},{"$f":"IFERROR(IF($BH$3=\"\",\"\",'1_Lister les activités'!A246),\"\")","v":""},null,"",{"$f":"IFERROR(IF($BH$3=\"\",\"\",'1_Lister les activités'!B246),\"\")","v":0},0,"",{"$f":"IFERROR(IF($BH$3=\"\",\"\",'1_Lister les activités'!C246),\"\")","v":"Selectionner"}]
[{"$nulls":9},{"$f":"'2-Programmer les activités'!F250","v":0},{"$f":"'2-Programmer les activités'!G250","v":0},{"$nulls":21},{"$f":"IF('2-Programmer les activités'!J251=\"\",\"\",'2-Programmer les activités'!J251)","v":""},"","","","","-","","","","X",null,"","","","",null,"","","","",null,"","","","",null,null,{"$f":"IF(OR('1_Lister les activités'!D246=\"\",'1_Lister les activités'!D246=0),\"\",'1_Lister les activités'!D246)","v":""},{"$f":"IFERROR(IF($BH$3=\"\",\"\",'1_Lister les activités'!A247),\"\")","v":""},null,"",{"$f":"IFERROR(IF($BH$3=\"\",\"\",'1_Lister les activités'!B247),\"\")","v":0},0,"",{"$f":"IFERROR(IF($BH$3=\"\",\"\",'1_Lister les activités'!C247),\"\")","v":"Selectionner"}]
[{"$nulls":9},{"$f":"'2-Programmer les activités'!F251","v":0},{"$f":"'2-Programmer les activités'!G251","v":0},{"$nulls":21},{"$f":"IF('2-Programmer les activités'!J252=\"\",\"\",'2-Programmer les activités'!J252)","v":""},"","","","","-","","","","X",null,"","","","",null,"","","","",null,"","","","",null,null,{"$f":"IF(OR('1_Lister les activités'!D247=\"\",'1_Lister les activités'!D247=0),\"\",'1_Lister les activités'!D247)","v":""},{"$f":"IFERROR(IF($BH$3=\"\",\"\",'1_Lister les activités'!A248),\"\")","v":""},null,"",{"$f":"IFERROR(IF($BH$3=\"\",\"\",'1_Lister les activités'!B248),\"\")","v":0},0,"",{"$f":"IFERROR(IF($BH$3=\"\",\"\",'1_Lister les activités'!C248),\"\")","v":"Selectionner"}]
[{"$nulls":9},{"$f":"'2-Programmer les activités'!F252","v":0},{"$f":"'2-Programmer les activités'!G252","v":0},{"$nulls":21},{"$f":"IF('2-Programmer les activités'!J253=\"\",\"\",'2-Programmer les activités'!J253)","v":""},"","","","","-","","","","X",null,"","","","",null,"","","","",null,"","","","",null,null,{"$f":"IF(OR('1_Lister les activités'!D248=\"\",'1_Lister les activités'!D248=0),\"\",'1_Lister les activités'!D248)","v":""},{"$f":"IFERROR(IF($BH$3=\"\",\"\",'1_Lister les activités'!A249),\"\")","v":""},null,"",{"$f":"IFERROR(IF($BH$3=\"\",\"\",'1_Lister les activités'!B249),\"\")","v":0},0,"",{"$f":"IFERROR(IF($BH$3=\"\",\"\",'1_Lister les activités'!C249),\"\")","v":"Selectionner"}]
[{"$nulls":9},{"$f":"'2-Programmer les activités'!F253","v":0},{"$f":"'2-Programmer les activités'!G253","v":0},{"$nulls":21},{"$f":"IF('2-Programmer les activités'!J254=\"\",\"\",'2-Programmer les activités'!J254)","v":""},"","","","","-","","","","X",null,"","","","",null,"","","","",null,"","","","",null,null,{"$f":"IF(OR('1_Lister les activités'!D249=\"\",'1_Lister les activités'!D249=0),\"\",'1_Lister les activités'!D249)","v":""},{"$f":"IFERROR(IF($BH$3=\"\",\"\",'1_Lister les activités'!A250),\"\")","v":""},null,"",{"$f":"IFERROR(IF($BH$3=\"\",\"\",'1_Lister les activités'!B250),\"\")","v":0},0,"",{"$f":"IFERROR(IF($BH$3=\"\",\"\",'1_Lister les activités'!C250),\"\")","v":"Selectionner"}]
[{"$nulls":9},{"$f":"'2-Programmer les activités'!F254","v":0},{"$f":"'2-Programmer les activités'!G254","v":0},{"$nulls":21},{"$f":"IF('2-Programmer les activités'!J255=\"\",\"\",'2-Programmer les activités'!J255)","v":""},"","","","","-","","","","X",null,"","","","",null,"","","","",null,"","","","",null,null,{"$f":"IF(OR('1_Lister les activités'!D250=\"\",'1_Lister les activités'!D250=0),\"\",'1_Lister les activités'!D250)","v":""},{"$f":"IFERROR(IF($BH$3=\"\",\"\",'1_Lister les activités'!A251),\"\")","v":""},null,"",{"$f":"IFERROR(IF($BH$3=\"\",\"\",'1_Lister les activités'!B251),\"\")","v":0},0,"",{"$f":"IFERROR(IF($BH$3=\"\",\"\",'1_Lister les activités'!C251),\"\")","v":"Selectionner"}]
[{"$nulls":9},{"$f":"'2-Programmer les activités'!F255","v":0},{"$f":"'2-Programmer les activités'!G255","v":0},{"$nulls":21},{"$f":"IF('2-Programmer les activités'!J256=\"\",\"\",'2-Programmer les activités'!J256)","v":""},"","","","","-","","","","X",null,"","","","",null,"","","","",null,"","","","",null,null,{"$f":"IF(OR('1_Lister les activités'!D251=\"\",'1_Lister les activités'!D251=0),\"\",'1_Lister les activités'!D251)","v":""},{"$f":"IFERROR(IF($BH$3=\"\",\"\",'1_Lister les activités'!A252),\"\")","v":""},null,"",{"$f":"IFERROR(IF($BH$3=\"\",\"\",'1_Lister les activités'!B252),\"\")","v":0},0,"",{"$f":"IFERROR(IF($BH$3=\"\",\"\",'1_Lister les activités'!C252),\"\")","v":"Selectionner"}]
[{"$nulls":9},{"$f":"'2-Programmer les activités'!F256","v":0},{"$f":"'2-Programmer les activités'!G256","v":0},{"$nulls":21},{"$f":"IF('2-Programmer les activités'!J257=\"\",\"\",'2-Programmer les activités'!J257)","v":""},"","","","","-","","","","X",null,"","","","",null,"","","","",null,"","","","",null,null,{"$f":"IF(OR('1_Lister les activités'!D252=\"\",'1_Lister les activités'!D252=0),\"\",'1_Lister les activités'!D252)","v":""},{"$f":"IFERROR(IF($BH$3=\"\",\"\",'1_Lister les activités'!A253),\"\")","v":""},null,"",{"$f":"IFERROR(IF($BH$3=\"\",\"\",'1_Lister les activités'!B253),\"\")","v":0},0,"",{"$f":"IFERROR(IF($BH$3=\"\",\"\",'1_Lister les activités'!C253),\"\")","v":"Selectionner"}]
[{"$nulls":9},{"$f":"'2-Programmer les activités'!F257","v":0},{"$f":"'2-Programmer les activités'!G257","v":0},{"$nulls":21},{"$f":"IF('2-Programmer les activités'!J258=\"\",\"\",'2-Programmer les activités'!J258)","v":""},"","","","","-","","","","X",null,"","","","",null,"","","","",null,"","","","",null,null,{"$f":"IF(OR('1_Lister les activités'!D253=\"\",'1_Lister les activités'!D253=0),\"\",'1_Lister les activités'!D253)","v":""},{"$f":"IFERROR(IF($BH$3=\"\",\"\",'1_Lister les activités'!A254),\"\")","v":""},null,"",{"$f":"IFERROR(IF($BH$3=\"\",\"\",'1_Lister les activités'!B254),\"\")","v":0},0,"",{"$f":"IFERROR(IF($BH$3=\"\",\"\",'1_Lister les activités'!C254),\"\")","v":"Selectionner"}]
[{"$nulls":9},{"$f":"'2-Programmer les activités'!F258","v":0},{"$f":"'2-Programmer les activités'!G258","v":0},{"$nulls":21},{"$f":"IF('2-Programmer les activités'!J259=\"\",\"\",'2-Programmer les activités'!J259)","v":""},"","","","","-","","","","X",null,"","","","",null,"","","","",null,"","","","",null,null,{"$f":"IF(OR('1_Lister les activités'!D254=\"\",'1_Lister les activités'!D254=0),\"\",'1_Lister les activités'!D254)","v":""},{"$f":"IFERROR(IF($BH$3=\"\",\"\",'1_Lister les activités'!A255),\"\")","v":""},null,"",{"$f":"IFERROR(IF($BH$3=\"\",\"\",'1_Lister les activités'!B255),\"\")","v":0},0,"",{"$f":"IFERROR(IF($BH$3=\"\",\"\",'1_Lister les activités'!C255),\"\")","v":"Selectionner"}]
[{"$nulls":9},{"$f":"'2-Programmer les activités'!F259","v":0},{"$f":"'2-Programmer les activités'!G259","v":0},{"$nulls":21},{"$f":"IF('2-Programmer les activités'!J260=\"\",\"\",'2-Programmer les activités'!J260)","v":""},"","","","","-","","","","X",null,"","","","",null,"","","","",null,"","","","",null,null,{"$f":"IF(OR('1_Lister les activités'!D255=\"\",'1_Lister les activités'!D255=0),\"\",'1_Lister les activités'!D255)","v":""},{"$f":"IFERROR(IF($BH$3=\"\",\"\",'1_Lister les activités'!A256),\"\")","v":""},null,"",{"$f":"IFERROR(IF($BH$3=\"\",\"\",'1_Lister les activités'!B256),\"\")","v":0},0,"",{"$f":"IFERROR(IF($BH$3=\"\",\"\",'1_Lister les activités'!C256),\"\")","v":"Selectionner"}]
[{"$nulls":9},{"$f":"'2-Programmer les activités'!F260","v":0},{"$f":"'2-Programmer les activités'!G260","v":0},{"$nulls":21},{"$f":"IF('2-Programmer les activités'!J261=\"\",\"\",'2-Programmer les activités'!J261)","v":""},"","","","","-","","","","X",null,"","","","",null,"","","","",null,"","","","",null,null,{"$f":"IF(OR('1_Lister les activités'!D256=\"\",'1_Lister les activités'!D256=0),\"\",'1_Lister les activités'!D256)","v":""},{"$f":"IFERROR(IF($BH$3=\"\",\"\",'1_Lister les activités'!A257),\"\")","v":""},null,"",{"$f":"IFERROR(IF($BH$3=\"\",\"\",'1_Lister les activités'!B257),\"\")","v":0},0,"",{"$f":"IFERROR(IF($BH$3=\"\",\"\",'1_Lister les activités'!C257),\"\")","v":"Selectionner"}]
[{"$nulls":9},{"$f":"'2-Programmer les activités'!F261","v":0},{"$f":"'2-Programmer les activités'!G261","v":0},{"$nulls":21},{"$f":"IF('2-Programmer les activités'!J262=\"\",\"\",'2-Programmer les activités'!J262)","v":""},"","","","","-","","","","X",null,"","","","",null,"","","","",null,"","","","",null,null,{"$f":"IF(OR('1_Lister les activités'!D257=\"\",'1_Lister les activités'!D257=0),\"\",'1_Lister les activités'!D257)","v":""},{"$f":"IFERROR(IF($BH$3=\"\",\"\",'1_Lister les activités'!A258),\"\")","v":""},null,"",{"$f":"IFERROR(IF($BH$3=\"\",\"\",'1_Lister les activités'!B258),\"\")","v":0},0,"",{"$f":"IFERROR(IF($BH$3=\"\",\"\",'1_Lister les activités'!C258),\"\")","v":"Selectionner"}]
[{"$nulls":9},{"$f":"'2-Programmer les activités'!F262","v":0},{"$f":"'2-Programmer les activités'!G262","v":0},{"$nulls":21},{"$f":"IF('2-Programmer les activités'!J263=\"\",\"\",'2-Programmer les activités'!J263)","v":""},"","","","","-","","","","X",null,"","","","",null,"","","","",null,"","","","",null,null,{"$f":"IF(OR('1_Lister les activités'!D258=\"\",'1_Lister les activités'!D258=0),\"\",'1_Lister les activités'!D258)","v":""},{"$f":"IFERROR(IF($BH$3=\"\",\"\",'1_Lister les activités'!A259),\"\")","v":""},null,"",{"$f":"IFERROR(IF($BH$3=\"\",\"\",'1_Lister les activités'!B259),\"\")","v":0},0,"",{"$f":"IFERROR(IF($BH$3=\"\",\"\",'1_Lister les activités'!C259),\"\")","v":"Selectionner"}]
[{"$nulls":9},{"$f":"'2-Programmer les activités'!F263","v":0},{"$f":"'2-Programmer les activités'!G263","v":0},{"$nulls":21},{"$f":"IF('2-Programmer les activités'!J264=\"\",\"\",'2-Programmer les activités'!J264)","v":""},"","","","","-","","","","X",null,"","","","",null,"","","","",null,"","","","",null,null,{"$f":"IF(OR('1_Lister les activités'!D259=\"\",'1_Lister les activités'!D259=0),\"\",'1_Lister les activités'!D259)","v":""},{"$f":"IFERROR(IF($BH$3=\"\",\"\",'1_Lister les activités'!A260),\"\")","v":""},null,"",{"$f":"IFERROR(IF($BH$3=\"\",\"\",'1_Lister les activités'!B260),\"\")","v":0},0,"",{"$f":"IFERROR(IF($BH$3=\"\",\"\",'1_Lister les activités'!C260),\"\")","v":"Selectionner"}]
[{"$nulls":9},{"$f":"'2-Programmer les activités'!F264","v":0},{"$f":"'2-Programmer les activités'!G264","v":0},{"$nulls":21},{"$f":"IF('2-Programmer les activités'!J265=\"\",\"\",'2-Programmer les activités'!J265)","v":""},"","","","","-","","","","X",null,"","","","",null,"","","","",null,"","","","",null,null,{"$f":"IF(OR('1_Lister les activités'!D260=\"\",'1_Lister les activités'!D260=0),\"\",'1_Lister les activités'!D260)","v":""},{"$f":"IFERROR(IF($BH$3=\"\",\"\",'1_Lister les activités'!A261),\"\")","v":""},null,"",{"$f":"IFERROR(IF($BH$3=\"\",\"\",'1_Lister les activités'!B261),\"\")","v":0},0,"",{"$f":"IFERROR(IF($BH$3=\"\",\"\",'1_Lister les activités'!C261),\"\")","v":"Selectionner"}]
[{"$nulls":9},{"$f":"'2-Programmer les activités'!F265","v":0},{"$f":"'2-Programmer les activités'!G265","v":0},{"$nulls":21},{"$f":"IF('2-Programmer les activités'!J266=\"\",\"\",'2-Programmer les activités'!J266)","v":""},"","","","","-","","","","X",null,"","","","",null,"","","","",null,"","","","",null,null,{"$f":"IF(OR('1_Lister les activités'!D261=\"\",'1_Lister les activités'!D261=0),\"\",'1_Lister les activités'!D261)","v":""},{"$f":"IFERROR(IF($BH$3=\"\",\"\",'1_Lister les activités'!A262),\"\")","v":""},null,"",{"$f":"IFERROR(IF($BH$3=\"\",\"\",'1_Lister les activités'!B262),\"\")","v":0},0,"",{"$f":"IFERROR(IF($BH$3=\"\",\"\",'1_Lister les activités'!C262),\"\")","v":"Selectionner"}]
[{"$nulls":9},{"$f":"'2-Programmer les activités'!F266","v":0},{"$f":"'2-Programmer les activités'!G266","v":0},{"$nulls":21},{"$f":"IF('2-Programmer les activités'!J267=\"\",\"\",'2-Programmer les activités'!J267)","v":""},"","","","","-","","","","X",null,"","","","",null,"","","","",null,"","","","",null,null,{"$f":"IF(OR('1_Lister les activités'!D262=\"\",'1_Lister les activités'!D262=0),\"\",'1_Lister les activités'!D262)","v":""},{"$f":"IFERROR(IF($BH$3=\"\",\"\",'1_Lister les activités'!A263),\"\")","v":""},null,{"$f":"IFERROR(BH262,\"\")","v":""},{"$f":"IFERROR(IF($BH$3=\"\",\"\",'1_Lister les activités'!B263),\"\")","v":0},0,"",{"$f":"IFERROR(IF($BH$3=\"\",\"\",'1_Lister les activités'!C263),\"\")","v":"Selectionner"}]
[{"$nulls":9},{"$f":"'2-Programmer les activités'!F267","v":0},{"$f":"'2-Programmer les activités'!G267","v":0},{"$nulls":21},{"$f":"IF('2-Programmer les activités'!J268=\"\",\"\",'2-Programmer les activités'!J268)","v":""},"",{"$f":"IFERROR(VLOOKUP(AH262,$A$110:$B$121,2,FALSE),\"\")","v":""},"","","-","","","","X",null,"","","","",null,"","","","",null,"","","","",null,null,{"$f":"IF(OR('1_Lister les activités'!D263=\"\",'1_Lister les activités'!D263=0),\"\",'1_Lister les activités'!D263)","v":""},{"$f":"IFERROR(IF($BH$3=\"\",\"\",'1_Lister les activités'!A264),\"\")","v":""},null,"",{"$f":"IFERROR(IF($BH$3=\"\",\"\",'1_Lister les activités'!B264),\"\")","v":0},{"$f":"IFERROR(BL262,\"\")","v":0},{"$f":"IFERROR(BK262,\"\")","v":""},{"$f":"IFERROR(IF($BH$3=\"\",\"\",'1_Lister les activités'!C264),\"\")","v":"Selectionner"}]
[{"$nulls":9},{"$f":"'2-Programmer les activités'!F268","v":0},{"$f":"'2-Programmer les activités'!G268","v":0},{"$nulls":21},{"$f":"IF('2-Programmer les activités'!J269=\"\",\"\",'2-Programmer les activités'!J269)","v":""},"","","","","-","","","","X",null,"","","","",null,"","","","",null,"","","","",null,null,{"$f":"IF(OR('1_Lister les activités'!D264=\"\",'1_Lister les activités'!D264=0),\"\",'1_Lister les activités'!D264)","v":""},{"$f":"IFERROR(IF($BH$3=\"\",\"\",'1_Lister les activités'!A265),\"\")","v":""},null,"",{"$f":"IFERROR(IF($BH$3=\"\",\"\",'1_Lister les activités'!B265),\"\")","v":0},0,"",{"$f":"IFERROR(IF($BH$3=\"\",\"\",'1_Lister les activités'!C265),\"\")","v":"Selectionner"}]
[{"$nulls":9},{"$f":"'2-Programmer les activités'!F269","v":0},{"$f":"'2-Programmer les activités'!G269","v":0},{"$nulls":21},{"$f":"IF('2-Programmer les activités'!J270=\"\",\"\",'2-Programmer les activités'!J270)","v":""},"","","","","-","","","","X",null,"","","","",null,"","","","",null,"","","","",null,null,{"$f":"IF(OR('1_Lister les activités'!D265=\"\",'1_Lister les activités'!D265=0),\"\",'1_Lister les activités'!D265)","v":""},{"$f":"IFERROR(IF($BH$3=\"\",\"\",'1_Lister les activités'!A266),\"\")","v":""},null,"",{"$f":"IFERROR(IF($BH$3=\"\",\"\",'1_Lister les activités'!B266),\"\")","v":0},0,"",{"$f":"IFERROR(IF($BH$3=\"\",\"\",'1_Lister les activités'!C266),\"\")","v":"Selectionner"}]
[{"$nulls":9},{"$f":"'2-Programmer les activités'!F270","v":0},{"$f":"'2-Programmer les activités'!G270","v":0},{"$nulls":21},{"$f":"IF('2-Programmer les activités'!J271=\"\",\"\",'2-Programmer les activités'!J271)","v":""},"","","","","-","","","","X",null,"","","","",null,"","","","",null,"","","","",null,null,{"$f":"IF(OR('1_Lister les activités'!D266=\"\",'1_Lister les activités'!D266=0),\"\",'1_Lister les activités'!D266)","v":""},{"$f":"IFERROR(IF($BH$3=\"\",\"\",'1_Lister les activités'!A267),\"\")","v":""},null,"",{"$f":"IFERROR(IF($BH$3=\"\",\"\",'1_Lister les activités'!B267),\"\")","v":0},0,"",{"$f":"IFERROR(IF($BH$3=\"\",\"\",'1_Lister les activités'!C267),\"\")","v":"Selectionner"}]
[{"$nulls":9},{"$f":"'2-Programmer les activités'!F271","v":0},{"$f":"'2-Programmer les activités'!G271","v":0},{"$nulls":21},{"$f":"IF('2-Programmer les activités'!J272=\"\",\"\",'2-Programmer les activités'!J272)","v":""},"","","","","-","","","","X",null,"","","","",null,"","","","",null,"","","","",null,null,{"$f":"IF(OR('1_Lister les activités'!D267=\"\",'1_Lister les activités'!D267=0),\"\",'1_Lister les activités'!D267)","v":""},{"$f":"IFERROR(IF($BH$3=\"\",\"\",'1_Lister les activités'!A268),\"\")","v":""},null,"",{"$f":"IFERROR(IF($BH$3=\"\",\"\",'1_Lister les activités'!B268),\"\")","v":0},0,"",{"$f":"IFERROR(IF($BH$3=\"\",\"\",'1_Lister les activités'!C268),\"\")","v":"Selectionner"}]
[{"$nulls":9},{"$f":"'2-Programmer les activités'!F272","v":0},{"$f":"'2-Programmer les activités'!G272","v":0},{"$nulls":21},{"$f":"IF('2-Programmer les activités'!J273=\"\",\"\",'2-Programmer les activités'!J273)","v":""},"","","","","-","","","","X",null,"","","","",null,"","","","",null,"","","","",null,null,{"$f":"IF(OR('1_Lister les activités'!D268=\"\",'1_Lister les activités'!D268=0),\"\",'1_Lister les activités'!D268)","v":""},{"$f":"IFERROR(IF($BH$3=\"\",\"\",'1_Lister les activités'!A269),\"\")","v":""},null,"",{"$f":"IFERROR(IF($BH$3=\"\",\"\",'1_Lister les activités'!B269),\"\")","v":0},0,"",{"$f":"IFERROR(IF($BH$3=\"\",\"\",'1_Lister les activités'!C269),\"\")","v":"Selectionner"}]
[{"$nulls":9},{"$f":"'2-Programmer les activités'!F273","v":0},{"$f":"'2-Programmer les activités'!G273","v":0},{"$nulls":21},{"$f":"IF('2-Programmer les activités'!J274=\"\",\"\",'2-Programmer les activités'!J274)","v":""},"","","","","-","","","","X",null,"","","","",null,"","","","",null,"","","","",null,null,{"$f":"IF(OR('1_Lister les activités'!D269=\"\",'1_Lister les activités'!D269=0),\"\",'1_Lister les activités'!D269)","v":""},{"$f":"IFERROR(IF($BH$3=\"\",\"\",'1_Lister les activités'!A270),\"\")","v":""},null,"",{"$f":"IFERROR(IF($BH$3=\"\",\"\",'1_Lister les activités'!B270),\"\")","v":0},0,"",{"$f":"IFERROR(IF($BH$3=\"\",\"\",'1_Lister les activités'!C270),\"\")","v":"Selectionner"}]
[{"$nulls":9},{"$f":"'2-Programmer les activités'!F274","v":0},{"$f":"'2-Programmer les activités'!G274","v":0},{"$nulls":21},{"$f":"IF('2-Programmer les activités'!J275=\"\",\"\",'2-Programmer les activités'!J275)","v":""},"","","","","-","","","","X",null,"","","","",null,"","","","",null,"","","","",null,null,{"$f":"IF(OR('1_Lister les activités'!D270=\"\",'1_Lister les activités'!D270=0),\"\",'1_Lister les activités'!D270)","v":""},{"$f":"IFERROR(IF($BH$3=\"\",\"\",'1_Lister les activités'!A271),\"\")","v":""},null,"",{"$f":"IFERROR(IF($BH$3=\"\",\"\",'1_Lister les activités'!B271),\"\")","v":0},0,"",{"$f":"IFERROR(IF($BH$3=\"\",\"\",'1_Lister les activités'!C271),\"\")","v":"Selectionner"}]
[{"$nulls":9},{"$f":"'2-Programmer les activités'!F275","v":0},{"$f":"'2-Programmer les activités'!G275","v":0},{"$nulls":21},{"$f":"IF('2-Programmer les activités'!J276=\"\",\"\",'2-Programmer les activités'!J276)","v":""},"","","","","-","","","","X",null,"","","","",null,"","","","",null,"","","","",null,null,{"$f":"IF(OR('1_Lister les activités'!D271=\"\",'1_Lister les activités'!D271=0),\"\",'1_Lister les activités'!D271)","v":""},{"$f":"IFERROR(IF($BH$3=\"\",\"\",'1_Lister les activités'!A272),\"\")","v":""},null,"",{"$f":"IFERROR(IF($BH$3=\"\",\"\",'1_Lister les activités'!B272),\"\")","v":0},0,"",{"$f":"IFERROR(IF($BH$3=\"\",\"\",'1_Lister les activités'!C272),\"\")","v":"Selectionner"}]
[{"$nulls":9},{"$f":"'2-Programmer les activités'!F276","v":0},{"$f":"'2-Programmer les activités'!G276","v":0},{"$nulls":21},{"$f":"IF('2-Programmer les activités'!J277=\"\",\"\",'2-Programmer les activités'!J277)","v":""},"","","","","-","","","","X",null,"","","","",null,"","","","",null,"","","","",null,null,{"$f":"IF(OR('1_Lister les activités'!D272=\"\",'1_Lister les activités'!D272=0),\"\",'1_Lister les activités'!D272)","v":""},{"$f":"IFERROR(IF($BH$3=\"\",\"\",'1_Lister les activités'!A273),\"\")","v":""},null,"",{"$f":"IFERROR(IF($BH$3=\"\",\"\",'1_Lister les activités'!B273),\"\")","v":0},0,"",{"$f":"IFERROR(IF($BH$3=\"\",\"\",'1_Lister les activités'!C273),\"\")","v":"Selectionner"}]
[{"$nulls":9},{"$f":"'2-Programmer les activités'!F277","v":0},{"$f":"'2-Programmer les activités'!G277","v":0},{"$nulls":21},{"$f":"IF('2-Programmer les activités'!J278=\"\",\"\",'2-Programmer les activités'!J278)","v":""},"","","","","-","","","","X",null,"","","","",null,"","","","",null,"","","","",null,null,{"$f":"IF(OR('1_Lister les activités'!D273=\"\",'1_Lister les activités'!D273=0),\"\",'1_Lister les activités'!D273)","v":""},{"$f":"IFERROR(IF($BH$3=\"\",\"\",'1_Lister les activités'!A274),\"\")","v":""},null,"",{"$f":"IFERROR(IF($BH$3=\"\",\"\",'1_Lister les activités'!B274),\"\")","v":0},0,"",{"$f":"IFERROR(IF($BH$3=\"\",\"\",'1_Lister les activités'!C274),\"\")","v":"Selectionner"}]
[{"$nulls":9},{"$f":"'2-Programmer les activités'!F278","v":0},{"$f":"'2-Programmer les activités'!G278","v":0},{"$nulls":21},{"$f":"IF('2-Programmer les activités'!J279=\"\",\"\",'2-Programmer les activités'!J279)","v":""},"","","","","-","","","","X",null,"","","","",null,"","","","",null,"","","","",null,null,{"$f":"IF(OR('1_Lister les activités'!D274=\"\",'1_Lister les activités'!D274=0),\"\",'1_Lister les activités'!D274)","v":""},{"$f":"IFERROR(IF($BH$3=\"\",\"\",'1_Lister les activités'!A275),\"\")","v":""},null,"",{"$f":"IFERROR(IF($BH$3=\"\",\"\",'1_Lister les activités'!B275),\"\")","v":0},0,"",{"$f":"IFERROR(IF($BH$3=\"\",\"\",'1_Lister les activités'!C275),\"\")","v":"Selectionner"}]
[{"$nulls":9},{"$f":"'2-Programmer les activités'!F279","v":0},{"$f":"'2-Programmer les activités'!G279","v":0},{"$nulls":21},{"$f":"IF('2-Programmer les activités'!J280=\"\",\"\",'2-Programmer les activités'!J280)","v":""},"","","","","-","","","","X",null,"","","","",null,"","","","",null,"","","","",null,null,{"$f":"IF(OR('1_Lister les activités'!D275=\"\",'1_Lister les activités'!D275=0),\"\",'1_Lister les activités'!D275)","v":""},{"$f":"IFERROR(IF($BH$3=\"\",\"\",'1_Lister les activités'!A276),\"\")","v":""},null,"",{"$f":"IFERROR(IF($BH$3=\"\",\"\",'1_Lister les activités'!B276),\"\")","v":0},0,"",{"$f":"IFERROR(IF($BH$3=\"\",\"\",'1_Lister les activités'!C276),\"\")","v":"Selectionner"}]
[{"$nulls":9},{"$f":"'2-Programmer les activités'!F280","v":0},{"$f":"'2-Programmer les activités'!G280","v":0},{"$nulls":21},{"$f":"IF('2-Programmer les activités'!J281=\"\",\"\",'2-Programmer les activités'!J281)","v":""},"","","","","-","","","","X",null,"","","","",null,"","","","",null,"","","","",null,null,{"$f":"IF(OR('1_Lister les activités'!D276=\"\",'1_Lister les activités'!D276=0),\"\",'1_Lister les activités'!D276)","v":""},{"$f":"IFERROR(IF($BH$3=\"\",\"\",'1_Lister les activités'!A277),\"\")","v":""},null,"",{"$f":"IFERROR(IF($BH$3=\"\",\"\",'1_Lister les activités'!B277),\"\")","v":0},0,"",{"$f":"IFERROR(IF($BH$3=\"\",\"\",'1_Lister les activités'!C277),\"\")","v":"Selectionner"}]
[{"$nulls":9},{"$f":"'2-Programmer les activités'!F281","v":0},{"$f":"'2-Programmer les activités'!G281","v":0},{"$nulls":21},{"$f":"IF('2-Programmer les activités'!J282=\"\",\"\",'2-Programmer les activités'!J282)","v":""},"","","","","-","","","","X",null,"","","","",null,"","","","",null,"","","","",null,null,{"$f":"IF(OR('1_Lister les activités'!D277=\"\",'1_Lister les activités'!D277=0),\"\",'1_Lister les activités'!D277)","v":""},{"$f":"IFERROR(IF($BH$3=\"\",\"\",'1_Lister les activités'!A278),\"\")","v":""},null,"",{"$f":"IFERROR(IF($BH$3=\"\",\"\",'1_Lister les activités'!B278),\"\")","v":0},0,"",{"$f":"IFERROR(IF($BH$3=\"\",\"\",'1_Lister les activités'!C278),\"\")","v":"Selectionner"}]
[{"$nulls":9},{"$f":"'2-Programmer les activités'!F282","v":0},{"$f":"'2-Programmer les activités'!G282","v":0},{"$nulls":21},{"$f":"IF('2-Programmer les activités'!J283=\"\",\"\",'2-Programmer les activités'!J283)","v":""},"","","","","-","","","","X",null,"","","","",null,"","","","",null,"","","","",null,null,{"$f":"IF(OR('1_Lister les activités'!D278=\"\",'1_Lister les activités'!D278=0),\"\",'1_Lister les activités'!D278)","v":""},{"$f":"IFERROR(IF($BH$3=\"\",\"\",'1_Lister les activités'!A279),\"\")","v":""},null,"",{"$f":"IFERROR(IF($BH$3=\"\",\"\",'1_Lister les activités'!B279),\"\")","v":0},0,"",{"$f":"IFERROR(IF($BH$3=\"\",\"\",'1_Lister les activités'!C279),\"\")","v":"Selectionner"}]
[{"$nulls":9},{"$f":"'2-Programmer les activités'!F283","v":0},{"$f":"'2-Programmer les activités'!G283","v":0},{"$nulls":21},{"$f":"IF('2-Programmer les activités'!J284=\"\",\"\",'2-Programmer les activités'!J284)","v":""},"","","","","-","","","","X",null,"","","","",null,"","","","",null,"","","","",null,null,{"$f":"IF(OR('1_Lister les activités'!D279=\"\",'1_Lister les activités'!D279=0),\"\",'1_Lister les activités'!D279)","v":""},{"$f":"IFERROR(IF($BH$3=\"\",\"\",'1_Lister les activités'!A280),\"\")","v":""},null,"",{"$f":"IFERROR(IF($BH$3=\"\",\"\",'1_Lister les activités'!B280),\"\")","v":0},0,"",{"$f":"IFERROR(IF($BH$3=\"\",\"\",'1_Lister les activités'!C280),\"\")","v":"Selectionner"}]
[{"$nulls":9},{"$f":"'2-Programmer les activités'!F284","v":0},{"$f":"'2-Programmer les activités'!G284","v":0},{"$nulls":21},{"$f":"IF('2-Programmer les activités'!J285=\"\",\"\",'2-Programmer les activités'!J285)","v":""},"","","","","-","","","","X",null,"","","","",null,"","","","",null,"","","","",null,null,{"$f":"IF(OR('1_Lister les activités'!D280=\"\",'1_Lister les activités'!D280=0),\"\",'1_Lister les activités'!D280)","v":""},{"$f":"IFERROR(IF($BH$3=\"\",\"\",'1_Lister les activités'!A281),\"\")","v":""},null,"",{"$f":"IFERROR(IF($BH$3=\"\",\"\",'1_Lister les activités'!B281),\"\")","v":0},0,"",{"$f":"IFERROR(IF($BH$3=\"\",\"\",'1_Lister les activités'!C281),\"\")","v":"Selectionner"}]
[{"$nulls":9},{"$f":"'2-Programmer les activités'!F285","v":0},{"$f":"'2-Programmer les activités'!G285","v":0},{"$nulls":21},{"$f":"IF('2-Programmer les activités'!J286=\"\",\"\",'2-Programmer les activités'!J286)","v":""},"","","","","-","","","","X",null,"","","","",null,"","","","",null,"","","","",null,null,{"$f":"IF(OR('1_Lister les activités'!D281=\"\",'1_Lister les activités'!D281=0),\"\",'1_Lister les activités'!D281)","v":""},{"$f":"IFERROR(IF($BH$3=\"\",\"\",'1_Lister les activités'!A282),\"\")","v":""},null,"",{"$f":"IFERROR(IF($BH$3=\"\",\"\",'1_Lister les activités'!B282),\"\")","v":0},0,"",{"$f":"IFERROR(IF($BH$3=\"\",\"\",'1_Lister les activités'!C282),\"\")","v":"Selectionner"}]
[{"$nulls":9},{"$f":"'2-Programmer les activités'!F286","v":0},{"$f":"'2-Programmer les activités'!G286","v":0},{"$nulls":21},{"$f":"IF('2-Programmer les activités'!J287=\"\",\"\",'2-Programmer les activités'!J287)","v":""},"","","","","-","","","","X",null,"","","","",null,"","","","",null,"","","","",null,null,{"$f":"IF(OR('1_Lister les activités'!D282=\"\",'1_Lister les activités'!D282=0),\"\",'1_Lister les activités'!D282)","v":""},{"$f":"IFERROR(IF($BH$3=\"\",\"\",'1_Lister les activités'!A283),\"\")","v":""},null,"",{"$f":"IFERROR(IF($BH$3=\"\",\"\",'1_Lister les activités'!B283),\"\")","v":0},0,"",{"$f":"IFERROR(IF($BH$3=\"\",\"\",'1_Lister les activités'!C283),\"\")","v":"Selectionner"}]
[{"$nulls":9},{"$f":"'2-Programmer les activités'!F287","v":0},{"$f":"'2-Programmer les activités'!G287","v":0},{"$nulls":21},{"$f":"IF('2-Programmer les activités'!J288=\"\",\"\",'2-Programmer les activités'!J288)","v":""},"","","","","-","","","","X",null,"","","","",null,"","","","",null,"","","","",null,null,{"$f":"IF(OR('1_Lister les activités'!D283=\"\",'1_Lister les activités'!D283=0),\"\",'1_Lister les activités'!D283)","v":""},{"$f":"IFERROR(IF($BH$3=\"\",\"\",'1_Lister les activités'!A284),\"\")","v":""},null,"",{"$f":"IFERROR(IF($BH$3=\"\",\"\",'1_Lister les activités'!B284),\"\")","v":0},0,"",{"$f":"IFERROR(IF($BH$3=\"\",\"\",'1_Lister les activités'!C284),\"\")","v":"Selectionner"}]
[{"$nulls":9},{"$f":"'2-Programmer les activités'!F288","v":0},{"$f":"'2-Programmer les activités'!G288","v":0},{"$nulls":21},{"$f":"IF('2-Programmer les activités'!J289=\"\",\"\",'2-Programmer les activités'!J289)","v":""},"","","","","-","","","","X",null,"","","","",null,"","","","",null,"","","","",null,null,{"$f":"IF(OR('1_Lister les activités'!D284=\"\",'1_Lister les activités'!D284=0),\"\",'1_Lister les activités'!D284)","v":""},{"$f":"IFERROR(IF($BH$3=\"\",\"\",'1_Lister les activités'!A285),\"\")","v":""},null,"",{"$f":"IFERROR(IF($BH$3=\"\",\"\",'1_Lister les activités'!B285),\"\")","v":0},0,"",{"$f":"IFERROR(IF($BH$3=\"\",\"\",'1_Lister les activités'!C285),\"\")","v":"Selectionner"}]
[{"$nulls":9},{"$f":"'2-Programmer les activités'!F289","v":0},{"$f":"'2-Programmer les activités'!G289","v":0},{"$nulls":21},{"$f":"IF('2-Programmer les activités'!J290=\"\",\"\",'2-Programmer les activités'!J290)","v":""},"","","","","-","","","","X",null,"","","","",null,"","","","",null,"","","","",null,null,{"$f":"IF(OR('1_Lister les activités'!D285=\"\",'1_Lister les activités'!D285=0),\"\",'1_Lister les activités'!D285)","v":""},{"$f":"IFERROR(IF($BH$3=\"\",\"\",'1_Lister les activités'!A286),\"\")","v":""},null,"",{"$f":"IFERROR(IF($BH$3=\"\",\"\",'1_Lister les activités'!B286),\"\")","v":0},0,"",{"$f":"IFERROR(IF($BH$3=\"\",\"\",'1_Lister les activités'!C286),\"\")","v":"Selectionner"}]
[{"$nulls":9},{"$f":"'2-Programmer les activités'!F290","v":0},{"$f":"'2-Programmer les activités'!G290","v":0},{"$nulls":21},{"$f":"IF('2-Programmer les activités'!J291=\"\",\"\",'2-Programmer les activités'!J291)","v":""},"","","","","-","","","","X",null,"","","","",null,"","","","",null,"","","","",null,null,{"$f":"IF(OR('1_Lister les activités'!D286=\"\",'1_Lister les activités'!D286=0),\"\",'1_Lister les activités'!D286)","v":""},{"$f":"IFERROR(IF($BH$3=\"\",\"\",'1_Lister les activités'!A287),\"\")","v":""},null,"",{"$f":"IFERROR(IF($BH$3=\"\",\"\",'1_Lister les activités'!B287),\"\")","v":0},0,"",{"$f":"IFERROR(IF($BH$3=\"\",\"\",'1_Lister les activités'!C287),\"\")","v":"Selectionner"}]
[{"$nulls":9},{"$f":"'2-Programmer les activités'!F291","v":0},{"$f":"'2-Programmer les activités'!G291","v":0},{"$nulls":21},{"$f":"IF('2-Programmer les activités'!J292=\"\",\"\",'2-Programmer les activités'!J292)","v":""},"","","","","-","","","","X",null,"","","","",null,"","","","",null,"","","","",null,null,{"$f":"IF(OR('1_Lister les activités'!D287=\"\",'1_Lister les activités'!D287=0),\"\",'1_Lister les activités'!D287)","v":""},{"$f":"IFERROR(IF($BH$3=\"\",\"\",'1_Lister les activités'!A288),\"\")","v":""},null,"",{"$f":"IFERROR(IF($BH$3=\"\",\"\",'1_Lister les activités'!B288),\"\")","v":0},0,"",{"$f":"IFERROR(IF($BH$3=\"\",\"\",'1_Lister les activités'!C288),\"\")","v":"Selectionner"}]
[{"$nulls":9},{"$f":"'2-Programmer les activités'!F292","v":0},{"$f":"'2-Programmer les activités'!G292","v":0},{"$nulls":21},{"$f":"IF('2-Programmer les activités'!J293=\"\",\"\",'2-Programmer les activités'!J293)","v":""},"","","","","-","","","","X",null,"","","","",null,"","","","",null,"","","","",null,null,{"$f":"IF(OR('1_Lister les activités'!D288=\"\",'1_Lister les activités'!D288=0),\"\",'1_Lister les activités'!D288)","v":""},{"$f":"IFERROR(IF($BH$3=\"\",\"\",'1_Lister les activités'!A289),\"\")","v":""},null,"",{"$f":"IFERROR(IF($BH$3=\"\",\"\",'1_Lister les activités'!B289),\"\")","v":0},0,"",{"$f":"IFERROR(IF($BH$3=\"\",\"\",'1_Lister les activités'!C289),\"\")","v":"Selectionner"}]
[{"$nulls":9},{"$f":"'2-Programmer les activités'!F293","v":0},{"$f":"'2-Programmer les activités'!G293","v":0},{"$nulls":21},{"$f":"IF('2-Programmer les activités'!J294=\"\",\"\",'2-Programmer les activités'!J294)","v":""},"","","","","-","","","","X",null,"","","","",null,"","","","",null,"","","","",null,null,{"$f":"IF(OR('1_Lister les activités'!D289=\"\",'1_Lister les activités'!D289=0),\"\",'1_Lister les activités'!D289)","v":""},{"$f":"IFERROR(IF($BH$3=\"\",\"\",'1_Lister les activités'!A290),\"\")","v":""},null,"",{"$f":"IFERROR(IF($BH$3=\"\",\"\",'1_Lister les activités'!B290),\"\")","v":0},0,"",{"$f":"IFERROR(IF($BH$3=\"\",\"\",'1_Lister les activités'!C290),\"\")","v":"Selectionner"}]
[{"$nulls":9},{"$f":"'2-Programmer les activités'!F294","v":0},{"$f":"'2-Programmer les activités'!G294","v":0},{"$nulls":21},{"$f":"IF('2-Programmer les activités'!J295=\"\",\"\",'2-Programmer les activités'!J295)","v":""},"","","","","-","","","","X",null,"","","","",null,"","","","",null,"","","","",null,null,{"$f":"IF(OR('1_Lister les activités'!D290=\"\",'1_Lister les activités'!D290=0),\"\",'1_Lister les activités'!D290)","v":""},{"$f":"IFERROR(IF($BH$3=\"\",\"\",'1_Lister les activités'!A291),\"\")","v":""},null,"",{"$f":"IFERROR(IF($BH$3=\"\",\"\",'1_Lister les activités'!B291),\"\")","v":0},0,"",{"$f":"IFERROR(IF($BH$3=\"\",\"\",'1_Lister les activités'!C291),\"\")","v":"Selectionner"}]
[{"$nulls":9},{"$f":"'2-Programmer les activités'!F295","v":0},{"$f":"'2-Programmer les activités'!G295","v":0},{"$nulls":21},{"$f":"IF('2-Programmer les activités'!J296=\"\",\"\",'2-Programmer les activités'!J296)","v":""},"","","","","-","","","","X",null,"","","","",null,"","","","",null,"","","","",null,null,{"$f":"IF(OR('1_Lister les activités'!D291=\"\",'1_Lister les activités'!D291=0),\"\",'1_Lister les activités'!D291)","v":""},{"$f":"IFERROR(IF($BH$3=\"\",\"\",'1_Lister les activités'!A292),\"\")","v":""},null,"",{"$f":"IFERROR(IF($BH$3=\"\",\"\",'1_Lister les activités'!B292),\"\")","v":0},0,"",{"$f":"IFERROR(IF($BH$3=\"\",\"\",'1_Lister les activités'!C292),\"\")","v":"Selectionner"}]
[{"$nulls":9},{"$f":"'2-Programmer les activités'!F296","v":0},{"$f":"'2-Programmer les activités'!G296","v":0},{"$nulls":21},{"$f":"IF('2-Programmer les activités'!J297=\"\",\"\",'2-Programmer les activités'!J297)","v":""},"","","","","-","","","","X",null,"","","","",null,"","","","",null,"","","","",null,null,{"$f":"IF(OR('1_Lister les activités'!D292=\"\",'1_Lister les activités'!D292=0),\"\",'1_Lister les activités'!D292)","v":""},{"$f":"IFERROR(IF($BH$3=\"\",\"\",'1_Lister les activités'!A293),\"\")","v":""},null,"",{"$f":"IFERROR(IF($BH$3=\"\",\"\",'1_Lister les activités'!B293),\"\")","v":0},0,"",{"$f":"IFERROR(IF($BH$3=\"\",\"\",'1_Lister les activités'!C293),\"\")","v":"Selectionner"}]
[{"$nulls":9},{"$f":"'2-Programmer les activités'!F297","v":0},{"$f":"'2-Programmer les activités'!G297","v":0},{"$nulls":21},{"$f":"IF('2-Programmer les activités'!J298=\"\",\"\",'2-Programmer les activités'!J298)","v":""},"","","","","-","","","","X",null,"","","","",null,"","","","",null,"","","","",null,null,{"$f":"IF(OR('1_Lister les activités'!D293=\"\",'1_Lister les activités'!D293=0),\"\",'1_Lister les activités'!D293)","v":""},{"$f":"IFERROR(IF($BH$3=\"\",\"\",'1_Lister les activités'!A294),\"\")","v":""},null,"",{"$f":"IFERROR(IF($BH$3=\"\",\"\",'1_Lister les activités'!B294),\"\")","v":0},0,"",{"$f":"IFERROR(IF($BH$3=\"\",\"\",'1_Lister les activités'!C294),\"\")","v":"Selectionner"}]
[{"$nulls":9},{"$f":"'2-Programmer les activités'!F298","v":0},{"$f":"'2-Programmer les activités'!G298","v":0},{"$nulls":21},{"$f":"IF('2-Programmer les activités'!J299=\"\",\"\",'2-Programmer les activités'!J299)","v":""},"","","","","-","","","","X",null,"","","","",null,"","","","",null,"","","","",null,null,{"$f":"IF(OR('1_Lister les activités'!D294=\"\",'1_Lister les activités'!D294=0),\"\",'1_Lister les activités'!D294)","v":""},{"$f":"IFERROR(IF($BH$3=\"\",\"\",'1_Lister les activités'!A295),\"\")","v":""},null,"",{"$f":"IFERROR(IF($BH$3=\"\",\"\",'1_Lister les activités'!B295),\"\")","v":0},0,"",{"$f":"IFERROR(IF($BH$3=\"\",\"\",'1_Lister les activités'!C295),\"\")","v":"Selectionner"}]
[{"$nulls":9},{"$f":"'2-Programmer les activités'!F299","v":0},{"$f":"'2-Programmer les activités'!G299","v":0},{"$nulls":21},{"$f":"IF('2-Programmer les activités'!J300=\"\",\"\",'2-Programmer les activités'!J300)","v":""},"","","","","-","","","","X",null,"","","","",null,"","","","",null,"","","","",null,null,{"$f":"IF(OR('1_Lister les activités'!D295=\"\",'1_Lister les activités'!D295=0),\"\",'1_Lister les activités'!D295)","v":""},{"$f":"IFERROR(IF($BH$3=\"\",\"\",'1_Lister les activités'!A296),\"\")","v":""},null,"",{"$f":"IFERROR(IF($BH$3=\"\",\"\",'1_Lister les activités'!B296),\"\")","v":0},0,"",{"$f":"IFERROR(IF($BH$3=\"\",\"\",'1_Lister les activités'!C296),\"\")","v":"Selectionner"}]
[{"$nulls":9},{"$f":"'2-Programmer les activités'!F300","v":0},{"$f":"'2-Programmer les activités'!G300","v":0},{"$nulls":21},{"$f":"IF('2-Programmer les activités'!J301=\"\",\"\",'2-Programmer les activités'!J301)","v":""},"","","","","-","","","","X",null,"","","","",null,"","","","",null,"","","","",null,null,{"$f":"IF(OR('1_Lister les activités'!D296=\"\",'1_Lister les activités'!D296=0),\"\",'1_Lister les activités'!D296)","v":""},{"$f":"IFERROR(IF($BH$3=\"\",\"\",'1_Lister les activités'!A297),\"\")","v":""},null,"",{"$f":"IFERROR(IF($BH$3=\"\",\"\",'1_Lister les activités'!B297),\"\")","v":0},0,"",{"$f":"IFERROR(IF($BH$3=\"\",\"\",'1_Lister les activités'!C297),\"\")","v":"Selectionner"}]
[{"$nulls":9},{"$f":"'2-Programmer les activités'!F301","v":0},{"$f":"'2-Programmer les activités'!G301","v":0},{"$nulls":21},{"$f":"IF('2-Programmer les activités'!J302=\"\",\"\",'2-Programmer les activités'!J302)","v":""},"","","","","-","","","","X",null,"","","","",null,"","","","",null,"","","","",null,null,{"$f":"IF(OR('1_Lister les activités'!D297=\"\",'1_Lister les activités'!D297=0),\"\",'1_Lister les activités'!D297)","v":""},{"$f":"IFERROR(IF($BH$3=\"\",\"\",'1_Lister les activités'!A298),\"\")","v":""},null,"",{"$f":"IFERROR(IF($BH$3=\"\",\"\",'1_Lister les activités'!B298),\"\")","v":0},0,"",{"$f":"IFERROR(IF($BH$3=\"\",\"\",'1_Lister les activités'!C298),\"\")","v":"Selectionner"}]
[{"$nulls":9},{"$f":"'2-Programmer les activités'!F302","v":0},{"$f":"'2-Programmer les activités'!G302","v":0},{"$nulls":21},{"$f":"IF('2-Programmer les activités'!J303=\"\",\"\",'2-Programmer les activités'!J303)","v":""},{"$f":"IF(AG297=\"\",\"\",MONTH(AG297))","v":""},"",{"$f":"IF(AG297=\"\",\"\",DAY(AG297))","v":""},{"$f":"IFERROR(YEAR(AG297),\"\")","v":""},{"$f":"IFERROR(CONCATENATE(AI297,\"-\",AK297),\"\")","v":"-"},{"$f":"IF(AJ297<8,\"X\",\"\")","v":""},{"$f":"IF(AND(AJ297>7,AND(AJ297<15)),\"X\",\"\")","v":""},{"$f":"IF(AND(AJ297>14,AND(AJ297<22)),\"X\",\"\")","v":""},{"$f":"IF(AJ297>21,\"X\",\"\")","v":"X"},null,{"$f":"IF(AL297=$AR$4,AM297,\"\")","v":""},{"$f":"IF(AL297=$AR$4,AN297,\"\")","v":""},{"$f":"IF(AL297=$AR$4,AO297,\"\")","v":""},{"$f":"IF(AL297=$AR$4,AP297,\"\")","v":""},null,{"$f":"IF(AL297=$AW$4,AM297,\"\")","v":""},{"$f":"IF(AL297=$AW$4,AN297,\"\")","v":""},{"$f":"IF(AL297=$AW$4,AO297,\"\")","v":""},{"$f":"IF(AL297=$AW$4,AP297,\"\")","v":""},null,{"$f":"IF(AL297=$BB$4,AM297,\"\")","v":""},{"$f":"IF(AL297=$BB$4,AN297,\"\")","v":""},{"$f":"IF(AL297=$BB$4,AO297,\"\")","v":""},{"$f":"IF(AL297=$BB$4,AP297,\"\")","v":""},null,null,{"$f":"IF(OR('1_Lister les activités'!D298=\"\",'1_Lister les activités'!D298=0),\"\",'1_Lister les activités'!D298)","v":""},{"$f":"IFERROR(IF($BH$3=\"\",\"\",'1_Lister les activités'!A299),\"\")","v":""},null,"",{"$f":"IFERROR(IF($BH$3=\"\",\"\",'1_Lister les activités'!B299),\"\")","v":0},0,"",{"$f":"IFERROR(IF($BH$3=\"\",\"\",'1_Lister les activités'!C299),\"\")","v":"Selectionner"}]
[{"$nulls":9},{"$f":"'2-Programmer les activités'!F303","v":0},{"$f":"'2-Programmer les activités'!G303","v":0},{"$nulls":21},{"$f":"IF('2-Programmer les activités'!J304=\"\",\"\",'2-Programmer les activités'!J304)","v":""},"","","","","-","","","","X",null,"","","","",null,"","","","",null,"","","","",null,null,{"$f":"IF(OR('1_Lister les activités'!D299=\"\",'1_Lister les activités'!D299=0),\"\",'1_Lister les activités'!D299)","v":""},{"$f":"IFERROR(IF($BH$3=\"\",\"\",'1_Lister les activités'!A300),\"\")","v":""},null,"",{"$f":"IFERROR(IF($BH$3=\"\",\"\",'1_Lister les activités'!B300),\"\")","v":0},0,"",{"$f":"IFERROR(IF($BH$3=\"\",\"\",'1_Lister les activités'!C300),\"\")","v":"Selectionner"}]
[{"$nulls":9},{"$f":"'2-Programmer les activités'!F304","v":0},{"$f":"'2-Programmer les activités'!G304","v":0},{"$nulls":21},{"$f":"IF('2-Programmer les activités'!J305=\"\",\"\",'2-Programmer les activités'!J305)","v":""},"","","","","-","","","","X",null,"","","","",null,"","","","",null,"","","","",null,null,{"$f":"IF(OR('1_Lister les activités'!D300=\"\",'1_Lister les activités'!D300=0),\"\",'1_Lister les activités'!D300)","v":""},{"$f":"IFERROR(IF($BH$3=\"\",\"\",'1_Lister les activités'!A301),\"\")","v":""},null,"",{"$f":"IFERROR(IF($BH$3=\"\",\"\",'1_Lister les activités'!B301),\"\")","v":0},0,"",{"$f":"IFERROR(IF($BH$3=\"\",\"\",'1_Lister les activités'!C301),\"\")","v":"Selectionner"}]
[{"$nulls":9},{"$f":"'2-Programmer les activités'!F305","v":0},{"$f":"'2-Programmer les activités'!G305","v":0},{"$nulls":21},{"$f":"IF('2-Programmer les activités'!J306=\"\",\"\",'2-Programmer les activités'!J306)","v":""},"","","","","-","","","","X",null,"","","","",null,"","","","",null,"","","","",null,null,{"$f":"IF(OR('1_Lister les activités'!D301=\"\",'1_Lister les activités'!D301=0),\"\",'1_Lister les activités'!D301)","v":""},{"$f":"IFERROR(IF($BH$3=\"\",\"\",'1_Lister les activités'!A302),\"\")","v":""},null,"",{"$f":"IFERROR(IF($BH$3=\"\",\"\",'1_Lister les activités'!B302),\"\")","v":0},0,"",{"$f":"IFERROR(IF($BH$3=\"\",\"\",'1_Lister les activités'!C302),\"\")","v":"Selectionner"}]
[{"$nulls":9},{"$f":"'2-Programmer les activités'!F306","v":0},{"$f":"'2-Programmer les activités'!G306","v":0},{"$nulls":21},{"$f":"IF('2-Programmer les activités'!J307=\"\",\"\",'2-Programmer les activités'!J307)","v":""},"","","","","-","","","","X",null,"","","","",null,"","","","",null,"","","","",null,null,{"$f":"IF(OR('1_Lister les activités'!D302=\"\",'1_Lister les activités'!D302=0),\"\",'1_Lister les activités'!D302)","v":""},{"$f":"IFERROR(IF($BH$3=\"\",\"\",'1_Lister les activités'!A303),\"\")","v":""},null,"",{"$f":"IFERROR(IF($BH$3=\"\",\"\",'1_Lister les activités'!B303),\"\")","v":0},0,"",{"$f":"IFERROR(IF($BH$3=\"\",\"\",'1_Lister les activités'!C303),\"\")","v":"Selectionner"}]
[{"$nulls":9},{"$f":"'2-Programmer les activités'!F307","v":0},{"$f":"'2-Programmer les activités'!G307","v":0},{"$nulls":21},{"$f":"IF('2-Programmer les activités'!J308=\"\",\"\",'2-Programmer les activités'!J308)","v":""},"","","","","-","","","","X",null,"","","","",null,"","","","",null,"","","","",null,null,{"$f":"IF(OR('1_Lister les activités'!D303=\"\",'1_Lister les activités'!D303=0),\"\",'1_Lister les activités'!D303)","v":""},{"$f":"IFERROR(IF($BH$3=\"\",\"\",'1_Lister les activités'!A304),\"\")","v":""},null,"",{"$f":"IFERROR(IF($BH$3=\"\",\"\",'1_Lister les activités'!B304),\"\")","v":0},0,"",{"$f":"IFERROR(IF($BH$3=\"\",\"\",'1_Lister les activités'!C304),\"\")","v":"Selectionner"}]
[{"$nulls":9},{"$f":"'2-Programmer les activités'!F308","v":0},{"$f":"'2-Programmer les activités'!G308","v":0},{"$nulls":21},{"$f":"IF('2-Programmer les activités'!J309=\"\",\"\",'2-Programmer les activités'!J309)","v":""},"","","","","-","","","","X",null,"","","","",null,"","","","",null,"","","","",null,null,{"$f":"IF(OR('1_Lister les activités'!D304=\"\",'1_Lister les activités'!D304=0),\"\",'1_Lister les activités'!D304)","v":""},{"$f":"IFERROR(IF($BH$3=\"\",\"\",'1_Lister les activités'!A305),\"\")","v":""},null,"",{"$f":"IFERROR(IF($BH$3=\"\",\"\",'1_Lister les activités'!B305),\"\")","v":0},0,"",{"$f":"IFERROR(IF($BH$3=\"\",\"\",'1_Lister les activités'!C305),\"\")","v":"Selectionner"}]
[{"$nulls":9},{"$f":"'2-Programmer les activités'!F309","v":0},{"$f":"'2-Programmer les activités'!G309","v":0},{"$nulls":21},{"$f":"IF('2-Programmer les activités'!J310=\"\",\"\",'2-Programmer les activités'!J310)","v":""},"","","","","-","","","","X",null,"","","","",null,"","","","",null,"","","","",null,null,{"$f":"IF(OR('1_Lister les activités'!D305=\"\",'1_Lister les activités'!D305=0),\"\",'1_Lister les activités'!D305)","v":""},{"$f":"IFERROR(IF($BH$3=\"\",\"\",'1_Lister les activités'!A306),\"\")","v":""},null,"",{"$f":"IFERROR(IF($BH$3=\"\",\"\",'1_Lister les activités'!B306),\"\")","v":0},0,"",{"$f":"IFERROR(IF($BH$3=\"\",\"\",'1_Lister les activités'!C306),\"\")","v":"Selectionner"}]
[{"$nulls":9},{"$f":"'2-Programmer les activités'!F310","v":0},{"$f":"'2-Programmer les activités'!G310","v":0},{"$nulls":21},{"$f":"IF('2-Programmer les activités'!J311=\"\",\"\",'2-Programmer les activités'!J311)","v":""},"","","","","-","","","","X",null,"","","","",null,"","","","",null,"","","","",null,null,{"$f":"IF(OR('1_Lister les activités'!D306=\"\",'1_Lister les activités'!D306=0),\"\",'1_Lister les activités'!D306)","v":""},{"$f":"IFERROR(IF($BH$3=\"\",\"\",'1_Lister les activités'!A307),\"\")","v":""},null,"",{"$f":"IFERROR(IF($BH$3=\"\",\"\",'1_Lister les activités'!B307),\"\")","v":0},0,"",{"$f":"IFERROR(IF($BH$3=\"\",\"\",'1_Lister les activités'!C307),\"\")","v":"Selectionner"}]
[{"$nulls":9},{"$f":"'2-Programmer les activités'!F311","v":0},{"$f":"'2-Programmer les activités'!G311","v":0},{"$nulls":21},{"$f":"IF('2-Programmer les activités'!J312=\"\",\"\",'2-Programmer les activités'!J312)","v":""},"","","","","-","","","","X",null,"","","","",null,"","","","",null,"","","","",null,null,{"$f":"IF(OR('1_Lister les activités'!D307=\"\",'1_Lister les activités'!D307=0),\"\",'1_Lister les activités'!D307)","v":""},{"$f":"IFERROR(IF($BH$3=\"\",\"\",'1_Lister les activités'!A308),\"\")","v":""},null,"",{"$f":"IFERROR(IF($BH$3=\"\",\"\",'1_Lister les activités'!B308),\"\")","v":0},0,"",{"$f":"IFERROR(IF($BH$3=\"\",\"\",'1_Lister les activités'!C308),\"\")","v":"Selectionner"}]
[{"$nulls":9},{"$f":"'2-Programmer les activités'!F312","v":0},{"$f":"'2-Programmer les activités'!G312","v":0},{"$nulls":21},{"$f":"IF('2-Programmer les activités'!J313=\"\",\"\",'2-Programmer les activités'!J313)","v":""},"","","","","-","","","","X",null,"","","","",null,"","","","",null,"","","","",null,null,{"$f":"IF(OR('1_Lister les activités'!D308=\"\",'1_Lister les activités'!D308=0),\"\",'1_Lister les activités'!D308)","v":""},{"$f":"IFERROR(IF($BH$3=\"\",\"\",'1_Lister les activités'!A309),\"\")","v":""},null,"",{"$f":"IFERROR(IF($BH$3=\"\",\"\",'1_Lister les activités'!B309),\"\")","v":0},0,"",{"$f":"IFERROR(IF($BH$3=\"\",\"\",'1_Lister les activités'!C309),\"\")","v":"Selectionner"}]
[{"$nulls":9},{"$f":"'2-Programmer les activités'!F313","v":0},{"$f":"'2-Programmer les activités'!G313","v":0},{"$nulls":21},{"$f":"IF('2-Programmer les activités'!J314=\"\",\"\",'2-Programmer les activités'!J314)","v":""},"","","","","-","","","","X",null,"","","","",null,"","","","",null,"","","","",null,null,{"$f":"IF(OR('1_Lister les activités'!D309=\"\",'1_Lister les activités'!D309=0),\"\",'1_Lister les activités'!D309)","v":""},{"$f":"IFERROR(IF($BH$3=\"\",\"\",'1_Lister les activités'!A310),\"\")","v":""},null,"",{"$f":"IFERROR(IF($BH$3=\"\",\"\",'1_Lister les activités'!B310),\"\")","v":0},0,"",{"$f":"IFERROR(IF($BH$3=\"\",\"\",'1_Lister les activités'!C310),\"\")","v":"Selectionner"}]
[{"$nulls":9},{"$f":"'2-Programmer les activités'!F314","v":0},{"$f":"'2-Programmer les activités'!G314","v":0},{"$nulls":21},{"$f":"IF('2-Programmer les activités'!J315=\"\",\"\",'2-Programmer les activités'!J315)","v":""},"","","","","-","","","","X",null,"","","","",null,"","","","",null,"","","","",null,null,{"$f":"IF(OR('1_Lister les activités'!D310=\"\",'1_Lister les activités'!D310=0),\"\",'1_Lister les activités'!D310)","v":""},{"$f":"IFERROR(IF($BH$3=\"\",\"\",'1_Lister les activités'!A311),\"\")","v":""},null,"",{"$f":"IFERROR(IF($BH$3=\"\",\"\",'1_Lister les activités'!B311),\"\")","v":0},0,"",{"$f":"IFERROR(IF($BH$3=\"\",\"\",'1_Lister les activités'!C311),\"\")","v":"Selectionner"}]
[{"$nulls":9},{"$f":"'2-Programmer les activités'!F315","v":0},{"$f":"'2-Programmer les activités'!G315","v":0},{"$nulls":21},{"$f":"IF('2-Programmer les activités'!J316=\"\",\"\",'2-Programmer les activités'!J316)","v":""},"","","","","-","","","","X",null,"","","","",null,"","","","",null,"","","","",null,null,{"$f":"IF(OR('1_Lister les activités'!D311=\"\",'1_Lister les activités'!D311=0),\"\",'1_Lister les activités'!D311)","v":""},{"$f":"IFERROR(IF($BH$3=\"\",\"\",'1_Lister les activités'!A312),\"\")","v":""},null,"",{"$f":"IFERROR(IF($BH$3=\"\",\"\",'1_Lister les activités'!B312),\"\")","v":0},0,"",{"$f":"IFERROR(IF($BH$3=\"\",\"\",'1_Lister les activités'!C312),\"\")","v":"Selectionner"}]
[{"$nulls":9},{"$f":"'2-Programmer les activités'!F316","v":0},{"$f":"'2-Programmer les activités'!G316","v":0},{"$nulls":21},{"$f":"IF('2-Programmer les activités'!J317=\"\",\"\",'2-Programmer les activités'!J317)","v":""},"","","","","-","","","","X",null,"","","","",null,"","","","",null,"","","","",null,null,{"$f":"IF(OR('1_Lister les activités'!D312=\"\",'1_Lister les activités'!D312=0),\"\",'1_Lister les activités'!D312)","v":""},{"$f":"IFERROR(IF($BH$3=\"\",\"\",'1_Lister les activités'!A313),\"\")","v":""},null,"",{"$f":"IFERROR(IF($BH$3=\"\",\"\",'1_Lister les activités'!B313),\"\")","v":0},0,"",{"$f":"IFERROR(IF($BH$3=\"\",\"\",'1_Lister les activités'!C313),\"\")","v":"Selectionner"}]
[{"$nulls":9},{"$f":"'2-Programmer les activités'!F317","v":0},{"$f":"'2-Programmer les activités'!G317","v":0},{"$nulls":21},{"$f":"IF('2-Programmer les activités'!J318=\"\",\"\",'2-Programmer les activités'!J318)","v":""},"","","","","-","","","","X",null,"","","","",null,"","","","",null,"","","","",null,null,{"$f":"IF(OR('1_Lister les activités'!D313=\"\",'1_Lister les activités'!D313=0),\"\",'1_Lister les activités'!D313)","v":""},{"$f":"IFERROR(IF($BH$3=\"\",\"\",'1_Lister les activités'!A314),\"\")","v":""},null,"",{"$f":"IFERROR(IF($BH$3=\"\",\"\",'1_Lister les activités'!B314),\"\")","v":0},0,"",{"$f":"IFERROR(IF($BH$3=\"\",\"\",'1_Lister les activités'!C314),\"\")","v":"Selectionner"}]
[{"$nulls":9},{"$f":"'2-Programmer les activités'!F318","v":0},{"$f":"'2-Programmer les activités'!G318","v":0},{"$nulls":21},{"$f":"IF('2-Programmer les activités'!J319=\"\",\"\",'2-Programmer les activités'!J319)","v":""},"","","","","-","","","","X",null,"","","","",null,"","","","",null,"","","","",null,null,{"$f":"IF(OR('1_Lister les activités'!D314=\"\",'1_Lister les activités'!D314=0),\"\",'1_Lister les activités'!D314)","v":""},{"$f":"IFERROR(IF($BH$3=\"\",\"\",'1_Lister les activités'!A315),\"\")","v":""},null,"",{"$f":"IFERROR(IF($BH$3=\"\",\"\",'1_Lister les activités'!B315),\"\")","v":0},0,"",{"$f":"IFERROR(IF($BH$3=\"\",\"\",'1_Lister les activités'!C315),\"\")","v":"Selectionner"}]
[{"$nulls":9},{"$f":"'2-Programmer les activités'!F319","v":0},{"$f":"'2-Programmer les activités'!G319","v":0},{"$nulls":21},{"$f":"IF('2-Programmer les activités'!J320=\"\",\"\",'2-Programmer les activités'!J320)","v":""},"","","","","-","","","","X",null,"","","","",null,"","","","",null,"","","","",null,null,{"$f":"IF(OR('1_Lister les activités'!D315=\"\",'1_Lister les activités'!D315=0),\"\",'1_Lister les activités'!D315)","v":""},{"$f":"IFERROR(IF($BH$3=\"\",\"\",'1_Lister les activités'!A316),\"\")","v":""},null,"",{"$f":"IFERROR(IF($BH$3=\"\",\"\",'1_Lister les activités'!B316),\"\")","v":0},0,"",{"$f":"IFERROR(IF($BH$3=\"\",\"\",'1_Lister les activités'!C316),\"\")","v":"Selectionner"}]
[{"$nulls":9},{"$f":"'2-Programmer les activités'!F320","v":0},{"$f":"'2-Programmer les activités'!G320","v":0},{"$nulls":21},{"$f":"IF('2-Programmer les activités'!J321=\"\",\"\",'2-Programmer les activités'!J321)","v":""},"","","","","-","","","","X",null,"","","","",null,"","","","",null,"","","","",null,null,{"$f":"IF(OR('1_Lister les activités'!D316=\"\",'1_Lister les activités'!D316=0),\"\",'1_Lister les activités'!D316)","v":""},{"$f":"IFERROR(IF($BH$3=\"\",\"\",'1_Lister les activités'!A317),\"\")","v":""},null,"",{"$f":"IFERROR(IF($BH$3=\"\",\"\",'1_Lister les activités'!B317),\"\")","v":0},0,"",{"$f":"IFERROR(IF($BH$3=\"\",\"\",'1_Lister les activités'!C317),\"\")","v":"Selectionner"}]
[{"$nulls":9},{"$f":"'2-Programmer les activités'!F321","v":0},{"$f":"'2-Programmer les activités'!G321","v":0},{"$nulls":21},{"$f":"IF('2-Programmer les activités'!J322=\"\",\"\",'2-Programmer les activités'!J322)","v":""},"","","","","-","","","","X",null,"","","","",null,"","","","",null,"","","","",null,null,{"$f":"IF(OR('1_Lister les activités'!D317=\"\",'1_Lister les activités'!D317=0),\"\",'1_Lister les activités'!D317)","v":""},{"$f":"IFERROR(IF($BH$3=\"\",\"\",'1_Lister les activités'!A318),\"\")","v":""},null,"",{"$f":"IFERROR(IF($BH$3=\"\",\"\",'1_Lister les activités'!B318),\"\")","v":0},0,"",{"$f":"IFERROR(IF($BH$3=\"\",\"\",'1_Lister les activités'!C318),\"\")","v":"Selectionner"}]
[{"$nulls":9},{"$f":"'2-Programmer les activités'!F322","v":0},{"$f":"'2-Programmer les activités'!G322","v":0},{"$nulls":21},{"$f":"IF('2-Programmer les activités'!J323=\"\",\"\",'2-Programmer les activités'!J323)","v":""},"","","","","-","","","","X",null,"","","","",null,"","","","",null,"","","","",null,null,{"$f":"IF(OR('1_Lister les activités'!D318=\"\",'1_Lister les activités'!D318=0),\"\",'1_Lister les activités'!D318)","v":""},{"$f":"IFERROR(IF($BH$3=\"\",\"\",'1_Lister les activités'!A319),\"\")","v":""},null,"",{"$f":"IFERROR(IF($BH$3=\"\",\"\",'1_Lister les activités'!B319),\"\")","v":0},0,"",{"$f":"IFERROR(IF($BH$3=\"\",\"\",'1_Lister les activités'!C319),\"\")","v":"Selectionner"}]
[{"$nulls":9},{"$f":"'2-Programmer les activités'!F323","v":0},{"$f":"'2-Programmer les activités'!G323","v":0},{"$nulls":21},{"$f":"IF('2-Programmer les activités'!J324=\"\",\"\",'2-Programmer les activités'!J324)","v":""},"","","","","-","","","","X",null,"","","","",null,"","","","",null,"","","","",null,null,{"$f":"IF(OR('1_Lister les activités'!D319=\"\",'1_Lister les activités'!D319=0),\"\",'1_Lister les activités'!D319)","v":""},{"$f":"IFERROR(IF($BH$3=\"\",\"\",'1_Lister les activités'!A320),\"\")","v":""},null,"",{"$f":"IFERROR(IF($BH$3=\"\",\"\",'1_Lister les activités'!B320),\"\")","v":0},0,"",{"$f":"IFERROR(IF($BH$3=\"\",\"\",'1_Lister les activités'!C320),\"\")","v":"Selectionner"}]
[{"$nulls":9},{"$f":"'2-Programmer les activités'!F324","v":0},{"$f":"'2-Programmer les activités'!G324","v":0},{"$nulls":21},{"$f":"IF('2-Programmer les activités'!J325=\"\",\"\",'2-Programmer les activités'!J325)","v":""},"","","","","-","","","","X",null,"","","","",null,"","","","",null,"","","","",null,null,{"$f":"IF(OR('1_Lister les activités'!D320=\"\",'1_Lister les activités'!D320=0),\"\",'1_Lister les activités'!D320)","v":""},{"$f":"IFERROR(IF($BH$3=\"\",\"\",'1_Lister les activités'!A321),\"\")","v":""},null,"",{"$f":"IFERROR(IF($BH$3=\"\",\"\",'1_Lister les activités'!B321),\"\")","v":0},0,"",{"$f":"IFERROR(IF($BH$3=\"\",\"\",'1_Lister les activités'!C321),\"\")","v":"Selectionner"}]
[{"$nulls":9},{"$f":"'2-Programmer les activités'!F325","v":0},{"$f":"'2-Programmer les activités'!G325","v":0},{"$nulls":21},{"$f":"IF('2-Programmer les activités'!J326=\"\",\"\",'2-Programmer les activités'!J326)","v":""},"","","","","-","","","","X",null,"","","","",null,"","","","",null,"","","","",null,null,{"$f":"IF(OR('1_Lister les activités'!D321=\"\",'1_Lister les activités'!D321=0),\"\",'1_Lister les activités'!D321)","v":""},{"$f":"IFERROR(IF($BH$3=\"\",\"\",'1_Lister les activités'!A322),\"\")","v":""},null,"",{"$f":"IFERROR(IF($BH$3=\"\",\"\",'1_Lister les activités'!B322),\"\")","v":0},0,"",{"$f":"IFERROR(IF($BH$3=\"\",\"\",'1_Lister les activités'!C322),\"\")","v":"Selectionner"}]
[{"$nulls":9},{"$f":"'2-Programmer les activités'!F326","v":0},{"$f":"'2-Programmer les activités'!G326","v":0},{"$nulls":21},{"$f":"IF('2-Programmer les activités'!J327=\"\",\"\",'2-Programmer les activités'!J327)","v":""},"","","","","-","","","","X",null,"","","","",null,"","","","",null,"","","","",null,null,{"$f":"IF(OR('1_Lister les activités'!D322=\"\",'1_Lister les activités'!D322=0),\"\",'1_Lister les activités'!D322)","v":""},{"$f":"IFERROR(IF($BH$3=\"\",\"\",'1_Lister les activités'!A323),\"\")","v":""},null,"",{"$f":"IFERROR(IF($BH$3=\"\",\"\",'1_Lister les activités'!B323),\"\")","v":0},0,"",{"$f":"IFERROR(IF($BH$3=\"\",\"\",'1_Lister les activités'!C323),\"\")","v":"Selectionner"}]
[{"$nulls":9},{"$f":"'2-Programmer les activités'!F327","v":0},{"$f":"'2-Programmer les activités'!G327","v":0},{"$nulls":21},{"$f":"IF('2-Programmer les activités'!J328=\"\",\"\",'2-Programmer les activités'!J328)","v":""},"","","","","-","","","","X",null,"","","","",null,"","","","",null,"","","","",null,null,{"$f":"IF(OR('1_Lister les activités'!D323=\"\",'1_Lister les activités'!D323=0),\"\",'1_Lister les activités'!D323)","v":""},{"$f":"IFERROR(IF($BH$3=\"\",\"\",'1_Lister les activités'!A324),\"\")","v":""},null,"",{"$f":"IFERROR(IF($BH$3=\"\",\"\",'1_Lister les activités'!B324),\"\")","v":0},0,"",{"$f":"IFERROR(IF($BH$3=\"\",\"\",'1_Lister les activités'!C324),\"\")","v":"Selectionner"}]
[{"$nulls":9},{"$f":"'2-Programmer les activités'!F328","v":0},{"$f":"'2-Programmer les activités'!G328","v":0},{"$nulls":21},{"$f":"IF('2-Programmer les activités'!J329=\"\",\"\",'2-Programmer les activités'!J329)","v":""},"","","","","-","","","","X",null,"","","","",null,"","","","",null,"","","","",null,null,{"$f":"IF(OR('1_Lister les activités'!D324=\"\",'1_Lister les activités'!D324=0),\"\",'1_Lister les activités'!D324)","v":""},{"$f":"IFERROR(IF($BH$3=\"\",\"\",'1_Lister les activités'!A325),\"\")","v":""},null,"",{"$f":"IFERROR(IF($BH$3=\"\",\"\",'1_Lister les activités'!B325),\"\")","v":0},0,"",{"$f":"IFERROR(IF($BH$3=\"\",\"\",'1_Lister les activités'!C325),\"\")","v":"Selectionner"}]
[{"$nulls":9},{"$f":"'2-Programmer les activités'!F329","v":0},{"$f":"'2-Programmer les activités'!G329","v":0},{"$nulls":21},{"$f":"IF('2-Programmer les activités'!J330=\"\",\"\",'2-Programmer les activités'!J330)","v":""},"","","","","-","","","","X",null,"","","","",null,"","","","",null,"","","","",null,null,{"$f":"IF(OR('1_Lister les activités'!D325=\"\",'1_Lister les activités'!D325=0),\"\",'1_Lister les activités'!D325)","v":""},{"$f":"IFERROR(IF($BH$3=\"\",\"\",'1_Lister les activités'!A326),\"\")","v":""},null,"",{"$f":"IFERROR(IF($BH$3=\"\",\"\",'1_Lister les activités'!B326),\"\")","v":0},0,"",{"$f":"IFERROR(IF($BH$3=\"\",\"\",'1_Lister les activités'!C326),\"\")","v":"Selectionner"}]
[{"$nulls":9},{"$f":"'2-Programmer les activités'!F330","v":0},{"$f":"'2-Programmer les activités'!G330","v":0},{"$nulls":21},{"$f":"IF('2-Programmer les activités'!J331=\"\",\"\",'2-Programmer les activités'!J331)","v":""},"","","","","-","","","","X",null,"","","","",null,"","","","",null,"","","","",null,null,{"$f":"IF(OR('1_Lister les activités'!D326=\"\",'1_Lister les activités'!D326=0),\"\",'1_Lister les activités'!D326)","v":""},{"$f":"IFERROR(IF($BH$3=\"\",\"\",'1_Lister les activités'!A327),\"\")","v":""},null,{"$f":"IFERROR(BH326,\"\")","v":""},{"$f":"IFERROR(IF($BH$3=\"\",\"\",'1_Lister les activités'!B327),\"\")","v":0},0,"",{"$f":"IFERROR(IF($BH$3=\"\",\"\",'1_Lister les activités'!C327),\"\")","v":"Selectionner"}]
[{"$nulls":9},{"$f":"'2-Programmer les activités'!F331","v":0},{"$f":"'2-Programmer les activités'!G331","v":0},{"$nulls":21},{"$f":"IF('2-Programmer les activités'!J332=\"\",\"\",'2-Programmer les activités'!J332)","v":""},"",{"$f":"IFERROR(VLOOKUP(AH326,$A$110:$B$121,2,FALSE),\"\")","v":""},"","","-","","","","X",null,"","","","",null,"","","","",null,"","","","",null,null,{"$f":"IF(OR('1_Lister les activités'!D327=\"\",'1_Lister les activités'!D327=0),\"\",'1_Lister les activités'!D327)","v":""},{"$f":"IFERROR(IF($BH$3=\"\",\"\",'1_Lister les activités'!A328),\"\")","v":""},null,"",{"$f":"IFERROR(IF($BH$3=\"\",\"\",'1_Lister les activités'!B328),\"\")","v":0},{"$f":"IFERROR(BL326,\"\")","v":0},{"$f":"IFERROR(BK326,\"\")","v":""},{"$f":"IFERROR(IF($BH$3=\"\",\"\",'1_Lister les activités'!C328),\"\")","v":"Selectionner"}]
[{"$nulls":9},{"$f":"'2-Programmer les activités'!F332","v":0},{"$f":"'2-Programmer les activités'!G332","v":0},{"$nulls":21},{"$f":"IF('2-Programmer les activités'!J333=\"\",\"\",'2-Programmer les activités'!J333)","v":""},"","","","","-","","","","X",null,"","","","",null,"","","","",null,"","","","",null,null,{"$f":"IF(OR('1_Lister les activités'!D328=\"\",'1_Lister les activités'!D328=0),\"\",'1_Lister les activités'!D328)","v":""},{"$f":"IFERROR(IF($BH$3=\"\",\"\",'1_Lister les activités'!A329),\"\")","v":""},null,"",{"$f":"IFERROR(IF($BH$3=\"\",\"\",'1_Lister les activités'!B329),\"\")","v":0},0,"",{"$f":"IFERROR(IF($BH$3=\"\",\"\",'1_Lister les activités'!C329),\"\")","v":"Selectionner"}]
[{"$nulls":9},{"$f":"'2-Programmer les activités'!F333","v":0},{"$f":"'2-Programmer les activités'!G333","v":0},{"$nulls":21},{"$f":"IF('2-Programmer les activités'!J334=\"\",\"\",'2-Programmer les activités'!J334)","v":""},"","","","","-","","","","X",null,"","","","",null,"","","","",null,"","","","",null,null,{"$f":"IF(OR('1_Lister les activités'!D329=\"\",'1_Lister les activités'!D329=0),\"\",'1_Lister les activités'!D329)","v":""},{"$f":"IFERROR(IF($BH$3=\"\",\"\",'1_Lister les activités'!A330),\"\")","v":""},null,"",{"$f":"IFERROR(IF($BH$3=\"\",\"\",'1_Lister les activités'!B330),\"\")","v":0},0,"",{"$f":"IFERROR(IF($BH$3=\"\",\"\",'1_Lister les activités'!C330),\"\")","v":"Selectionner"}]
[{"$nulls":9},{"$f":"'2-Programmer les activités'!F334","v":0},{"$f":"'2-Programmer les activités'!G334","v":0},{"$nulls":21},{"$f":"IF('2-Programmer les activités'!J335=\"\",\"\",'2-Programmer les activités'!J335)","v":""},"","","","","-","","","","X",null,"","","","",null,"","","","",null,"","","","",null,null,{"$f":"IF(OR('1_Lister les activités'!D330=\"\",'1_Lister les activités'!D330=0),\"\",'1_Lister les activités'!D330)","v":""},{"$f":"IFERROR(IF($BH$3=\"\",\"\",'1_Lister les activités'!A331),\"\")","v":""},null,"",{"$f":"IFERROR(IF($BH$3=\"\",\"\",'1_Lister les activités'!B331),\"\")","v":0},0,"",{"$f":"IFERROR(IF($BH$3=\"\",\"\",'1_Lister les activités'!C331),\"\")","v":"Selectionner"}]
[{"$nulls":9},{"$f":"'2-Programmer les activités'!F335","v":0},{"$f":"'2-Programmer les activités'!G335","v":0},{"$nulls":21},{"$f":"IF('2-Programmer les activités'!J336=\"\",\"\",'2-Programmer les activités'!J336)","v":""},"","","","","-","","","","X",null,"","","","",null,"","","","",null,"","","","",null,null,{"$f":"IF(OR('1_Lister les activités'!D331=\"\",'1_Lister les activités'!D331=0),\"\",'1_Lister les activités'!D331)","v":""},{"$f":"IFERROR(IF($BH$3=\"\",\"\",'1_Lister les activités'!A332),\"\")","v":""},null,"",{"$f":"IFERROR(IF($BH$3=\"\",\"\",'1_Lister les activités'!B332),\"\")","v":0},0,"",{"$f":"IFERROR(IF($BH$3=\"\",\"\",'1_Lister les activités'!C332),\"\")","v":"Selectionner"}]
[{"$nulls":9},{"$f":"'2-Programmer les activités'!F336","v":0},{"$f":"'2-Programmer les activités'!G336","v":0},{"$nulls":21},{"$f":"IF('2-Programmer les activités'!J337=\"\",\"\",'2-Programmer les activités'!J337)","v":""},"","","","","-","","","","X",null,"","","","",null,"","","","",null,"","","","",null,null,{"$f":"IF(OR('1_Lister les activités'!D332=\"\",'1_Lister les activités'!D332=0),\"\",'1_Lister les activités'!D332)","v":""},{"$f":"IFERROR(IF($BH$3=\"\",\"\",'1_Lister les activités'!A333),\"\")","v":""},null,"",{"$f":"IFERROR(IF($BH$3=\"\",\"\",'1_Lister les activités'!B333),\"\")","v":0},0,"",{"$f":"IFERROR(IF($BH$3=\"\",\"\",'1_Lister les activités'!C333),\"\")","v":"Selectionner"}]
[{"$nulls":9},{"$f":"'2-Programmer les activités'!F337","v":0},{"$f":"'2-Programmer les activités'!G337","v":0},{"$nulls":21},{"$f":"IF('2-Programmer les activités'!J338=\"\",\"\",'2-Programmer les activités'!J338)","v":""},"","","","","-","","","","X",null,"","","","",null,"","","","",null,"","","","",null,null,{"$f":"IF(OR('1_Lister les activités'!D333=\"\",'1_Lister les activités'!D333=0),\"\",'1_Lister les activités'!D333)","v":""},{"$f":"IFERROR(IF($BH$3=\"\",\"\",'1_Lister les activités'!A334),\"\")","v":""},null,"",{"$f":"IFERROR(IF($BH$3=\"\",\"\",'1_Lister les activités'!B334),\"\")","v":0},0,"",{"$f":"IFERROR(IF($BH$3=\"\",\"\",'1_Lister les activités'!C334),\"\")","v":"Selectionner"}]
[{"$nulls":9},{"$f":"'2-Programmer les activités'!F338","v":0},{"$f":"'2-Programmer les activités'!G338","v":0},{"$nulls":21},{"$f":"IF('2-Programmer les activités'!J339=\"\",\"\",'2-Programmer les activités'!J339)","v":""},"","","","","-","","","","X",null,"","","","",null,"","","","",null,"","","","",null,null,{"$f":"IF(OR('1_Lister les activités'!D334=\"\",'1_Lister les activités'!D334=0),\"\",'1_Lister les activités'!D334)","v":""},{"$f":"IFERROR(IF($BH$3=\"\",\"\",'1_Lister les activités'!A335),\"\")","v":""},null,"",{"$f":"IFERROR(IF($BH$3=\"\",\"\",'1_Lister les activités'!B335),\"\")","v":0},0,"",{"$f":"IFERROR(IF($BH$3=\"\",\"\",'1_Lister les activités'!C335),\"\")","v":"Selectionner"}]
[{"$nulls":9},{"$f":"'2-Programmer les activités'!F339","v":0},{"$f":"'2-Programmer les activités'!G339","v":0},{"$nulls":21},{"$f":"IF('2-Programmer les activités'!J340=\"\",\"\",'2-Programmer les activités'!J340)","v":""},"","","","","-","","","","X",null,"","","","",null,"","","","",null,"","","","",null,null,{"$f":"IF(OR('1_Lister les activités'!D335=\"\",'1_Lister les activités'!D335=0),\"\",'1_Lister les activités'!D335)","v":""},{"$f":"IFERROR(IF($BH$3=\"\",\"\",'1_Lister les activités'!A336),\"\")","v":""},null,"",{"$f":"IFERROR(IF($BH$3=\"\",\"\",'1_Lister les activités'!B336),\"\")","v":0},0,"",{"$f":"IFERROR(IF($BH$3=\"\",\"\",'1_Lister les activités'!C336),\"\")","v":"Selectionner"}]
[{"$nulls":9},{"$f":"'2-Programmer les activités'!F340","v":0},{"$f":"'2-Programmer les activités'!G340","v":0},{"$nulls":21},{"$f":"IF('2-Programmer les activités'!J341=\"\",\"\",'2-Programmer les activités'!J341)","v":""},"","","","","-","","","","X",null,"","","","",null,"","","","",null,"","","","",null,null,{"$f":"IF(OR('1_Lister les activités'!D336=\"\",'1_Lister les activités'!D336=0),\"\",'1_Lister les activités'!D336)","v":""},{"$f":"IFERROR(IF($BH$3=\"\",\"\",'1_Lister les activités'!A337),\"\")","v":""},null,"",{"$f":"IFERROR(IF($BH$3=\"\",\"\",'1_Lister les activités'!B337),\"\")","v":0},0,"",{"$f":"IFERROR(IF($BH$3=\"\",\"\",'1_Lister les activités'!C337),\"\")","v":"Selectionner"}]
[{"$nulls":9},{"$f":"'2-Programmer les activités'!F341","v":0},{"$f":"'2-Programmer les activités'!G341","v":0},{"$nulls":21},{"$f":"IF('2-Programmer les activités'!J342=\"\",\"\",'2-Programmer les activités'!J342)","v":""},"","","","","-","","","","X",null,"","","","",null,"","","","",null,"","","","",null,null,{"$f":"IF(OR('1_Lister les activités'!D337=\"\",'1_Lister les activités'!D337=0),\"\",'1_Lister les activités'!D337)","v":""},{"$f":"IFERROR(IF($BH$3=\"\",\"\",'1_Lister les activités'!A338),\"\")","v":""},null,"",{"$f":"IFERROR(IF($BH$3=\"\",\"\",'1_Lister les activités'!B338),\"\")","v":0},0,"",{"$f":"IFERROR(IF($BH$3=\"\",\"\",'1_Lister les activités'!C338),\"\")","v":"Selectionner"}]
[{"$nulls":9},{"$f":"'2-Programmer les activités'!F342","v":0},{"$f":"'2-Programmer les activités'!G342","v":0},{"$nulls":21},{"$f":"IF('2-Programmer les activités'!J343=\"\",\"\",'2-Programmer les activités'!J343)","v":""},"","","","","-","","","","X",null,"","","","",null,"","","","",null,"","","","",null,null,{"$f":"IF(OR('1_Lister les activités'!D338=\"\",'1_Lister les activités'!D338=0),\"\",'1_Lister les activités'!D338)","v":""},{"$f":"IFERROR(IF($BH$3=\"\",\"\",'1_Lister les activités'!A339),\"\")","v":""},null,"",{"$f":"IFERROR(IF($BH$3=\"\",\"\",'1_Lister les activités'!B339),\"\")","v":0},0,"",{"$f":"IFERROR(IF($BH$3=\"\",\"\",'1_Lister les activités'!C339),\"\")","v":"Selectionner"}]
[{"$nulls":9},{"$f":"'2-Programmer les activités'!F343","v":0},{"$f":"'2-Programmer les activités'!G343","v":0},{"$nulls":21},{"$f":"IF('2-Programmer les activités'!J344=\"\",\"\",'2-Programmer les activités'!J344)","v":""},"","","","","-","","","","X",null,"","","","",null,"","","","",null,"","","","",null,null,{"$f":"IF(OR('1_Lister les activités'!D339=\"\",'1_Lister les activités'!D339=0),\"\",'1_Lister les activités'!D339)","v":""},{"$f":"IFERROR(IF($BH$3=\"\",\"\",'1_Lister les activités'!A340),\"\")","v":""},null,"",{"$f":"IFERROR(IF($BH$3=\"\",\"\",'1_Lister les activités'!B340),\"\")","v":0},0,"",{"$f":"IFERROR(IF($BH$3=\"\",\"\",'1_Lister les activités'!C340),\"\")","v":"Selectionner"}]
[{"$nulls":9},{"$f":"'2-Programmer les activités'!F344","v":0},{"$f":"'2-Programmer les activités'!G344","v":0},{"$nulls":21},{"$f":"IF('2-Programmer les activités'!J345=\"\",\"\",'2-Programmer les activités'!J345)","v":""},"","","","","-","","","","X",null,"","","","",null,"","","","",null,"","","","",null,null,{"$f":"IF(OR('1_Lister les activités'!D340=\"\",'1_Lister les activités'!D340=0),\"\",'1_Lister les activités'!D340)","v":""},{"$f":"IFERROR(IF($BH$3=\"\",\"\",'1_Lister les activités'!A341),\"\")","v":""},null,"",{"$f":"IFERROR(IF($BH$3=\"\",\"\",'1_Lister les activités'!B341),\"\")","v":0},0,"",{"$f":"IFERROR(IF($BH$3=\"\",\"\",'1_Lister les activités'!C341),\"\")","v":"Selectionner"}]
[{"$nulls":9},{"$f":"'2-Programmer les activités'!F345","v":0},{"$f":"'2-Programmer les activités'!G345","v":0},{"$nulls":21},{"$f":"IF('2-Programmer les activités'!J346=\"\",\"\",'2-Programmer les activités'!J346)","v":""},"","","","","-","","","","X",null,"","","","",null,"","","","",null,"","","","",null,null,{"$f":"IF(OR('1_Lister les activités'!D341=\"\",'1_Lister les activités'!D341=0),\"\",'1_Lister les activités'!D341)","v":""},{"$f":"IFERROR(IF($BH$3=\"\",\"\",'1_Lister les activités'!A342),\"\")","v":""},null,"",{"$f":"IFERROR(IF($BH$3=\"\",\"\",'1_Lister les activités'!B342),\"\")","v":0},0,"",{"$f":"IFERROR(IF($BH$3=\"\",\"\",'1_Lister les activités'!C342),\"\")","v":"Selectionner"}]
[{"$nulls":9},{"$f":"'2-Programmer les activités'!F346","v":0},{"$f":"'2-Programmer les activités'!G346","v":0},{"$nulls":21},{"$f":"IF('2-Programmer les activités'!J347=\"\",\"\",'2-Programmer les activités'!J347)","v":""},"","","","","-","","","","X",null,"","","","",null,"","","","",null,"","","","",null,null,{"$f":"IF(OR('1_Lister les activités'!D342=\"\",'1_Lister les activités'!D342=0),\"\",'1_Lister les activités'!D342)","v":""},{"$f":"IFERROR(IF($BH$3=\"\",\"\",'1_Lister les activités'!A343),\"\")","v":""},null,"",{"$f":"IFERROR(IF($BH$3=\"\",\"\",'1_Lister les activités'!B343),\"\")","v":0},0,"",{"$f":"IFERROR(IF($BH$3=\"\",\"\",'1_Lister les activités'!C343),\"\")","v":"Selectionner"}]
[{"$nulls":9},{"$f":"'2-Programmer les activités'!F347","v":0},{"$f":"'2-Programmer les activités'!G347","v":0},{"$nulls":21},{"$f":"IF('2-Programmer les activités'!J348=\"\",\"\",'2-Programmer les activités'!J348)","v":""},"","","","","-","","","","X",null,"","","","",null,"","","","",null,"","","","",null,null,{"$f":"IF(OR('1_Lister les activités'!D343=\"\",'1_Lister les activités'!D343=0),\"\",'1_Lister les activités'!D343)","v":""},{"$f":"IFERROR(IF($BH$3=\"\",\"\",'1_Lister les activités'!A344),\"\")","v":""},null,"",{"$f":"IFERROR(IF($BH$3=\"\",\"\",'1_Lister les activités'!B344),\"\")","v":0},0,"",{"$f":"IFERROR(IF($BH$3=\"\",\"\",'1_Lister les activités'!C344),\"\")","v":"Selectionner"}]
[{"$nulls":9},{"$f":"'2-Programmer les activités'!F348","v":0},{"$f":"'2-Programmer les activités'!G348","v":0},{"$nulls":21},{"$f":"IF('2-Programmer les activités'!J349=\"\",\"\",'2-Programmer les activités'!J349)","v":""},"","","","","-","","","","X",null,"","","","",null,"","","","",null,"","","","",null,null,{"$f":"IF(OR('1_Lister les activités'!D344=\"\",'1_Lister les activités'!D344=0),\"\",'1_Lister les activités'!D344)","v":""},{"$f":"IFERROR(IF($BH$3=\"\",\"\",'1_Lister les activités'!A345),\"\")","v":""},null,"",{"$f":"IFERROR(IF($BH$3=\"\",\"\",'1_Lister les activités'!B345),\"\")","v":0},0,"",{"$f":"IFERROR(IF($BH$3=\"\",\"\",'1_Lister les activités'!C345),\"\")","v":"Selectionner"}]
[{"$nulls":9},{"$f":"'2-Programmer les activités'!F349","v":0},{"$f":"'2-Programmer les activités'!G349","v":0},{"$nulls":21},{"$f":"IF('2-Programmer les activités'!J350=\"\",\"\",'2-Programmer les activités'!J350)","v":""},"","","","","-","","","","X",null,"","","","",null,"","","","",null,"","","","",null,null,{"$f":"IF(OR('1_Lister les activités'!D345=\"\",'1_Lister les activités'!D345=0),\"\",'1_Lister les activités'!D345)","v":""},{"$f":"IFERROR(IF($BH$3=\"\",\"\",'1_Lister les activités'!A346),\"\")","v":""},null,"",{"$f":"IFERROR(IF($BH$3=\"\",\"\",'1_Lister les activités'!B346),\"\")","v":0},0,"",{"$f":"IFERROR(IF($BH$3=\"\",\"\",'1_Lister les activités'!C346),\"\")","v":"Selectionner"}]
[{"$nulls":9},{"$f":"'2-Programmer les activités'!F350","v":0},{"$f":"'2-Programmer les activités'!G350","v":0},{"$nulls":21},{"$f":"IF('2-Programmer les activités'!J351=\"\",\"\",'2-Programmer les activités'!J351)","v":""},"","","","","-","","","","X",null,"","","","",null,"","","","",null,"","","","",null,null,{"$f":"IF(OR('1_Lister les activités'!D346=\"\",'1_Lister les activités'!D346=0),\"\",'1_Lister les activités'!D346)","v":""},{"$f":"IFERROR(IF($BH$3=\"\",\"\",'1_Lister les activités'!A347),\"\")","v":""},null,"",{"$f":"IFERROR(IF($BH$3=\"\",\"\",'1_Lister les activités'!B347),\"\")","v":0},0,"",{"$f":"IFERROR(IF($BH$3=\"\",\"\",'1_Lister les activités'!C347),\"\")","v":"Selectionner"}]
[{"$nulls":9},{"$f":"'2-Programmer les activités'!F351","v":0},{"$f":"'2-Programmer les activités'!G351","v":0},{"$nulls":21},{"$f":"IF('2-Programmer les activités'!J352=\"\",\"\",'2-Programmer les activités'!J352)","v":""},"","","","","-","","","","X",null,"","","","",null,"","","","",null,"","","","",null,null,{"$f":"IF(OR('1_Lister les activités'!D347=\"\",'1_Lister les activités'!D347=0),\"\",'1_Lister les activités'!D347)","v":""},{"$f":"IFERROR(IF($BH$3=\"\",\"\",'1_Lister les activités'!A348),\"\")","v":""},null,"",{"$f":"IFERROR(IF($BH$3=\"\",\"\",'1_Lister les activités'!B348),\"\")","v":0},0,"",{"$f":"IFERROR(IF($BH$3=\"\",\"\",'1_Lister les activités'!C348),\"\")","v":"Selectionner"}]
[{"$nulls":9},{"$f":"'2-Programmer les activités'!F352","v":0},{"$f":"'2-Programmer les activités'!G352","v":0},{"$nulls":21},{"$f":"IF('2-Programmer les activités'!J353=\"\",\"\",'2-Programmer les activités'!J353)","v":""},"","","","","-","","","","X",null,"","","","",null,"","","","",null,"","","","",null,null,{"$f":"IF(OR('1_Lister les activités'!D348=\"\",'1_Lister les activités'!D348=0),\"\",'1_Lister les activités'!D348)","v":""},{"$f":"IFERROR(IF($BH$3=\"\",\"\",'1_Lister les activités'!A349),\"\")","v":""},null,"",{"$f":"IFERROR(IF($BH$3=\"\",\"\",'1_Lister les activités'!B349),\"\")","v":0},0,"",{"$f":"IFERROR(IF($BH$3=\"\",\"\",'1_Lister les activités'!C349),\"\")","v":"Selectionner"}]
[{"$nulls":9},{"$f":"'2-Programmer les activités'!F353","v":0},{"$f":"'2-Programmer les activités'!G353","v":0},{"$nulls":21},{"$f":"IF('2-Programmer les activités'!J354=\"\",\"\",'2-Programmer les activités'!J354)","v":""},"","","","","-","","","","X",null,"","","","",null,"","","","",null,"","","","",null,null,{"$f":"IF(OR('1_Lister les activités'!D349=\"\",'1_Lister les activités'!D349=0),\"\",'1_Lister les activités'!D349)","v":""},{"$f":"IFERROR(IF($BH$3=\"\",\"\",'1_Lister les activités'!A350),\"\")","v":""},null,"",{"$f":"IFERROR(IF($BH$3=\"\",\"\",'1_Lister les activités'!B350),\"\")","v":0},0,"",{"$f":"IFERROR(IF($BH$3=\"\",\"\",'1_Lister les activités'!C350),\"\")","v":"Selectionner"}]
[{"$nulls":9},{"$f":"'2-Programmer les activités'!F354","v":0},{"$f":"'2-Programmer les activités'!G354","v":0},{"$nulls":21},{"$f":"IF('2-Programmer les activités'!J355=\"\",\"\",'2-Programmer les activités'!J355)","v":""},"","","","","-","","","","X",null,"","","","",null,"","","","",null,"","","","",null,null,{"$f":"IF(OR('1_Lister les activités'!D350=\"\",'1_Lister les activités'!D350=0),\"\",'1_Lister les activités'!D350)","v":""},{"$f":"IFERROR(IF($BH$3=\"\",\"\",'1_Lister les activités'!A351),\"\")","v":""},null,"",{"$f":"IFERROR(IF($BH$3=\"\",\"\",'1_Lister les activités'!B351),\"\")","v":0},0,"",{"$f":"IFERROR(IF($BH$3=\"\",\"\",'1_Lister les activités'!C351),\"\")","v":"Selectionner"}]
[{"$nulls":9},{"$f":"'2-Programmer les activités'!F355","v":0},{"$f":"'2-Programmer les activités'!G355","v":0},{"$nulls":21},{"$f":"IF('2-Programmer les activités'!J356=\"\",\"\",'2-Programmer les activités'!J356)","v":""},"","","","","-","","","","X",null,"","","","",null,"","","","",null,"","","","",null,null,{"$f":"IF(OR('1_Lister les activités'!D351=\"\",'1_Lister les activités'!D351=0),\"\",'1_Lister les activités'!D351)","v":""},{"$f":"IFERROR(IF($BH$3=\"\",\"\",'1_Lister les activités'!A352),\"\")","v":""},null,"",{"$f":"IFERROR(IF($BH$3=\"\",\"\",'1_Lister les activités'!B352),\"\")","v":0},0,"",{"$f":"IFERROR(IF($BH$3=\"\",\"\",'1_Lister les activités'!C352),\"\")","v":"Selectionner"}]
[{"$nulls":9},{"$f":"'2-Programmer les activités'!F356","v":0},{"$f":"'2-Programmer les activités'!G356","v":0},{"$nulls":21},{"$f":"IF('2-Programmer les activités'!J357=\"\",\"\",'2-Programmer les activités'!J357)","v":""},"","","","","-","","","","X",null,"","","","",null,"","","","",null,"","","","",null,null,{"$f":"IF(OR('1_Lister les activités'!D352=\"\",'1_Lister les activités'!D352=0),\"\",'1_Lister les activités'!D352)","v":""},{"$f":"IFERROR(IF($BH$3=\"\",\"\",'1_Lister les activités'!A353),\"\")","v":""},null,"",{"$f":"IFERROR(IF($BH$3=\"\",\"\",'1_Lister les activités'!B353),\"\")","v":0},0,"",{"$f":"IFERROR(IF($BH$3=\"\",\"\",'1_Lister les activités'!C353),\"\")","v":"Selectionner"}]
[{"$nulls":9},{"$f":"'2-Programmer les activités'!F357","v":0},{"$f":"'2-Programmer les activités'!G357","v":0},{"$nulls":21},{"$f":"IF('2-Programmer les activités'!J358=\"\",\"\",'2-Programmer les activités'!J358)","v":""},"","","","","-","","","","X",null,"","","","",null,"","","","",null,"","","","",null,null,{"$f":"IF(OR('1_Lister les activités'!D353=\"\",'1_Lister les activités'!D353=0),\"\",'1_Lister les activités'!D353)","v":""},{"$f":"IFERROR(IF($BH$3=\"\",\"\",'1_Lister les activités'!A354),\"\")","v":""},null,"",{"$f":"IFERROR(IF($BH$3=\"\",\"\",'1_Lister les activités'!B354),\"\")","v":0},0,"",{"$f":"IFERROR(IF($BH$3=\"\",\"\",'1_Lister les activités'!C354),\"\")","v":"Selectionner"}]
[{"$nulls":9},{"$f":"'2-Programmer les activités'!F358","v":0},{"$f":"'2-Programmer les activités'!G358","v":0},{"$nulls":21},{"$f":"IF('2-Programmer les activités'!J359=\"\",\"\",'2-Programmer les activités'!J359)","v":""},"","","","","-","","","","X",null,"","","","",null,"","","","",null,"","","","",null,null,{"$f":"IF(OR('1_Lister les activités'!D354=\"\",'1_Lister les activités'!D354=0),\"\",'1_Lister les activités'!D354)","v":""},{"$f":"IFERROR(IF($BH$3=\"\",\"\",'1_Lister les activités'!A355),\"\")","v":""},null,"",{"$f":"IFERROR(IF($BH$3=\"\",\"\",'1_Lister les activités'!B355),\"\")","v":0},0,"",{"$f":"IFERROR(IF($BH$3=\"\",\"\",'1_Lister les activités'!C355),\"\")","v":"Selectionner"}]
[{"$nulls":9},{"$f":"'2-Programmer les activités'!F359","v":0},{"$f":"'2-Programmer les activités'!G359","v":0},{"$nulls":21},{"$f":"IF('2-Programmer les activités'!J360=\"\",\"\",'2-Programmer les activités'!J360)","v":""},"","","","","-","","","","X",null,"","","","",null,"","","","",null,"","","","",null,null,{"$f":"IF(OR('1_Lister les activités'!D355=\"\",'1_Lister les activités'!D355=0),\"\",'1_Lister les activités'!D355)","v":""},{"$f":"IFERROR(IF($BH$3=\"\",\"\",'1_Lister les activités'!A356),\"\")","v":""},null,"",{"$f":"IFERROR(IF($BH$3=\"\",\"\",'1_Lister les activités'!B356),\"\")","v":0},0,"",{"$f":"IFERROR(IF($BH$3=\"\",\"\",'1_Lister les activités'!C356),\"\")","v":"Selectionner"}]
[{"$nulls":9},{"$f":"'2-Programmer les activités'!F360","v":0},{"$f":"'2-Programmer les activités'!G360","v":0},{"$nulls":21},{"$f":"IF('2-Programmer les activités'!J361=\"\",\"\",'2-Programmer les activités'!J361)","v":""},"","","","","-","","","","X",null,"","","","",null,"","","","",null,"","","","",null,null,{"$f":"IF(OR('1_Lister les activités'!D356=\"\",'1_Lister les activités'!D356=0),\"\",'1_Lister les activités'!D356)","v":""},{"$f":"IFERROR(IF($BH$3=\"\",\"\",'1_Lister les activités'!A357),\"\")","v":""},null,"",{"$f":"IFERROR(IF($BH$3=\"\",\"\",'1_Lister les activités'!B357),\"\")","v":0},0,"",{"$f":"IFERROR(IF($BH$3=\"\",\"\",'1_Lister les activités'!C357),\"\")","v":"Selectionner"}]
[{"$nulls":9},{"$f":"'2-Programmer les activités'!F361","v":0},{"$f":"'2-Programmer les activités'!G361","v":0},{"$nulls":21},{"$f":"IF('2-Programmer les activités'!J362=\"\",\"\",'2-Programmer les activités'!J362)","v":""},"","","","","-","","","","X",null,"","","","",null,"","","","",null,"","","","",null,null,{"$f":"IF(OR('1_Lister les activités'!D357=\"\",'1_Lister les activités'!D357=0),\"\",'1_Lister les activités'!D357)","v":""},{"$f":"IFERROR(IF($BH$3=\"\",\"\",'1_Lister les activités'!A358),\"\")","v":""},null,"",{"$f":"IFERROR(IF($BH$3=\"\",\"\",'1_Lister les activités'!B358),\"\")","v":0},0,"",{"$f":"IFERROR(IF($BH$3=\"\",\"\",'1_Lister les activités'!C358),\"\")","v":"Selectionner"}]
[{"$nulls":9},{"$f":"'2-Programmer les activités'!F362","v":0},{"$f":"'2-Programmer les activités'!G362","v":0},{"$nulls":21},{"$f":"IF('2-Programmer les activités'!J363=\"\",\"\",'2-Programmer les activités'!J363)","v":""},"","","","","-","","","","X",null,"","","","",null,"","","","",null,"","","","",null,null,{"$f":"IF(OR('1_Lister les activités'!D358=\"\",'1_Lister les activités'!D358=0),\"\",'1_Lister les activités'!D358)","v":""},{"$f":"IFERROR(IF($BH$3=\"\",\"\",'1_Lister les activités'!A359),\"\")","v":""},null,"",{"$f":"IFERROR(IF($BH$3=\"\",\"\",'1_Lister les activités'!B359),\"\")","v":0},0,"",{"$f":"IFERROR(IF($BH$3=\"\",\"\",'1_Lister les activités'!C359),\"\")","v":"Selectionner"}]
[{"$nulls":9},{"$f":"'2-Programmer les activités'!F363","v":0},{"$f":"'2-Programmer les activités'!G363","v":0},{"$nulls":21},{"$f":"IF('2-Programmer les activités'!J364=\"\",\"\",'2-Programmer les activités'!J364)","v":""},"","","","","-","","","","X",null,"","","","",null,"","","","",null,"","","","",null,null,{"$f":"IF(OR('1_Lister les activités'!D359=\"\",'1_Lister les activités'!D359=0),\"\",'1_Lister les activités'!D359)","v":""},{"$f":"IFERROR(IF($BH$3=\"\",\"\",'1_Lister les activités'!A360),\"\")","v":""},null,"",{"$f":"IFERROR(IF($BH$3=\"\",\"\",'1_Lister les activités'!B360),\"\")","v":0},0,"",{"$f":"IFERROR(IF($BH$3=\"\",\"\",'1_Lister les activités'!C360),\"\")","v":"Selectionner"}]
[{"$nulls":9},{"$f":"'2-Programmer les activités'!F364","v":0},{"$f":"'2-Programmer les activités'!G364","v":0},{"$nulls":21},{"$f":"IF('2-Programmer les activités'!J365=\"\",\"\",'2-Programmer les activités'!J365)","v":""},"","","","","-","","","","X",null,"","","","",null,"","","","",null,"","","","",null,null,{"$f":"IF(OR('1_Lister les activités'!D360=\"\",'1_Lister les activités'!D360=0),\"\",'1_Lister les activités'!D360)","v":""},{"$f":"IFERROR(IF($BH$3=\"\",\"\",'1_Lister les activités'!A361),\"\")","v":""},null,"",{"$f":"IFERROR(IF($BH$3=\"\",\"\",'1_Lister les activités'!B361),\"\")","v":0},0,"",{"$f":"IFERROR(IF($BH$3=\"\",\"\",'1_Lister les activités'!C361),\"\")","v":"Selectionner"}]
[{"$nulls":9},{"$f":"'2-Programmer les activités'!F365","v":0},{"$f":"'2-Programmer les activités'!G365","v":0},{"$nulls":21},{"$f":"IF('2-Programmer les activités'!J366=\"\",\"\",'2-Programmer les activités'!J366)","v":""},"","","","","-","","","","X",null,"","","","",null,"","","","",null,"","","","",null,null,{"$f":"IF(OR('1_Lister les activités'!D361=\"\",'1_Lister les activités'!D361=0),\"\",'1_Lister les activités'!D361)","v":""},{"$f":"IFERROR(IF($BH$3=\"\",\"\",'1_Lister les activités'!A362),\"\")","v":""},null,"",{"$f":"IFERROR(IF($BH$3=\"\",\"\",'1_Lister les activités'!B362),\"\")","v":0},0,"",{"$f":"IFERROR(IF($BH$3=\"\",\"\",'1_Lister les activités'!C362),\"\")","v":"Selectionner"}]
[{"$nulls":9},{"$f":"'2-Programmer les activités'!F366","v":0},{"$f":"'2-Programmer les activités'!G366","v":0},{"$nulls":21},{"$f":"IF('2-Programmer les activités'!J367=\"\",\"\",'2-Programmer les activités'!J367)","v":""},{"$f":"IF(AG361=\"\",\"\",MONTH(AG361))","v":""},"",{"$f":"IF(AG361=\"\",\"\",DAY(AG361))","v":""},{"$f":"IFERROR(YEAR(AG361),\"\")","v":""},{"$f":"IFERROR(CONCATENATE(AI361,\"-\",AK361),\"\")","v":"-"},{"$f":"IF(AJ361<8,\"X\",\"\")","v":""},{"$f":"IF(AND(AJ361>7,AND(AJ361<15)),\"X\",\"\")","v":""},{"$f":"IF(AND(AJ361>14,AND(AJ361<22)),\"X\",\"\")","v":""},{"$f":"IF(AJ361>21,\"X\",\"\")","v":"X"},null,{"$f":"IF(AL361=$AR$4,AM361,\"\")","v":""},{"$f":"IF(AL361=$AR$4,AN361,\"\")","v":""},{"$f":"IF(AL361=$AR$4,AO361,\"\")","v":""},{"$f":"IF(AL361=$AR$4,AP361,\"\")","v":""},null,{"$f":"IF(AL361=$AW$4,AM361,\"\")","v":""},{"$f":"IF(AL361=$AW$4,AN361,\"\")","v":""},{"$f":"IF(AL361=$AW$4,AO361,\"\")","v":""},{"$f":"IF(AL361=$AW$4,AP361,\"\")","v":""},null,{"$f":"IF(AL361=$BB$4,AM361,\"\")","v":""},{"$f":"IF(AL361=$BB$4,AN361,\"\")","v":""},{"$f":"IF(AL361=$BB$4,AO361,\"\")","v":""},{"$f":"IF(AL361=$BB$4,AP361,\"\")","v":""},null,null,{"$f":"IF(OR('1_Lister les activités'!D362=\"\",'1_Lister les activités'!D362=0),\"\",'1_Lister les activités'!D362)","v":""},{"$f":"IFERROR(IF($BH$3=\"\",\"\",'1_Lister les activités'!A363),\"\")","v":""},null,"",{"$f":"IFERROR(IF($BH$3=\"\",\"\",'1_Lister les activités'!B363),\"\")","v":0},0,"",{"$f":"IFERROR(IF($BH$3=\"\",\"\",'1_Lister les activités'!C363),\"\")","v":"Selectionner"}]
[{"$nulls":9},{"$f":"'2-Programmer les activités'!F367","v":0},{"$f":"'2-Programmer les activités'!G367","v":0},{"$nulls":21},{"$f":"IF('2-Programmer les activités'!J368=\"\",\"\",'2-Programmer les activités'!J368)","v":""},"","","","","-","","","","X",null,"","","","",null,"","","","",null,"","","","",null,null,{"$f":"IF(OR('1_Lister les activités'!D363=\"\",'1_Lister les activités'!D363=0),\"\",'1_Lister les activités'!D363)","v":""},{"$f":"IFERROR(IF($BH$3=\"\",\"\",'1_Lister les activités'!A364),\"\")","v":""},null,"",{"$f":"IFERROR(IF($BH$3=\"\",\"\",'1_Lister les activités'!B364),\"\")","v":0},0,"",{"$f":"IFERROR(IF($BH$3=\"\",\"\",'1_Lister les activités'!C364),\"\")","v":"Selectionner"}]
[{"$nulls":9},{"$f":"'2-Programmer les activités'!F368","v":0},{"$f":"'2-Programmer les activités'!G368","v":0},{"$nulls":21},{"$f":"IF('2-Programmer les activités'!J369=\"\",\"\",'2-Programmer les activités'!J369)","v":""},"","","","","-","","","","X",null,"","","","",null,"","","","",null,"","","","",null,null,{"$f":"IF(OR('1_Lister les activités'!D364=\"\",'1_Lister les activités'!D364=0),\"\",'1_Lister les activités'!D364)","v":""},{"$f":"IFERROR(IF($BH$3=\"\",\"\",'1_Lister les activités'!A365),\"\")","v":""},null,"",{"$f":"IFERROR(IF($BH$3=\"\",\"\",'1_Lister les activités'!B365),\"\")","v":0},0,"",{"$f":"IFERROR(IF($BH$3=\"\",\"\",'1_Lister les activités'!C365),\"\")","v":"Selectionner"}]
[{"$nulls":9},{"$f":"'2-Programmer les activités'!F369","v":0},{"$f":"'2-Programmer les activités'!G369","v":0},{"$nulls":21},{"$f":"IF('2-Programmer les activités'!J370=\"\",\"\",'2-Programmer les activités'!J370)","v":""},"","","","","-","","","","X",null,"","","","",null,"","","","",null,"","","","",null,null,{"$f":"IF(OR('1_Lister les activités'!D365=\"\",'1_Lister les activités'!D365=0),\"\",'1_Lister les activités'!D365)","v":""},{"$f":"IFERROR(IF($BH$3=\"\",\"\",'1_Lister les activités'!A366),\"\")","v":""},null,"",{"$f":"IFERROR(IF($BH$3=\"\",\"\",'1_Lister les activités'!B366),\"\")","v":0},0,"",{"$f":"IFERROR(IF($BH$3=\"\",\"\",'1_Lister les activités'!C366),\"\")","v":"Selectionner"}]
[{"$nulls":9},{"$f":"'2-Programmer les activités'!F370","v":0},{"$f":"'2-Programmer les activités'!G370","v":0},{"$nulls":21},{"$f":"IF('2-Programmer les activités'!J371=\"\",\"\",'2-Programmer les activités'!J371)","v":""},"","","","","-","","","","X",null,"","","","",null,"","","","",null,"","","","",null,null,{"$f":"IF(OR('1_Lister les activités'!D366=\"\",'1_Lister les activités'!D366=0),\"\",'1_Lister les activités'!D366)","v":""},{"$f":"IFERROR(IF($BH$3=\"\",\"\",'1_Lister les activités'!A367),\"\")","v":""},null,"",{"$f":"IFERROR(IF($BH$3=\"\",\"\",'1_Lister les activités'!B367),\"\")","v":0},0,"",{"$f":"IFERROR(IF($BH$3=\"\",\"\",'1_Lister les activités'!C367),\"\")","v":"Selectionner"}]
[{"$nulls":9},{"$f":"'2-Programmer les activités'!F371","v":0},{"$f":"'2-Programmer les activités'!G371","v":0},{"$nulls":21},{"$f":"IF('2-Programmer les activités'!J372=\"\",\"\",'2-Programmer les activités'!J372)","v":""},"","","","","-","","","","X",null,"","","","",null,"","","","",null,"","","","",null,null,{"$f":"IF(OR('1_Lister les activités'!D367=\"\",'1_Lister les activités'!D367=0),\"\",'1_Lister les activités'!D367)","v":""},{"$f":"IFERROR(IF($BH$3=\"\",\"\",'1_Lister les activités'!A368),\"\")","v":""},null,"",{"$f":"IFERROR(IF($BH$3=\"\",\"\",'1_Lister les activités'!B368),\"\")","v":0},0,"",{"$f":"IFERROR(IF($BH$3=\"\",\"\",'1_Lister les activités'!C368),\"\")","v":"Selectionner"}]
[{"$nulls":9},{"$f":"'2-Programmer les activités'!F372","v":0},{"$f":"'2-Programmer les activités'!G372","v":0},{"$nulls":21},{"$f":"IF('2-Programmer les activités'!J373=\"\",\"\",'2-Programmer les activités'!J373)","v":""},"","","","","-","","","","X",null,"","","","",null,"","","","",null,"","","","",null,null,{"$f":"IF(OR('1_Lister les activités'!D368=\"\",'1_Lister les activités'!D368=0),\"\",'1_Lister les activités'!D368)","v":""},{"$f":"IFERROR(IF($BH$3=\"\",\"\",'1_Lister les activités'!A369),\"\")","v":""},null,"",{"$f":"IFERROR(IF($BH$3=\"\",\"\",'1_Lister les activités'!B369),\"\")","v":0},0,"",{"$f":"IFERROR(IF($BH$3=\"\",\"\",'1_Lister les activités'!C369),\"\")","v":"Selectionner"}]
[{"$nulls":9},{"$f":"'2-Programmer les activités'!F373","v":0},{"$f":"'2-Programmer les activités'!G373","v":0},{"$nulls":21},{"$f":"IF('2-Programmer les activités'!J374=\"\",\"\",'2-Programmer les activités'!J374)","v":""},"","","","","-","","","","X",null,"","","","",null,"","","","",null,"","","","",null,null,{"$f":"IF(OR('1_Lister les activités'!D369=\"\",'1_Lister les activités'!D369=0),\"\",'1_Lister les activités'!D369)","v":""},{"$f":"IFERROR(IF($BH$3=\"\",\"\",'1_Lister les activités'!A370),\"\")","v":""},null,"",{"$f":"IFERROR(IF($BH$3=\"\",\"\",'1_Lister les activités'!B370),\"\")","v":0},0,"",{"$f":"IFERROR(IF($BH$3=\"\",\"\",'1_Lister les activités'!C370),\"\")","v":"Selectionner"}]
[{"$nulls":9},{"$f":"'2-Programmer les activités'!F374","v":0},{"$f":"'2-Programmer les activités'!G374","v":0},{"$nulls":21},{"$f":"IF('2-Programmer les activités'!J375=\"\",\"\",'2-Programmer les activités'!J375)","v":""},"","","","","-","","","","X",null,"","","","",null,"","","","",null,"","","","",null,null,{"$f":"IF(OR('1_Lister les activités'!D370=\"\",'1_Lister les activités'!D370=0),\"\",'1_Lister les activités'!D370)","v":""},{"$f":"IFERROR(IF($BH$3=\"\",\"\",'1_Lister les activités'!A371),\"\")","v":""},null,"",{"$f":"IFERROR(IF($BH$3=\"\",\"\",'1_Lister les activités'!B371),\"\")","v":0},0,"",{"$f":"IFERROR(IF($BH$3=\"\",\"\",'1_Lister les activités'!C371),\"\")","v":"Selectionner"}]
[{"$nulls":9},{"$f":"'2-Programmer les activités'!F375","v":0},{"$f":"'2-Programmer les activités'!G375","v":0},{"$nulls":21},{"$f":"IF('2-Programmer les activités'!J376=\"\",\"\",'2-Programmer les activités'!J376)","v":""},"","","","","-","","","","X",null,"","","","",null,"","","","",null,"","","","",null,null,{"$f":"IF(OR('1_Lister les activités'!D371=\"\",'1_Lister les activités'!D371=0),\"\",'1_Lister les activités'!D371)","v":""},{"$f":"IFERROR(IF($BH$3=\"\",\"\",'1_Lister les activités'!A372),\"\")","v":""},null,"",{"$f":"IFERROR(IF($BH$3=\"\",\"\",'1_Lister les activités'!B372),\"\")","v":0},0,"",{"$f":"IFERROR(IF($BH$3=\"\",\"\",'1_Lister les activités'!C372),\"\")","v":"Selectionner"}]
[{"$nulls":9},{"$f":"'2-Programmer les activités'!F376","v":0},{"$f":"'2-Programmer les activités'!G376","v":0},{"$nulls":21},{"$f":"IF('2-Programmer les activités'!J377=\"\",\"\",'2-Programmer les activités'!J377)","v":""},"","","","","-","","","","X",null,"","","","",null,"","","","",null,"","","","",null,null,{"$f":"IF(OR('1_Lister les activités'!D372=\"\",'1_Lister les activités'!D372=0),\"\",'1_Lister les activités'!D372)","v":""},{"$f":"IFERROR(IF($BH$3=\"\",\"\",'1_Lister les activités'!A373),\"\")","v":""},null,"",{"$f":"IFERROR(IF($BH$3=\"\",\"\",'1_Lister les activités'!B373),\"\")","v":0},0,"",{"$f":"IFERROR(IF($BH$3=\"\",\"\",'1_Lister les activités'!C373),\"\")","v":"Selectionner"}]
[{"$nulls":9},{"$f":"'2-Programmer les activités'!F377","v":0},{"$f":"'2-Programmer les activités'!G377","v":0},{"$nulls":21},{"$f":"IF('2-Programmer les activités'!J378=\"\",\"\",'2-Programmer les activités'!J378)","v":""},"","","","","-","","","","X",null,"","","","",null,"","","","",null,"","","","",null,null,{"$f":"IF(OR('1_Lister les activités'!D373=\"\",'1_Lister les activités'!D373=0),\"\",'1_Lister les activités'!D373)","v":""},{"$f":"IFERROR(IF($BH$3=\"\",\"\",'1_Lister les activités'!A374),\"\")","v":""},null,"",{"$f":"IFERROR(IF($BH$3=\"\",\"\",'1_Lister les activités'!B374),\"\")","v":0},0,"",{"$f":"IFERROR(IF($BH$3=\"\",\"\",'1_Lister les activités'!C374),\"\")","v":"Selectionner"}]
[{"$nulls":9},{"$f":"'2-Programmer les activités'!F378","v":0},{"$f":"'2-Programmer les activités'!G378","v":0},{"$nulls":21},{"$f":"IF('2-Programmer les activités'!J379=\"\",\"\",'2-Programmer les activités'!J379)","v":""},"","","","","-","","","","X",null,"","","","",null,"","","","",null,"","","","",null,null,{"$f":"IF(OR('1_Lister les activités'!D374=\"\",'1_Lister les activités'!D374=0),\"\",'1_Lister les activités'!D374)","v":""},{"$f":"IFERROR(IF($BH$3=\"\",\"\",'1_Lister les activités'!A375),\"\")","v":""},null,"",{"$f":"IFERROR(IF($BH$3=\"\",\"\",'1_Lister les activités'!B375),\"\")","v":0},0,"",{"$f":"IFERROR(IF($BH$3=\"\",\"\",'1_Lister les activités'!C375),\"\")","v":"Selectionner"}]
[{"$nulls":9},{"$f":"'2-Programmer les activités'!F379","v":0},{"$f":"'2-Programmer les activités'!G379","v":0},{"$nulls":21},{"$f":"IF('2-Programmer les activités'!J380=\"\",\"\",'2-Programmer les activités'!J380)","v":""},"","","","","-","","","","X",null,"","","","",null,"","","","",null,"","","","",null,null,{"$f":"IF(OR('1_Lister les activités'!D375=\"\",'1_Lister les activités'!D375=0),\"\",'1_Lister les activités'!D375)","v":""},{"$f":"IFERROR(IF($BH$3=\"\",\"\",'1_Lister les activités'!A376),\"\")","v":""},null,"",{"$f":"IFERROR(IF($BH$3=\"\",\"\",'1_Lister les activités'!B376),\"\")","v":0},0,"",{"$f":"IFERROR(IF($BH$3=\"\",\"\",'1_Lister les activités'!C376),\"\")","v":"Selectionner"}]
[{"$nulls":9},{"$f":"'2-Programmer les activités'!F380","v":0},{"$f":"'2-Programmer les activités'!G380","v":0},{"$nulls":21},{"$f":"IF('2-Programmer les activités'!J381=\"\",\"\",'2-Programmer les activités'!J381)","v":""},"","","","","-","","","","X",null,"","","","",null,"","","","",null,"","","","",null,null,{"$f":"IF(OR('1_Lister les activités'!D376=\"\",'1_Lister les activités'!D376=0),\"\",'1_Lister les activités'!D376)","v":""},{"$f":"IFERROR(IF($BH$3=\"\",\"\",'1_Lister les activités'!A377),\"\")","v":""},null,"",{"$f":"IFERROR(IF($BH$3=\"\",\"\",'1_Lister les activités'!B377),\"\")","v":0},0,"",{"$f":"IFERROR(IF($BH$3=\"\",\"\",'1_Lister les activités'!C377),\"\")","v":"Selectionner"}]
[{"$nulls":9},{"$f":"'2-Programmer les activités'!F381","v":0},{"$f":"'2-Programmer les activités'!G381","v":0},{"$nulls":21},{"$f":"IF('2-Programmer les activités'!J382=\"\",\"\",'2-Programmer les activités'!J382)","v":""},"","","","","-","","","","X",null,"","","","",null,"","","","",null,"","","","",null,null,{"$f":"IF(OR('1_Lister les activités'!D377=\"\",'1_Lister les activités'!D377=0),\"\",'1_Lister les activités'!D377)","v":""},{"$f":"IFERROR(IF($BH$3=\"\",\"\",'1_Lister les activités'!A378),\"\")","v":""},null,"",{"$f":"IFERROR(IF($BH$3=\"\",\"\",'1_Lister les activités'!B378),\"\")","v":0},0,"",{"$f":"IFERROR(IF($BH$3=\"\",\"\",'1_Lister les activités'!C378),\"\")","v":"Selectionner"}]
[{"$nulls":9},{"$f":"'2-Programmer les activités'!F382","v":0},{"$f":"'2-Programmer les activités'!G382","v":0},{"$nulls":21},{"$f":"IF('2-Programmer les activités'!J383=\"\",\"\",'2-Programmer les activités'!J383)","v":""},"","","","","-","","","","X",null,"","","","",null,"","","","",null,"","","","",null,null,{"$f":"IF(OR('1_Lister les activités'!D378=\"\",'1_Lister les activités'!D378=0),\"\",'1_Lister les activités'!D378)","v":""},{"$f":"IFERROR(IF($BH$3=\"\",\"\",'1_Lister les activités'!A379),\"\")","v":""},null,"",{"$f":"IFERROR(IF($BH$3=\"\",\"\",'1_Lister les activités'!B379),\"\")","v":0},0,"",{"$f":"IFERROR(IF($BH$3=\"\",\"\",'1_Lister les activités'!C379),\"\")","v":"Selectionner"}]
[{"$nulls":9},{"$f":"'2-Programmer les activités'!F383","v":0},{"$f":"'2-Programmer les activités'!G383","v":0},{"$nulls":21},{"$f":"IF('2-Programmer les activités'!J384=\"\",\"\",'2-Programmer les activités'!J384)","v":""},"","","","","-","","","","X",null,"","","","",null,"","","","",null,"","","","",null,null,{"$f":"IF(OR('1_Lister les activités'!D379=\"\",'1_Lister les activités'!D379=0),\"\",'1_Lister les activités'!D379)","v":""},{"$f":"IFERROR(IF($BH$3=\"\",\"\",'1_Lister les activités'!A380),\"\")","v":""},null,"",{"$f":"IFERROR(IF($BH$3=\"\",\"\",'1_Lister les activités'!B380),\"\")","v":0},0,"",{"$f":"IFERROR(IF($BH$3=\"\",\"\",'1_Lister les activités'!C380),\"\")","v":"Selectionner"}]
[{"$nulls":9},{"$f":"'2-Programmer les activités'!F384","v":0},{"$f":"'2-Programmer les activités'!G384","v":0},{"$nulls":21},{"$f":"IF('2-Programmer les activités'!J385=\"\",\"\",'2-Programmer les activités'!J385)","v":""},"","","","","-","","","","X",null,"","","","",null,"","","","",null,"","","","",null,null,{"$f":"IF(OR('1_Lister les activités'!D380=\"\",'1_Lister les activités'!D380=0),\"\",'1_Lister les activités'!D380)","v":""},{"$f":"IFERROR(IF($BH$3=\"\",\"\",'1_Lister les activités'!A381),\"\")","v":""},null,"",{"$f":"IFERROR(IF($BH$3=\"\",\"\",'1_Lister les activités'!B381),\"\")","v":0},0,"",{"$f":"IFERROR(IF($BH$3=\"\",\"\",'1_Lister les activités'!C381),\"\")","v":"Selectionner"}]
[{"$nulls":9},{"$f":"'2-Programmer les activités'!F385","v":0},{"$f":"'2-Programmer les activités'!G385","v":0},{"$nulls":21},{"$f":"IF('2-Programmer les activités'!J386=\"\",\"\",'2-Programmer les activités'!J386)","v":""},"","","","","-","","","","X",null,"","","","",null,"","","","",null,"","","","",null,null,{"$f":"IF(OR('1_Lister les activités'!D381=\"\",'1_Lister les activités'!D381=0),\"\",'1_Lister les activités'!D381)","v":""},{"$f":"IFERROR(IF($BH$3=\"\",\"\",'1_Lister les activités'!A382),\"\")","v":""},null,"",{"$f":"IFERROR(IF($BH$3=\"\",\"\",'1_Lister les activités'!B382),\"\")","v":0},0,"",{"$f":"IFERROR(IF($BH$3=\"\",\"\",'1_Lister les activités'!C382),\"\")","v":"Selectionner"}]
[{"$nulls":9},{"$f":"'2-Programmer les activités'!F386","v":0},{"$f":"'2-Programmer les activités'!G386","v":0},{"$nulls":21},{"$f":"IF('2-Programmer les activités'!J387=\"\",\"\",'2-Programmer les activités'!J387)","v":""},"","","","","-","","","","X",null,"","","","",null,"","","","",null,"","","","",null,null,{"$f":"IF(OR('1_Lister les activités'!D382=\"\",'1_Lister les activités'!D382=0),\"\",'1_Lister les activités'!D382)","v":""},{"$f":"IFERROR(IF($BH$3=\"\",\"\",'1_Lister les activités'!A383),\"\")","v":""},null,"",{"$f":"IFERROR(IF($BH$3=\"\",\"\",'1_Lister les activités'!B383),\"\")","v":0},0,"",{"$f":"IFERROR(IF($BH$3=\"\",\"\",'1_Lister les activités'!C383),\"\")","v":"Selectionner"}]
[{"$nulls":9},{"$f":"'2-Programmer les activités'!F387","v":0},{"$f":"'2-Programmer les activités'!G387","v":0},{"$nulls":21},{"$f":"IF('2-Programmer les activités'!J388=\"\",\"\",'2-Programmer les activités'!J388)","v":""},"","","","","-","","","","X",null,"","","","",null,"","","","",null,"","","","",null,null,{"$f":"IF(OR('1_Lister les activités'!D383=\"\",'1_Lister les activités'!D383=0),\"\",'1_Lister les activités'!D383)","v":""},{"$f":"IFERROR(IF($BH$3=\"\",\"\",'1_Lister les activités'!A384),\"\")","v":""},null,"",{"$f":"IFERROR(IF($BH$3=\"\",\"\",'1_Lister les activités'!B384),\"\")","v":0},0,"",{"$f":"IFERROR(IF($BH$3=\"\",\"\",'1_Lister les activités'!C384),\"\")","v":"Selectionner"}]
[{"$nulls":9},{"$f":"'2-Programmer les activités'!F388","v":0},{"$f":"'2-Programmer les activités'!G388","v":0},{"$nulls":21},{"$f":"IF('2-Programmer les activités'!J389=\"\",\"\",'2-Programmer les activités'!J389)","v":""},"","","","","-","","","","X",null,"","","","",null,"","","","",null,"","","","",null,null,{"$f":"IF(OR('1_Lister les activités'!D384=\"\",'1_Lister les activités'!D384=0),\"\",'1_Lister les activités'!D384)","v":""},{"$f":"IFERROR(IF($BH$3=\"\",\"\",'1_Lister les activités'!A385),\"\")","v":""},null,"",{"$f":"IFERROR(IF($BH$3=\"\",\"\",'1_Lister les activités'!B385),\"\")","v":0},0,"",{"$f":"IFERROR(IF($BH$3=\"\",\"\",'1_Lister les activités'!C385),\"\")","v":"Selectionner"}]
[{"$nulls":9},{"$f":"'2-Programmer les activités'!F389","v":0},{"$f":"'2-Programmer les activités'!G389","v":0},{"$nulls":21},{"$f":"IF('2-Programmer les activités'!J390=\"\",\"\",'2-Programmer les activités'!J390)","v":""},"","","","","-","","","","X",null,"","","","",null,"","","","",null,"","","","",null,null,{"$f":"IF(OR('1_Lister les activités'!D385=\"\",'1_Lister les activités'!D385=0),\"\",'1_Lister les activités'!D385)","v":""},{"$f":"IFERROR(IF($BH$3=\"\",\"\",'1_Lister les activités'!A386),\"\")","v":""},null,"",{"$f":"IFERROR(IF($BH$3=\"\",\"\",'1_Lister les activités'!B386),\"\")","v":0},0,"",{"$f":"IFERROR(IF($BH$3=\"\",\"\",'1_Lister les activités'!C386),\"\")","v":"Selectionner"}]
[{"$nulls":9},{"$f":"'2-Programmer les activités'!F390","v":0},{"$f":"'2-Programmer les activités'!G390","v":0},{"$nulls":21},{"$f":"IF('2-Programmer les activités'!J391=\"\",\"\",'2-Programmer les activités'!J391)","v":""},"","","","","-","","","","X",null,"","","","",null,"","","","",null,"","","","",null,null,{"$f":"IF(OR('1_Lister les activités'!D386=\"\",'1_Lister les activités'!D386=0),\"\",'1_Lister les activités'!D386)","v":""},{"$f":"IFERROR(IF($BH$3=\"\",\"\",'1_Lister les activités'!A387),\"\")","v":""},null,"",{"$f":"IFERROR(IF($BH$3=\"\",\"\",'1_Lister les activités'!B387),\"\")","v":0},0,"",{"$f":"IFERROR(IF($BH$3=\"\",\"\",'1_Lister les activités'!C387),\"\")","v":"Selectionner"}]
[{"$nulls":9},{"$f":"'2-Programmer les activités'!F391","v":0},{"$f":"'2-Programmer les activités'!G391","v":0},{"$nulls":21},{"$f":"IF('2-Programmer les activités'!J392=\"\",\"\",'2-Programmer les activités'!J392)","v":""},{"$f":"IF(AG386=\"\",\"\",MONTH(AG386))","v":""},"",{"$f":"IF(AG386=\"\",\"\",DAY(AG386))","v":""},{"$f":"IFERROR(YEAR(AG386),\"\")","v":""},{"$f":"IFERROR(CONCATENATE(AI386,\"-\",AK386),\"\")","v":"-"},{"$f":"IF(AJ386<8,\"X\",\"\")","v":""},{"$f":"IF(AND(AJ386>7,AND(AJ386<15)),\"X\",\"\")","v":""},{"$f":"IF(AND(AJ386>14,AND(AJ386<22)),\"X\",\"\")","v":""},{"$f":"IF(AJ386>21,\"X\",\"\")","v":"X"},null,{"$f":"IF(AL386=$AR$4,AM386,\"\")","v":""},{"$f":"IF(AL386=$AR$4,AN386,\"\")","v":""},{"$f":"IF(AL386=$AR$4,AO386,\"\")","v":""},{"$f":"IF(AL386=$AR$4,AP386,\"\")","v":""},null,{"$f":"IF(AL386=$AW$4,AM386,\"\")","v":""},{"$f":"IF(AL386=$AW$4,AN386,\"\")","v":""},{"$f":"IF(AL386=$AW$4,AO386,\"\")","v":""},{"$f":"IF(AL386=$AW$4,AP386,\"\")","v":""},null,{"$f":"IF(AL386=$BB$4,AM386,\"\")","v":""},{"$f":"IF(AL386=$BB$4,AN386,\"\")","v":""},{"$f":"IF(AL386=$BB$4,AO386,\"\")","v":""},{"$f":"IF(AL386=$BB$4,AP386,\"\")","v":""},null,null,{"$f":"IF(OR('1_Lister les activités'!D387=\"\",'1_Lister les activités'!D387=0),\"\",'1_Lister les activités'!D387)","v":""},{"$f":"IFERROR(IF($BH$3=\"\",\"\",'1_Lister les activités'!A388),\"\")","v":""},null,"",{"$f":"IFERROR(IF($BH$3=\"\",\"\",'1_Lister les activités'!B388),\"\")","v":0},0,"",{"$f":"IFERROR(IF($BH$3=\"\",\"\",'1_Lister les activités'!C388),\"\")","v":"Selectionner"}]
[{"$nulls":9},{"$f":"'2-Programmer les activités'!F392","v":0},{"$f":"'2-Programmer les activités'!G392","v":0},{"$nulls":21},{"$f":"IF('2-Programmer les activités'!J393=\"\",\"\",'2-Programmer les activités'!J393)","v":""},"","","","","-","","","","X",null,"","","","",null,"","","","",null,"","","","",null,null,{"$f":"IF(OR('1_Lister les activités'!D388=\"\",'1_Lister les activités'!D388=0),\"\",'1_Lister les activités'!D388)","v":""},{"$f":"IFERROR(IF($BH$3=\"\",\"\",'1_Lister les activités'!A389),\"\")","v":""},null,"",{"$f":"IFERROR(IF($BH$3=\"\",\"\",'1_Lister les activités'!B389),\"\")","v":0},0,"",{"$f":"IFERROR(IF($BH$3=\"\",\"\",'1_Lister les activités'!C389),\"\")","v":"Selectionner"}]
[{"$nulls":9},{"$f":"'2-Programmer les activités'!F393","v":0},{"$f":"'2-Programmer les activités'!G393","v":0},{"$nulls":21},{"$f":"IF('2-Programmer les activités'!J394=\"\",\"\",'2-Programmer les activités'!J394)","v":""},"","","","","-","","","","X",null,"","","","",null,"","","","",null,"","","","",null,null,{"$f":"IF(OR('1_Lister les activités'!D389=\"\",'1_Lister les activités'!D389=0),\"\",'1_Lister les activités'!D389)","v":""},{"$f":"IFERROR(IF($BH$3=\"\",\"\",'1_Lister les activités'!A390),\"\")","v":""},null,"",{"$f":"IFERROR(IF($BH$3=\"\",\"\",'1_Lister les activités'!B390),\"\")","v":0},0,"",{"$f":"IFERROR(IF($BH$3=\"\",\"\",'1_Lister les activités'!C390),\"\")","v":"Selectionner"}]
[{"$nulls":9},{"$f":"'2-Programmer les activités'!F394","v":0},{"$f":"'2-Programmer les activités'!G394","v":0},{"$nulls":21},{"$f":"IF('2-Programmer les activités'!J395=\"\",\"\",'2-Programmer les activités'!J395)","v":""},"","","","","-","","","","X",null,"","","","",null,"","","","",null,"","","","",null,null,{"$f":"IF(OR('1_Lister les activités'!D390=\"\",'1_Lister les activités'!D390=0),\"\",'1_Lister les activités'!D390)","v":""},{"$f":"IFERROR(IF($BH$3=\"\",\"\",'1_Lister les activités'!A391),\"\")","v":""},null,{"$f":"IFERROR(BH390,\"\")","v":""},{"$f":"IFERROR(IF($BH$3=\"\",\"\",'1_Lister les activités'!B391),\"\")","v":0},0,"",{"$f":"IFERROR(IF($BH$3=\"\",\"\",'1_Lister les activités'!C391),\"\")","v":"Selectionner"}]
[{"$nulls":9},{"$f":"'2-Programmer les activités'!F395","v":0},{"$f":"'2-Programmer les activités'!G395","v":0},{"$nulls":21},{"$f":"IF('2-Programmer les activités'!J396=\"\",\"\",'2-Programmer les activités'!J396)","v":""},"",{"$f":"IFERROR(VLOOKUP(AH390,$A$110:$B$121,2,FALSE),\"\")","v":""},"","","-","","","","X",null,"","","","",null,"","","","",null,"","","","",null,null,{"$f":"IF(OR('1_Lister les activités'!D391=\"\",'1_Lister les activités'!D391=0),\"\",'1_Lister les activités'!D391)","v":""},{"$f":"IFERROR(IF($BH$3=\"\",\"\",'1_Lister les activités'!A392),\"\")","v":""},null,"",{"$f":"IFERROR(IF($BH$3=\"\",\"\",'1_Lister les activités'!B392),\"\")","v":0},{"$f":"IFERROR(BL390,\"\")","v":0},{"$f":"IFERROR(BK390,\"\")","v":""},{"$f":"IFERROR(IF($BH$3=\"\",\"\",'1_Lister les activités'!C392),\"\")","v":"Selectionner"}]
[{"$nulls":9},{"$f":"'2-Programmer les activités'!F396","v":0},{"$f":"'2-Programmer les activités'!G396","v":0},{"$nulls":21},{"$f":"IF('2-Programmer les activités'!J397=\"\",\"\",'2-Programmer les activités'!J397)","v":""},"","","","","-","","","","X",null,"","","","",null,"","","","",null,"","","","",null,null,{"$f":"IF(OR('1_Lister les activités'!D392=\"\",'1_Lister les activités'!D392=0),\"\",'1_Lister les activités'!D392)","v":""},{"$f":"IFERROR(IF($BH$3=\"\",\"\",'1_Lister les activités'!A393),\"\")","v":""},null,"",{"$f":"IFERROR(IF($BH$3=\"\",\"\",'1_Lister les activités'!B393),\"\")","v":0},0,"",{"$f":"IFERROR(IF($BH$3=\"\",\"\",'1_Lister les activités'!C393),\"\")","v":"Selectionner"}]
[{"$nulls":9},{"$f":"'2-Programmer les activités'!F397","v":0},{"$f":"'2-Programmer les activités'!G397","v":0},{"$nulls":21},{"$f":"IF('2-Programmer les activités'!J398=\"\",\"\",'2-Programmer les activités'!J398)","v":""},"","","","","-","","","","X",null,"","","","",null,"","","","",null,"","","","",null,null,{"$f":"IF(OR('1_Lister les activités'!D393=\"\",'1_Lister les activités'!D393=0),\"\",'1_Lister les activités'!D393)","v":""},{"$f":"IFERROR(IF($BH$3=\"\",\"\",'1_Lister les activités'!A394),\"\")","v":""},null,"",{"$f":"IFERROR(IF($BH$3=\"\",\"\",'1_Lister les activités'!B394),\"\")","v":0},0,"",{"$f":"IFERROR(IF($BH$3=\"\",\"\",'1_Lister les activités'!C394),\"\")","v":"Selectionner"}]
[{"$nulls":9},{"$f":"'2-Programmer les activités'!F398","v":0},{"$f":"'2-Programmer les activités'!G398","v":0},{"$nulls":21},{"$f":"IF('2-Programmer les activités'!J399=\"\",\"\",'2-Programmer les activités'!J399)","v":""},"","","","","-","","","","X",null,"","","","",null,"","","","",null,"","","","",null,null,{"$f":"IF(OR('1_Lister les activités'!D394=\"\",'1_Lister les activités'!D394=0),\"\",'1_Lister les activités'!D394)","v":""},{"$f":"IFERROR(IF($BH$3=\"\",\"\",'1_Lister les activités'!A395),\"\")","v":""},null,"",{"$f":"IFERROR(IF($BH$3=\"\",\"\",'1_Lister les activités'!B395),\"\")","v":0},0,"",{"$f":"IFERROR(IF($BH$3=\"\",\"\",'1_Lister les activités'!C395),\"\")","v":"Selectionner"}]
[{"$nulls":9},{"$f":"'2-Programmer les activités'!F399","v":0},{"$f":"'2-Programmer les activités'!G399","v":0},{"$nulls":21},{"$f":"IF('2-Programmer les activités'!J400=\"\",\"\",'2-Programmer les activités'!J400)","v":""},"","","","","-","","","","X",null,"","","","",null,"","","","",null,"","","","",null,null,{"$f":"IF(OR('1_Lister les activités'!D395=\"\",'1_Lister les activités'!D395=0),\"\",'1_Lister les activités'!D395)","v":""},{"$f":"IFERROR(IF($BH$3=\"\",\"\",'1_Lister les activités'!A396),\"\")","v":""},null,"",{"$f":"IFERROR(IF($BH$3=\"\",\"\",'1_Lister les activités'!B396),\"\")","v":0},0,"",{"$f":"IFERROR(IF($BH$3=\"\",\"\",'1_Lister les activités'!C396),\"\")","v":"Selectionner"}]
[{"$nulls":9},{"$f":"'2-Programmer les activités'!F400","v":0},{"$f":"'2-Programmer les activités'!G400","v":0},{"$nulls":21},{"$f":"IF('2-Programmer les activités'!J401=\"\",\"\",'2-Programmer les activités'!J401)","v":""},"","","","","-","","","","X",null,"","","","",null,"","","","",null,"","","","",null,null,{"$f":"IF(OR('1_Lister les activités'!D396=\"\",'1_Lister les activités'!D396=0),\"\",'1_Lister les activités'!D396)","v":""},{"$f":"IFERROR(IF($BH$3=\"\",\"\",'1_Lister les activités'!A397),\"\")","v":""},null,"",{"$f":"IFERROR(IF($BH$3=\"\",\"\",'1_Lister les activités'!B397),\"\")","v":0},0,"",{"$f":"IFERROR(IF($BH$3=\"\",\"\",'1_Lister les activités'!C397),\"\")","v":"Selectionner"}]
[{"$nulls":9},{"$f":"'2-Programmer les activités'!F401","v":0},{"$f":"'2-Programmer les activités'!G401","v":0},{"$nulls":21},{"$f":"IF('2-Programmer les activités'!J402=\"\",\"\",'2-Programmer les activités'!J402)","v":""},"","","","","-","","","","X",null,"","","","",null,"","","","",null,"","","","",null,null,{"$f":"IF(OR('1_Lister les activités'!D397=\"\",'1_Lister les activités'!D397=0),\"\",'1_Lister les activités'!D397)","v":""},{"$f":"IFERROR(IF($BH$3=\"\",\"\",'1_Lister les activités'!A398),\"\")","v":""},null,"",{"$f":"IFERROR(IF($BH$3=\"\",\"\",'1_Lister les activités'!B398),\"\")","v":0},0,"",{"$f":"IFERROR(IF($BH$3=\"\",\"\",'1_Lister les activités'!C398),\"\")","v":"Selectionner"}]
[{"$nulls":9},{"$f":"'2-Programmer les activités'!F402","v":0},{"$f":"'2-Programmer les activités'!G402","v":0},{"$nulls":21},{"$f":"IF('2-Programmer les activités'!J403=\"\",\"\",'2-Programmer les activités'!J403)","v":""},"","","","","-","","","","X",null,"","","","",null,"","","","",null,"","","","",null,null,{"$f":"IF(OR('1_Lister les activités'!D398=\"\",'1_Lister les activités'!D398=0),\"\",'1_Lister les activités'!D398)","v":""},{"$f":"IFERROR(IF($BH$3=\"\",\"\",'1_Lister les activités'!A399),\"\")","v":""},null,"",{"$f":"IFERROR(IF($BH$3=\"\",\"\",'1_Lister les activités'!B399),\"\")","v":0},0,"",{"$f":"IFERROR(IF($BH$3=\"\",\"\",'1_Lister les activités'!C399),\"\")","v":"Selectionner"}]
[{"$nulls":9},{"$f":"'2-Programmer les activités'!F403","v":0},{"$f":"'2-Programmer les activités'!G403","v":0},{"$nulls":21},{"$f":"IF('2-Programmer les activités'!J404=\"\",\"\",'2-Programmer les activités'!J404)","v":""},"","","","","-","","","","X",null,"","","","",null,"","","","",null,"","","","",null,null,{"$f":"IF(OR('1_Lister les activités'!D399=\"\",'1_Lister les activités'!D399=0),\"\",'1_Lister les activités'!D399)","v":""},{"$f":"IFERROR(IF($BH$3=\"\",\"\",'1_Lister les activités'!A400),\"\")","v":""},null,"",{"$f":"IFERROR(IF($BH$3=\"\",\"\",'1_Lister les activités'!B400),\"\")","v":0},0,"",{"$f":"IFERROR(IF($BH$3=\"\",\"\",'1_Lister les activités'!C400),\"\")","v":"Selectionner"}]
[{"$nulls":9},{"$f":"'2-Programmer les activités'!F404","v":0},{"$f":"'2-Programmer les activités'!G404","v":0},{"$nulls":21},{"$f":"IF('2-Programmer les activités'!J405=\"\",\"\",'2-Programmer les activités'!J405)","v":""},"","","","","-","","","","X",null,"","","","",null,"","","","",null,"","","","",null,null,{"$f":"IF(OR('1_Lister les activités'!D400=\"\",'1_Lister les activités'!D400=0),\"\",'1_Lister les activités'!D400)","v":""},{"$f":"IFERROR(IF($BH$3=\"\",\"\",'1_Lister les activités'!A401),\"\")","v":""},null,"",{"$f":"IFERROR(IF($BH$3=\"\",\"\",'1_Lister les activités'!B401),\"\")","v":0},0,"",{"$f":"IFERROR(IF($BH$3=\"\",\"\",'1_Lister les activités'!C401),\"\")","v":"Selectionner"}]
[{"$nulls":9},{"$f":"'2-Programmer les activités'!F405","v":0},{"$f":"'2-Programmer les activités'!G405","v":0},{"$nulls":21},{"$f":"IF('2-Programmer les activités'!J406=\"\",\"\",'2-Programmer les activités'!J406)","v":""},"","","","","-","","","","X",null,"","","","",null,"","","","",null,"","","","",null,null,{"$f":"IF(OR('1_Lister les activités'!D401=\"\",'1_Lister les activités'!D401=0),\"\",'1_Lister les activités'!D401)","v":""},{"$f":"IFERROR(IF($BH$3=\"\",\"\",'1_Lister les activités'!A402),\"\")","v":""},null,"",{"$f":"IFERROR(IF($BH$3=\"\",\"\",'1_Lister les activités'!B402),\"\")","v":0},0,"",{"$f":"IFERROR(IF($BH$3=\"\",\"\",'1_Lister les activités'!C402),\"\")","v":"Selectionner"}]
[{"$nulls":9},{"$f":"'2-Programmer les activités'!F406","v":0},{"$f":"'2-Programmer les activités'!G406","v":0},{"$nulls":21},{"$f":"IF('2-Programmer les activités'!J407=\"\",\"\",'2-Programmer les activités'!J407)","v":""},"","","","","-","","","","X",null,"","","","",null,"","","","",null,"","","","",null,null,{"$f":"IF(OR('1_Lister les activités'!D402=\"\",'1_Lister les activités'!D402=0),\"\",'1_Lister les activités'!D402)","v":""},{"$f":"IFERROR(IF($BH$3=\"\",\"\",'1_Lister les activités'!A403),\"\")","v":""},null,"",{"$f":"IFERROR(IF($BH$3=\"\",\"\",'1_Lister les activités'!B403),\"\")","v":0},0,"",{"$f":"IFERROR(IF($BH$3=\"\",\"\",'1_Lister les activités'!C403),\"\")","v":"Selectionner"}]
[{"$nulls":9},{"$f":"'2-Programmer les activités'!F407","v":0},{"$f":"'2-Programmer les activités'!G407","v":0},{"$nulls":21},{"$f":"IF('2-Programmer les activités'!J408=\"\",\"\",'2-Programmer les activités'!J408)","v":""},"","","","","-","","","","X",null,"","","","",null,"","","","",null,"","","","",null,null,{"$f":"IF(OR('1_Lister les activités'!D403=\"\",'1_Lister les activités'!D403=0),\"\",'1_Lister les activités'!D403)","v":""},{"$f":"IFERROR(IF($BH$3=\"\",\"\",'1_Lister les activités'!A404),\"\")","v":""},null,"",{"$f":"IFERROR(IF($BH$3=\"\",\"\",'1_Lister les activités'!B404),\"\")","v":0},0,"",{"$f":"IFERROR(IF($BH$3=\"\",\"\",'1_Lister les activités'!C404),\"\")","v":"Selectionner"}]
[{"$nulls":9},{"$f":"'2-Programmer les activités'!F408","v":0},{"$f":"'2-Programmer les activités'!G408","v":0},{"$nulls":21},{"$f":"IF('2-Programmer les activités'!J409=\"\",\"\",'2-Programmer les activités'!J409)","v":""},"","","","","-","","","","X",null,"","","","",null,"","","","",null,"","","","",null,null,{"$f":"IF(OR('1_Lister les activités'!D404=\"\",'1_Lister les activités'!D404=0),\"\",'1_Lister les activités'!D404)","v":""},{"$f":"IFERROR(IF($BH$3=\"\",\"\",'1_Lister les activités'!A405),\"\")","v":""},null,"",{"$f":"IFERROR(IF($BH$3=\"\",\"\",'1_Lister les activités'!B405),\"\")","v":0},0,"",{"$f":"IFERROR(IF($BH$3=\"\",\"\",'1_Lister les activités'!C405),\"\")","v":"Selectionner"}]
[{"$nulls":9},{"$f":"'2-Programmer les activités'!F409","v":0},{"$f":"'2-Programmer les activités'!G409","v":0},{"$nulls":21},{"$f":"IF('2-Programmer les activités'!J410=\"\",\"\",'2-Programmer les activités'!J410)","v":""},"","","","","-","","","","X",null,"","","","",null,"","","","",null,"","","","",null,null,{"$f":"IF(OR('1_Lister les activités'!D405=\"\",'1_Lister les activités'!D405=0),\"\",'1_Lister les activités'!D405)","v":""},{"$f":"IFERROR(IF($BH$3=\"\",\"\",'1_Lister les activités'!A406),\"\")","v":""},null,"",{"$f":"IFERROR(IF($BH$3=\"\",\"\",'1_Lister les activités'!B406),\"\")","v":0},0,"",{"$f":"IFERROR(IF($BH$3=\"\",\"\",'1_Lister les activités'!C406),\"\")","v":"Selectionner"}]
[{"$nulls":9},{"$f":"'2-Programmer les activités'!F410","v":0},{"$f":"'2-Programmer les activités'!G410","v":0},{"$nulls":21},{"$f":"IF('2-Programmer les activités'!J411=\"\",\"\",'2-Programmer les activités'!J411)","v":""},"","","","","-","","","","X",null,"","","","",null,"","","","",null,"","","","",null,null,{"$f":"IF(OR('1_Lister les activités'!D406=\"\",'1_Lister les activités'!D406=0),\"\",'1_Lister les activités'!D406)","v":""},{"$f":"IFERROR(IF($BH$3=\"\",\"\",'1_Lister les activités'!A407),\"\")","v":""},null,"",{"$f":"IFERROR(IF($BH$3=\"\",\"\",'1_Lister les activités'!B407),\"\")","v":0},0,"",{"$f":"IFERROR(IF($BH$3=\"\",\"\",'1_Lister les activités'!C407),\"\")","v":"Selectionner"}]
[{"$nulls":9},{"$f":"'2-Programmer les activités'!F411","v":0},{"$f":"'2-Programmer les activités'!G411","v":0},{"$nulls":21},{"$f":"IF('2-Programmer les activités'!J412=\"\",\"\",'2-Programmer les activités'!J412)","v":""},"","","","","-","","","","X",null,"","","","",null,"","","","",null,"","","","",null,null,{"$f":"IF(OR('1_Lister les activités'!D407=\"\",'1_Lister les activités'!D407=0),\"\",'1_Lister les activités'!D407)","v":""},{"$f":"IFERROR(IF($BH$3=\"\",\"\",'1_Lister les activités'!A408),\"\")","v":""},null,"",{"$f":"IFERROR(IF($BH$3=\"\",\"\",'1_Lister les activités'!B408),\"\")","v":0},0,"",{"$f":"IFERROR(IF($BH$3=\"\",\"\",'1_Lister les activités'!C408),\"\")","v":"Selectionner"}]
[{"$nulls":9},{"$f":"'2-Programmer les activités'!F412","v":0},{"$f":"'2-Programmer les activités'!G412","v":0},{"$nulls":21},{"$f":"IF('2-Programmer les activités'!J413=\"\",\"\",'2-Programmer les activités'!J413)","v":""},"","","","","-","","","","X",null,"","","","",null,"","","","",null,"","","","",null,null,{"$f":"IF(OR('1_Lister les activités'!D408=\"\",'1_Lister les activités'!D408=0),\"\",'1_Lister les activités'!D408)","v":""},{"$f":"IFERROR(IF($BH$3=\"\",\"\",'1_Lister les activités'!A409),\"\")","v":""},null,"",{"$f":"IFERROR(IF($BH$3=\"\",\"\",'1_Lister les activités'!B409),\"\")","v":0},0,"",{"$f":"IFERROR(IF($BH$3=\"\",\"\",'1_Lister les activités'!C409),\"\")","v":"Selectionner"}]
[{"$nulls":9},{"$f":"'2-Programmer les activités'!F413","v":0},{"$f":"'2-Programmer les activités'!G413","v":0},{"$nulls":21},{"$f":"IF('2-Programmer les activités'!J414=\"\",\"\",'2-Programmer les activités'!J414)","v":""},"","","","","-","","","","X",null,"","","","",null,"","","","",null,"","","","",null,null,{"$f":"IF(OR('1_Lister les activités'!D409=\"\",'1_Lister les activités'!D409=0),\"\",'1_Lister les activités'!D409)","v":""},{"$f":"IFERROR(IF($BH$3=\"\",\"\",'1_Lister les activités'!A410),\"\")","v":""},null,"",{"$f":"IFERROR(IF($BH$3=\"\",\"\",'1_Lister les activités'!B410),\"\")","v":0},0,"",{"$f":"IFERROR(IF($BH$3=\"\",\"\",'1_Lister les activités'!C410),\"\")","v":"Selectionner"}]
[{"$nulls":9},{"$f":"'2-Programmer les activités'!F414","v":0},{"$f":"'2-Programmer les activités'!G414","v":0},{"$nulls":21},{"$f":"IF('2-Programmer les activités'!J415=\"\",\"\",'2-Programmer les activités'!J415)","v":""},"","","","","-","","","","X",null,"","","","",null,"","","","",null,"","","","",null,null,{"$f":"IF(OR('1_Lister les activités'!D410=\"\",'1_Lister les activités'!D410=0),\"\",'1_Lister les activités'!D410)","v":""},{"$f":"IFERROR(IF($BH$3=\"\",\"\",'1_Lister les activités'!A411),\"\")","v":""},null,"",{"$f":"IFERROR(IF($BH$3=\"\",\"\",'1_Lister les activités'!B411),\"\")","v":0},0,"",{"$f":"IFERROR(IF($BH$3=\"\",\"\",'1_Lister les activités'!C411),\"\")","v":"Selectionner"}]
[{"$nulls":9},{"$f":"'2-Programmer les activités'!F415","v":0},{"$f":"'2-Programmer les activités'!G415","v":0},{"$nulls":21},{"$f":"IF('2-Programmer les activités'!J416=\"\",\"\",'2-Programmer les activités'!J416)","v":""},"","","","","-","","","","X",null,"","","","",null,"","","","",null,"","","","",null,null,{"$f":"IF(OR('1_Lister les activités'!D411=\"\",'1_Lister les activités'!D411=0),\"\",'1_Lister les activités'!D411)","v":""},{"$f":"IFERROR(IF($BH$3=\"\",\"\",'1_Lister les activités'!A412),\"\")","v":""},null,"",{"$f":"IFERROR(IF($BH$3=\"\",\"\",'1_Lister les activités'!B412),\"\")","v":0},0,"",{"$f":"IFERROR(IF($BH$3=\"\",\"\",'1_Lister les activités'!C412),\"\")","v":"Selectionner"}]
[{"$nulls":9},{"$f":"'2-Programmer les activités'!F416","v":0},{"$f":"'2-Programmer les activités'!G416","v":0},{"$nulls":21},{"$f":"IF('2-Programmer les activités'!J417=\"\",\"\",'2-Programmer les activités'!J417)","v":""},"","","","","-","","","","X",null,"","","","",null,"","","","",null,"","","","",null,null,{"$f":"IF(OR('1_Lister les activités'!D412=\"\",'1_Lister les activités'!D412=0),\"\",'1_Lister les activités'!D412)","v":""},{"$f":"IFERROR(IF($BH$3=\"\",\"\",'1_Lister les activités'!A413),\"\")","v":""},null,"",{"$f":"IFERROR(IF($BH$3=\"\",\"\",'1_Lister les activités'!B413),\"\")","v":0},0,"",{"$f":"IFERROR(IF($BH$3=\"\",\"\",'1_Lister les activités'!C413),\"\")","v":"Selectionner"}]
[{"$nulls":9},{"$f":"'2-Programmer les activités'!F417","v":0},{"$f":"'2-Programmer les activités'!G417","v":0},{"$nulls":21},{"$f":"IF('2-Programmer les activités'!J418=\"\",\"\",'2-Programmer les activités'!J418)","v":""},"","","","","-","","","","X",null,"","","","",null,"","","","",null,"","","","",null,null,{"$f":"IF(OR('1_Lister les activités'!D413=\"\",'1_Lister les activités'!D413=0),\"\",'1_Lister les activités'!D413)","v":""},{"$f":"IFERROR(IF($BH$3=\"\",\"\",'1_Lister les activités'!A414),\"\")","v":""},null,"",{"$f":"IFERROR(IF($BH$3=\"\",\"\",'1_Lister les activités'!B414),\"\")","v":0},0,"",{"$f":"IFERROR(IF($BH$3=\"\",\"\",'1_Lister les activités'!C414),\"\")","v":"Selectionner"}]
[{"$nulls":9},{"$f":"'2-Programmer les activités'!F418","v":0},{"$f":"'2-Programmer les activités'!G418","v":0},{"$nulls":21},{"$f":"IF('2-Programmer les activités'!J419=\"\",\"\",'2-Programmer les activités'!J419)","v":""},"","","","","-","","","","X",null,"","","","",null,"","","","",null,"","","","",null,null,{"$f":"IF(OR('1_Lister les activités'!D414=\"\",'1_Lister les activités'!D414=0),\"\",'1_Lister les activités'!D414)","v":""},{"$f":"IFERROR(IF($BH$3=\"\",\"\",'1_Lister les activités'!A415),\"\")","v":""},null,"",{"$f":"IFERROR(IF($BH$3=\"\",\"\",'1_Lister les activités'!B415),\"\")","v":0},0,"",{"$f":"IFERROR(IF($BH$3=\"\",\"\",'1_Lister les activités'!C415),\"\")","v":"Selectionner"}]
[{"$nulls":9},{"$f":"'2-Programmer les activités'!F419","v":0},{"$f":"'2-Programmer les activités'!G419","v":0},{"$nulls":21},{"$f":"IF('2-Programmer les activités'!J420=\"\",\"\",'2-Programmer les activités'!J420)","v":""},"","","","","-","","","","X",null,"","","","",null,"","","","",null,"","","","",null,null,{"$f":"IF(OR('1_Lister les activités'!D415=\"\",'1_Lister les activités'!D415=0),\"\",'1_Lister les activités'!D415)","v":""},{"$f":"IFERROR(IF($BH$3=\"\",\"\",'1_Lister les activités'!A416),\"\")","v":""},null,"",{"$f":"IFERROR(IF($BH$3=\"\",\"\",'1_Lister les activités'!B416),\"\")","v":0},0,"",{"$f":"IFERROR(IF($BH$3=\"\",\"\",'1_Lister les activités'!C416),\"\")","v":"Selectionner"}]
[{"$nulls":9},{"$f":"'2-Programmer les activités'!F420","v":0},{"$f":"'2-Programmer les activités'!G420","v":0},{"$nulls":21},{"$f":"IF('2-Programmer les activités'!J421=\"\",\"\",'2-Programmer les activités'!J421)","v":""},"","","","","-","","","","X",null,"","","","",null,"","","","",null,"","","","",null,null,{"$f":"IF(OR('1_Lister les activités'!D416=\"\",'1_Lister les activités'!D416=0),\"\",'1_Lister les activités'!D416)","v":""},{"$f":"IFERROR(IF($BH$3=\"\",\"\",'1_Lister les activités'!A417),\"\")","v":""},null,"",{"$f":"IFERROR(IF($BH$3=\"\",\"\",'1_Lister les activités'!B417),\"\")","v":0},0,"",{"$f":"IFERROR(IF($BH$3=\"\",\"\",'1_Lister les activités'!C417),\"\")","v":"Selectionner"}]
[{"$nulls":9},{"$f":"'2-Programmer les activités'!F421","v":0},{"$f":"'2-Programmer les activités'!G421","v":0},{"$nulls":21},{"$f":"IF('2-Programmer les activités'!J422=\"\",\"\",'2-Programmer les activités'!J422)","v":""},"","","","","-","","","","X",null,"","","","",null,"","","","",null,"","","","",null,null,{"$f":"IF(OR('1_Lister les activités'!D417=\"\",'1_Lister les activités'!D417=0),\"\",'1_Lister les activités'!D417)","v":""},{"$f":"IFERROR(IF($BH$3=\"\",\"\",'1_Lister les activités'!A418),\"\")","v":""},null,"",{"$f":"IFERROR(IF($BH$3=\"\",\"\",'1_Lister les activités'!B418),\"\")","v":0},0,"",{"$f":"IFERROR(IF($BH$3=\"\",\"\",'1_Lister les activités'!C418),\"\")","v":"Selectionner"}]
[{"$nulls":9},{"$f":"'2-Programmer les activités'!F422","v":0},{"$f":"'2-Programmer les activités'!G422","v":0},{"$nulls":21},{"$f":"IF('2-Programmer les activités'!J423=\"\",\"\",'2-Programmer les activités'!J423)","v":""},"","","","","-","","","","X",null,"","","","",null,"","","","",null,"","","","",null,null,{"$f":"IF(OR('1_Lister les activités'!D418=\"\",'1_Lister les activités'!D418=0),\"\",'1_Lister les activités'!D418)","v":""},{"$f":"IFERROR(IF($BH$3=\"\",\"\",'1_Lister les activités'!A419),\"\")","v":""},null,"",{"$f":"IFERROR(IF($BH$3=\"\",\"\",'1_Lister les activités'!B419),\"\")","v":0},0,"",{"$f":"IFERROR(IF($BH$3=\"\",\"\",'1_Lister les activités'!C419),\"\")","v":"Selectionner"}]
[{"$nulls":9},{"$f":"'2-Programmer les activités'!F423","v":0},{"$f":"'2-Programmer les activités'!G423","v":0},{"$nulls":21},{"$f":"IF('2-Programmer les activités'!J424=\"\",\"\",'2-Programmer les activités'!J424)","v":""},"","","","","-","","","","X",null,"","","","",null,"","","","",null,"","","","",null,null,{"$f":"IF(OR('1_Lister les activités'!D419=\"\",'1_Lister les activités'!D419=0),\"\",'1_Lister les activités'!D419)","v":""},{"$f":"IFERROR(IF($BH$3=\"\",\"\",'1_Lister les activités'!A420),\"\")","v":""},null,"",{"$f":"IFERROR(IF($BH$3=\"\",\"\",'1_Lister les activités'!B420),\"\")","v":0},0,"",{"$f":"IFERROR(IF($BH$3=\"\",\"\",'1_Lister les activités'!C420),\"\")","v":"Selectionner"}]
[{"$nulls":9},{"$f":"'2-Programmer les activités'!F424","v":0},{"$f":"'2-Programmer les activités'!G424","v":0},{"$nulls":21},{"$f":"IF('2-Programmer les activités'!J425=\"\",\"\",'2-Programmer les activités'!J425)","v":""},"","","","","-","","","","X",null,"","","","",null,"","","","",null,"","","","",null,null,{"$f":"IF(OR('1_Lister les activités'!D420=\"\",'1_Lister les activités'!D420=0),\"\",'1_Lister les activités'!D420)","v":""},{"$f":"IFERROR(IF($BH$3=\"\",\"\",'1_Lister les activités'!A421),\"\")","v":""},null,"",{"$f":"IFERROR(IF($BH$3=\"\",\"\",'1_Lister les activités'!B421),\"\")","v":0},0,"",{"$f":"IFERROR(IF($BH$3=\"\",\"\",'1_Lister les activités'!C421),\"\")","v":"Selectionner"}]
[{"$nulls":9},{"$f":"'2-Programmer les activités'!F425","v":0},{"$f":"'2-Programmer les activités'!G425","v":0},{"$nulls":21},{"$f":"IF('2-Programmer les activités'!J426=\"\",\"\",'2-Programmer les activités'!J426)","v":""},"","","","","-","","","","X",null,"","","","",null,"","","","",null,"","","","",null,null,{"$f":"IF(OR('1_Lister les activités'!D421=\"\",'1_Lister les activités'!D421=0),\"\",'1_Lister les activités'!D421)","v":""},{"$f":"IFERROR(IF($BH$3=\"\",\"\",'1_Lister les activités'!A422),\"\")","v":""},null,"",{"$f":"IFERROR(IF($BH$3=\"\",\"\",'1_Lister les activités'!B422),\"\")","v":0},0,"",{"$f":"IFERROR(IF($BH$3=\"\",\"\",'1_Lister les activités'!C422),\"\")","v":"Selectionner"}]
[{"$nulls":9},{"$f":"'2-Programmer les activités'!F426","v":0},{"$f":"'2-Programmer les activités'!G426","v":0},{"$nulls":21},{"$f":"IF('2-Programmer les activités'!J427=\"\",\"\",'2-Programmer les activités'!J427)","v":""},"","","","","-","","","","X",null,"","","","",null,"","","","",null,"","","","",null,null,{"$f":"IF(OR('1_Lister les activités'!D422=\"\",'1_Lister les activités'!D422=0),\"\",'1_Lister les activités'!D422)","v":""},{"$f":"IFERROR(IF($BH$3=\"\",\"\",'1_Lister les activités'!A423),\"\")","v":""},null,"",{"$f":"IFERROR(IF($BH$3=\"\",\"\",'1_Lister les activités'!B423),\"\")","v":0},0,"",{"$f":"IFERROR(IF($BH$3=\"\",\"\",'1_Lister les activités'!C423),\"\")","v":"Selectionner"}]
[{"$nulls":9},{"$f":"'2-Programmer les activités'!F427","v":0},{"$f":"'2-Programmer les activités'!G427","v":0},{"$nulls":21},{"$f":"IF('2-Programmer les activités'!J428=\"\",\"\",'2-Programmer les activités'!J428)","v":""},"","","","","-","","","","X",null,"","","","",null,"","","","",null,"","","","",null,null,{"$f":"IF(OR('1_Lister les activités'!D423=\"\",'1_Lister les activités'!D423=0),\"\",'1_Lister les activités'!D423)","v":""},{"$f":"IFERROR(IF($BH$3=\"\",\"\",'1_Lister les activités'!A424),\"\")","v":""},null,"",{"$f":"IFERROR(IF($BH$3=\"\",\"\",'1_Lister les activités'!B424),\"\")","v":0},0,"",{"$f":"IFERROR(IF($BH$3=\"\",\"\",'1_Lister les activités'!C424),\"\")","v":"Selectionner"}]
[{"$nulls":9},{"$f":"'2-Programmer les activités'!F428","v":0},{"$f":"'2-Programmer les activités'!G428","v":0},{"$nulls":21},{"$f":"IF('2-Programmer les activités'!J429=\"\",\"\",'2-Programmer les activités'!J429)","v":""},"","","","","-","","","","X",null,"","","","",null,"","","","",null,"","","","",null,null,{"$f":"IF(OR('1_Lister les activités'!D424=\"\",'1_Lister les activités'!D424=0),\"\",'1_Lister les activités'!D424)","v":""},{"$f":"IFERROR(IF($BH$3=\"\",\"\",'1_Lister les activités'!A425),\"\")","v":""},null,"",{"$f":"IFERROR(IF($BH$3=\"\",\"\",'1_Lister les activités'!B425),\"\")","v":0},0,"",{"$f":"IFERROR(IF($BH$3=\"\",\"\",'1_Lister les activités'!C425),\"\")","v":"Selectionner"}]
[{"$nulls":9},{"$f":"'2-Programmer les activités'!F429","v":0},{"$f":"'2-Programmer les activités'!G429","v":0},{"$nulls":21},{"$f":"IF('2-Programmer les activités'!J430=\"\",\"\",'2-Programmer les activités'!J430)","v":""},"","","","","-","","","","X",null,"","","","",null,"","","","",null,"","","","",null,null,{"$f":"IF(OR('1_Lister les activités'!D425=\"\",'1_Lister les activités'!D425=0),\"\",'1_Lister les activités'!D425)","v":""},{"$f":"IFERROR(IF($BH$3=\"\",\"\",'1_Lister les activités'!A426),\"\")","v":""},null,"",{"$f":"IFERROR(IF($BH$3=\"\",\"\",'1_Lister les activités'!B426),\"\")","v":0},0,"",{"$f":"IFERROR(IF($BH$3=\"\",\"\",'1_Lister les activités'!C426),\"\")","v":"Selectionner"}]
[{"$nulls":9},{"$f":"'2-Programmer les activités'!F430","v":0},{"$f":"'2-Programmer les activités'!G430","v":0},{"$nulls":21},{"$f":"IF('2-Programmer les activités'!J431=\"\",\"\",'2-Programmer les activités'!J431)","v":""},"","","","","-","","","","X",null,"","","","",null,"","","","",null,"","","","",null,null,{"$f":"IF(OR('1_Lister les activités'!D426=\"\",'1_Lister les activités'!D426=0),\"\",'1_Lister les activités'!D426)","v":""},{"$f":"IFERROR(IF($BH$3=\"\",\"\",'1_Lister les activités'!A427),\"\")","v":""},null,"",{"$f":"IFERROR(IF($BH$3=\"\",\"\",'1_Lister les activités'!B427),\"\")","v":0},0,"",{"$f":"IFERROR(IF($BH$3=\"\",\"\",'1_Lister les activités'!C427),\"\")","v":"Selectionner"}]
[{"$nulls":9},{"$f":"'2-Programmer les activités'!F431","v":0},{"$f":"'2-Programmer les activités'!G431","v":0},{"$nulls":21},{"$f":"IF('2-Programmer les activités'!J432=\"\",\"\",'2-Programmer les activités'!J432)","v":""},"","","","","-","","","","X",null,"","","","",null,"","","","",null,"","","","",null,null,{"$f":"IF(OR('1_Lister les activités'!D427=\"\",'1_Lister les activités'!D427=0),\"\",'1_Lister les activités'!D427)","v":""},{"$f":"IFERROR(IF($BH$3=\"\",\"\",'1_Lister les activités'!A428),\"\")","v":""},null,"",{"$f":"IFERROR(IF($BH$3=\"\",\"\",'1_Lister les activités'!B428),\"\")","v":0},0,"",{"$f":"IFERROR(IF($BH$3=\"\",\"\",'1_Lister les activités'!C428),\"\")","v":"Selectionner"}]
[{"$nulls":9},{"$f":"'2-Programmer les activités'!F432","v":0},{"$f":"'2-Programmer les activités'!G432","v":0},{"$nulls":21},{"$f":"IF('2-Programmer les activités'!J433=\"\",\"\",'2-Programmer les activités'!J433)","v":""},"","","","","-","","","","X",null,"","","","",null,"","","","",null,"","","","",null,null,{"$f":"IF(OR('1_Lister les activités'!D428=\"\",'1_Lister les activités'!D428=0),\"\",'1_Lister les activités'!D428)","v":""},{"$f":"IFERROR(IF($BH$3=\"\",\"\",'1_Lister les activités'!A429),\"\")","v":""},null,"",{"$f":"IFERROR(IF($BH$3=\"\",\"\",'1_Lister les activités'!B429),\"\")","v":0},0,"",{"$f":"IFERROR(IF($BH$3=\"\",\"\",'1_Lister les activités'!C429),\"\")","v":"Selectionner"}]
[{"$nulls":9},{"$f":"'2-Programmer les activités'!F433","v":0},{"$f":"'2-Programmer les activités'!G433","v":0},{"$nulls":21},{"$f":"IF('2-Programmer les activités'!J434=\"\",\"\",'2-Programmer les activités'!J434)","v":""},"","","","","-","","","","X",null,"","","","",null,"","","","",null,"","","","",null,null,{"$f":"IF(OR('1_Lister les activités'!D429=\"\",'1_Lister les activités'!D429=0),\"\",'1_Lister les activités'!D429)","v":""},{"$f":"IFERROR(IF($BH$3=\"\",\"\",'1_Lister les activités'!A430),\"\")","v":""},null,"",{"$f":"IFERROR(IF($BH$3=\"\",\"\",'1_Lister les activités'!B430),\"\")","v":0},0,"",{"$f":"IFERROR(IF($BH$3=\"\",\"\",'1_Lister les activités'!C430),\"\")","v":"Selectionner"}]
[{"$nulls":9},{"$f":"'2-Programmer les activités'!F434","v":0},{"$f":"'2-Programmer les activités'!G434","v":0},{"$nulls":21},{"$f":"IF('2-Programmer les activités'!J435=\"\",\"\",'2-Programmer les activités'!J435)","v":""},"","","","","-","","","","X",null,"","","","",null,"","","","",null,"","","","",null,null,{"$f":"IF(OR('1_Lister les activités'!D430=\"\",'1_Lister les activités'!D430=0),\"\",'1_Lister les activités'!D430)","v":""},{"$f":"IFERROR(IF($BH$3=\"\",\"\",'1_Lister les activités'!A431),\"\")","v":""},null,"",{"$f":"IFERROR(IF($BH$3=\"\",\"\",'1_Lister les activités'!B431),\"\")","v":0},0,"",{"$f":"IFERROR(IF($BH$3=\"\",\"\",'1_Lister les activités'!C431),\"\")","v":"Selectionner"}]
[{"$nulls":9},{"$f":"'2-Programmer les activités'!F435","v":0},{"$f":"'2-Programmer les activités'!G435","v":0},{"$nulls":21},{"$f":"IF('2-Programmer les activités'!J436=\"\",\"\",'2-Programmer les activités'!J436)","v":""},"","","","","-","","","","X",null,"","","","",null,"","","","",null,"","","","",null,null,{"$f":"IF(OR('1_Lister les activités'!D431=\"\",'1_Lister les activités'!D431=0),\"\",'1_Lister les activités'!D431)","v":""},{"$f":"IFERROR(IF($BH$3=\"\",\"\",'1_Lister les activités'!A432),\"\")","v":""},null,"",{"$f":"IFERROR(IF($BH$3=\"\",\"\",'1_Lister les activités'!B432),\"\")","v":0},0,"",{"$f":"IFERROR(IF($BH$3=\"\",\"\",'1_Lister les activités'!C432),\"\")","v":"Selectionner"}]
[{"$nulls":9},{"$f":"'2-Programmer les activités'!F436","v":0},{"$f":"'2-Programmer les activités'!G436","v":0},{"$nulls":21},{"$f":"IF('2-Programmer les activités'!J437=\"\",\"\",'2-Programmer les activités'!J437)","v":""},"","","","","-","","","","X",null,"","","","",null,"","","","",null,"","","","",null,null,{"$f":"IF(OR('1_Lister les activités'!D432=\"\",'1_Lister les activités'!D432=0),\"\",'1_Lister les activités'!D432)","v":""},{"$f":"IFERROR(IF($BH$3=\"\",\"\",'1_Lister les activités'!A433),\"\")","v":""},null,"",{"$f":"IFERROR(IF($BH$3=\"\",\"\",'1_Lister les activités'!B433),\"\")","v":0},0,"",{"$f":"IFERROR(IF($BH$3=\"\",\"\",'1_Lister les activités'!C433),\"\")","v":"Selectionner"}]
[{"$nulls":9},{"$f":"'2-Programmer les activités'!F437","v":0},{"$f":"'2-Programmer les activités'!G437","v":0},{"$nulls":21},{"$f":"IF('2-Programmer les activités'!J438=\"\",\"\",'2-Programmer les activités'!J438)","v":""},"","","","","-","","","","X",null,"","","","",null,"","","","",null,"","","","",null,null,{"$f":"IF(OR('1_Lister les activités'!D433=\"\",'1_Lister les activités'!D433=0),\"\",'1_Lister les activités'!D433)","v":""},{"$f":"IFERROR(IF($BH$3=\"\",\"\",'1_Lister les activités'!A434),\"\")","v":""},null,"",{"$f":"IFERROR(IF($BH$3=\"\",\"\",'1_Lister les activités'!B434),\"\")","v":0},0,"",{"$f":"IFERROR(IF($BH$3=\"\",\"\",'1_Lister les activités'!C434),\"\")","v":"Selectionner"}]
[{"$nulls":9},{"$f":"'2-Programmer les activités'!F438","v":0},{"$f":"'2-Programmer les activités'!G438","v":0},{"$nulls":21},{"$f":"IF('2-Programmer les activités'!J439=\"\",\"\",'2-Programmer les activités'!J439)","v":""},"","","","","-","","","","X",null,"","","","",null,"","","","",null,"","","","",null,null,{"$f":"IF(OR('1_Lister les activités'!D434=\"\",'1_Lister les activités'!D434=0),\"\",'1_Lister les activités'!D434)","v":""},{"$f":"IFERROR(IF($BH$3=\"\",\"\",'1_Lister les activités'!A435),\"\")","v":""},null,"",{"$f":"IFERROR(IF($BH$3=\"\",\"\",'1_Lister les activités'!B435),\"\")","v":0},0,"",{"$f":"IFERROR(IF($BH$3=\"\",\"\",'1_Lister les activités'!C435),\"\")","v":"Selectionner"}]
[{"$nulls":9},{"$f":"'2-Programmer les activités'!F439","v":0},{"$f":"'2-Programmer les activités'!G439","v":0},{"$nulls":21},{"$f":"IF('2-Programmer les activités'!J440=\"\",\"\",'2-Programmer les activités'!J440)","v":""},"","","","","-","","","","X",null,"","","","",null,"","","","",null,"","","","",null,null,{"$f":"IF(OR('1_Lister les activités'!D435=\"\",'1_Lister les activités'!D435=0),\"\",'1_Lister les activités'!D435)","v":""},{"$f":"IFERROR(IF($BH$3=\"\",\"\",'1_Lister les activités'!A436),\"\")","v":""},null,"",{"$f":"IFERROR(IF($BH$3=\"\",\"\",'1_Lister les activités'!B436),\"\")","v":0},0,"",{"$f":"IFERROR(IF($BH$3=\"\",\"\",'1_Lister les activités'!C436),\"\")","v":"Selectionner"}]
[{"$nulls":9},{"$f":"'2-Programmer les activités'!F440","v":0},{"$f":"'2-Programmer les activités'!G440","v":0},{"$nulls":21},{"$f":"IF('2-Programmer les activités'!J441=\"\",\"\",'2-Programmer les activités'!J441)","v":""},"","","","","-","","","","X",null,"","","","",null,"","","","",null,"","","","",null,null,{"$f":"IF(OR('1_Lister les activités'!D436=\"\",'1_Lister les activités'!D436=0),\"\",'1_Lister les activités'!D436)","v":""},{"$f":"IFERROR(IF($BH$3=\"\",\"\",'1_Lister les activités'!A437),\"\")","v":""},null,"",{"$f":"IFERROR(IF($BH$3=\"\",\"\",'1_Lister les activités'!B437),\"\")","v":0},0,"",{"$f":"IFERROR(IF($BH$3=\"\",\"\",'1_Lister les activités'!C437),\"\")","v":"Selectionner"}]
[{"$nulls":9},{"$f":"'2-Programmer les activités'!F441","v":0},{"$f":"'2-Programmer les activités'!G441","v":0},{"$nulls":21},{"$f":"IF('2-Programmer les activités'!J442=\"\",\"\",'2-Programmer les activités'!J442)","v":""},"","","","","-","","","","X",null,"","","","",null,"","","","",null,"","","","",null,null,{"$f":"IF(OR('1_Lister les activités'!D437=\"\",'1_Lister les activités'!D437=0),\"\",'1_Lister les activités'!D437)","v":""},{"$f":"IFERROR(IF($BH$3=\"\",\"\",'1_Lister les activités'!A438),\"\")","v":""},null,"",{"$f":"IFERROR(IF($BH$3=\"\",\"\",'1_Lister les activités'!B438),\"\")","v":0},0,"",{"$f":"IFERROR(IF($BH$3=\"\",\"\",'1_Lister les activités'!C438),\"\")","v":"Selectionner"}]
[{"$nulls":9},{"$f":"'2-Programmer les activités'!F442","v":0},{"$f":"'2-Programmer les activités'!G442","v":0},{"$nulls":21},{"$f":"IF('2-Programmer les activités'!J443=\"\",\"\",'2-Programmer les activités'!J443)","v":""},"","","","","-","","","","X",null,"","","","",null,"","","","",null,"","","","",null,null,{"$f":"IF(OR('1_Lister les activités'!D438=\"\",'1_Lister les activités'!D438=0),\"\",'1_Lister les activités'!D438)","v":""},{"$f":"IFERROR(IF($BH$3=\"\",\"\",'1_Lister les activités'!A439),\"\")","v":""},null,"",{"$f":"IFERROR(IF($BH$3=\"\",\"\",'1_Lister les activités'!B439),\"\")","v":0},0,"",{"$f":"IFERROR(IF($BH$3=\"\",\"\",'1_Lister les activités'!C439),\"\")","v":"Selectionner"}]
[{"$nulls":9},{"$f":"'2-Programmer les activités'!F443","v":0},{"$f":"'2-Programmer les activités'!G443","v":0},{"$nulls":21},{"$f":"IF('2-Programmer les activités'!J444=\"\",\"\",'2-Programmer les activités'!J444)","v":""},"","","","","-","","","","X",null,"","","","",null,"","","","",null,"","","","",null,null,{"$f":"IF(OR('1_Lister les activités'!D439=\"\",'1_Lister les activités'!D439=0),\"\",'1_Lister les activités'!D439)","v":""},{"$f":"IFERROR(IF($BH$3=\"\",\"\",'1_Lister les activités'!A440),\"\")","v":""},null,"",{"$f":"IFERROR(IF($BH$3=\"\",\"\",'1_Lister les activités'!B440),\"\")","v":0},0,"",{"$f":"IFERROR(IF($BH$3=\"\",\"\",'1_Lister les activités'!C440),\"\")","v":"Selectionner"}]
[{"$nulls":9},{"$f":"'2-Programmer les activités'!F444","v":0},{"$f":"'2-Programmer les activités'!G444","v":0},{"$nulls":21},{"$f":"IF('2-Programmer les activités'!J445=\"\",\"\",'2-Programmer les activités'!J445)","v":""},"","","","","-","","","","X",null,"","","","",null,"","","","",null,"","","","",null,null,{"$f":"IF(OR('1_Lister les activités'!D440=\"\",'1_Lister les activités'!D440=0),\"\",'1_Lister les activités'!D440)","v":""},{"$f":"IFERROR(IF($BH$3=\"\",\"\",'1_Lister les activités'!A441),\"\")","v":""},null,"",{"$f":"IFERROR(IF($BH$3=\"\",\"\",'1_Lister les activités'!B441),\"\")","v":0},0,"",{"$f":"IFERROR(IF($BH$3=\"\",\"\",'1_Lister les activités'!C441),\"\")","v":"Selectionner"}]
[{"$nulls":9},{"$f":"'2-Programmer les activités'!F445","v":0},{"$f":"'2-Programmer les activités'!G445","v":0},{"$nulls":21},{"$f":"IF('2-Programmer les activités'!J446=\"\",\"\",'2-Programmer les activités'!J446)","v":""},"","","","","-","","","","X",null,"","","","",null,"","","","",null,"","","","",null,null,{"$f":"IF(OR('1_Lister les activités'!D441=\"\",'1_Lister les activités'!D441=0),\"\",'1_Lister les activités'!D441)","v":""},{"$f":"IFERROR(IF($BH$3=\"\",\"\",'1_Lister les activités'!A442),\"\")","v":""},null,"",{"$f":"IFERROR(IF($BH$3=\"\",\"\",'1_Lister les activités'!B442),\"\")","v":0},0,"",{"$f":"IFERROR(IF($BH$3=\"\",\"\",'1_Lister les activités'!C442),\"\")","v":"Selectionner"}]
[{"$nulls":9},{"$f":"'2-Programmer les activités'!F446","v":0},{"$f":"'2-Programmer les activités'!G446","v":0},{"$nulls":21},{"$f":"IF('2-Programmer les activités'!J447=\"\",\"\",'2-Programmer les activités'!J447)","v":""},"","","","","-","","","","X",null,"","","","",null,"","","","",null,"","","","",null,null,{"$f":"IF(OR('1_Lister les activités'!D442=\"\",'1_Lister les activités'!D442=0),\"\",'1_Lister les activités'!D442)","v":""},{"$f":"IFERROR(IF($BH$3=\"\",\"\",'1_Lister les activités'!A443),\"\")","v":""},null,"",{"$f":"IFERROR(IF($BH$3=\"\",\"\",'1_Lister les activités'!B443),\"\")","v":0},0,"",{"$f":"IFERROR(IF($BH$3=\"\",\"\",'1_Lister les activités'!C443),\"\")","v":"Selectionner"}]
[{"$nulls":9},{"$f":"'2-Programmer les activités'!F447","v":0},{"$f":"'2-Programmer les activités'!G447","v":0},{"$nulls":21},{"$f":"IF('2-Programmer les activités'!J448=\"\",\"\",'2-Programmer les activités'!J448)","v":""},"","","","","-","","","","X",null,"","","","",null,"","","","",null,"","","","",null,null,{"$f":"IF(OR('1_Lister les activités'!D443=\"\",'1_Lister les activités'!D443=0),\"\",'1_Lister les activités'!D443)","v":""},{"$f":"IFERROR(IF($BH$3=\"\",\"\",'1_Lister les activités'!A444),\"\")","v":""},null,"",{"$f":"IFERROR(IF($BH$3=\"\",\"\",'1_Lister les activités'!B444),\"\")","v":0},0,"",{"$f":"IFERROR(IF($BH$3=\"\",\"\",'1_Lister les activités'!C444),\"\")","v":"Selectionner"}]
[{"$nulls":9},{"$f":"'2-Programmer les activités'!F448","v":0},{"$f":"'2-Programmer les activités'!G448","v":0},{"$nulls":21},{"$f":"IF('2-Programmer les activités'!J449=\"\",\"\",'2-Programmer les activités'!J449)","v":""},"","","","","-","","","","X",null,"","","","",null,"","","","",null,"","","","",null,null,{"$f":"IF(OR('1_Lister les activités'!D444=\"\",'1_Lister les activités'!D444=0),\"\",'1_Lister les activités'!D444)","v":""},{"$f":"IFERROR(IF($BH$3=\"\",\"\",'1_Lister les activités'!A445),\"\")","v":""},null,"",{"$f":"IFERROR(IF($BH$3=\"\",\"\",'1_Lister les activités'!B445),\"\")","v":0},0,"",{"$f":"IFERROR(IF($BH$3=\"\",\"\",'1_Lister les activités'!C445),\"\")","v":"Selectionner"}]
[{"$nulls":9},{"$f":"'2-Programmer les activités'!F449","v":0},{"$f":"'2-Programmer les activités'!G449","v":0},{"$nulls":21},{"$f":"IF('2-Programmer les activités'!J450=\"\",\"\",'2-Programmer les activités'!J450)","v":""},"","","","","-","","","","X",null,"","","","",null,"","","","",null,"","","","",null,null,{"$f":"IF(OR('1_Lister les activités'!D445=\"\",'1_Lister les activités'!D445=0),\"\",'1_Lister les activités'!D445)","v":""},{"$f":"IFERROR(IF($BH$3=\"\",\"\",'1_Lister les activités'!A446),\"\")","v":""},null,"",{"$f":"IFERROR(IF($BH$3=\"\",\"\",'1_Lister les activités'!B446),\"\")","v":0},0,"",{"$f":"IFERROR(IF($BH$3=\"\",\"\",'1_Lister les activités'!C446),\"\")","v":"Selectionner"}]
[{"$nulls":9},{"$f":"'2-Programmer les activités'!F450","v":0},{"$f":"'2-Programmer les activités'!G450","v":0},{"$nulls":21},{"$f":"IF('2-Programmer les activités'!J451=\"\",\"\",'2-Programmer les activités'!J451)","v":""},"","","","","-","","","","X",null,"","","","",null,"","","","",null,"","","","",null,null,{"$f":"IF(OR('1_Lister les activités'!D446=\"\",'1_Lister les activités'!D446=0),\"\",'1_Lister les activités'!D446)","v":""},{"$f":"IFERROR(IF($BH$3=\"\",\"\",'1_Lister les activités'!A447),\"\")","v":""},null,"",{"$f":"IFERROR(IF($BH$3=\"\",\"\",'1_Lister les activités'!B447),\"\")","v":0},0,"",{"$f":"IFERROR(IF($BH$3=\"\",\"\",'1_Lister les activités'!C447),\"\")","v":"Selectionner"}]
[{"$nulls":9},{"$f":"'2-Programmer les activités'!F451","v":0},{"$f":"'2-Programmer les activités'!G451","v":0},{"$nulls":21},{"$f":"IF('2-Programmer les activités'!J452=\"\",\"\",'2-Programmer les activités'!J452)","v":""},"","","","","-","","","","X",null,"","","","",null,"","","","",null,"","","","",null,null,{"$f":"IF(OR('1_Lister les activités'!D447=\"\",'1_Lister les activités'!D447=0),\"\",'1_Lister les activités'!D447)","v":""},{"$f":"IFERROR(IF($BH$3=\"\",\"\",'1_Lister les activités'!A448),\"\")","v":""},null,"",{"$f":"IFERROR(IF($BH$3=\"\",\"\",'1_Lister les activités'!B448),\"\")","v":0},0,"",{"$f":"IFERROR(IF($BH$3=\"\",\"\",'1_Lister les activités'!C448),\"\")","v":"Selectionner"}]
[{"$nulls":9},{"$f":"'2-Programmer les activités'!F452","v":0},{"$f":"'2-Programmer les activités'!G452","v":0},{"$nulls":21},{"$f":"IF('2-Programmer les activités'!J453=\"\",\"\",'2-Programmer les activités'!J453)","v":""},"","","","","-","","","","X",null,"","","","",null,"","","","",null,"","","","",null,null,{"$f":"IF(OR('1_Lister les activités'!D448=\"\",'1_Lister les activités'!D448=0),\"\",'1_Lister les activités'!D448)","v":""},{"$f":"IFERROR(IF($BH$3=\"\",\"\",'1_Lister les activités'!A449),\"\")","v":""},null,"",{"$f":"IFERROR(IF($BH$3=\"\",\"\",'1_Lister les activités'!B449),\"\")","v":0},0,"",{"$f":"IFERROR(IF($BH$3=\"\",\"\",'1_Lister les activités'!C449),\"\")","v":"Selectionner"}]
[{"$nulls":9},{"$f":"'2-Programmer les activités'!F453","v":0},{"$f":"'2-Programmer les activités'!G453","v":0},{"$nulls":21},{"$f":"IF('2-Programmer les activités'!J454=\"\",\"\",'2-Programmer les activités'!J454)","v":""},"","","","","-","","","","X",null,"","","","",null,"","","","",null,"","","","",null,null,{"$f":"IF(OR('1_Lister les activités'!D449=\"\",'1_Lister les activités'!D449=0),\"\",'1_Lister les activités'!D449)","v":""},{"$f":"IFERROR(IF($BH$3=\"\",\"\",'1_Lister les activités'!A450),\"\")","v":""},null,"",{"$f":"IFERROR(IF($BH$3=\"\",\"\",'1_Lister les activités'!B450),\"\")","v":0},0,"",{"$f":"IFERROR(IF($BH$3=\"\",\"\",'1_Lister les activités'!C450),\"\")","v":"Selectionner"}]
[{"$nulls":9},{"$f":"'2-Programmer les activités'!F454","v":0},{"$f":"'2-Programmer les activités'!G454","v":0},{"$nulls":21},{"$f":"IF('2-Programmer les activités'!J455=\"\",\"\",'2-Programmer les activités'!J455)","v":""},"","","","","-","","","","X",null,"","","","",null,"","","","",null,"","","","",null,null,{"$f":"IF(OR('1_Lister les activités'!D450=\"\",'1_Lister les activités'!D450=0),\"\",'1_Lister les activités'!D450)","v":""},{"$f":"IFERROR(IF($BH$3=\"\",\"\",'1_Lister les activités'!A451),\"\")","v":""},null,"",{"$f":"IFERROR(IF($BH$3=\"\",\"\",'1_Lister les activités'!B451),\"\")","v":0},0,"",{"$f":"IFERROR(IF($BH$3=\"\",\"\",'1_Lister les activités'!C451),\"\")","v":"Selectionner"}]
[{"$nulls":9},{"$f":"'2-Programmer les activités'!F455","v":0},{"$f":"'2-Programmer les activités'!G455","v":0},{"$nulls":21},{"$f":"IF('2-Programmer les activités'!J456=\"\",\"\",'2-Programmer les activités'!J456)","v":""},{"$f":"IF(AG450=\"\",\"\",MONTH(AG450))","v":""},"",{"$f":"IF(AG450=\"\",\"\",DAY(AG450))","v":""},{"$f":"IFERROR(YEAR(AG450),\"\")","v":""},{"$f":"IFERROR(CONCATENATE(AI450,\"-\",AK450),\"\")","v":"-"},{"$f":"IF(AJ450<8,\"X\",\"\")","v":""},{"$f":"IF(AND(AJ450>7,AND(AJ450<15)),\"X\",\"\")","v":""},{"$f":"IF(AND(AJ450>14,AND(AJ450<22)),\"X\",\"\")","v":""},{"$f":"IF(AJ450>21,\"X\",\"\")","v":"X"},null,{"$f":"IF(AL450=$AR$4,AM450,\"\")","v":""},{"$f":"IF(AL450=$AR$4,AN450,\"\")","v":""},{"$f":"IF(AL450=$AR$4,AO450,\"\")","v":""},{"$f":"IF(AL450=$AR$4,AP450,\"\")","v":""},null,{"$f":"IF(AL450=$AW$4,AM450,\"\")","v":""},{"$f":"IF(AL450=$AW$4,AN450,\"\")","v":""},{"$f":"IF(AL450=$AW$4,AO450,\"\")","v":""},{"$f":"IF(AL450=$AW$4,AP450,\"\")","v":""},null,{"$f":"IF(AL450=$BB$4,AM450,\"\")","v":""},{"$f":"IF(AL450=$BB$4,AN450,\"\")","v":""},{"$f":"IF(AL450=$BB$4,AO450,\"\")","v":""},{"$f":"IF(AL450=$BB$4,AP450,\"\")","v":""},null,null,{"$f":"IF(OR('1_Lister les activités'!D451=\"\",'1_Lister les activités'!D451=0),\"\",'1_Lister les activités'!D451)","v":""},{"$f":"IFERROR(IF($BH$3=\"\",\"\",'1_Lister les activités'!A452),\"\")","v":""},null,"",{"$f":"IFERROR(IF($BH$3=\"\",\"\",'1_Lister les activités'!B452),\"\")","v":0},0,"",{"$f":"IFERROR(IF($BH$3=\"\",\"\",'1_Lister les activités'!C452),\"\")","v":"Selectionner"}]
[{"$nulls":9},{"$f":"'2-Programmer les activités'!F456","v":0},{"$f":"'2-Programmer les activités'!G456","v":0},{"$nulls":21},{"$f":"IF('2-Programmer les activités'!J457=\"\",\"\",'2-Programmer les activités'!J457)","v":""},"","","","","-","","","","X",null,"","","","",null,"","","","",null,"","","","",null,null,{"$f":"IF(OR('1_Lister les activités'!D452=\"\",'1_Lister les activités'!D452=0),\"\",'1_Lister les activités'!D452)","v":""},{"$f":"IFERROR(IF($BH$3=\"\",\"\",'1_Lister les activités'!A453),\"\")","v":""},null,"",{"$f":"IFERROR(IF($BH$3=\"\",\"\",'1_Lister les activités'!B453),\"\")","v":0},0,"",{"$f":"IFERROR(IF($BH$3=\"\",\"\",'1_Lister les activités'!C453),\"\")","v":"Selectionner"}]
[{"$nulls":9},{"$f":"'2-Programmer les activités'!F457","v":0},{"$f":"'2-Programmer les activités'!G457","v":0},{"$nulls":21},{"$f":"IF('2-Programmer les activités'!J458=\"\",\"\",'2-Programmer les activités'!J458)","v":""},"","","","","-","","","","X",null,"","","","",null,"","","","",null,"","","","",null,null,{"$f":"IF(OR('1_Lister les activités'!D453=\"\",'1_Lister les activités'!D453=0),\"\",'1_Lister les activités'!D453)","v":""},{"$f":"IFERROR(IF($BH$3=\"\",\"\",'1_Lister les activités'!A454),\"\")","v":""},null,"",{"$f":"IFERROR(IF($BH$3=\"\",\"\",'1_Lister les activités'!B454),\"\")","v":0},0,"",{"$f":"IFERROR(IF($BH$3=\"\",\"\",'1_Lister les activités'!C454),\"\")","v":"Selectionner"}]
[{"$nulls":9},{"$f":"'2-Programmer les activités'!F458","v":0},{"$f":"'2-Programmer les activités'!G458","v":0},{"$nulls":21},{"$f":"IF('2-Programmer les activités'!J459=\"\",\"\",'2-Programmer les activités'!J459)","v":""},"","","","","-","","","","X",null,"","","","",null,"","","","",null,"","","","",null,null,{"$f":"IF(OR('1_Lister les activités'!D454=\"\",'1_Lister les activités'!D454=0),\"\",'1_Lister les activités'!D454)","v":""},{"$f":"IFERROR(IF($BH$3=\"\",\"\",'1_Lister les activités'!A455),\"\")","v":""},null,{"$f":"IFERROR(BH454,\"\")","v":""},{"$f":"IFERROR(IF($BH$3=\"\",\"\",'1_Lister les activités'!B455),\"\")","v":0},0,"",{"$f":"IFERROR(IF($BH$3=\"\",\"\",'1_Lister les activités'!C455),\"\")","v":"Selectionner"}]
[{"$nulls":9},{"$f":"'2-Programmer les activités'!F459","v":0},{"$f":"'2-Programmer les activités'!G459","v":0},{"$nulls":21},{"$f":"IF('2-Programmer les activités'!J460=\"\",\"\",'2-Programmer les activités'!J460)","v":""},"",{"$f":"IFERROR(VLOOKUP(AH454,$A$110:$B$121,2,FALSE),\"\")","v":""},"","","-","","","","X",null,"","","","",null,"","","","",null,"","","","",null,null,{"$f":"IF(OR('1_Lister les activités'!D455=\"\",'1_Lister les activités'!D455=0),\"\",'1_Lister les activités'!D455)","v":""},{"$f":"IFERROR(IF($BH$3=\"\",\"\",'1_Lister les activités'!A456),\"\")","v":""},null,"",{"$f":"IFERROR(IF($BH$3=\"\",\"\",'1_Lister les activités'!B456),\"\")","v":0},{"$f":"IFERROR(BL454,\"\")","v":0},{"$f":"IFERROR(BK454,\"\")","v":""},{"$f":"IFERROR(IF($BH$3=\"\",\"\",'1_Lister les activités'!C456),\"\")","v":"Selectionner"}]
[{"$nulls":9},{"$f":"'2-Programmer les activités'!F460","v":0},{"$f":"'2-Programmer les activités'!G460","v":0},{"$nulls":21},{"$f":"IF('2-Programmer les activités'!J461=\"\",\"\",'2-Programmer les activités'!J461)","v":""},"","","","","-","","","","X",null,"","","","",null,"","","","",null,"","","","",null,null,{"$f":"IF(OR('1_Lister les activités'!D456=\"\",'1_Lister les activités'!D456=0),\"\",'1_Lister les activités'!D456)","v":""},{"$f":"IFERROR(IF($BH$3=\"\",\"\",'1_Lister les activités'!A457),\"\")","v":""},null,"",{"$f":"IFERROR(IF($BH$3=\"\",\"\",'1_Lister les activités'!B457),\"\")","v":0},0,"",{"$f":"IFERROR(IF($BH$3=\"\",\"\",'1_Lister les activités'!C457),\"\")","v":"Selectionner"}]
[{"$nulls":9},{"$f":"'2-Programmer les activités'!F461","v":0},{"$f":"'2-Programmer les activités'!G461","v":0},{"$nulls":21},{"$f":"IF('2-Programmer les activités'!J462=\"\",\"\",'2-Programmer les activités'!J462)","v":""},"","","","","-","","","","X",null,"","","","",null,"","","","",null,"","","","",null,null,{"$f":"IF(OR('1_Lister les activités'!D457=\"\",'1_Lister les activités'!D457=0),\"\",'1_Lister les activités'!D457)","v":""},{"$f":"IFERROR(IF($BH$3=\"\",\"\",'1_Lister les activités'!A458),\"\")","v":""},null,"",{"$f":"IFERROR(IF($BH$3=\"\",\"\",'1_Lister les activités'!B458),\"\")","v":0},0,"",{"$f":"IFERROR(IF($BH$3=\"\",\"\",'1_Lister les activités'!C458),\"\")","v":"Selectionner"}]
[{"$nulls":9},{"$f":"'2-Programmer les activités'!F462","v":0},{"$f":"'2-Programmer les activités'!G462","v":0},{"$nulls":21},{"$f":"IF('2-Programmer les activités'!J463=\"\",\"\",'2-Programmer les activités'!J463)","v":""},"","","","","-","","","","X",null,"","","","",null,"","","","",null,"","","","",null,null,{"$f":"IF(OR('1_Lister les activités'!D458=\"\",'1_Lister les activités'!D458=0),\"\",'1_Lister les activités'!D458)","v":""},{"$f":"IFERROR(IF($BH$3=\"\",\"\",'1_Lister les activités'!A459),\"\")","v":""},null,"",{"$f":"IFERROR(IF($BH$3=\"\",\"\",'1_Lister les activités'!B459),\"\")","v":0},0,"",{"$f":"IFERROR(IF($BH$3=\"\",\"\",'1_Lister les activités'!C459),\"\")","v":"Selectionner"}]
[{"$nulls":9},{"$f":"'2-Programmer les activités'!F463","v":0},{"$f":"'2-Programmer les activités'!G463","v":0},{"$nulls":21},{"$f":"IF('2-Programmer les activités'!J464=\"\",\"\",'2-Programmer les activités'!J464)","v":""},"","","","","-","","","","X",null,"","","","",null,"","","","",null,"","","","",null,null,{"$f":"IF(OR('1_Lister les activités'!D459=\"\",'1_Lister les activités'!D459=0),\"\",'1_Lister les activités'!D459)","v":""},{"$f":"IFERROR(IF($BH$3=\"\",\"\",'1_Lister les activités'!A460),\"\")","v":""},null,"",{"$f":"IFERROR(IF($BH$3=\"\",\"\",'1_Lister les activités'!B460),\"\")","v":0},0,"",{"$f":"IFERROR(IF($BH$3=\"\",\"\",'1_Lister les activités'!C460),\"\")","v":"Selectionner"}]
[{"$nulls":9},{"$f":"'2-Programmer les activités'!F464","v":0},{"$f":"'2-Programmer les activités'!G464","v":0},{"$nulls":21},{"$f":"IF('2-Programmer les activités'!J465=\"\",\"\",'2-Programmer les activités'!J465)","v":""},"","","","","-","","","","X",null,"","","","",null,"","","","",null,"","","","",null,null,{"$f":"IF(OR('1_Lister les activités'!D460=\"\",'1_Lister les activités'!D460=0),\"\",'1_Lister les activités'!D460)","v":""},{"$f":"IFERROR(IF($BH$3=\"\",\"\",'1_Lister les activités'!A461),\"\")","v":""},null,"",{"$f":"IFERROR(IF($BH$3=\"\",\"\",'1_Lister les activités'!B461),\"\")","v":0},0,"",{"$f":"IFERROR(IF($BH$3=\"\",\"\",'1_Lister les activités'!C461),\"\")","v":"Selectionner"}]
[{"$nulls":9},{"$f":"'2-Programmer les activités'!F465","v":0},{"$f":"'2-Programmer les activités'!G465","v":0},{"$nulls":21},{"$f":"IF('2-Programmer les activités'!J466=\"\",\"\",'2-Programmer les activités'!J466)","v":""},"","","","","-","","","","X",null,"","","","",null,"","","","",null,"","","","",null,null,{"$f":"IF(OR('1_Lister les activités'!D461=\"\",'1_Lister les activités'!D461=0),\"\",'1_Lister les activités'!D461)","v":""},{"$f":"IFERROR(IF($BH$3=\"\",\"\",'1_Lister les activités'!A462),\"\")","v":""},null,"",{"$f":"IFERROR(IF($BH$3=\"\",\"\",'1_Lister les activités'!B462),\"\")","v":0},0,"",{"$f":"IFERROR(IF($BH$3=\"\",\"\",'1_Lister les activités'!C462),\"\")","v":"Selectionner"}]
[{"$nulls":9},{"$f":"'2-Programmer les activités'!F466","v":0},{"$f":"'2-Programmer les activités'!G466","v":0},{"$nulls":21},{"$f":"IF('2-Programmer les activités'!J467=\"\",\"\",'2-Programmer les activités'!J467)","v":""},"","","","","-","","","","X",null,"","","","",null,"","","","",null,"","","","",null,null,{"$f":"IF(OR('1_Lister les activités'!D462=\"\",'1_Lister les activités'!D462=0),\"\",'1_Lister les activités'!D462)","v":""},{"$f":"IFERROR(IF($BH$3=\"\",\"\",'1_Lister les activités'!A463),\"\")","v":""},null,"",{"$f":"IFERROR(IF($BH$3=\"\",\"\",'1_Lister les activités'!B463),\"\")","v":0},0,"",{"$f":"IFERROR(IF($BH$3=\"\",\"\",'1_Lister les activités'!C463),\"\")","v":"Selectionner"}]
[{"$nulls":9},{"$f":"'2-Programmer les activités'!F467","v":0},{"$f":"'2-Programmer les activités'!G467","v":0},{"$nulls":21},{"$f":"IF('2-Programmer les activités'!J468=\"\",\"\",'2-Programmer les activités'!J468)","v":""},"","","","","-","","","","X",null,"","","","",null,"","","","",null,"","","","",null,null,{"$f":"IF(OR('1_Lister les activités'!D463=\"\",'1_Lister les activités'!D463=0),\"\",'1_Lister les activités'!D463)","v":""},{"$f":"IFERROR(IF($BH$3=\"\",\"\",'1_Lister les activités'!A464),\"\")","v":""},null,"",{"$f":"IFERROR(IF($BH$3=\"\",\"\",'1_Lister les activités'!B464),\"\")","v":0},0,"",{"$f":"IFERROR(IF($BH$3=\"\",\"\",'1_Lister les activités'!C464),\"\")","v":"Selectionner"}]
[{"$nulls":9},{"$f":"'2-Programmer les activités'!F468","v":0},{"$f":"'2-Programmer les activités'!G468","v":0},{"$nulls":21},{"$f":"IF('2-Programmer les activités'!J469=\"\",\"\",'2-Programmer les activités'!J469)","v":""},"","","","","-","","","","X",null,"","","","",null,"","","","",null,"","","","",null,null,{"$f":"IF(OR('1_Lister les activités'!D464=\"\",'1_Lister les activités'!D464=0),\"\",'1_Lister les activités'!D464)","v":""},{"$f":"IFERROR(IF($BH$3=\"\",\"\",'1_Lister les activités'!A465),\"\")","v":""},null,"",{"$f":"IFERROR(IF($BH$3=\"\",\"\",'1_Lister les activités'!B465),\"\")","v":0},0,"",{"$f":"IFERROR(IF($BH$3=\"\",\"\",'1_Lister les activités'!C465),\"\")","v":"Selectionner"}]
[{"$nulls":9},{"$f":"'2-Programmer les activités'!F469","v":0},{"$f":"'2-Programmer les activités'!G469","v":0},{"$nulls":21},{"$f":"IF('2-Programmer les activités'!J470=\"\",\"\",'2-Programmer les activités'!J470)","v":""},"","","","","-","","","","X",null,"","","","",null,"","","","",null,"","","","",null,null,{"$f":"IF(OR('1_Lister les activités'!D465=\"\",'1_Lister les activités'!D465=0),\"\",'1_Lister les activités'!D465)","v":""},{"$f":"IFERROR(IF($BH$3=\"\",\"\",'1_Lister les activités'!A466),\"\")","v":""},null,"",{"$f":"IFERROR(IF($BH$3=\"\",\"\",'1_Lister les activités'!B466),\"\")","v":0},0,"",{"$f":"IFERROR(IF($BH$3=\"\",\"\",'1_Lister les activités'!C466),\"\")","v":"Selectionner"}]
[{"$nulls":9},{"$f":"'2-Programmer les activités'!F470","v":0},{"$f":"'2-Programmer les activités'!G470","v":0},{"$nulls":21},{"$f":"IF('2-Programmer les activités'!J471=\"\",\"\",'2-Programmer les activités'!J471)","v":""},"","","","","-","","","","X",null,"","","","",null,"","","","",null,"","","","",null,null,{"$f":"IF(OR('1_Lister les activités'!D466=\"\",'1_Lister les activités'!D466=0),\"\",'1_Lister les activités'!D466)","v":""},{"$f":"IFERROR(IF($BH$3=\"\",\"\",'1_Lister les activités'!A467),\"\")","v":""},null,"",{"$f":"IFERROR(IF($BH$3=\"\",\"\",'1_Lister les activités'!B467),\"\")","v":0},0,"",{"$f":"IFERROR(IF($BH$3=\"\",\"\",'1_Lister les activités'!C467),\"\")","v":"Selectionner"}]
[{"$nulls":9},{"$f":"'2-Programmer les activités'!F471","v":0},{"$f":"'2-Programmer les activités'!G471","v":0},{"$nulls":21},{"$f":"IF('2-Programmer les activités'!J472=\"\",\"\",'2-Programmer les activités'!J472)","v":""},"","","","","-","","","","X",null,"","","","",null,"","","","",null,"","","","",null,null,{"$f":"IF(OR('1_Lister les activités'!D467=\"\",'1_Lister les activités'!D467=0),\"\",'1_Lister les activités'!D467)","v":""},{"$f":"IFERROR(IF($BH$3=\"\",\"\",'1_Lister les activités'!A468),\"\")","v":""},null,"",{"$f":"IFERROR(IF($BH$3=\"\",\"\",'1_Lister les activités'!B468),\"\")","v":0},0,"",{"$f":"IFERROR(IF($BH$3=\"\",\"\",'1_Lister les activités'!C468),\"\")","v":"Selectionner"}]
[{"$nulls":9},{"$f":"'2-Programmer les activités'!F472","v":0},{"$f":"'2-Programmer les activités'!G472","v":0},{"$nulls":21},{"$f":"IF('2-Programmer les activités'!J473=\"\",\"\",'2-Programmer les activités'!J473)","v":""},"","","","","-","","","","X",null,"","","","",null,"","","","",null,"","","","",null,null,{"$f":"IF(OR('1_Lister les activités'!D468=\"\",'1_Lister les activités'!D468=0),\"\",'1_Lister les activités'!D468)","v":""},{"$f":"IFERROR(IF($BH$3=\"\",\"\",'1_Lister les activités'!A469),\"\")","v":""},null,"",{"$f":"IFERROR(IF($BH$3=\"\",\"\",'1_Lister les activités'!B469),\"\")","v":0},0,"",{"$f":"IFERROR(IF($BH$3=\"\",\"\",'1_Lister les activités'!C469),\"\")","v":"Selectionner"}]
[{"$nulls":9},{"$f":"'2-Programmer les activités'!F473","v":0},{"$f":"'2-Programmer les activités'!G473","v":0},{"$nulls":21},{"$f":"IF('2-Programmer les activités'!J474=\"\",\"\",'2-Programmer les activités'!J474)","v":""},"","","","","-","","","","X",null,"","","","",null,"","","","",null,"","","","",null,null,{"$f":"IF(OR('1_Lister les activités'!D469=\"\",'1_Lister les activités'!D469=0),\"\",'1_Lister les activités'!D469)","v":""},{"$f":"IFERROR(IF($BH$3=\"\",\"\",'1_Lister les activités'!A470),\"\")","v":""},null,"",{"$f":"IFERROR(IF($BH$3=\"\",\"\",'1_Lister les activités'!B470),\"\")","v":0},0,"",{"$f":"IFERROR(IF($BH$3=\"\",\"\",'1_Lister les activités'!C470),\"\")","v":"Selectionner"}]
[{"$nulls":9},{"$f":"'2-Programmer les activités'!F474","v":0},{"$f":"'2-Programmer les activités'!G474","v":0},{"$nulls":21},{"$f":"IF('2-Programmer les activités'!J475=\"\",\"\",'2-Programmer les activités'!J475)","v":""},"","","","","-","","","","X",null,"","","","",null,"","","","",null,"","","","",null,null,{"$f":"IF(OR('1_Lister les activités'!D470=\"\",'1_Lister les activités'!D470=0),\"\",'1_Lister les activités'!D470)","v":""},{"$f":"IFERROR(IF($BH$3=\"\",\"\",'1_Lister les activités'!A471),\"\")","v":""},null,"",{"$f":"IFERROR(IF($BH$3=\"\",\"\",'1_Lister les activités'!B471),\"\")","v":0},0,"",{"$f":"IFERROR(IF($BH$3=\"\",\"\",'1_Lister les activités'!C471),\"\")","v":"Selectionner"}]
[{"$nulls":9},{"$f":"'2-Programmer les activités'!F475","v":0},{"$f":"'2-Programmer les activités'!G475","v":0},{"$nulls":21},{"$f":"IF('2-Programmer les activités'!J476=\"\",\"\",'2-Programmer les activités'!J476)","v":""},"","","","","-","","","","X",null,"","","","",null,"","","","",null,"","","","",null,null,{"$f":"IF(OR('1_Lister les activités'!D471=\"\",'1_Lister les activités'!D471=0),\"\",'1_Lister les activités'!D471)","v":""},{"$f":"IFERROR(IF($BH$3=\"\",\"\",'1_Lister les activités'!A472),\"\")","v":""},null,"",{"$f":"IFERROR(IF($BH$3=\"\",\"\",'1_Lister les activités'!B472),\"\")","v":0},0,"",{"$f":"IFERROR(IF($BH$3=\"\",\"\",'1_Lister les activités'!C472),\"\")","v":"Selectionner"}]
[{"$nulls":9},{"$f":"'2-Programmer les activités'!F476","v":0},{"$f":"'2-Programmer les activités'!G476","v":0},{"$nulls":21},{"$f":"IF('2-Programmer les activités'!J477=\"\",\"\",'2-Programmer les activités'!J477)","v":""},"","","","","-","","","","X",null,"","","","",null,"","","","",null,"","","","",null,null,{"$f":"IF(OR('1_Lister les activités'!D472=\"\",'1_Lister les activités'!D472=0),\"\",'1_Lister les activités'!D472)","v":""},{"$f":"IFERROR(IF($BH$3=\"\",\"\",'1_Lister les activités'!A473),\"\")","v":""},null,"",{"$f":"IFERROR(IF($BH$3=\"\",\"\",'1_Lister les activités'!B473),\"\")","v":0},0,"",{"$f":"IFERROR(IF($BH$3=\"\",\"\",'1_Lister les activités'!C473),\"\")","v":"Selectionner"}]
[{"$nulls":9},{"$f":"'2-Programmer les activités'!F477","v":0},{"$f":"'2-Programmer les activités'!G477","v":0},{"$nulls":21},{"$f":"IF('2-Programmer les activités'!J478=\"\",\"\",'2-Programmer les activités'!J478)","v":""},"","","","","-","","","","X",null,"","","","",null,"","","","",null,"","","","",null,null,{"$f":"IF(OR('1_Lister les activités'!D473=\"\",'1_Lister les activités'!D473=0),\"\",'1_Lister les activités'!D473)","v":""},{"$f":"IFERROR(IF($BH$3=\"\",\"\",'1_Lister les activités'!A474),\"\")","v":""},null,"",{"$f":"IFERROR(IF($BH$3=\"\",\"\",'1_Lister les activités'!B474),\"\")","v":0},0,"",{"$f":"IFERROR(IF($BH$3=\"\",\"\",'1_Lister les activités'!C474),\"\")","v":"Selectionner"}]
[{"$nulls":9},{"$f":"'2-Programmer les activités'!F478","v":0},{"$f":"'2-Programmer les activités'!G478","v":0},{"$nulls":21},{"$f":"IF('2-Programmer les activités'!J479=\"\",\"\",'2-Programmer les activités'!J479)","v":""},"","","","","-","","","","X",null,"","","","",null,"","","","",null,"","","","",null,null,{"$f":"IF(OR('1_Lister les activités'!D474=\"\",'1_Lister les activités'!D474=0),\"\",'1_Lister les activités'!D474)","v":""},{"$f":"IFERROR(IF($BH$3=\"\",\"\",'1_Lister les activités'!A475),\"\")","v":""},null,"",{"$f":"IFERROR(IF($BH$3=\"\",\"\",'1_Lister les activités'!B475),\"\")","v":0},0,"",{"$f":"IFERROR(IF($BH$3=\"\",\"\",'1_Lister les activités'!C475),\"\")","v":"Selectionner"}]
[{"$nulls":9},{"$f":"'2-Programmer les activités'!F479","v":0},{"$f":"'2-Programmer les activités'!G479","v":0},{"$nulls":21},{"$f":"IF('2-Programmer les activités'!J480=\"\",\"\",'2-Programmer les activités'!J480)","v":""},"","","","","-","","","","X",null,"","","","",null,"","","","",null,"","","","",null,null,{"$f":"IF(OR('1_Lister les activités'!D475=\"\",'1_Lister les activités'!D475=0),\"\",'1_Lister les activités'!D475)","v":""},{"$f":"IFERROR(IF($BH$3=\"\",\"\",'1_Lister les activités'!A476),\"\")","v":""},null,"",{"$f":"IFERROR(IF($BH$3=\"\",\"\",'1_Lister les activités'!B476),\"\")","v":0},0,"",{"$f":"IFERROR(IF($BH$3=\"\",\"\",'1_Lister les activités'!C476),\"\")","v":"Selectionner"}]
[{"$nulls":9},{"$f":"'2-Programmer les activités'!F480","v":0},{"$f":"'2-Programmer les activités'!G480","v":0},{"$nulls":21},{"$f":"IF('2-Programmer les activités'!J481=\"\",\"\",'2-Programmer les activités'!J481)","v":""},"","","","","-","","","","X",null,"","","","",null,"","","","",null,"","","","",null,null,{"$f":"IF(OR('1_Lister les activités'!D476=\"\",'1_Lister les activités'!D476=0),\"\",'1_Lister les activités'!D476)","v":""},{"$f":"IFERROR(IF($BH$3=\"\",\"\",'1_Lister les activités'!A477),\"\")","v":""},null,"",{"$f":"IFERROR(IF($BH$3=\"\",\"\",'1_Lister les activités'!B477),\"\")","v":0},0,"",{"$f":"IFERROR(IF($BH$3=\"\",\"\",'1_Lister les activités'!C477),\"\")","v":"Selectionner"}]
[{"$nulls":9},{"$f":"'2-Programmer les activités'!F481","v":0},{"$f":"'2-Programmer les activités'!G481","v":0},{"$nulls":21},{"$f":"IF('2-Programmer les activités'!J482=\"\",\"\",'2-Programmer les activités'!J482)","v":""},"","","","","-","","","","X",null,"","","","",null,"","","","",null,"","","","",null,null,{"$f":"IF(OR('1_Lister les activités'!D477=\"\",'1_Lister les activités'!D477=0),\"\",'1_Lister les activités'!D477)","v":""},{"$f":"IFERROR(IF($BH$3=\"\",\"\",'1_Lister les activités'!A478),\"\")","v":""},null,"",{"$f":"IFERROR(IF($BH$3=\"\",\"\",'1_Lister les activités'!B478),\"\")","v":0},0,"",{"$f":"IFERROR(IF($BH$3=\"\",\"\",'1_Lister les activités'!C478),\"\")","v":"Selectionner"}]
[{"$nulls":9},{"$f":"'2-Programmer les activités'!F482","v":0},{"$f":"'2-Programmer les activités'!G482","v":0},{"$nulls":21},{"$f":"IF('2-Programmer les activités'!J483=\"\",\"\",'2-Programmer les activités'!J483)","v":""},"","","","","-","","","","X",null,"","","","",null,"","","","",null,"","","","",null,null,{"$f":"IF(OR('1_Lister les activités'!D478=\"\",'1_Lister les activités'!D478=0),\"\",'1_Lister les activités'!D478)","v":""},{"$f":"IFERROR(IF($BH$3=\"\",\"\",'1_Lister les activités'!A479),\"\")","v":""},null,"",{"$f":"IFERROR(IF($BH$3=\"\",\"\",'1_Lister les activités'!B479),\"\")","v":0},0,"",{"$f":"IFERROR(IF($BH$3=\"\",\"\",'1_Lister les activités'!C479),\"\")","v":"Selectionner"}]
[{"$nulls":9},{"$f":"'2-Programmer les activités'!F483","v":0},{"$f":"'2-Programmer les activités'!G483","v":0},{"$nulls":21},{"$f":"IF('2-Programmer les activités'!J484=\"\",\"\",'2-Programmer les activités'!J484)","v":""},"","","","","-","","","","X",null,"","","","",null,"","","","",null,"","","","",null,null,{"$f":"IF(OR('1_Lister les activités'!D479=\"\",'1_Lister les activités'!D479=0),\"\",'1_Lister les activités'!D479)","v":""},{"$f":"IFERROR(IF($BH$3=\"\",\"\",'1_Lister les activités'!A480),\"\")","v":""},null,"",{"$f":"IFERROR(IF($BH$3=\"\",\"\",'1_Lister les activités'!B480),\"\")","v":0},0,"",{"$f":"IFERROR(IF($BH$3=\"\",\"\",'1_Lister les activités'!C480),\"\")","v":"Selectionner"}]
[{"$nulls":59},{"$f":"IF(OR('1_Lister les activités'!D480=\"\",'1_Lister les activités'!D480=0),\"\",'1_Lister les activités'!D480)","v":""}]
[{"$nulls":59},{"$f":"IF(OR('1_Lister les activités'!D481=\"\",'1_Lister les activités'!D481=0),\"\",'1_Lister les activités'!D481)","v":""}]

{"sheet":"Param deadline","index":7,"n_rows":478,"n_cols":92,"rows_kept":478,"hidden":true}
[]
[{"$nulls":91},"Typologie. Activité"]
[{"$nulls":16},1,2,3,{"$nulls":3},1,2,3,{"$nulls":34},1,{"$nulls":18},"-","XUA",null,"Selectionner",{"$nulls":9},"Selectionner"]
[{"$nulls":3},{"$f":"TODAY()","v":"2022-03-09"},{"$f":"YEAR(D4)","v":2022},{"$nulls":11},{"$f":"O22","v":"Subvention VIH"},{"$f":"O23","v":"Subvention TB"},{"$f":"O24","v":0},{"$nulls":3},{"$f":"Q4","v":"Subvention VIH"},{"$f":"R4","v":"Subvention TB"},0,{"$nulls":18},{"$f":"IFERROR(VLOOKUP(F19,C19:D31,2,FALSE),\"\")","v":""},{"$nulls":4},{"$f":"IFERROR(VLOOKUP(F19,$C$32:$D$44,2,FALSE),\"\")","v":""},{"$nulls":4},{"$f":"IFERROR(VLOOKUP(F19,$C$45:$D$57,2,FALSE),\"\")","v":""},{"$nulls":5},"Selectionner",null,null,"Selectionner",null,null,"Selectionner",{"$nulls":4},"Selectionner",null,"Selectionner",{"$nulls":5},"Afghani","Pul","؋","AFN",{"$f":"CA4","v":"Afghani"},{"$nulls":8},{"$f":"IF(Setup!I7=\"\",\"\",Setup!I7)","v":"Evaluation"}]
[{"$nulls":4},"Selectionner",{"$nulls":10},"Modules","Selectionner","Selectionner","Selectionner",null,null,"Interventions","Selectionner","Selectionner","Selectionner",{"$nulls":8},"mois","mois-chif","jour","annee","concat","S1","S2","S3","S4",null,"S1","S2","S3","S4",null,"S1","S2","S3","S4",null,"S1","S2","S3","S4",null,null,{"$f":"IFERROR(IF($BH$3=\"\",\"\",'1_Lister les activités'!D7),\"\")","v":"Planifier"},{"$f":"IFERROR(IF($BH$3=\"\",\"\",'1_Lister les activités'!A7),\"\")","v":1},null,{"$f":"IFERROR(BH5,\"\")","v":"Planifier"},{"$f":"IFERROR(IF($BH$3=\"\",\"\",'1_Lister les activités'!B7),\"\")","v":12},{"$f":"IFERROR(BL5,\"\")","v":12},{"$f":"IFERROR(BK5,\"\")","v":"Planifier"},{"$f":"IFERROR(IF($BH$3=\"\",\"\",'1_Lister les activités'!C7),\"\")","v":"Evaluation"},{"$nulls":3},"Afghanistan",null,"Achevé",{"$nulls":5},"Algerian Dinar","Santeem","د.ج","DZD",{"$f":"CA5","v":"Algerian Dinar"},{"$nulls":8},{"$f":"IF(Setup!I8=\"\",\"\",Setup!I8)","v":""}]
[{"$nulls":3},"Janvier-Mars",{"$f":"CONCATENATE(D6,\"_\",$E$4)","v":"Janvier-Mars_2022"},1,{"$nulls":3},"Select",{"$nulls":12},"Changement de comportement dans le cadre des programmes destinés à la population générale",{"$nulls":9},{"$f":"IF('2-Programmer les activités'!K12=\"\",\"\",'2-Programmer les activités'!K12)","v":"2021-03-20"},{"$f":"IF(AG6=\"\",\"\",MONTH(AG6))","v":3},{"$f":"IFERROR(VLOOKUP(AH6,$A$110:$B$121,2,FALSE),\"\")","v":"mars"},{"$f":"IF(AG6=\"\",\"\",DAY(AG6))","v":20},{"$f":"IFERROR(YEAR(AG6),\"\")","v":2021},{"$f":"IFERROR(CONCATENATE(AI6,\"-\",AK6),\"\")","v":"mars-2021"},{"$f":"IF(AJ6<8,\"X\",\"\")","v":""},{"$f":"IF(AND(AJ6>7,AND(AJ6<15)),\"X\",\"\")","v":""},{"$f":"IF(AND(AJ6>14,AND(AJ6<22)),\"X\",\"\")","v":"X"},{"$f":"IF(AJ6>21,\"X\",\"\")","v":""},null,{"$f":"IF(AL6=$AR$4,AM6,\"\")","v":""},{"$f":"IF(AL6=$AR$4,AN6,\"\")","v":""},{"$f":"IF(AL6=$AR$4,AO6,\"\")","v":""},{"$f":"IF(AL6=$AR$4,AP6,\"\")","v":""},null,{"$f":"IF(AL6=$AW$4,AM6,\"\")","v":""},{"$f":"IF(AL6=$AW$4,AN6,\"\")","v":""},{"$f":"IF(AL6=$AW$4,AO6,\"\")","v":""},{"$f":"IF(AL6=$AW$4,AP6,\"\")","v":""},null,{"$f":"IF(AL6=$BB$4,AM6,\"\")","v":""},{"$f":"IF(AL6=$BB$4,AN6,\"\")","v":""},{"$f":"IF(AL6=$BB$4,AO6,\"\")","v":""},{"$f":"IF(AL6=$BB$4,AP6,\"\")","v":""},null,null,{"$f":"IFERROR(IF($BH$3=\"\",\"\",'1_Lister les activités'!D8),\"\")","v":"Executer"},{"$f":"IFERROR(IF($BH$3=\"\",\"\",'1_Lister les activités'!A8),\"\")","v":2},null,{"$f":"IFERROR(BH6,\"\")","v":"Executer"},{"$f":"IFERROR(IF($BH$3=\"\",\"\",'1_Lister les activités'!B8),\"\")","v":1},{"$f":"IFERROR(BL6,\"\")","v":1},{"$f":"IFERROR(BK6,\"\")","v":"Executer"},{"$f":"IFERROR(IF($BH$3=\"\",\"\",'1_Lister les activités'!C8),\"\")","v":"Evaluation"},{"$nulls":3},"Albania",null,"Débuté et très avance",{"$nulls":5},"Argentine Peso","Centavo","$","ARS","Argentine Peso",{"$nulls":8},{"$f":"IF(Setup!I9=\"\",\"\",Setup!I9)","v":""}]
[{"$nulls":3},"Avril-Juin",{"$f":"CONCATENATE(D7,\"_\",$E$4)","v":"Avril-Juin_2022"},2,{"$nulls":3},{"$f":"'2-Programmer les activités'!F12","v":0},{"$f":"'2-Programmer les activités'!G12","v":0},{"$nulls":11},"Dépistage du VIH et conseil dans le cadre des programmes destinés à la population générale",{"$nulls":9},{"$f":"IF('2-Programmer les activités'!K13=\"\",\"\",'2-Programmer les activités'!K13)","v":""},{"$f":"IF(AG7=\"\",\"\",MONTH(AG7))","v":""},"",{"$f":"IF(AG7=\"\",\"\",DAY(AG7))","v":""},{"$f":"IFERROR(YEAR(AG7),\"\")","v":""},{"$f":"IFERROR(CONCATENATE(AI7,\"-\",AK7),\"\")","v":"-"},{"$f":"IF(AJ7<8,\"X\",\"\")","v":""},{"$f":"IF(AND(AJ7>7,AND(AJ7<15)),\"X\",\"\")","v":""},{"$f":"IF(AND(AJ7>14,AND(AJ7<22)),\"X\",\"\")","v":""},{"$f":"IF(AJ7>21,\"X\",\"\")","v":"X"},null,{"$f":"IF(AL7=$AR$4,AM7,\"\")","v":""},{"$f":"IF(AL7=$AR$4,AN7,\"\")","v":""},{"$f":"IF(AL7=$AR$4,AO7,\"\")","v":""},{"$f":"IF(AL7=$AR$4,AP7,\"\")","v":""},null,{"$f":"IF(AL7=$AW$4,AM7,\"\")","v":""},{"$f":"IF(AL7=$AW$4,AN7,\"\")","v":""},{"$f":"IF(AL7=$AW$4,AO7,\"\")","v":""},{"$f":"IF(AL7=$AW$4,AP7,\"\")","v":""},null,{"$f":"IF(AL7=$BB$4,AM7,\"\")","v":""},{"$f":"IF(AL7=$BB$4,AN7,\"\")","v":""},{"$f":"IF(AL7=$BB$4,AO7,\"\")","v":""},{"$f":"IF(AL7=$BB$4,AP7,\"\")","v":""},null,null,{"$f":"IFERROR(IF($BH$3=\"\",\"\",'1_Lister les activités'!D9),\"\")","v":"Suivre"},{"$f":"IFERROR(IF($BH$3=\"\",\"\",'1_Lister les activités'!A9),\"\")","v":3},null,"Suivre",{"$f":"IFERROR(IF($BH$3=\"\",\"\",'1_Lister les activités'!B9),\"\")","v":2},2,"Suivre",{"$f":"IFERROR(IF($BH$3=\"\",\"\",'1_Lister les activités'!C9),\"\")","v":"Evaluation"},{"$nulls":3},"Algeria",null,"Débuté et moyennement avancé",{"$nulls":5},"Armenian Dram","Luma","դր.","AMD","Armenian Dram",{"$nulls":8},{"$f":"IF(Setup!I10=\"\",\"\",Setup!I10)","v":""}]
[{"$nulls":3},"Juillet-Septembre",{"$f":"CONCATENATE(D8,\"_\",$E$4)","v":"Juillet-Septembre_2022"},3,{"$nulls":3},{"$f":"'2-Programmer les activités'!F13","v":0},{"$f":"'2-Programmer les activités'!G13","v":0},{"$nulls":11},"Autres interventions réalisées auprès de la population générale : veuillez préciser",{"$nulls":9},{"$f":"IF('2-Programmer les activités'!K14=\"\",\"\",'2-Programmer les activités'!K14)","v":""},"","","","","-","","","","X",null,"","","","",null,"","","","",null,"","","","",null,null,{"$f":"IFERROR(IF($BH$3=\"\",\"\",'1_Lister les activités'!D10),\"\")","v":"Evaluer"},{"$f":"IFERROR(IF($BH$3=\"\",\"\",'1_Lister les activités'!A10),\"\")","v":4},null,"Evaluer",{"$f":"IFERROR(IF($BH$3=\"\",\"\",'1_Lister les activités'!B10),\"\")","v":0},0,"Evaluer",{"$f":"IFERROR(IF($BH$3=\"\",\"\",'1_Lister les activités'!C10),\"\")","v":"Selectionner"},{"$nulls":3},"Angola",null,"Débuté et peu avancé",{"$nulls":5},"Aruban Florin","Cent","ƒ","AWG","Aruban Florin",{"$nulls":8},{"$f":"IF(Setup!I11=\"\",\"\",Setup!I11)","v":""}]
[{"$nulls":3},"Octobre-Decembre",{"$f":"CONCATENATE(D9,\"_\",$E$4)","v":"Octobre-Decembre_2022"},4,{"$nulls":3},{"$f":"'2-Programmer les activités'!F14","v":0},{"$f":"'2-Programmer les activités'!G14","v":0},{"$nulls":11},"Changement de comportement dans le cadre des programmes destinés aux hommes ayant des rapports sexuels avec des hommes et aux transgenres",{"$nulls":9},{"$f":"IF('2-Programmer les activités'!K15=\"\",\"\",'2-Programmer les activités'!K15)","v":""},"","","","","-","","","","X",null,"","","","",null,"","","","",null,"","","","",null,null,{"$f":"IFERROR(IF($BH$3=\"\",\"\",'1_Lister les activités'!D11),\"\")","v":"Rendre compte"},{"$f":"IFERROR(IF($BH$3=\"\",\"\",'1_Lister les activités'!A11),\"\")","v":5},null,"Rendre compte",{"$f":"IFERROR(IF($BH$3=\"\",\"\",'1_Lister les activités'!B11),\"\")","v":0},0,"Rendre compte",{"$f":"IFERROR(IF($BH$3=\"\",\"\",'1_Lister les activités'!C11),\"\")","v":"Selectionner"},{"$nulls":3},"Argentina",null,"Non débuté",{"$nulls":5},"Australian Dollar","Cent","$","AUD","Australian Dollar",{"$nulls":8},{"$f":"IF(Setup!I12=\"\",\"\",Setup!I12)","v":""}]
[{"$nulls":3},"Janvier-Mars",{"$f":"CONCATENATE(D10,\"_\",$E$4+1)","v":"Janvier-Mars_2023"},5,{"$nulls":3},{"$f":"'2-Programmer les activités'!F15","v":0},{"$f":"'2-Programmer les activités'!G15","v":0},{"$nulls":11},"Préservatifs dans le cadre des programmes destinés aux hommes ayant des rapports sexuels avec des hommes et aux transgenres",{"$nulls":9},{"$f":"IF('2-Programmer les activités'!K16=\"\",\"\",'2-Programmer les activités'!K16)","v":""},"","","","","-","","","","X",null,"","","","",null,"","","","",null,"","","","",null,null,{"$f":"IFERROR(IF($BH$3=\"\",\"\",'1_Lister les activités'!D12),\"\")","v":{"v":0,"d":"0.00"}},{"$f":"IFERROR(IF($BH$3=\"\",\"\",'1_Lister les activités'!A12),\"\")","v":""},null,{"v":0,"d":"0.00"},{"$f":"IFERROR(IF($BH$3=\"\",\"\",'1_Lister les activités'!B12),\"\")","v":0},0,{"v":0,"d":"0.00"},{"$f":"IFERROR(IF($BH$3=\"\",\"\",'1_Lister les activités'!C12),\"\")","v":"Selectionner"},{"$nulls":3},"Armenia",null,"Information non disponible/Non applicable",{"$nulls":5},"Azerbaijanian Manat","Qəpik","-","AZN","Azerbaijanian Manat",{"$nulls":8},{"$f":"IF(Setup!I13=\"\",\"\",Setup!I13)","v":""}]
[{"$nulls":3},"Avril-Juin",{"$f":"CONCATENATE(D11,\"_\",$E$4+1)","v":"Avril-Juin_2023"},6,{"$nulls":3},{"$f":"'2-Programmer les activités'!F16","v":0},{"$f":"'2-Programmer les activités'!G16","v":0},{"$nulls":11},"Dépistage du VIH et conseil dans le cadre des programmes destinés aux hommes ayant des rapports sexuels avec des hommes et aux transgenres",{"$nulls":9},{"$f":"IF('2-Programmer les activités'!K17=\"\",\"\",'2-Programmer les activités'!K17)","v":""},"","","","","-","","","","X",null,"","","","",null,"","","","",null,"","","","",null,null,{"$f":"IFERROR(IF($BH$3=\"\",\"\",'1_Lister les activités'!D13),\"\")","v":{"v":0,"d":"0.00"}},{"$f":"IFERROR(IF($BH$3=\"\",\"\",'1_Lister les activités'!A13),\"\")","v":""},null,{"v":0,"d":"0.00"},{"$f":"IFERROR(IF($BH$3=\"\",\"\",'1_Lister les activités'!B13),\"\")","v":0},0,{"v":0,"d":"0.00"},{"$f":"IFERROR(IF($BH$3=\"\",\"\",'1_Lister les activités'!C13),\"\")","v":"Selectionner"},{"$nulls":3},"Azerbaijan",{"$nulls":7},"Bahamian Dollar","Cent","$","BSD","Bahamian Dollar",{"$nulls":8},{"$f":"IF(Setup!I14=\"\",\"\",Setup!I14)","v":""}]
[{"$nulls":3},"Juillet-Septembre",{"$f":"CONCATENATE(D12,\"_\",$E$4+1)","v":"Juillet-Septembre_2023"},7,{"$nulls":3},{"$f":"'2-Programmer les activités'!F17","v":0},{"$f":"'2-Programmer les activités'!G17","v":0},{"$nulls":11},"Diagnostic et traitement des infections sexuellement transmissibles dans le cadre des programmes destinés aux hommes ayant des rapports sexuels avec des hommes et aux transgenres",{"$nulls":9},{"$f":"IF('2-Programmer les activités'!K18=\"\",\"\",'2-Programmer les activités'!K18)","v":""},"","","","","-","","","","X",null,"","","","",null,"","","","",null,"","",{"$f":"IF(AL12=$BB$4,AO12,\"\")","v":""},"",null,null,{"$f":"IFERROR(IF($BH$3=\"\",\"\",'1_Lister les activités'!D14),\"\")","v":{"v":0,"d":"0.00"}},{"$f":"IFERROR(IF($BH$3=\"\",\"\",'1_Lister les activités'!A14),\"\")","v":""},null,{"v":0,"d":"0.00"},{"$f":"IFERROR(IF($BH$3=\"\",\"\",'1_Lister les activités'!B14),\"\")","v":0},0,{"v":0,"d":"0.00"},{"$f":"IFERROR(IF($BH$3=\"\",\"\",'1_Lister les activités'!C14),\"\")","v":"Selectionner"},{"$nulls":3},"Bangladesh",{"$nulls":7},"Bahraini Dinar","Fils",".د.ب","BHD","Bahraini Dinar",{"$nulls":8},{"$f":"IF(Setup!I15=\"\",\"\",Setup!I15)","v":""}]
[{"$nulls":3},"Octobre-Decembre",{"$f":"CONCATENATE(D13,\"_\",$E$4+1)","v":"Octobre-Decembre_2023"},8,{"$nulls":3},{"$f":"'2-Programmer les activités'!F18","v":0},{"$f":"'2-Programmer les activités'!G18","v":0},{"$nulls":5},"",{"$nulls":5},"Autres interventions réalisées auprès des hommes ayant des rapports sexuels avec des hommes et des transgenres : veuillez préciser",{"$nulls":9},{"$f":"IF('2-Programmer les activités'!K19=\"\",\"\",'2-Programmer les activités'!K19)","v":""},"","","","","-","","","","X",null,"","","","",null,"","","","",null,"","","","",null,null,{"$f":"IFERROR(IF($BH$3=\"\",\"\",'1_Lister les activités'!D15),\"\")","v":{"v":0,"d":"0.00"}},{"$f":"IFERROR(IF($BH$3=\"\",\"\",'1_Lister les activités'!A15),\"\")","v":""},null,{"v":0,"d":"0.00"},{"$f":"IFERROR(IF($BH$3=\"\",\"\",'1_Lister les activités'!B15),\"\")","v":0},0,{"v":0,"d":"0.00"},{"$f":"IFERROR(IF($BH$3=\"\",\"\",'1_Lister les activités'!C15),\"\")","v":"Selectionner"},{"$nulls":3},"Belarus",{"$nulls":7},"Baht","Satang","฿","THB","Baht",{"$nulls":8},{"$f":"IF(Setup!I16=\"\",\"\",Setup!I16)","v":""}]
[{"$nulls":3},"Janvier-Mars",{"$f":"CONCATENATE(D14,\"_\",$E$4+2)","v":"Janvier-Mars_2024"},9,{"$nulls":3},{"$f":"'2-Programmer les activités'!F19","v":0},{"$f":"'2-Programmer les activités'!G19","v":0},{"$nulls":5},"",{"$nulls":5},"Changement de comportement dans le cadre des programmes destinés aux professionnels du sexe et à leurs clients",{"$nulls":9},{"$f":"IF('2-Programmer les activités'!K20=\"\",\"\",'2-Programmer les activités'!K20)","v":""},"","","","","-","","","","X",null,"","","","",null,"","","","",null,"","","","",null,null,{"$f":"IFERROR(IF($BH$3=\"\",\"\",'1_Lister les activités'!D16),\"\")","v":{"v":0,"d":"0.00"}},{"$f":"IFERROR(IF($BH$3=\"\",\"\",'1_Lister les activités'!A16),\"\")","v":""},null,{"v":0,"d":"0.00"},{"$f":"IFERROR(IF($BH$3=\"\",\"\",'1_Lister les activités'!B16),\"\")","v":0},0,{"v":0,"d":"0.00"},{"$f":"IFERROR(IF($BH$3=\"\",\"\",'1_Lister les activités'!C16),\"\")","v":"Selectionner"},{"$nulls":3},"Belize",{"$nulls":7},"Balboa","Centésimo","B/.","PAB","Balboa",{"$nulls":8},{"$f":"IF(Setup!I17=\"\",\"\",Setup!I17)","v":""}]
[{"$nulls":3},"Avril-Juin",{"$f":"CONCATENATE(D15,\"_\",$E$4+2)","v":"Avril-Juin_2024"},10,{"$nulls":3},{"$f":"'2-Programmer les activités'!F20","v":0},{"$f":"'2-Programmer les activités'!G20","v":0},{"$nulls":5},"",{"$nulls":5},"Dépistage du VIH et conseil dans le cadre des programmes destinés aux professionnels du sexe et à leurs clients",{"$nulls":9},{"$f":"IF('2-Programmer les activités'!K21=\"\",\"\",'2-Programmer les activités'!K21)","v":""},"","","","","-","","","","X",null,"","","","",null,"","","","",null,"","","","",null,null,{"$f":"IFERROR(IF($BH$3=\"\",\"\",'1_Lister les activités'!D17),\"\")","v":{"v":0,"d":"0.00"}},{"$f":"IFERROR(IF($BH$3=\"\",\"\",'1_Lister les activités'!A17),\"\")","v":""},null,{"v":0,"d":"0.00"},{"$f":"IFERROR(IF($BH$3=\"\",\"\",'1_Lister les activités'!B17),\"\")","v":0},0,{"v":0,"d":"0.00"},{"$f":"IFERROR(IF($BH$3=\"\",\"\",'1_Lister les activités'!C17),\"\")","v":"Selectionner"},{"$nulls":3},"Benin",{"$nulls":7},"Barbados Dollar","Cent","$","BBD","Barbados Dollar",{"$nulls":8},{"$f":"IF(Setup!I18=\"\",\"\",Setup!I18)","v":""}]
[{"$nulls":3},"Juillet-Septembre","Juillet-Septembre_2024",11,{"$nulls":3},{"$f":"'2-Programmer les activités'!F21","v":0},{"$f":"'2-Programmer les activités'!G21","v":0},{"$nulls":11},"Changement de comportement dans le cadre des programmes destinés aux autres populations vulnérables",{"$nulls":9},{"$f":"IF('2-Programmer les activités'!K22=\"\",\"\",'2-Programmer les activités'!K22)","v":""},"","","","","-","","","","X",null,"","","","",null,"","","","",null,"","","","",null,null,{"$f":"IFERROR(IF($BH$3=\"\",\"\",'1_Lister les activités'!D18),\"\")","v":{"v":0,"d":"0.00"}},{"$f":"IFERROR(IF($BH$3=\"\",\"\",'1_Lister les activités'!A18),\"\")","v":""},null,{"v":0,"d":"0.00"},{"$f":"IFERROR(IF($BH$3=\"\",\"\",'1_Lister les activités'!B18),\"\")","v":0},0,{"v":0,"d":"0.00"},{"$f":"IFERROR(IF($BH$3=\"\",\"\",'1_Lister les activités'!C18),\"\")","v":"Selectionner"},{"$nulls":3},"Bolivia (Plurinational State)",{"$nulls":7},"Belarussian Ruble","Kapyeyka","Br","BYR","Belarussian Ruble",{"$nulls":8},{"$f":"IF(Setup!I19=\"\",\"\",Setup!I19)","v":""}]
[{"$nulls":3},"Octobre-Decembre","Octobre-Decembre_2024",12,{"$nulls":3},{"$f":"'2-Programmer les activités'!F22","v":0},{"$f":"'2-Programmer les activités'!G22","v":0},{"$nulls":11},"Dépistage du VIH et conseil dans le cadre des programmes destinés aux autres populations vulnérables",{"$nulls":9},{"$f":"IF('2-Programmer les activités'!K23=\"\",\"\",'2-Programmer les activités'!K23)","v":""},"","","","","-","","","","X",null,"","","","",null,"","","","",null,"","","","",null,null,{"$f":"IFERROR(IF($BH$3=\"\",\"\",'1_Lister les activités'!D19),\"\")","v":{"v":0,"d":"0.00"}},{"$f":"IFERROR(IF($BH$3=\"\",\"\",'1_Lister les activités'!A19),\"\")","v":""},null,{"v":0,"d":"0.00"},{"$f":"IFERROR(IF($BH$3=\"\",\"\",'1_Lister les activités'!B19),\"\")","v":0},0,{"v":0,"d":"0.00"},{"$f":"IFERROR(IF($BH$3=\"\",\"\",'1_Lister les activités'!C19),\"\")","v":"Selectionner"},{"$nulls":3},"Bosnia and Herzegovina",{"$nulls":7},"Belize Dollar","Cent","$","BZD","Belize Dollar",{"$nulls":8},{"$f":"IF(Setup!I20=\"\",\"\",Setup!I20)","v":""}]
[{"$nulls":9},{"$f":"'2-Programmer les activités'!F23","v":0},{"$f":"'2-Programmer les activités'!G23","v":0},{"$nulls":11},"Volet 1 : prévention primaire de l'infection à VIH chez les femmes en âge de procréer",{"$nulls":9},{"$f":"IF('2-Programmer les activités'!K24=\"\",\"\",'2-Programmer les activités'!K24)","v":""},"","","","","-","","","","X",null,"","","","",null,"","","","",null,"","","","",null,null,{"$f":"IFERROR(IF($BH$3=\"\",\"\",'1_Lister les activités'!D20),\"\")","v":{"v":0,"d":"0.00"}},{"$f":"IFERROR(IF($BH$3=\"\",\"\",'1_Lister les activités'!A20),\"\")","v":""},null,{"v":0,"d":"0.00"},{"$f":"IFERROR(IF($BH$3=\"\",\"\",'1_Lister les activités'!B20),\"\")","v":0},0,{"v":0,"d":"0.00"},{"$f":"IFERROR(IF($BH$3=\"\",\"\",'1_Lister les activités'!C20),\"\")","v":"Selectionner"},{"$nulls":3},"Brazil",{"$nulls":7},"Bermudian Dollar","Cent","$","BMD","Bermudian Dollar",{"$nulls":8},{"$f":"IF(Setup!I22=\"\",\"\",Setup!I22)","v":""}]
[null,null,0,"Selectionner",{"$f":"'2-Programmer les activités'!D4","v":"Janvier-Mars_2021"},{"$f":"IFERROR(VLOOKUP(E19,$E$5:$F$17,2,FALSE),\"\")","v":""},{"$nulls":3},{"$f":"'2-Programmer les activités'!F24","v":0},{"$f":"'2-Programmer les activités'!G24","v":0},{"$nulls":11},"Volet 3 : prévention de la transmission verticale du VIH",{"$nulls":9},{"$f":"IF('2-Programmer les activités'!K25=\"\",\"\",'2-Programmer les activités'!K25)","v":""},"","","","","-","","","","X",null,"","","","",null,"","","","",null,"","","","",null,null,{"$f":"IFERROR(IF($BH$3=\"\",\"\",'1_Lister les activités'!D21),\"\")","v":{"v":0,"d":"0.00"}},{"$f":"IFERROR(IF($BH$3=\"\",\"\",'1_Lister les activités'!A21),\"\")","v":""},null,{"v":0,"d":"0.00"},{"$f":"IFERROR(IF($BH$3=\"\",\"\",'1_Lister les activités'!B21),\"\")","v":0},0,{"v":0,"d":"0.00"},{"$f":"IFERROR(IF($BH$3=\"\",\"\",'1_Lister les activités'!C21),\"\")","v":"Selectionner"},{"$nulls":3},"Bulgaria",{"$nulls":7},"Bolivar","Céntimo","Bs F","VEF","Bolivar",{"$nulls":8},{"$f":"IF(Setup!I23=\"\",\"\",Setup!I23)","v":""}]
["Janvier","2016-01-01",1,{"$f":"CONCATENATE(F24,\"-\",E4)","v":"janv-2022"},{"$nulls":5},{"$f":"'2-Programmer les activités'!F25","v":0},{"$f":"'2-Programmer les activités'!G25","v":0},{"$nulls":11},"Observance du traitement",{"$nulls":9},{"$f":"IF('2-Programmer les activités'!K26=\"\",\"\",'2-Programmer les activités'!K26)","v":""},"","","","","-","","","","X",null,"","","","",null,"","","","",null,"","","","",null,null,{"$f":"IFERROR(IF($BH$3=\"\",\"\",'1_Lister les activités'!D22),\"\")","v":{"v":0,"d":"0.00"}},{"$f":"IFERROR(IF($BH$3=\"\",\"\",'1_Lister les activités'!A22),\"\")","v":""},null,{"v":0,"d":"0.00"},{"$f":"IFERROR(IF($BH$3=\"\",\"\",'1_Lister les activités'!B22),\"\")","v":0},0,{"v":0,"d":"0.00"},{"$f":"IFERROR(IF($BH$3=\"\",\"\",'1_Lister les activités'!C22),\"\")","v":"Selectionner"},{"$nulls":3},"Burkina Faso",{"$nulls":7},"Boliviano","Centavo","Bs.","BOB","Boliviano",{"$nulls":8},{"$f":"IF(Setup!I24=\"\",\"\",Setup!I24)","v":""}]
["Avril","2016-04-01",2,{"$f":"CONCATENATE(F27,\"-\",E4)","v":"avr-2022"},null,{"$f":"IF(F6=1,\"Janvier\",si)","v":"Janvier"},{"$nulls":3},{"$f":"'2-Programmer les activités'!F26","v":0},{"$f":"'2-Programmer les activités'!G26","v":0},{"$nulls":3},"Selectionner",{"$nulls":7},"Conseil et soutien psycho-social",{"$nulls":9},{"$f":"IF('2-Programmer les activités'!K27=\"\",\"\",'2-Programmer les activités'!K27)","v":""},"","","","","-","","","","X",null,"","","","",null,"","","","",null,"","","","",null,null,{"$f":"IFERROR(IF($BH$3=\"\",\"\",'1_Lister les activités'!D23),\"\")","v":{"v":0,"d":"0.00"}},{"$f":"IFERROR(IF($BH$3=\"\",\"\",'1_Lister les activités'!A23),\"\")","v":""},null,{"v":0,"d":"0.00"},{"$f":"IFERROR(IF($BH$3=\"\",\"\",'1_Lister les activités'!B23),\"\")","v":0},0,{"v":0,"d":"0.00"},{"$f":"IFERROR(IF($BH$3=\"\",\"\",'1_Lister les activités'!C23),\"\")","v":"Selectionner"},{"$nulls":3},"Burundi",{"$nulls":7},"Bond Markets Unit European Composite Unit (EURCO)","-","-","XBA","Bond Markets Unit European Composite Unit (EURCO)",{"$nulls":8},{"$f":"IF(Setup!I25=\"\",\"\",Setup!I25)","v":""}]
["Juillet","2016-07-01",3,{"$f":"CONCATENATE(F30,\"-\",E4)","v":"juil-2022"},{"$nulls":5},{"$f":"'2-Programmer les activités'!F27","v":0},{"$f":"'2-Programmer les activités'!G27","v":0},{"$nulls":3},"Subvention VIH",1,{"$nulls":6},"Soins hospitaliers",{"$nulls":9},{"$f":"IF('2-Programmer les activités'!K28=\"\",\"\",'2-Programmer les activités'!K28)","v":""},"","","","","-","","","","X",null,"","","","",null,"","","","",null,"","","","",null,null,{"$f":"IFERROR(IF($BH$3=\"\",\"\",'1_Lister les activités'!D24),\"\")","v":{"v":0,"d":"0.00"}},{"$f":"IFERROR(IF($BH$3=\"\",\"\",'1_Lister les activités'!A24),\"\")","v":""},null,{"v":0,"d":"0.00"},{"$f":"IFERROR(IF($BH$3=\"\",\"\",'1_Lister les activités'!B24),\"\")","v":0},0,{"v":0,"d":"0.00"},{"$f":"IFERROR(IF($BH$3=\"\",\"\",'1_Lister les activités'!C24),\"\")","v":"Selectionner"},{"$nulls":3},"Buthan",{"$nulls":7},"Bond Markets Unit European Monetary Unit (E.M.U.-6)","-","-","XBB","Bond Markets Unit European Monetary Unit (E.M.U.-6)"]
["Octobre","2016-10-01",4,{"$f":"CONCATENATE(F33,\"-\",E4)","v":"oct-2022"},{"$nulls":5},{"$f":"'2-Programmer les activités'!F28","v":0},{"$f":"'2-Programmer les activités'!G28","v":0},{"$nulls":3},"Subvention TB",2,{"$nulls":6},"Autres interventions réalisées dans le cadre du traitement : veuillez préciser",{"$nulls":9},{"$f":"IF('2-Programmer les activités'!K29=\"\",\"\",'2-Programmer les activités'!K29)","v":""},"","","","","-","","","","X",null,"","","","",null,"","","","",null,"","","","",null,null,{"$f":"IFERROR(IF($BH$3=\"\",\"\",'1_Lister les activités'!D25),\"\")","v":{"v":0,"d":"0.00"}},{"$f":"IFERROR(IF($BH$3=\"\",\"\",'1_Lister les activités'!A25),\"\")","v":""},null,{"v":0,"d":"0.00"},{"$f":"IFERROR(IF($BH$3=\"\",\"\",'1_Lister les activités'!B25),\"\")","v":0},0,{"v":0,"d":"0.00"},{"$f":"IFERROR(IF($BH$3=\"\",\"\",'1_Lister les activités'!C25),\"\")","v":"Selectionner"},{"$nulls":3},"Cambodia",{"$nulls":7},"Bond Markets Unit European Unit of Account 17 (E.U.A.-17)","-","-","XBD","Bond Markets Unit European Unit of Account 17 (E.U.A.-17)"]
["Janvier","2017-01-01",5,{"$f":"CONCATENATE(F24,\"-\",E4+1)","v":"janv-2023"},null,"janv",{"$nulls":3},{"$f":"'2-Programmer les activités'!F29","v":0},{"$f":"'2-Programmer les activités'!G29","v":0},{"$nulls":11},"Dépistage et diagnostic des maladies",{"$nulls":9},{"$f":"IF('2-Programmer les activités'!K30=\"\",\"\",'2-Programmer les activités'!K30)","v":""},"","","","","-","","","","X",null,"","","","",null,"","","","",null,"","","","",null,null,{"$f":"IFERROR(IF($BH$3=\"\",\"\",'1_Lister les activités'!D26),\"\")","v":{"v":0,"d":"0.00"}},{"$f":"IFERROR(IF($BH$3=\"\",\"\",'1_Lister les activités'!A26),\"\")","v":""},null,{"v":0,"d":"0.00"},{"$f":"IFERROR(IF($BH$3=\"\",\"\",'1_Lister les activités'!B26),\"\")","v":0},0,{"v":0,"d":"0.00"},{"$f":"IFERROR(IF($BH$3=\"\",\"\",'1_Lister les activités'!C26),\"\")","v":"Selectionner"},{"$nulls":3},"Cameroon",{"$nulls":7},"Bond Markets Unit European Unit of Account 9 (E.U.A.-9)","-","-","XBC","Bond Markets Unit European Unit of Account 9 (E.U.A.-9)"]
["Avril","2017-04-01",6,{"$f":"CONCATENATE(F27,\"-\",E4+1)","v":"avr-2023"},null,"févr",{"$nulls":3},{"$f":"'2-Programmer les activités'!F30","v":0},{"$f":"'2-Programmer les activités'!G30","v":0},{"$nulls":11},"Traitement",{"$nulls":9},{"$f":"IF('2-Programmer les activités'!K31=\"\",\"\",'2-Programmer les activités'!K31)","v":""},"","","","","-","","","","X",null,"","","","",null,"","","","",null,"","","","",null,null,{"$f":"IFERROR(IF($BH$3=\"\",\"\",'1_Lister les activités'!D27),\"\")","v":{"v":0,"d":"0.00"}},{"$f":"IFERROR(IF($BH$3=\"\",\"\",'1_Lister les activités'!A27),\"\")","v":""},null,{"v":0,"d":"0.00"},{"$f":"IFERROR(IF($BH$3=\"\",\"\",'1_Lister les activités'!B27),\"\")","v":0},0,{"v":0,"d":"0.00"},{"$f":"IFERROR(IF($BH$3=\"\",\"\",'1_Lister les activités'!C27),\"\")","v":"Selectionner"},{"$nulls":3},"Cape Verde",{"$nulls":7},"Brazilian Real","Centavo","R$","BRL","Brazilian Real"]
["Juillet","2017-07-01",7,{"$f":"CONCATENATE(F30,\"-\",E4+1)","v":"juil-2023"},null,"mars",{"$nulls":3},{"$f":"'2-Programmer les activités'!F31","v":0},{"$f":"'2-Programmer les activités'!G31","v":0},{"$nulls":11},"Prise en charge communautaire de la tuberculose",{"$nulls":9},{"$f":"IF('2-Programmer les activités'!K32=\"\",\"\",'2-Programmer les activités'!K32)","v":""},"","","","","-","","","","X",null,"","","","",null,"","","","",null,"","","","",null,null,{"$f":"IFERROR(IF($BH$3=\"\",\"\",'1_Lister les activités'!D28),\"\")","v":{"v":0,"d":"0.00"}},{"$f":"IFERROR(IF($BH$3=\"\",\"\",'1_Lister les activités'!A28),\"\")","v":""},null,{"v":0,"d":"0.00"},{"$f":"IFERROR(IF($BH$3=\"\",\"\",'1_Lister les activités'!B28),\"\")","v":0},0,{"v":0,"d":"0.00"},{"$f":"IFERROR(IF($BH$3=\"\",\"\",'1_Lister les activités'!C28),\"\")","v":"Selectionner"},{"$nulls":3},"Central African Republic",{"$nulls":7},"Brunei Dollar","Sen","$","BND","Brunei Dollar"]
["Octobre","2017-10-01",8,{"$f":"CONCATENATE(F33,\"-\",E4+1)","v":"oct-2023"},null,"avr",{"$nulls":3},{"$f":"'2-Programmer les activités'!F32","v":0},{"$f":"'2-Programmer les activités'!G32","v":0},{"$nulls":11},"Populations clés touchées",{"$nulls":9},{"$f":"IF('2-Programmer les activités'!K33=\"\",\"\",'2-Programmer les activités'!K33)","v":""},"","","","","-","","","","X",null,"","","","",null,"","","","",null,"","","","",null,null,{"$f":"IFERROR(IF($BH$3=\"\",\"\",'1_Lister les activités'!D29),\"\")","v":{"v":0,"d":"0.00"}},{"$f":"IFERROR(IF($BH$3=\"\",\"\",'1_Lister les activités'!A29),\"\")","v":""},null,{"v":0,"d":"0.00"},{"$f":"IFERROR(IF($BH$3=\"\",\"\",'1_Lister les activités'!B29),\"\")","v":0},0,{"v":0,"d":"0.00"},{"$f":"IFERROR(IF($BH$3=\"\",\"\",'1_Lister les activités'!C29),\"\")","v":"Selectionner"},{"$nulls":3},"Chad",{"$nulls":7},"Bulgarian Lev","Stotinka","лв","BGN","Bulgarian Lev"]
["Janvier ","2018-01-01",9,{"$f":"CONCATENATE(F24,\"-\",E4+2)","v":"janv-2024"},null,"mai",{"$nulls":3},{"$f":"'2-Programmer les activités'!F33","v":0},{"$f":"'2-Programmer les activités'!G33","v":0},{"$nulls":11},"Interventions concertées de lutte contre la tuberculose et le VIH",{"$nulls":9},{"$f":"IF('2-Programmer les activités'!K34=\"\",\"\",'2-Programmer les activités'!K34)","v":""},"","","","","-","","","","X",null,"","","","",null,"","","","",null,"","","","",null,null,{"$f":"IFERROR(IF($BH$3=\"\",\"\",'1_Lister les activités'!D30),\"\")","v":{"v":0,"d":"0.00"}},{"$f":"IFERROR(IF($BH$3=\"\",\"\",'1_Lister les activités'!A30),\"\")","v":""},null,{"v":0,"d":"0.00"},{"$f":"IFERROR(IF($BH$3=\"\",\"\",'1_Lister les activités'!B30),\"\")","v":0},0,{"v":0,"d":"0.00"},{"$f":"IFERROR(IF($BH$3=\"\",\"\",'1_Lister les activités'!C30),\"\")","v":"Selectionner"},{"$nulls":3},"Chile",{"$nulls":7},"Burundi Franc","Centime","Fr","BIF","Burundi Franc"]
["Avril ","2018-04-01",10,{"$f":"CONCATENATE(F27,\"-\",E4+2)","v":"avr-2024"},null,"juin",{"$nulls":3},{"$f":"'2-Programmer les activités'!F34","v":0},{"$f":"'2-Programmer les activités'!G34","v":0},{"$nulls":11},"Autre",{"$nulls":9},{"$f":"IF('2-Programmer les activités'!K35=\"\",\"\",'2-Programmer les activités'!K35)","v":""},"","","","","-","","","","X",null,"","","","",null,"","","","",null,"","","","",null,null,{"$f":"IFERROR(IF($BH$3=\"\",\"\",'1_Lister les activités'!D31),\"\")","v":{"v":0,"d":"0.00"}},{"$f":"IFERROR(IF($BH$3=\"\",\"\",'1_Lister les activités'!A31),\"\")","v":""},null,{"v":0,"d":"0.00"},{"$f":"IFERROR(IF($BH$3=\"\",\"\",'1_Lister les activités'!B31),\"\")","v":0},0,{"v":0,"d":"0.00"},{"$f":"IFERROR(IF($BH$3=\"\",\"\",'1_Lister les activités'!C31),\"\")","v":"Selectionner"},{"$nulls":3},"China",{"$nulls":7},"Canadian Dollar","Cent","$","CAD","Canadian Dollar"]
["Juillet","2018-07-01",11,{"$f":"CONCATENATE(F30,\"-\",E4+2)","v":"juil-2024"},null,"juil",{"$nulls":3},{"$f":"'2-Programmer les activités'!F35","v":0},{"$f":"'2-Programmer les activités'!G35","v":0},{"$nulls":11},"Communication régulière de l’information",{"$nulls":9},{"$f":"IF('2-Programmer les activités'!K36=\"\",\"\",'2-Programmer les activités'!K36)","v":""},"","","","","-","","","","X",null,"","","","",null,"","","","",null,"","","","",null,null,{"$f":"IFERROR(IF($BH$3=\"\",\"\",'1_Lister les activités'!D32),\"\")","v":{"v":0,"d":"0.00"}},{"$f":"IFERROR(IF($BH$3=\"\",\"\",'1_Lister les activités'!A32),\"\")","v":""},null,{"v":0,"d":"0.00"},{"$f":"IFERROR(IF($BH$3=\"\",\"\",'1_Lister les activités'!B32),\"\")","v":0},0,{"v":0,"d":"0.00"},{"$f":"IFERROR(IF($BH$3=\"\",\"\",'1_Lister les activités'!C32),\"\")","v":"Selectionner"},{"$nulls":3},"Colombia",{"$nulls":7},"Cape Verde Escudo","Centavo","Esc","CVE","Cape Verde Escudo"]
["Octobre ","2018-10-01",12,{"$f":"CONCATENATE(F33,\"-\",E4+2)","v":"oct-2024"},null,"août",{"$nulls":3},{"$f":"'2-Programmer les activités'!F36","v":0},{"$f":"'2-Programmer les activités'!G36","v":0},{"$nulls":11},"Analyse, examen et transparence",{"$nulls":9},{"$f":"IF('2-Programmer les activités'!K37=\"\",\"\",'2-Programmer les activités'!K37)","v":""},"","","","","-","","","","X",null,"","","","",null,"","","","",null,"","","","",null,null,{"$f":"IFERROR(IF($BH$3=\"\",\"\",'1_Lister les activités'!D33),\"\")","v":{"v":0,"d":"0.00"}},{"$f":"IFERROR(IF($BH$3=\"\",\"\",'1_Lister les activités'!A33),\"\")","v":""},null,{"v":0,"d":"0.00"},{"$f":"IFERROR(IF($BH$3=\"\",\"\",'1_Lister les activités'!B33),\"\")","v":0},0,{"v":0,"d":"0.00"},{"$f":"IFERROR(IF($BH$3=\"\",\"\",'1_Lister les activités'!C33),\"\")","v":"Selectionner"},{"$nulls":3},"Comoros",{"$nulls":7},"Cayman Islands Dollar","Cent","$","KYD","Cayman Islands Dollar"]
[null,null,0,"Selectionner",null,"sept",{"$nulls":3},{"$f":"'2-Programmer les activités'!F37","v":0},{"$f":"'2-Programmer les activités'!G37","v":0},{"$nulls":11},"Enquête",{"$nulls":9},{"$f":"IF('2-Programmer les activités'!K38=\"\",\"\",'2-Programmer les activités'!K38)","v":""},"","","","","-","","","","X",null,"","","","",null,"","","","",null,"","","","",null,null,{"$f":"IFERROR(IF($BH$3=\"\",\"\",'1_Lister les activités'!D34),\"\")","v":{"v":0,"d":"0.00"}},{"$f":"IFERROR(IF($BH$3=\"\",\"\",'1_Lister les activités'!A34),\"\")","v":""},null,{"v":0,"d":"0.00"},{"$f":"IFERROR(IF($BH$3=\"\",\"\",'1_Lister les activités'!B34),\"\")","v":0},0,{"v":0,"d":"0.00"},{"$f":"IFERROR(IF($BH$3=\"\",\"\",'1_Lister les activités'!C34),\"\")","v":"Selectionner"},{"$nulls":3},"Congo",{"$nulls":7},"CFA Franc BCEAO","Centime","Fr","XOF","CFA Franc BCEAO"]
["Fevrier","2016-02-01",1,{"$f":"CONCATENATE(F25,\"-\",E4)","v":"févr-2022"},null,"oct",{"$nulls":3},{"$f":"'2-Programmer les activités'!F38","v":0},{"$f":"'2-Programmer les activités'!G38","v":0},{"$nulls":11},"Sources de données administratives et financières",{"$nulls":9},{"$f":"IF('2-Programmer les activités'!K39=\"\",\"\",'2-Programmer les activités'!K39)","v":""},"","","","","-","","","","X",null,"","","","",null,"","","","",null,"","","","",null,null,{"$f":"IFERROR(IF($BH$3=\"\",\"\",'1_Lister les activités'!D35),\"\")","v":{"v":0,"d":"0.00"}},{"$f":"IFERROR(IF($BH$3=\"\",\"\",'1_Lister les activités'!A35),\"\")","v":""},null,{"v":0,"d":"0.00"},{"$f":"IFERROR(IF($BH$3=\"\",\"\",'1_Lister les activités'!B35),\"\")","v":0},0,{"v":0,"d":"0.00"},{"$f":"IFERROR(IF($BH$3=\"\",\"\",'1_Lister les activités'!C35),\"\")","v":"Selectionner"},{"$nulls":3},"Congo (Democratic Republic)",{"$nulls":7},"CFA Franc BEAC","Centime","Fr","XAF","CFA Franc BEAC"]
["Mai","2016-05-01",2,{"$f":"CONCATENATE(F28,\"-\",E4)","v":"mai-2022"},null,"nov",{"$nulls":3},{"$f":"'2-Programmer les activités'!F39","v":0},{"$f":"'2-Programmer les activités'!G39","v":0},{"$nulls":11},"Gestion de subvention",{"$nulls":9},{"$f":"IF('2-Programmer les activités'!K40=\"\",\"\",'2-Programmer les activités'!K40)","v":""},"","","","","-","","","","X",null,"","","","",null,"","","","",null,"","","","",null,null,{"$f":"IFERROR(IF($BH$3=\"\",\"\",'1_Lister les activités'!D36),\"\")","v":{"v":0,"d":"0.00"}},{"$f":"IFERROR(IF($BH$3=\"\",\"\",'1_Lister les activités'!A36),\"\")","v":""},null,{"v":0,"d":"0.00"},{"$f":"IFERROR(IF($BH$3=\"\",\"\",'1_Lister les activités'!B36),\"\")","v":0},0,{"v":0,"d":"0.00"},{"$f":"IFERROR(IF($BH$3=\"\",\"\",'1_Lister les activités'!C36),\"\")","v":"Selectionner"},{"$nulls":3},"Costa Rica",{"$nulls":7},"CFP Franc","Centime","Fr","XPF","CFP Franc"]
["Aout","2016-08-01",3,{"$f":"CONCATENATE(F31,\"-\",E4)","v":"août-2022"},null,"déc",{"$nulls":3},{"$f":"'2-Programmer les activités'!F40","v":0},{"$f":"'2-Programmer les activités'!G40","v":0},{"$nulls":21},{"$f":"IF('2-Programmer les activités'!K41=\"\",\"\",'2-Programmer les activités'!K41)","v":""},"","","","","-","","","","X",null,"","","","",null,"","","","",null,"","","","",null,null,{"$f":"IFERROR(IF($BH$3=\"\",\"\",'1_Lister les activités'!D37),\"\")","v":{"v":0,"d":"0.00"}},{"$f":"IFERROR(IF($BH$3=\"\",\"\",'1_Lister les activités'!A37),\"\")","v":""},null,{"v":0,"d":"0.00"},{"$f":"IFERROR(IF($BH$3=\"\",\"\",'1_Lister les activités'!B37),\"\")","v":0},0,{"v":0,"d":"0.00"},{"$f":"IFERROR(IF($BH$3=\"\",\"\",'1_Lister les activités'!C37),\"\")","v":"Selectionner"},{"$nulls":3},"Cote d'Ivoire",{"$nulls":7},"Chilean Peso","Centavo","$","CLP","Chilean Peso"]
["Novembre","2016-11-01",4,{"$f":"CONCATENATE(F34,\"-\",E4)","v":"nov-2022"},{"$nulls":5},{"$f":"'2-Programmer les activités'!F41","v":0},{"$f":"'2-Programmer les activités'!G41","v":0},{"$nulls":21},{"$f":"IF('2-Programmer les activités'!K42=\"\",\"\",'2-Programmer les activités'!K42)","v":""},"","","","","-","","","","X",null,"","","","",null,"","","","",null,"","","","",null,null,{"$f":"IFERROR(IF($BH$3=\"\",\"\",'1_Lister les activités'!D38),\"\")","v":{"v":0,"d":"0.00"}},{"$f":"IFERROR(IF($BH$3=\"\",\"\",'1_Lister les activités'!A38),\"\")","v":""},null,{"v":0,"d":"0.00"},{"$f":"IFERROR(IF($BH$3=\"\",\"\",'1_Lister les activités'!B38),\"\")","v":0},0,{"v":0,"d":"0.00"},{"$f":"IFERROR(IF($BH$3=\"\",\"\",'1_Lister les activités'!C38),\"\")","v":"Selectionner"},{"$nulls":3},"Croatia",{"$nulls":7},"Colombian Peso","Centavo","$","COP","Colombian Peso"]
["Fevrier","2017-02-01",5,{"$f":"CONCATENATE(F25,\"-\",E4+1)","v":"févr-2023"},{"$nulls":5},{"$f":"'2-Programmer les activités'!F42","v":0},{"$f":"'2-Programmer les activités'!G42","v":0},{"$nulls":21},{"$f":"IF('2-Programmer les activités'!K43=\"\",\"\",'2-Programmer les activités'!K43)","v":""},"","","","","-","","","","X",null,"","","","",null,"","","","",null,"","","","",null,null,{"$f":"IFERROR(IF($BH$3=\"\",\"\",'1_Lister les activités'!D39),\"\")","v":{"v":0,"d":"0.00"}},{"$f":"IFERROR(IF($BH$3=\"\",\"\",'1_Lister les activités'!A39),\"\")","v":""},null,{"v":0,"d":"0.00"},{"$f":"IFERROR(IF($BH$3=\"\",\"\",'1_Lister les activités'!B39),\"\")","v":0},0,{"v":0,"d":"0.00"},{"$f":"IFERROR(IF($BH$3=\"\",\"\",'1_Lister les activités'!C39),\"\")","v":"Selectionner"},{"$nulls":3},"Cuba",{"$nulls":7},"Comoro Franc","Centime","Fr","KMF","Comoro Franc"]
["Mai","2017-05-01",6,{"$f":"CONCATENATE(F28,\"-\",E4+1)","v":"mai-2023"},{"$nulls":5},{"$f":"'2-Programmer les activités'!F43","v":0},{"$f":"'2-Programmer les activités'!G43","v":0},{"$nulls":21},{"$f":"IF('2-Programmer les activités'!K44=\"\",\"\",'2-Programmer les activités'!K44)","v":""},"","","","","-","","","","X",null,"","","","",null,"","","","",null,"","","","",null,null,{"$f":"IFERROR(IF($BH$3=\"\",\"\",'1_Lister les activités'!D40),\"\")","v":{"v":0,"d":"0.00"}},{"$f":"IFERROR(IF($BH$3=\"\",\"\",'1_Lister les activités'!A40),\"\")","v":""},null,{"v":0,"d":"0.00"},{"$f":"IFERROR(IF($BH$3=\"\",\"\",'1_Lister les activités'!B40),\"\")","v":0},0,{"v":0,"d":"0.00"},{"$f":"IFERROR(IF($BH$3=\"\",\"\",'1_Lister les activités'!C40),\"\")","v":"Selectionner"},{"$nulls":3},"Djibouti",{"$nulls":7},"Congolese Franc","Centime","Fr","CDF","Congolese Franc"]
["Aout","2017-08-01",7,{"$f":"CONCATENATE(F31,\"-\",E4+1)","v":"août-2023"},{"$nulls":5},{"$f":"'2-Programmer les activités'!F44","v":0},{"$f":"'2-Programmer les activités'!G44","v":0},{"$nulls":21},{"$f":"IF('2-Programmer les activités'!K45=\"\",\"\",'2-Programmer les activités'!K45)","v":""},"","","","","-","","","","X",null,"","","","",null,"","","","",null,"","","","",null,null,{"$f":"IFERROR(IF($BH$3=\"\",\"\",'1_Lister les activités'!D41),\"\")","v":{"v":0,"d":"0.00"}},{"$f":"IFERROR(IF($BH$3=\"\",\"\",'1_Lister les activités'!A41),\"\")","v":""},null,{"v":0,"d":"0.00"},{"$f":"IFERROR(IF($BH$3=\"\",\"\",'1_Lister les activités'!B41),\"\")","v":0},0,{"v":0,"d":"0.00"},{"$f":"IFERROR(IF($BH$3=\"\",\"\",'1_Lister les activités'!C41),\"\")","v":"Selectionner"},{"$nulls":3},"Dominican Republic",{"$nulls":7},"Convertible Mark","Fening","KM","BAM","Convertible Mark"]
["Novembre","2017-11-01",8,{"$f":"CONCATENATE(F34,\"-\",E4+1)","v":"nov-2023"},{"$nulls":5},{"$f":"'2-Programmer les activités'!F45","v":0},{"$f":"'2-Programmer les activités'!G45","v":0},{"$nulls":21},{"$f":"IF('2-Programmer les activités'!K46=\"\",\"\",'2-Programmer les activités'!K46)","v":""},"","","","","-","","","","X",null,"","","","",null,"","","","",null,"","","","",null,null,{"$f":"IFERROR(IF($BH$3=\"\",\"\",'1_Lister les activités'!D42),\"\")","v":{"v":0,"d":"0.00"}},{"$f":"IFERROR(IF($BH$3=\"\",\"\",'1_Lister les activités'!A42),\"\")","v":""},null,{"v":0,"d":"0.00"},{"$f":"IFERROR(IF($BH$3=\"\",\"\",'1_Lister les activités'!B42),\"\")","v":0},0,{"v":0,"d":"0.00"},{"$f":"IFERROR(IF($BH$3=\"\",\"\",'1_Lister les activités'!C42),\"\")","v":"Selectionner"},{"$nulls":3},"Ecuador",{"$nulls":7},"Cordoba Oro","Centavo","C$","NIO","Cordoba Oro"]
["Fevrier ","2018-02-01",9,{"$f":"CONCATENATE(F25,\"-\",E4+2)","v":"févr-2024"},{"$nulls":5},{"$f":"'2-Programmer les activités'!F46","v":0},{"$f":"'2-Programmer les activités'!G46","v":0},{"$nulls":21},{"$f":"IF('2-Programmer les activités'!K47=\"\",\"\",'2-Programmer les activités'!K47)","v":""},"","","","","-","","","","X",null,"","","","",null,"","","","",null,"","","","",null,null,{"$f":"IFERROR(IF($BH$3=\"\",\"\",'1_Lister les activités'!D43),\"\")","v":{"v":0,"d":"0.00"}},{"$f":"IFERROR(IF($BH$3=\"\",\"\",'1_Lister les activités'!A43),\"\")","v":""},null,{"v":0,"d":"0.00"},{"$f":"IFERROR(IF($BH$3=\"\",\"\",'1_Lister les activités'!B43),\"\")","v":0},0,{"v":0,"d":"0.00"},{"$f":"IFERROR(IF($BH$3=\"\",\"\",'1_Lister les activités'!C43),\"\")","v":"Selectionner"},{"$nulls":3},"Egypt",{"$nulls":7},"Costa Rican Colon","Céntimo","₡","CRC","Costa Rican Colon"]
["Mai ","2018-05-01",10,{"$f":"CONCATENATE(F28,\"-\",E4+2)","v":"mai-2024"},{"$nulls":5},{"$f":"'2-Programmer les activités'!F47","v":0},{"$f":"'2-Programmer les activités'!G47","v":0},{"$nulls":21},{"$f":"IF('2-Programmer les activités'!K48=\"\",\"\",'2-Programmer les activités'!K48)","v":""},"","",{"$f":"IF(AG42=\"\",\"\",DAY(AG42))","v":""},{"$f":"IFERROR(YEAR(AG42),\"\")","v":""},{"$f":"IFERROR(CONCATENATE(AI42,\"-\",AK42),\"\")","v":"-"},{"$f":"IF(AJ42<8,\"X\",\"\")","v":""},{"$f":"IF(AND(AJ42>7,AND(AJ42<15)),\"X\",\"\")","v":""},{"$f":"IF(AND(AJ42>14,AND(AJ42<22)),\"X\",\"\")","v":""},{"$f":"IF(AJ42>21,\"X\",\"\")","v":"X"},null,{"$f":"IF(AL42=$AR$4,AM42,\"\")","v":""},{"$f":"IF(AL42=$AR$4,AN42,\"\")","v":""},{"$f":"IF(AL42=$AR$4,AO42,\"\")","v":""},{"$f":"IF(AL42=$AR$4,AP42,\"\")","v":""},null,{"$f":"IF(AL42=$AW$4,AM42,\"\")","v":""},{"$f":"IF(AL42=$AW$4,AN42,\"\")","v":""},{"$f":"IF(AL42=$AW$4,AO42,\"\")","v":""},{"$f":"IF(AL42=$AW$4,AP42,\"\")","v":""},null,{"$f":"IF(AL42=$BB$4,AM42,\"\")","v":""},{"$f":"IF(AL42=$BB$4,AN42,\"\")","v":""},{"$f":"IF(AL42=$BB$4,AO42,\"\")","v":""},{"$f":"IF(AL42=$BB$4,AP42,\"\")","v":""},null,null,{"$f":"IFERROR(IF($BH$3=\"\",\"\",'1_Lister les activités'!D44),\"\")","v":{"v":0,"d":"0.00"}},{"$f":"IFERROR(IF($BH$3=\"\",\"\",'1_Lister les activités'!A44),\"\")","v":""},null,{"v":0,"d":"0.00"},{"$f":"IFERROR(IF($BH$3=\"\",\"\",'1_Lister les activités'!B44),\"\")","v":0},0,{"v":0,"d":"0.00"},{"$f":"IFERROR(IF($BH$3=\"\",\"\",'1_Lister les activités'!C44),\"\")","v":"Selectionner"},{"$nulls":3},"El Salvador",{"$nulls":7},"Croatian Kuna","Lipa","kn","HRK","Croatian Kuna"]
["Aout","2018-08-01",11,{"$f":"CONCATENATE(F31,\"-\",E4+2)","v":"août-2024"},{"$nulls":5},{"$f":"'2-Programmer les activités'!F48","v":0},{"$f":"'2-Programmer les activités'!G48","v":0},{"$nulls":21},{"$f":"IF('2-Programmer les activités'!K49=\"\",\"\",'2-Programmer les activités'!K49)","v":""},"","",{"$f":"IF(AG43=\"\",\"\",DAY(AG43))","v":""},{"$f":"IFERROR(YEAR(AG43),\"\")","v":""},{"$f":"IFERROR(CONCATENATE(AI43,\"-\",AK43),\"\")","v":"-"},{"$f":"IF(AJ43<8,\"X\",\"\")","v":""},{"$f":"IF(AND(AJ43>7,AND(AJ43<15)),\"X\",\"\")","v":""},{"$f":"IF(AND(AJ43>14,AND(AJ43<22)),\"X\",\"\")","v":""},{"$f":"IF(AJ43>21,\"X\",\"\")","v":"X"},null,{"$f":"IF(AL43=$AR$4,AM43,\"\")","v":""},{"$f":"IF(AL43=$AR$4,AN43,\"\")","v":""},{"$f":"IF(AL43=$AR$4,AO43,\"\")","v":""},{"$f":"IF(AL43=$AR$4,AP43,\"\")","v":""},null,{"$f":"IF(AL43=$AW$4,AM43,\"\")","v":""},{"$f":"IF(AL43=$AW$4,AN43,\"\")","v":""},{"$f":"IF(AL43=$AW$4,AO43,\"\")","v":""},{"$f":"IF(AL43=$AW$4,AP43,\"\")","v":""},null,{"$f":"IF(AL43=$BB$4,AM43,\"\")","v":""},{"$f":"IF(AL43=$BB$4,AN43,\"\")","v":""},{"$f":"IF(AL43=$BB$4,AO43,\"\")","v":""},{"$f":"IF(AL43=$BB$4,AP43,\"\")","v":""},null,null,{"$f":"IFERROR(IF($BH$3=\"\",\"\",'1_Lister les activités'!D45),\"\")","v":{"v":0,"d":"0.00"}},{"$f":"IFERROR(IF($BH$3=\"\",\"\",'1_Lister les activités'!A45),\"\")","v":""},null,{"v":0,"d":"0.00"},{"$f":"IFERROR(IF($BH$3=\"\",\"\",'1_Lister les activités'!B45),\"\")","v":0},0,{"v":0,"d":"0.00"},{"$f":"IFERROR(IF($BH$3=\"\",\"\",'1_Lister les activités'!C45),\"\")","v":"Selectionner"},{"$nulls":3},"Equatorial Guinea",{"$nulls":7},"Cuban Peso","Centavo","$","CUP","Cuban Peso"]
["Novembre","2018-11-01",12,{"$f":"CONCATENATE(F34,\"-\",E4+2)","v":"nov-2024"},{"$nulls":5},{"$f":"'2-Programmer les activités'!F49","v":0},{"$f":"'2-Programmer les activités'!G49","v":0},{"$nulls":21},{"$f":"IF('2-Programmer les activités'!K50=\"\",\"\",'2-Programmer les activités'!K50)","v":""},"","",{"$f":"IF(AG44=\"\",\"\",DAY(AG44))","v":""},{"$f":"IFERROR(YEAR(AG44),\"\")","v":""},{"$f":"IFERROR(CONCATENATE(AI44,\"-\",AK44),\"\")","v":"-"},{"$f":"IF(AJ44<8,\"X\",\"\")","v":""},{"$f":"IF(AND(AJ44>7,AND(AJ44<15)),\"X\",\"\")","v":""},{"$f":"IF(AND(AJ44>14,AND(AJ44<22)),\"X\",\"\")","v":""},{"$f":"IF(AJ44>21,\"X\",\"\")","v":"X"},null,{"$f":"IF(AL44=$AR$4,AM44,\"\")","v":""},{"$f":"IF(AL44=$AR$4,AN44,\"\")","v":""},{"$f":"IF(AL44=$AR$4,AO44,\"\")","v":""},{"$f":"IF(AL44=$AR$4,AP44,\"\")","v":""},null,{"$f":"IF(AL44=$AW$4,AM44,\"\")","v":""},{"$f":"IF(AL44=$AW$4,AN44,\"\")","v":""},{"$f":"IF(AL44=$AW$4,AO44,\"\")","v":""},{"$f":"IF(AL44=$AW$4,AP44,\"\")","v":""},null,{"$f":"IF(AL44=$BB$4,AM44,\"\")","v":""},{"$f":"IF(AL44=$BB$4,AN44,\"\")","v":""},{"$f":"IF(AL44=$BB$4,AO44,\"\")","v":""},{"$f":"IF(AL44=$BB$4,AP44,\"\")","v":""},null,null,{"$f":"IFERROR(IF($BH$3=\"\",\"\",'1_Lister les activités'!D46),\"\")","v":{"v":0,"d":"0.00"}},{"$f":"IFERROR(IF($BH$3=\"\",\"\",'1_Lister les activités'!A46),\"\")","v":""},null,{"v":0,"d":"0.00"},{"$f":"IFERROR(IF($BH$3=\"\",\"\",'1_Lister les activités'!B46),\"\")","v":0},0,{"v":0,"d":"0.00"},{"$f":"IFERROR(IF($BH$3=\"\",\"\",'1_Lister les activités'!C46),\"\")","v":"Selectionner"},{"$nulls":3},"Eritrea",{"$nulls":7},"Czech Koruna","Haléř","Kč","CZK","Czech Koruna"]
[null,null,0,"Selectionner",{"$nulls":5},{"$f":"'2-Programmer les activités'!F50","v":0},{"$f":"'2-Programmer les activités'!G50","v":0},{"$nulls":21},{"$f":"IF('2-Programmer les activités'!K51=\"\",\"\",'2-Programmer les activités'!K51)","v":""},"","",{"$f":"IF(AG45=\"\",\"\",DAY(AG45))","v":""},{"$f":"IFERROR(YEAR(AG45),\"\")","v":""},{"$f":"IFERROR(CONCATENATE(AI45,\"-\",AK45),\"\")","v":"-"},{"$f":"IF(AJ45<8,\"X\",\"\")","v":""},{"$f":"IF(AND(AJ45>7,AND(AJ45<15)),\"X\",\"\")","v":""},{"$f":"IF(AND(AJ45>14,AND(AJ45<22)),\"X\",\"\")","v":""},{"$f":"IF(AJ45>21,\"X\",\"\")","v":"X"},null,{"$f":"IF(AL45=$AR$4,AM45,\"\")","v":""},{"$f":"IF(AL45=$AR$4,AN45,\"\")","v":""},{"$f":"IF(AL45=$AR$4,AO45,\"\")","v":""},{"$f":"IF(AL45=$AR$4,AP45,\"\")","v":""},null,{"$f":"IF(AL45=$AW$4,AM45,\"\")","v":""},{"$f":"IF(AL45=$AW$4,AN45,\"\")","v":""},{"$f":"IF(AL45=$AW$4,AO45,\"\")","v":""},{"$f":"IF(AL45=$AW$4,AP45,\"\")","v":""},null,{"$f":"IF(AL45=$BB$4,AM45,\"\")","v":""},{"$f":"IF(AL45=$BB$4,AN45,\"\")","v":""},{"$f":"IF(AL45=$BB$4,AO45,\"\")","v":""},{"$f":"IF(AL45=$BB$4,AP45,\"\")","v":""},null,null,{"$f":"IFERROR(IF($BH$3=\"\",\"\",'1_Lister les activités'!D47),\"\")","v":{"v":0,"d":"0.00"}},{"$f":"IFERROR(IF($BH$3=\"\",\"\",'1_Lister les activités'!A47),\"\")","v":""},null,{"v":0,"d":"0.00"},{"$f":"IFERROR(IF($BH$3=\"\",\"\",'1_Lister les activités'!B47),\"\")","v":0},0,{"v":0,"d":"0.00"},{"$f":"IFERROR(IF($BH$3=\"\",\"\",'1_Lister les activités'!C47),\"\")","v":"Selectionner"},{"$nulls":3},"Estonia",{"$nulls":7},"Dalasi","Butut","D","GMD","Dalasi"]
["Mars","2016-03-01",1,{"$f":"CONCATENATE(F26,\"-\",E4)","v":"mars-2022"},{"$nulls":5},{"$f":"'2-Programmer les activités'!F51","v":0},{"$f":"'2-Programmer les activités'!G51","v":0},{"$nulls":21},{"$f":"IF('2-Programmer les activités'!K52=\"\",\"\",'2-Programmer les activités'!K52)","v":""},"","",{"$f":"IF(AG46=\"\",\"\",DAY(AG46))","v":""},{"$f":"IFERROR(YEAR(AG46),\"\")","v":""},{"$f":"IFERROR(CONCATENATE(AI46,\"-\",AK46),\"\")","v":"-"},{"$f":"IF(AJ46<8,\"X\",\"\")","v":""},{"$f":"IF(AND(AJ46>7,AND(AJ46<15)),\"X\",\"\")","v":""},{"$f":"IF(AND(AJ46>14,AND(AJ46<22)),\"X\",\"\")","v":""},{"$f":"IF(AJ46>21,\"X\",\"\")","v":"X"},null,{"$f":"IF(AL46=$AR$4,AM46,\"\")","v":""},{"$f":"IF(AL46=$AR$4,AN46,\"\")","v":""},{"$f":"IF(AL46=$AR$4,AO46,\"\")","v":""},{"$f":"IF(AL46=$AR$4,AP46,\"\")","v":""},null,{"$f":"IF(AL46=$AW$4,AM46,\"\")","v":""},{"$f":"IF(AL46=$AW$4,AN46,\"\")","v":""},{"$f":"IF(AL46=$AW$4,AO46,\"\")","v":""},{"$f":"IF(AL46=$AW$4,AP46,\"\")","v":""},null,{"$f":"IF(AL46=$BB$4,AM46,\"\")","v":""},{"$f":"IF(AL46=$BB$4,AN46,\"\")","v":""},{"$f":"IF(AL46=$BB$4,AO46,\"\")","v":""},{"$f":"IF(AL46=$BB$4,AP46,\"\")","v":""},null,null,{"$f":"IFERROR(IF($BH$3=\"\",\"\",'1_Lister les activités'!D48),\"\")","v":{"v":0,"d":"0.00"}},{"$f":"IFERROR(IF($BH$3=\"\",\"\",'1_Lister les activités'!A48),\"\")","v":""},null,{"v":0,"d":"0.00"},{"$f":"IFERROR(IF($BH$3=\"\",\"\",'1_Lister les activités'!B48),\"\")","v":0},0,{"v":0,"d":"0.00"},{"$f":"IFERROR(IF($BH$3=\"\",\"\",'1_Lister les activités'!C48),\"\")","v":"Selectionner"},{"$nulls":3},"Ethipia",{"$nulls":7},"Danish Krone","Øre","kr","DKK","Danish Krone"]
["Juin","2016-06-01",2,{"$f":"CONCATENATE(F29,\"-\",E4)","v":"juin-2022"},{"$nulls":5},{"$f":"'2-Programmer les activités'!F52","v":0},{"$f":"'2-Programmer les activités'!G52","v":0},{"$nulls":21},{"$f":"IF('2-Programmer les activités'!K53=\"\",\"\",'2-Programmer les activités'!K53)","v":""},"","","","","-","","","","X",null,"","","","",null,"","","","",null,"","","","",null,null,{"$f":"IFERROR(IF($BH$3=\"\",\"\",'1_Lister les activités'!D49),\"\")","v":{"v":0,"d":"0.00"}},{"$f":"IFERROR(IF($BH$3=\"\",\"\",'1_Lister les activités'!A49),\"\")","v":""},null,{"v":0,"d":"0.00"},{"$f":"IFERROR(IF($BH$3=\"\",\"\",'1_Lister les activités'!B49),\"\")","v":0},0,{"v":0,"d":"0.00"},{"$f":"IFERROR(IF($BH$3=\"\",\"\",'1_Lister les activités'!C49),\"\")","v":"Selectionner"},{"$nulls":3},"Fiji",{"$nulls":7},"Denar","Deni","ден","MKD","Denar"]
["Septembre","2016-09-01",3,{"$f":"CONCATENATE(F32,\"-\",E4)","v":"sept-2022"},{"$nulls":5},{"$f":"'2-Programmer les activités'!F53","v":0},{"$f":"'2-Programmer les activités'!G53","v":0},{"$nulls":21},{"$f":"IF('2-Programmer les activités'!K54=\"\",\"\",'2-Programmer les activités'!K54)","v":""},"","","","","-","","","","X",null,"","","","",null,"","","","",null,"","","","",null,null,{"$f":"IFERROR(IF($BH$3=\"\",\"\",'1_Lister les activités'!D50),\"\")","v":{"v":0,"d":"0.00"}},{"$f":"IFERROR(IF($BH$3=\"\",\"\",'1_Lister les activités'!A50),\"\")","v":""},null,{"v":0,"d":"0.00"},{"$f":"IFERROR(IF($BH$3=\"\",\"\",'1_Lister les activités'!B50),\"\")","v":0},0,{"v":0,"d":"0.00"},{"$f":"IFERROR(IF($BH$3=\"\",\"\",'1_Lister les activités'!C50),\"\")","v":"Selectionner"},{"$nulls":3},"Gabon",{"$nulls":7},"Djibouti Franc","Centime","Fr","DJF","Djibouti Franc"]
["Decembre","2016-12-01",4,{"$f":"CONCATENATE(F35,\"-\",E4)","v":"déc-2022"},{"$nulls":5},{"$f":"'2-Programmer les activités'!F54","v":0},{"$f":"'2-Programmer les activités'!G54","v":0},{"$nulls":21},{"$f":"IF('2-Programmer les activités'!K55=\"\",\"\",'2-Programmer les activités'!K55)","v":""},"","","","","-","","","","X",null,"","","","",null,"","","","",null,"","","","",null,null,{"$f":"IFERROR(IF($BH$3=\"\",\"\",'1_Lister les activités'!D51),\"\")","v":{"v":0,"d":"0.00"}},{"$f":"IFERROR(IF($BH$3=\"\",\"\",'1_Lister les activités'!A51),\"\")","v":""},null,{"v":0,"d":"0.00"},{"$f":"IFERROR(IF($BH$3=\"\",\"\",'1_Lister les activités'!B51),\"\")","v":0},0,{"v":0,"d":"0.00"},{"$f":"IFERROR(IF($BH$3=\"\",\"\",'1_Lister les activités'!C51),\"\")","v":"Selectionner"},{"$nulls":3},"Gambia",{"$nulls":7},"Dobra","Cêntimo","Db","STD","Dobra"]
["Mars","2017-03-01",5,{"$f":"CONCATENATE(F26,\"-\",E4+1)","v":"mars-2023"},{"$nulls":5},{"$f":"'2-Programmer les activités'!F55","v":0},{"$f":"'2-Programmer les activités'!G55","v":0},{"$nulls":21},{"$f":"IF('2-Programmer les activités'!K56=\"\",\"\",'2-Programmer les activités'!K56)","v":""},"","","","","-","","","","X",null,"","","","",null,"","","","",null,"","","","",null,null,{"$f":"IFERROR(IF($BH$3=\"\",\"\",'1_Lister les activités'!D52),\"\")","v":{"v":0,"d":"0.00"}},{"$f":"IFERROR(IF($BH$3=\"\",\"\",'1_Lister les activités'!A52),\"\")","v":""},null,{"v":0,"d":"0.00"},{"$f":"IFERROR(IF($BH$3=\"\",\"\",'1_Lister les activités'!B52),\"\")","v":0},0,{"v":0,"d":"0.00"},{"$f":"IFERROR(IF($BH$3=\"\",\"\",'1_Lister les activités'!C52),\"\")","v":"Selectionner"},{"$nulls":3},"Georgia",{"$nulls":7},"Dominican Peso","Centavo","$","DOP","Dominican Peso"]
["Juin","2017-06-01",6,{"$f":"CONCATENATE(F29,\"-\",E4+1)","v":"juin-2023"},{"$nulls":5},{"$f":"'2-Programmer les activités'!F56","v":0},{"$f":"'2-Programmer les activités'!G56","v":0},{"$nulls":21},{"$f":"IF('2-Programmer les activités'!K57=\"\",\"\",'2-Programmer les activités'!K57)","v":""},"","","","","-","","","","X",null,"","","","",null,"","","","",null,"","","","",null,null,{"$f":"IFERROR(IF($BH$3=\"\",\"\",'1_Lister les activités'!D53),\"\")","v":{"v":0,"d":"0.00"}},{"$f":"IFERROR(IF($BH$3=\"\",\"\",'1_Lister les activités'!A53),\"\")","v":""},null,{"v":0,"d":"0.00"},{"$f":"IFERROR(IF($BH$3=\"\",\"\",'1_Lister les activités'!B53),\"\")","v":0},0,{"v":0,"d":"0.00"},{"$f":"IFERROR(IF($BH$3=\"\",\"\",'1_Lister les activités'!C53),\"\")","v":"Selectionner"},{"$nulls":3},"Ghana",{"$nulls":7},"Dong","Hào","₫","VND","Dong"]
["Septembre","2017-09-01",7,{"$f":"CONCATENATE(F32,\"-\",E4+1)","v":"sept-2023"},{"$nulls":5},{"$f":"'2-Programmer les activités'!F57","v":0},{"$f":"'2-Programmer les activités'!G57","v":0},{"$nulls":21},{"$f":"IF('2-Programmer les activités'!K58=\"\",\"\",'2-Programmer les activités'!K58)","v":""},"","","","","-","","","","X",null,"","","","",null,"","","","",null,"","","","",null,null,{"$f":"IFERROR(IF($BH$3=\"\",\"\",'1_Lister les activités'!D54),\"\")","v":{"v":0,"d":"0.00"}},{"$f":"IFERROR(IF($BH$3=\"\",\"\",'1_Lister les activités'!A54),\"\")","v":""},null,{"v":0,"d":"0.00"},{"$f":"IFERROR(IF($BH$3=\"\",\"\",'1_Lister les activités'!B54),\"\")","v":0},0,{"v":0,"d":"0.00"},{"$f":"IFERROR(IF($BH$3=\"\",\"\",'1_Lister les activités'!C54),\"\")","v":"Selectionner"},{"$nulls":3},"Guatemala",{"$nulls":7},"East Caribbean Dollar","Cent","$","XCD","East Caribbean Dollar"]
["Decembre","2017-12-01",8,{"$f":"CONCATENATE(F35,\"-\",E4+1)","v":"déc-2023"},{"$nulls":5},{"$f":"'2-Programmer les activités'!F58","v":0},{"$f":"'2-Programmer les activités'!G58","v":0},{"$nulls":21},{"$f":"IF('2-Programmer les activités'!K59=\"\",\"\",'2-Programmer les activités'!K59)","v":""},"","","","","-","","","","X",null,"","","","",null,"","","","",null,"","","","",null,null,{"$f":"IFERROR(IF($BH$3=\"\",\"\",'1_Lister les activités'!D55),\"\")","v":{"v":0,"d":"0.00"}},{"$f":"IFERROR(IF($BH$3=\"\",\"\",'1_Lister les activités'!A55),\"\")","v":""},null,{"v":0,"d":"0.00"},{"$f":"IFERROR(IF($BH$3=\"\",\"\",'1_Lister les activités'!B55),\"\")","v":0},0,{"v":0,"d":"0.00"},{"$f":"IFERROR(IF($BH$3=\"\",\"\",'1_Lister les activités'!C55),\"\")","v":"Selectionner"},{"$nulls":3},"Guinea",{"$nulls":7},"Egyptian Pound","Piastre","£","EGP","Egyptian Pound"]
["Mars ","2018-03-01",9,{"$f":"CONCATENATE(F26,\"-\",E4+2)","v":"mars-2024"},{"$nulls":5},{"$f":"'2-Programmer les activités'!F59","v":0},{"$f":"'2-Programmer les activités'!G59","v":0},{"$nulls":21},{"$f":"IF('2-Programmer les activités'!K60=\"\",\"\",'2-Programmer les activités'!K60)","v":""},"","","","","-","","","","X",null,"","","","",null,"","","","",null,"","","","",null,null,{"$f":"IFERROR(IF($BH$3=\"\",\"\",'1_Lister les activités'!D56),\"\")","v":{"v":0,"d":"0.00"}},{"$f":"IFERROR(IF($BH$3=\"\",\"\",'1_Lister les activités'!A56),\"\")","v":""},null,{"v":0,"d":"0.00"},{"$f":"IFERROR(IF($BH$3=\"\",\"\",'1_Lister les activités'!B56),\"\")","v":0},0,{"v":0,"d":"0.00"},{"$f":"IFERROR(IF($BH$3=\"\",\"\",'1_Lister les activités'!C56),\"\")","v":"Selectionner"},{"$nulls":3},"Guinea-Bissau",{"$nulls":7},"El Salvador Colon","-","-","SVC","El Salvador Colon"]
["Juin ","2018-06-01",10,{"$f":"CONCATENATE(F29,\"-\",E4+2)","v":"juin-2024"},{"$nulls":5},{"$f":"'2-Programmer les activités'!F60","v":0},{"$f":"'2-Programmer les activités'!G60","v":0},{"$nulls":21},{"$f":"IF('2-Programmer les activités'!K61=\"\",\"\",'2-Programmer les activités'!K61)","v":""},"","","","","-","","","","X",null,"","","","",null,"","","","",null,"","","","",null,null,{"$f":"IFERROR(IF($BH$3=\"\",\"\",'1_Lister les activités'!D57),\"\")","v":{"v":0,"d":"0.00"}},{"$f":"IFERROR(IF($BH$3=\"\",\"\",'1_Lister les activités'!A57),\"\")","v":""},null,{"v":0,"d":"0.00"},{"$f":"IFERROR(IF($BH$3=\"\",\"\",'1_Lister les activités'!B57),\"\")","v":0},0,{"v":0,"d":"0.00"},{"$f":"IFERROR(IF($BH$3=\"\",\"\",'1_Lister les activités'!C57),\"\")","v":"Selectionner"},{"$nulls":3},"Guyana",{"$nulls":7},"Ethiopian Birr","Santim","Br","ETB","Ethiopian Birr"]
["Septembre ","2018-09-01",11,{"$f":"CONCATENATE(F32,\"-\",E4+2)","v":"sept-2024"},{"$nulls":5},{"$f":"'2-Programmer les activités'!F61","v":0},{"$f":"'2-Programmer les activités'!G61","v":0},{"$nulls":21},{"$f":"IF('2-Programmer les activités'!K62=\"\",\"\",'2-Programmer les activités'!K62)","v":""},"","","","","-","","","","X",null,"","","","",null,"","","","",null,"","","","",null,null,{"$f":"IFERROR(IF($BH$3=\"\",\"\",'1_Lister les activités'!D58),\"\")","v":{"v":0,"d":"0.00"}},{"$f":"IFERROR(IF($BH$3=\"\",\"\",'1_Lister les activités'!A58),\"\")","v":""},null,{"v":0,"d":"0.00"},{"$f":"IFERROR(IF($BH$3=\"\",\"\",'1_Lister les activités'!B58),\"\")","v":0},0,{"v":0,"d":"0.00"},{"$f":"IFERROR(IF($BH$3=\"\",\"\",'1_Lister les activités'!C58),\"\")","v":"Selectionner"},{"$nulls":3},"Haiti",{"$nulls":7},"Euro","Cent","€","EUR","Euro"]
["Decembre ","2018-12-01",12,{"$f":"CONCATENATE(F35,\"-\",E4+2)","v":"déc-2024"},{"$nulls":5},{"$f":"'2-Programmer les activités'!F62","v":0},{"$f":"'2-Programmer les activités'!G62","v":0},{"$nulls":21},{"$f":"IF('2-Programmer les activités'!K63=\"\",\"\",'2-Programmer les activités'!K63)","v":""},"","","","","-","","","","X",null,"","","","",null,"","","","",null,"","","","",null,null,{"$f":"IFERROR(IF($BH$3=\"\",\"\",'1_Lister les activités'!D59),\"\")","v":{"v":0,"d":"0.00"}},{"$f":"IFERROR(IF($BH$3=\"\",\"\",'1_Lister les activités'!A59),\"\")","v":""},null,{"v":0,"d":"0.00"},{"$f":"IFERROR(IF($BH$3=\"\",\"\",'1_Lister les activités'!B59),\"\")","v":0},0,{"v":0,"d":"0.00"},{"$f":"IFERROR(IF($BH$3=\"\",\"\",'1_Lister les activités'!C59),\"\")","v":"Selectionner"},{"$nulls":3},"Honduras",{"$nulls":7},"Falkland Islands Pound","Penny","£","FKP","Falkland Islands Pound"]
[{"$nulls":9},{"$f":"'2-Programmer les activités'!F63","v":0},{"$f":"'2-Programmer les activités'!G63","v":0},{"$nulls":21},{"$f":"IF('2-Programmer les activités'!K64=\"\",\"\",'2-Programmer les activités'!K64)","v":""},"","","","","-","","","","X",null,"","","","",null,"","","","",null,"","","","",null,null,{"$f":"IFERROR(IF($BH$3=\"\",\"\",'1_Lister les activités'!D60),\"\")","v":{"v":0,"d":"0.00"}},{"$f":"IFERROR(IF($BH$3=\"\",\"\",'1_Lister les activités'!A60),\"\")","v":""},null,{"v":0,"d":"0.00"},{"$f":"IFERROR(IF($BH$3=\"\",\"\",'1_Lister les activités'!B60),\"\")","v":0},0,{"v":0,"d":"0.00"},{"$f":"IFERROR(IF($BH$3=\"\",\"\",'1_Lister les activités'!C60),\"\")","v":"Selectionner"},{"$nulls":3},"India",{"$nulls":7},"Fiji Dollar","Cent","$","FJD","Fiji Dollar"]
[{"$nulls":9},{"$f":"'2-Programmer les activités'!F64","v":0},{"$f":"'2-Programmer les activités'!G64","v":0},{"$nulls":21},{"$f":"IF('2-Programmer les activités'!K65=\"\",\"\",'2-Programmer les activités'!K65)","v":""},"","","","","-","","","","X",null,"","","","",null,"","","","",null,"","","","",null,null,{"$f":"IFERROR(IF($BH$3=\"\",\"\",'1_Lister les activités'!D61),\"\")","v":{"v":0,"d":"0.00"}},{"$f":"IFERROR(IF($BH$3=\"\",\"\",'1_Lister les activités'!A61),\"\")","v":""},null,{"v":0,"d":"0.00"},{"$f":"IFERROR(IF($BH$3=\"\",\"\",'1_Lister les activités'!B61),\"\")","v":0},0,{"v":0,"d":"0.00"},{"$f":"IFERROR(IF($BH$3=\"\",\"\",'1_Lister les activités'!C61),\"\")","v":"Selectionner"},{"$nulls":3},"Indonesia",{"$nulls":7},"Forint","Fillér","Ft","HUF","Forint"]
[{"$nulls":9},{"$f":"'2-Programmer les activités'!F65","v":0},{"$f":"'2-Programmer les activités'!G65","v":0},{"$nulls":21},{"$f":"IF('2-Programmer les activités'!K66=\"\",\"\",'2-Programmer les activités'!K66)","v":""},"","","","","-","","","","X",null,"","","","",null,"","","","",null,"","","","",null,null,{"$f":"IFERROR(IF($BH$3=\"\",\"\",'1_Lister les activités'!D62),\"\")","v":{"v":0,"d":"0.00"}},{"$f":"IFERROR(IF($BH$3=\"\",\"\",'1_Lister les activités'!A62),\"\")","v":""},null,{"v":0,"d":"0.00"},{"$f":"IFERROR(IF($BH$3=\"\",\"\",'1_Lister les activités'!B62),\"\")","v":0},0,{"v":0,"d":"0.00"},{"$f":"IFERROR(IF($BH$3=\"\",\"\",'1_Lister les activités'!C62),\"\")","v":"Selectionner"},{"$nulls":3},"Iran (Islamic Republic)",{"$nulls":7},"Ghana Cedi","Pesewa","₵","GHS","Ghana Cedi"]
[{"$nulls":9},{"$f":"'2-Programmer les activités'!F66","v":0},{"$f":"'2-Programmer les activités'!G66","v":0},{"$nulls":21},{"$f":"IF('2-Programmer les activités'!K67=\"\",\"\",'2-Programmer les activités'!K67)","v":""},"","","","","-","","","","X",null,"","","","",null,"","","","",null,"","","","",null,null,{"$f":"IFERROR(IF($BH$3=\"\",\"\",'1_Lister les activités'!D63),\"\")","v":{"v":0,"d":"0.00"}},{"$f":"IFERROR(IF($BH$3=\"\",\"\",'1_Lister les activités'!A63),\"\")","v":""},null,{"v":0,"d":"0.00"},{"$f":"IFERROR(IF($BH$3=\"\",\"\",'1_Lister les activités'!B63),\"\")","v":0},0,{"v":0,"d":"0.00"},{"$f":"IFERROR(IF($BH$3=\"\",\"\",'1_Lister les activités'!C63),\"\")","v":"Selectionner"},{"$nulls":3},"Iraq",{"$nulls":7},"Gibraltar Pound","Penny","£","GIP","Gibraltar Pound"]
[{"$nulls":9},{"$f":"'2-Programmer les activités'!F67","v":0},{"$f":"'2-Programmer les activités'!G67","v":0},{"$nulls":21},{"$f":"IF('2-Programmer les activités'!K68=\"\",\"\",'2-Programmer les activités'!K68)","v":""},"","","","","-","","","","X",null,"","","","",null,"","","","",null,"","","","",null,null,{"$f":"IFERROR(IF($BH$3=\"\",\"\",'1_Lister les activités'!D64),\"\")","v":{"v":0,"d":"0.00"}},{"$f":"IFERROR(IF($BH$3=\"\",\"\",'1_Lister les activités'!A64),\"\")","v":""},null,{"v":0,"d":"0.00"},{"$f":"IFERROR(IF($BH$3=\"\",\"\",'1_Lister les activités'!B64),\"\")","v":0},0,{"v":0,"d":"0.00"},{"$f":"IFERROR(IF($BH$3=\"\",\"\",'1_Lister les activités'!C64),\"\")","v":"Selectionner"},{"$nulls":3},"Jamaica",{"$nulls":7},"Gold","-","-","XAU","Gold"]
[{"$nulls":9},{"$f":"'2-Programmer les activités'!F68","v":0},{"$f":"'2-Programmer les activités'!G68","v":0},{"$nulls":21},{"$f":"IF('2-Programmer les activités'!K69=\"\",\"\",'2-Programmer les activités'!K69)","v":""},"","","","","-","","","","X",null,"","","","",null,"","","","",null,"","","","",null,null,{"$f":"IFERROR(IF($BH$3=\"\",\"\",'1_Lister les activités'!D65),\"\")","v":{"v":0,"d":"0.00"}},{"$f":"IFERROR(IF($BH$3=\"\",\"\",'1_Lister les activités'!A65),\"\")","v":""},null,{"v":0,"d":"0.00"},{"$f":"IFERROR(IF($BH$3=\"\",\"\",'1_Lister les activités'!B65),\"\")","v":0},0,{"v":0,"d":"0.00"},{"$f":"IFERROR(IF($BH$3=\"\",\"\",'1_Lister les activités'!C65),\"\")","v":"Selectionner"},{"$nulls":3},"Jordan",{"$nulls":7},"Gourde","Centime","G","HTG","Gourde"]
[null,"2016-01-01",1,{"$nulls":6},{"$f":"'2-Programmer les activités'!F69","v":0},{"$f":"'2-Programmer les activités'!G69","v":0},{"$nulls":21},{"$f":"IF('2-Programmer les activités'!K70=\"\",\"\",'2-Programmer les activités'!K70)","v":""},"","","","","-","","","","X",null,"","","","",null,"","","","",null,"","","","",null,null,{"$f":"IFERROR(IF($BH$3=\"\",\"\",'1_Lister les activités'!D66),\"\")","v":{"v":0,"d":"0.00"}},{"$f":"IFERROR(IF($BH$3=\"\",\"\",'1_Lister les activités'!A66),\"\")","v":""},null,{"v":0,"d":"0.00"},{"$f":"IFERROR(IF($BH$3=\"\",\"\",'1_Lister les activités'!B66),\"\")","v":0},0,{"v":0,"d":"0.00"},{"$f":"IFERROR(IF($BH$3=\"\",\"\",'1_Lister les activités'!C66),\"\")","v":"Selectionner"},{"$nulls":3},"Kazakhstan",{"$nulls":7},"Guarani","Céntimo","₲","PYG","Guarani"]
[null,"2016-04-01",1,{"$nulls":6},{"$f":"'2-Programmer les activités'!F70","v":0},{"$f":"'2-Programmer les activités'!G70","v":0},{"$nulls":21},{"$f":"IF('2-Programmer les activités'!K71=\"\",\"\",'2-Programmer les activités'!K71)","v":""},"","","","","-","","","","X",null,"","","","",null,"","","","",null,"","","","",null,null,{"$f":"IFERROR(IF($BH$3=\"\",\"\",'1_Lister les activités'!D67),\"\")","v":{"v":0,"d":"0.00"}},{"$f":"IFERROR(IF($BH$3=\"\",\"\",'1_Lister les activités'!A67),\"\")","v":""},null,{"v":0,"d":"0.00"},{"$f":"IFERROR(IF($BH$3=\"\",\"\",'1_Lister les activités'!B67),\"\")","v":0},0,{"v":0,"d":"0.00"},{"$f":"IFERROR(IF($BH$3=\"\",\"\",'1_Lister les activités'!C67),\"\")","v":"Selectionner"},{"$nulls":3},"Kenya",{"$nulls":7},"Guinea Franc","Centime","Fr","GNF","Guinea Franc"]
[null,"2016-07-01",1,{"$nulls":6},{"$f":"'2-Programmer les activités'!F71","v":0},{"$f":"'2-Programmer les activités'!G71","v":0},{"$nulls":21},{"$f":"IF('2-Programmer les activités'!K72=\"\",\"\",'2-Programmer les activités'!K72)","v":""},"","","","","-","","","","X",null,"","","","",null,"","","","",null,"","","","",null,null,{"$f":"IFERROR(IF($BH$3=\"\",\"\",'1_Lister les activités'!D68),\"\")","v":{"v":0,"d":"0.00"}},{"$f":"IFERROR(IF($BH$3=\"\",\"\",'1_Lister les activités'!A68),\"\")","v":""},null,{"v":0,"d":"0.00"},{"$f":"IFERROR(IF($BH$3=\"\",\"\",'1_Lister les activités'!B68),\"\")","v":0},0,{"v":0,"d":"0.00"},{"$f":"IFERROR(IF($BH$3=\"\",\"\",'1_Lister les activités'!C68),\"\")","v":"Selectionner"},{"$nulls":3},"Korea (Democratic Peoples Republic)",{"$nulls":7},"Guyana Dollar","Cent","$","GYD","Guyana Dollar"]
[null,"2016-10-01",1,{"$nulls":6},{"$f":"'2-Programmer les activités'!F72","v":0},{"$f":"'2-Programmer les activités'!G72","v":0},{"$nulls":21},{"$f":"IF('2-Programmer les activités'!K73=\"\",\"\",'2-Programmer les activités'!K73)","v":""},"","","","","-","","","","X",null,"","","","",null,"","","","",null,"","","","",null,null,{"$f":"IFERROR(IF($BH$3=\"\",\"\",'1_Lister les activités'!D69),\"\")","v":{"v":0,"d":"0.00"}},{"$f":"IFERROR(IF($BH$3=\"\",\"\",'1_Lister les activités'!A69),\"\")","v":""},null,{"v":0,"d":"0.00"},{"$f":"IFERROR(IF($BH$3=\"\",\"\",'1_Lister les activités'!B69),\"\")","v":0},0,{"v":0,"d":"0.00"},{"$f":"IFERROR(IF($BH$3=\"\",\"\",'1_Lister les activités'!C69),\"\")","v":"Selectionner"},{"$nulls":3},"Kosovo",{"$nulls":7},"Hong Kong Dollar","Cent","$","HKD","Hong Kong Dollar"]
[null,"2017-01-01",1,{"$nulls":6},{"$f":"'2-Programmer les activités'!F73","v":0},{"$f":"'2-Programmer les activités'!G73","v":0},{"$nulls":21},{"$f":"IF('2-Programmer les activités'!K74=\"\",\"\",'2-Programmer les activités'!K74)","v":""},"","","","","-","","","","X",null,"","","","",null,"","","","",null,"","","","",null,null,{"$f":"IFERROR(IF($BH$3=\"\",\"\",'1_Lister les activités'!D70),\"\")","v":{"v":0,"d":"0.00"}},{"$f":"IFERROR(IF($BH$3=\"\",\"\",'1_Lister les activités'!A70),\"\")","v":""},null,{"v":0,"d":"0.00"},{"$f":"IFERROR(IF($BH$3=\"\",\"\",'1_Lister les activités'!B70),\"\")","v":0},0,{"v":0,"d":"0.00"},{"$f":"IFERROR(IF($BH$3=\"\",\"\",'1_Lister les activités'!C70),\"\")","v":"Selectionner"},{"$nulls":3},"Kyrgyzstan",{"$nulls":7},"Hryvnia","Kopiyka","₴","UAH","Hryvnia"]
[null,"2017-04-01",1,{"$nulls":6},{"$f":"'2-Programmer les activités'!F74","v":0},{"$f":"'2-Programmer les activités'!G74","v":0},{"$nulls":21},{"$f":"IF('2-Programmer les activités'!K75=\"\",\"\",'2-Programmer les activités'!K75)","v":""},"","","","","-","","","","X",null,"","","","",null,"","","","",null,"","","","",null,null,{"$f":"IFERROR(IF($BH$3=\"\",\"\",'1_Lister les activités'!D71),\"\")","v":{"v":0,"d":"0.00"}},{"$f":"IFERROR(IF($BH$3=\"\",\"\",'1_Lister les activités'!A71),\"\")","v":""},null,{"v":0,"d":"0.00"},{"$f":"IFERROR(IF($BH$3=\"\",\"\",'1_Lister les activités'!B71),\"\")","v":0},0,{"v":0,"d":"0.00"},{"$f":"IFERROR(IF($BH$3=\"\",\"\",'1_Lister les activités'!C71),\"\")","v":"Selectionner"},{"$nulls":3},"Lao (Peoples Democratic Republic)",{"$nulls":7},"Iceland Krona","Eyrir","kr","ISK",{"$f":"CA69","v":"Iceland Krona"}]
[null,"2017-07-01",1,{"$nulls":6},{"$f":"'2-Programmer les activités'!F75","v":0},{"$f":"'2-Programmer les activités'!G75","v":0},{"$nulls":21},{"$f":"IF('2-Programmer les activités'!K76=\"\",\"\",'2-Programmer les activités'!K76)","v":""},"",{"$f":"IFERROR(VLOOKUP(AH70,$A$110:$B$121,2,FALSE),\"\")","v":""},"","","-","","","","X",null,"","","","",null,"","","","",null,"","","","",null,null,{"$f":"IFERROR(IF($BH$3=\"\",\"\",'1_Lister les activités'!D72),\"\")","v":{"v":0,"d":"0.00"}},{"$f":"IFERROR(IF($BH$3=\"\",\"\",'1_Lister les activités'!A72),\"\")","v":""},null,{"$f":"IFERROR(BH70,\"\")","v":{"v":0,"d":"0.00"}},{"$f":"IFERROR(IF($BH$3=\"\",\"\",'1_Lister les activités'!B72),\"\")","v":0},{"$f":"IFERROR(BL70,\"\")","v":0},{"$f":"IFERROR(BK70,\"\")","v":{"v":0,"d":"0.00"}},{"$f":"IFERROR(IF($BH$3=\"\",\"\",'1_Lister les activités'!C72),\"\")","v":"Selectionner"},{"$nulls":3},"Lesotho",{"$nulls":7},"Indian Rupee","Paisa","-","INR","Indian Rupee"]
[null,"2017-10-01",1,{"$nulls":6},{"$f":"'2-Programmer les activités'!F76","v":0},{"$f":"'2-Programmer les activités'!G76","v":0},{"$nulls":21},{"$f":"IF('2-Programmer les activités'!K77=\"\",\"\",'2-Programmer les activités'!K77)","v":""},{"$f":"IF(AG71=\"\",\"\",MONTH(AG71))","v":""},"","","","-","","","","X",null,"","","","",null,"","","","",null,"","","","",null,null,{"$f":"IFERROR(IF($BH$3=\"\",\"\",'1_Lister les activités'!D73),\"\")","v":{"v":0,"d":"0.00"}},{"$f":"IFERROR(IF($BH$3=\"\",\"\",'1_Lister les activités'!A73),\"\")","v":""},null,{"v":0,"d":"0.00"},{"$f":"IFERROR(IF($BH$3=\"\",\"\",'1_Lister les activités'!B73),\"\")","v":0},0,{"v":0,"d":"0.00"},{"$f":"IFERROR(IF($BH$3=\"\",\"\",'1_Lister les activités'!C73),\"\")","v":"Selectionner"},{"$nulls":3},"Liberia",{"$nulls":7},"Iranian Rial","Dinar","﷼","IRR","Iranian Rial"]
[null,"2018-01-01",1,{"$nulls":6},{"$f":"'2-Programmer les activités'!F77","v":0},{"$f":"'2-Programmer les activités'!G77","v":0},{"$nulls":21},{"$f":"IF('2-Programmer les activités'!K78=\"\",\"\",'2-Programmer les activités'!K78)","v":""},"","","","","-","","","","X",null,"","","","",null,"","","","",null,"","","","",null,null,{"$f":"IFERROR(IF($BH$3=\"\",\"\",'1_Lister les activités'!D74),\"\")","v":{"v":0,"d":"0.00"}},{"$f":"IFERROR(IF($BH$3=\"\",\"\",'1_Lister les activités'!A74),\"\")","v":""},null,{"v":0,"d":"0.00"},{"$f":"IFERROR(IF($BH$3=\"\",\"\",'1_Lister les activités'!B74),\"\")","v":0},0,{"v":0,"d":"0.00"},{"$f":"IFERROR(IF($BH$3=\"\",\"\",'1_Lister les activités'!C74),\"\")","v":"Selectionner"},{"$nulls":3},"Lutheran World Federation",{"$nulls":7},"Iraqi Dinar","Fils","ع.د","IQD","Iraqi Dinar"]
[null,"2018-04-01",1,{"$nulls":6},{"$f":"'2-Programmer les activités'!F78","v":0},{"$f":"'2-Programmer les activités'!G78","v":0},{"$nulls":21},{"$f":"IF('2-Programmer les activités'!K79=\"\",\"\",'2-Programmer les activités'!K79)","v":""},"","","","","-","","","","X",null,"","","","",null,"","","","",null,"","","","",null,null,{"$f":"IFERROR(IF($BH$3=\"\",\"\",'1_Lister les activités'!D75),\"\")","v":{"v":0,"d":"0.00"}},{"$f":"IFERROR(IF($BH$3=\"\",\"\",'1_Lister les activités'!A75),\"\")","v":""},null,{"v":0,"d":"0.00"},{"$f":"IFERROR(IF($BH$3=\"\",\"\",'1_Lister les activités'!B75),\"\")","v":0},0,{"v":0,"d":"0.00"},{"$f":"IFERROR(IF($BH$3=\"\",\"\",'1_Lister les activités'!C75),\"\")","v":"Selectionner"},{"$nulls":3},"Macedonia (Former Yugoslav Republic)",{"$nulls":7},"Jamaican Dollar","Cent","$","JMD","Jamaican Dollar"]
[null,"2018-07-01",1,{"$nulls":6},{"$f":"'2-Programmer les activités'!F79","v":0},{"$f":"'2-Programmer les activités'!G79","v":0},{"$nulls":21},{"$f":"IF('2-Programmer les activités'!K80=\"\",\"\",'2-Programmer les activités'!K80)","v":""},"","","","","-","","","","X",null,"","","","",null,"","","","",null,"","","","",null,null,{"$f":"IFERROR(IF($BH$3=\"\",\"\",'1_Lister les activités'!D76),\"\")","v":{"v":0,"d":"0.00"}},{"$f":"IFERROR(IF($BH$3=\"\",\"\",'1_Lister les activités'!A76),\"\")","v":""},null,{"v":0,"d":"0.00"},{"$f":"IFERROR(IF($BH$3=\"\",\"\",'1_Lister les activités'!B76),\"\")","v":0},0,{"v":0,"d":"0.00"},{"$f":"IFERROR(IF($BH$3=\"\",\"\",'1_Lister les activités'!C76),\"\")","v":"Selectionner"},{"$nulls":3},"Madagascar",{"$nulls":7},"Jordanian Dinar","Piastre","د.ا","JOD","Jordanian Dinar"]
[null,"2018-10-01",1,{"$nulls":6},{"$f":"'2-Programmer les activités'!F80","v":0},{"$f":"'2-Programmer les activités'!G80","v":0},{"$nulls":21},{"$f":"IF('2-Programmer les activités'!K81=\"\",\"\",'2-Programmer les activités'!K81)","v":""},"","","","","-","","","","X",null,"","","","",null,"","","","",null,"","","","",null,null,{"$f":"IFERROR(IF($BH$3=\"\",\"\",'1_Lister les activités'!D77),\"\")","v":{"v":0,"d":"0.00"}},{"$f":"IFERROR(IF($BH$3=\"\",\"\",'1_Lister les activités'!A77),\"\")","v":""},null,{"v":0,"d":"0.00"},{"$f":"IFERROR(IF($BH$3=\"\",\"\",'1_Lister les activités'!B77),\"\")","v":0},0,{"v":0,"d":"0.00"},{"$f":"IFERROR(IF($BH$3=\"\",\"\",'1_Lister les activités'!C77),\"\")","v":"Selectionner"},{"$nulls":3},"Malawi",{"$nulls":7},"Kenyan Shilling","Cent","Sh","KES","Kenyan Shilling"]
[null,"2016-02-01",2,{"$nulls":6},{"$f":"'2-Programmer les activités'!F81","v":0},{"$f":"'2-Programmer les activités'!G81","v":0},{"$nulls":21},{"$f":"IF('2-Programmer les activités'!K82=\"\",\"\",'2-Programmer les activités'!K82)","v":""},"","","","","-","","","","X",null,"","","","",null,"","","","",null,"","","","",null,null,{"$f":"IFERROR(IF($BH$3=\"\",\"\",'1_Lister les activités'!D78),\"\")","v":{"v":0,"d":"0.00"}},{"$f":"IFERROR(IF($BH$3=\"\",\"\",'1_Lister les activités'!A78),\"\")","v":""},null,{"v":0,"d":"0.00"},{"$f":"IFERROR(IF($BH$3=\"\",\"\",'1_Lister les activités'!B78),\"\")","v":0},0,{"v":0,"d":"0.00"},{"$f":"IFERROR(IF($BH$3=\"\",\"\",'1_Lister les activités'!C78),\"\")","v":"Selectionner"},{"$nulls":3},"Malaysia",{"$nulls":7},"Kina","Toea","K","PGK","Kina"]
[null,"2016-05-01",2,{"$nulls":6},{"$f":"'2-Programmer les activités'!F82","v":0},{"$f":"'2-Programmer les activités'!G82","v":0},{"$nulls":21},{"$f":"IF('2-Programmer les activités'!K83=\"\",\"\",'2-Programmer les activités'!K83)","v":""},"","","","","-","","","","X",null,"","","","",null,"","","","",null,"","","","",null,null,{"$f":"IFERROR(IF($BH$3=\"\",\"\",'1_Lister les activités'!D79),\"\")","v":{"v":0,"d":"0.00"}},{"$f":"IFERROR(IF($BH$3=\"\",\"\",'1_Lister les activités'!A79),\"\")","v":""},null,{"v":0,"d":"0.00"},{"$f":"IFERROR(IF($BH$3=\"\",\"\",'1_Lister les activités'!B79),\"\")","v":0},0,{"v":0,"d":"0.00"},{"$f":"IFERROR(IF($BH$3=\"\",\"\",'1_Lister les activités'!C79),\"\")","v":"Selectionner"},{"$nulls":3},"Maldives",{"$nulls":7},"Kip","Att","₭","LAK","Kip"]
[null,"2016-08-01",2,{"$nulls":6},{"$f":"'2-Programmer les activités'!F83","v":0},{"$f":"'2-Programmer les activités'!G83","v":0},{"$nulls":21},{"$f":"IF('2-Programmer les activités'!K84=\"\",\"\",'2-Programmer les activités'!K84)","v":""},"","","","","-","","","","X",null,"","","","",null,"","","","",null,"","","","",null,null,{"$f":"IFERROR(IF($BH$3=\"\",\"\",'1_Lister les activités'!D80),\"\")","v":{"v":0,"d":"0.00"}},{"$f":"IFERROR(IF($BH$3=\"\",\"\",'1_Lister les activités'!A80),\"\")","v":""},null,{"v":0,"d":"0.00"},{"$f":"IFERROR(IF($BH$3=\"\",\"\",'1_Lister les activités'!B80),\"\")","v":0},0,{"v":0,"d":"0.00"},{"$f":"IFERROR(IF($BH$3=\"\",\"\",'1_Lister les activités'!C80),\"\")","v":"Selectionner"},{"$nulls":3},"Mali",{"$nulls":7},"Kuwaiti Dinar","Fils","د.ك","KWD","Kuwaiti Dinar"]
[null,"2016-11-01",2,{"$nulls":6},{"$f":"'2-Programmer les activités'!F84","v":0},{"$f":"'2-Programmer les activités'!G84","v":0},{"$nulls":21},{"$f":"IF('2-Programmer les activités'!K85=\"\",\"\",'2-Programmer les activités'!K85)","v":""},"","","","","-","","","","X",null,"","","","",null,"","","","",null,"","","","",null,null,{"$f":"IFERROR(IF($BH$3=\"\",\"\",'1_Lister les activités'!D81),\"\")","v":{"v":0,"d":"0.00"}},{"$f":"IFERROR(IF($BH$3=\"\",\"\",'1_Lister les activités'!A81),\"\")","v":""},null,{"v":0,"d":"0.00"},{"$f":"IFERROR(IF($BH$3=\"\",\"\",'1_Lister les activités'!B81),\"\")","v":0},0,{"v":0,"d":"0.00"},{"$f":"IFERROR(IF($BH$3=\"\",\"\",'1_Lister les activités'!C81),\"\")","v":"Selectionner"},{"$nulls":3},"Mauritania",{"$nulls":7},"Kwacha","Tambala","MK","MWK","Kwacha"]
[null,"2017-02-01",2,{"$nulls":6},{"$f":"'2-Programmer les activités'!F85","v":0},{"$f":"'2-Programmer les activités'!G85","v":0},{"$nulls":21},{"$f":"IF('2-Programmer les activités'!K86=\"\",\"\",'2-Programmer les activités'!K86)","v":""},"","","","","-","","","","X",null,"","","","",null,"","","","",null,"","","","",null,null,{"$f":"IFERROR(IF($BH$3=\"\",\"\",'1_Lister les activités'!D82),\"\")","v":{"v":0,"d":"0.00"}},{"$f":"IFERROR(IF($BH$3=\"\",\"\",'1_Lister les activités'!A82),\"\")","v":""},null,{"v":0,"d":"0.00"},{"$f":"IFERROR(IF($BH$3=\"\",\"\",'1_Lister les activités'!B82),\"\")","v":0},0,{"v":0,"d":"0.00"},{"$f":"IFERROR(IF($BH$3=\"\",\"\",'1_Lister les activités'!C82),\"\")","v":"Selectionner"},{"$nulls":3},"Mauritius",{"$nulls":7},"Kwanza","Cêntimo","Kz","AOA","Kwanza"]
[null,"2017-05-01",2,{"$nulls":6},{"$f":"'2-Programmer les activités'!F86","v":0},{"$f":"'2-Programmer les activités'!G86","v":0},{"$nulls":21},{"$f":"IF('2-Programmer les activités'!K87=\"\",\"\",'2-Programmer les activités'!K87)","v":""},"","","","","-","","","","X",null,"","","","",null,"","","","",null,"","","","",null,null,{"$f":"IFERROR(IF($BH$3=\"\",\"\",'1_Lister les activités'!D83),\"\")","v":{"v":0,"d":"0.00"}},{"$f":"IFERROR(IF($BH$3=\"\",\"\",'1_Lister les activités'!A83),\"\")","v":""},null,{"v":0,"d":"0.00"},{"$f":"IFERROR(IF($BH$3=\"\",\"\",'1_Lister les activités'!B83),\"\")","v":0},0,{"v":0,"d":"0.00"},{"$f":"IFERROR(IF($BH$3=\"\",\"\",'1_Lister les activités'!C83),\"\")","v":"Selectionner"},{"$nulls":3},"Mexico",{"$nulls":7},"Kyat","Pya","Ks","MMK","Kyat"]
[null,"2017-08-01",2,{"$nulls":6},{"$f":"'2-Programmer les activités'!F87","v":0},{"$f":"'2-Programmer les activités'!G87","v":0},{"$nulls":21},{"$f":"IF('2-Programmer les activités'!K88=\"\",\"\",'2-Programmer les activités'!K88)","v":""},"","","","","-","","","","X",null,"","","","",null,"","","","",null,"","","","",null,null,{"$f":"IFERROR(IF($BH$3=\"\",\"\",'1_Lister les activités'!D84),\"\")","v":{"v":0,"d":"0.00"}},{"$f":"IFERROR(IF($BH$3=\"\",\"\",'1_Lister les activités'!A84),\"\")","v":""},null,{"v":0,"d":"0.00"},{"$f":"IFERROR(IF($BH$3=\"\",\"\",'1_Lister les activités'!B84),\"\")","v":0},0,{"v":0,"d":"0.00"},{"$f":"IFERROR(IF($BH$3=\"\",\"\",'1_Lister les activités'!C84),\"\")","v":"Selectionner"},{"$nulls":3},"Moldavia",{"$nulls":7},"Lari","Tetri","ლ","GEL","Lari"]
[null,"2017-11-01",2,{"$nulls":6},{"$f":"'2-Programmer les activités'!F88","v":0},{"$f":"'2-Programmer les activités'!G88","v":0},{"$nulls":21},{"$f":"IF('2-Programmer les activités'!K89=\"\",\"\",'2-Programmer les activités'!K89)","v":""},"","","","","-","","","","X",null,"","","","",null,"","","","",null,"","","","",null,null,{"$f":"IFERROR(IF($BH$3=\"\",\"\",'1_Lister les activités'!D85),\"\")","v":{"v":0,"d":"0.00"}},{"$f":"IFERROR(IF($BH$3=\"\",\"\",'1_Lister les activités'!A85),\"\")","v":""},null,{"v":0,"d":"0.00"},{"$f":"IFERROR(IF($BH$3=\"\",\"\",'1_Lister les activités'!B85),\"\")","v":0},0,{"v":0,"d":"0.00"},{"$f":"IFERROR(IF($BH$3=\"\",\"\",'1_Lister les activités'!C85),\"\")","v":"Selectionner"},{"$nulls":3},"Mongolia",{"$nulls":7},"Latvian Lats","Santīms","Ls","LVL","Latvian Lats"]
[null,"2018-02-01",2,{"$nulls":6},{"$f":"'2-Programmer les activités'!F89","v":0},{"$f":"'2-Programmer les activités'!G89","v":0},{"$nulls":21},{"$f":"IF('2-Programmer les activités'!K90=\"\",\"\",'2-Programmer les activités'!K90)","v":""},"","","","","-","","","","X",null,"","","","",null,"","","","",null,"","","","",null,null,{"$f":"IFERROR(IF($BH$3=\"\",\"\",'1_Lister les activités'!D86),\"\")","v":{"v":0,"d":"0.00"}},{"$f":"IFERROR(IF($BH$3=\"\",\"\",'1_Lister les activités'!A86),\"\")","v":""},null,{"v":0,"d":"0.00"},{"$f":"IFERROR(IF($BH$3=\"\",\"\",'1_Lister les activités'!B86),\"\")","v":0},0,{"v":0,"d":"0.00"},{"$f":"IFERROR(IF($BH$3=\"\",\"\",'1_Lister les activités'!C86),\"\")","v":"Selectionner"},{"$nulls":3},"Montenegro",{"$nulls":7},"Lebanese Pound","Piastre","ل.ل","LBP","Lebanese Pound"]
[null,"2018-05-01",2,{"$nulls":6},{"$f":"'2-Programmer les activités'!F90","v":0},{"$f":"'2-Programmer les activités'!G90","v":0},{"$nulls":21},{"$f":"IF('2-Programmer les activités'!K91=\"\",\"\",'2-Programmer les activités'!K91)","v":""},"","","","","-","","","","X",null,"","","","",null,"","","","",null,"","","","",null,null,{"$f":"IFERROR(IF($BH$3=\"\",\"\",'1_Lister les activités'!D87),\"\")","v":{"v":0,"d":"0.00"}},{"$f":"IFERROR(IF($BH$3=\"\",\"\",'1_Lister les activités'!A87),\"\")","v":""},null,{"v":0,"d":"0.00"},{"$f":"IFERROR(IF($BH$3=\"\",\"\",'1_Lister les activités'!B87),\"\")","v":0},0,{"v":0,"d":"0.00"},{"$f":"IFERROR(IF($BH$3=\"\",\"\",'1_Lister les activités'!C87),\"\")","v":"Selectionner"},{"$nulls":3},"Morocco",{"$nulls":7},"Lek","Qindarkë","L","ALL","Lek"]
[null,"2018-08-01",2,{"$nulls":6},{"$f":"'2-Programmer les activités'!F91","v":0},{"$f":"'2-Programmer les activités'!G91","v":0},{"$nulls":21},{"$f":"IF('2-Programmer les activités'!K92=\"\",\"\",'2-Programmer les activités'!K92)","v":""},"","","","","-","","","","X",null,"","","","",null,"","","","",null,"","","","",null,null,{"$f":"IFERROR(IF($BH$3=\"\",\"\",'1_Lister les activités'!D88),\"\")","v":{"v":0,"d":"0.00"}},{"$f":"IFERROR(IF($BH$3=\"\",\"\",'1_Lister les activités'!A88),\"\")","v":""},null,{"v":0,"d":"0.00"},{"$f":"IFERROR(IF($BH$3=\"\",\"\",'1_Lister les activités'!B88),\"\")","v":0},0,{"v":0,"d":"0.00"},{"$f":"IFERROR(IF($BH$3=\"\",\"\",'1_Lister les activités'!C88),\"\")","v":"Selectionner"},{"$nulls":3},"Mozambique",{"$nulls":7},"Lempira","Centavo","L","HNL","Lempira"]
[null,"2018-11-01",2,{"$nulls":6},{"$f":"'2-Programmer les activités'!F92","v":0},{"$f":"'2-Programmer les activités'!G92","v":0},{"$nulls":21},{"$f":"IF('2-Programmer les activités'!K93=\"\",\"\",'2-Programmer les activités'!K93)","v":""},"","","","","-","","","","X",null,"","","","",null,"","","","",null,"","","","",null,null,{"$f":"IFERROR(IF($BH$3=\"\",\"\",'1_Lister les activités'!D89),\"\")","v":{"v":0,"d":"0.00"}},{"$f":"IFERROR(IF($BH$3=\"\",\"\",'1_Lister les activités'!A89),\"\")","v":""},null,{"v":0,"d":"0.00"},{"$f":"IFERROR(IF($BH$3=\"\",\"\",'1_Lister les activités'!B89),\"\")","v":0},0,{"v":0,"d":"0.00"},{"$f":"IFERROR(IF($BH$3=\"\",\"\",'1_Lister les activités'!C89),\"\")","v":"Selectionner"},{"$nulls":3},"Multicountry Africa (RMCC)",{"$nulls":7},"Leone","Cent","Le","SLL","Leone"]
[null,"2016-03-01",3,{"$nulls":6},{"$f":"'2-Programmer les activités'!F93","v":0},{"$f":"'2-Programmer les activités'!G93","v":0},{"$nulls":21},{"$f":"IF('2-Programmer les activités'!K94=\"\",\"\",'2-Programmer les activités'!K94)","v":""},"","","","","-","","","","X",null,"","","","",null,"","","","",null,"","","","",null,null,{"$f":"IFERROR(IF($BH$3=\"\",\"\",'1_Lister les activités'!D90),\"\")","v":{"v":0,"d":"0.00"}},{"$f":"IFERROR(IF($BH$3=\"\",\"\",'1_Lister les activités'!A90),\"\")","v":""},null,{"v":0,"d":"0.00"},{"$f":"IFERROR(IF($BH$3=\"\",\"\",'1_Lister les activités'!B90),\"\")","v":0},0,{"v":0,"d":"0.00"},{"$f":"IFERROR(IF($BH$3=\"\",\"\",'1_Lister les activités'!C90),\"\")","v":"Selectionner"},{"$nulls":3},"Multicountry Africa (SADC)",{"$nulls":7},"Liberian Dollar","Cent","$","LRD","Liberian Dollar"]
[null,"2016-06-01",3,{"$nulls":6},{"$f":"'2-Programmer les activités'!F94","v":0},{"$f":"'2-Programmer les activités'!G94","v":0},{"$nulls":21},{"$f":"IF('2-Programmer les activités'!K95=\"\",\"\",'2-Programmer les activités'!K95)","v":""},"","","","","-","","","","X",null,"","","","",null,"","","","",null,"","","","",null,null,{"$f":"IFERROR(IF($BH$3=\"\",\"\",'1_Lister les activités'!D91),\"\")","v":{"v":0,"d":"0.00"}},{"$f":"IFERROR(IF($BH$3=\"\",\"\",'1_Lister les activités'!A91),\"\")","v":""},null,{"v":0,"d":"0.00"},{"$f":"IFERROR(IF($BH$3=\"\",\"\",'1_Lister les activités'!B91),\"\")","v":0},0,{"v":0,"d":"0.00"},{"$f":"IFERROR(IF($BH$3=\"\",\"\",'1_Lister les activités'!C91),\"\")","v":"Selectionner"},{"$nulls":3},"Multicountry Americas (Andean)",{"$nulls":7},"Libyan Dinar","Dirham","ل.د","LYD","Libyan Dinar"]
[null,"2016-09-01",3,{"$nulls":6},{"$f":"'2-Programmer les activités'!F95","v":0},{"$f":"'2-Programmer les activités'!G95","v":0},{"$nulls":21},{"$f":"IF('2-Programmer les activités'!K96=\"\",\"\",'2-Programmer les activités'!K96)","v":""},"","","","","-","","","","X",null,"","","","",null,"","","","",null,"","","","",null,null,{"$f":"IFERROR(IF($BH$3=\"\",\"\",'1_Lister les activités'!D92),\"\")","v":{"v":0,"d":"0.00"}},{"$f":"IFERROR(IF($BH$3=\"\",\"\",'1_Lister les activités'!A92),\"\")","v":""},null,{"v":0,"d":"0.00"},{"$f":"IFERROR(IF($BH$3=\"\",\"\",'1_Lister les activités'!B92),\"\")","v":0},0,{"v":0,"d":"0.00"},{"$f":"IFERROR(IF($BH$3=\"\",\"\",'1_Lister les activités'!C92),\"\")","v":"Selectionner"},{"$nulls":3},"Multicountry Americas (CARICOM/PANCAP)",{"$nulls":7},"Lilangeni","Cent","L","SZL","Lilangeni"]
[null,"2016-12-01",3,{"$nulls":6},{"$f":"'2-Programmer les activités'!F96","v":0},{"$f":"'2-Programmer les activités'!G96","v":0},{"$nulls":21},{"$f":"IF('2-Programmer les activités'!K97=\"\",\"\",'2-Programmer les activités'!K97)","v":""},"","","","","-","","","","X",null,"","","","",null,"","","","",null,"","","","",null,null,{"$f":"IFERROR(IF($BH$3=\"\",\"\",'1_Lister les activités'!D93),\"\")","v":{"v":0,"d":"0.00"}},{"$f":"IFERROR(IF($BH$3=\"\",\"\",'1_Lister les activités'!A93),\"\")","v":""},null,{"v":0,"d":"0.00"},{"$f":"IFERROR(IF($BH$3=\"\",\"\",'1_Lister les activités'!B93),\"\")","v":0},0,{"v":0,"d":"0.00"},{"$f":"IFERROR(IF($BH$3=\"\",\"\",'1_Lister les activités'!C93),\"\")","v":"Selectionner"},{"$nulls":3},"Multicountry Americas (COPRECOS)",{"$nulls":7},"Lithuanian Litas","Centas","Lt","LTL","Lithuanian Litas"]
[null,"2017-03-01",3,{"$nulls":6},{"$f":"'2-Programmer les activités'!F97","v":0},{"$f":"'2-Programmer les activités'!G97","v":0},{"$nulls":21},{"$f":"IF('2-Programmer les activités'!K98=\"\",\"\",'2-Programmer les activités'!K98)","v":""},"","","","","-","","","","X",null,"","","","",null,"","","","",null,"","","","",null,null,{"$f":"IFERROR(IF($BH$3=\"\",\"\",'1_Lister les activités'!D94),\"\")","v":{"v":0,"d":"0.00"}},{"$f":"IFERROR(IF($BH$3=\"\",\"\",'1_Lister les activités'!A94),\"\")","v":""},null,{"v":0,"d":"0.00"},{"$f":"IFERROR(IF($BH$3=\"\",\"\",'1_Lister les activités'!B94),\"\")","v":0},0,{"v":0,"d":"0.00"},{"$f":"IFERROR(IF($BH$3=\"\",\"\",'1_Lister les activités'!C94),\"\")","v":"Selectionner"},{"$nulls":3},"Multicountry Americas (CRN+)",{"$nulls":7},"Loti","Sente","L","LSL","Loti"]
[null,"2017-06-01",3,{"$nulls":6},{"$f":"'2-Programmer les activités'!F98","v":0},{"$f":"'2-Programmer les activités'!G98","v":0},{"$nulls":21},{"$f":"IF('2-Programmer les activités'!K99=\"\",\"\",'2-Programmer les activités'!K99)","v":""},"","","","","-","","","","X",null,"","","","",null,"","","","",null,"","","","",null,null,{"$f":"IFERROR(IF($BH$3=\"\",\"\",'1_Lister les activités'!D95),\"\")","v":{"v":0,"d":"0.00"}},{"$f":"IFERROR(IF($BH$3=\"\",\"\",'1_Lister les activités'!A95),\"\")","v":""},null,{"v":0,"d":"0.00"},{"$f":"IFERROR(IF($BH$3=\"\",\"\",'1_Lister les activités'!B95),\"\")","v":0},0,{"v":0,"d":"0.00"},{"$f":"IFERROR(IF($BH$3=\"\",\"\",'1_Lister les activités'!C95),\"\")","v":"Selectionner"},{"$nulls":3},"Multicountry Americas (Meso)",{"$nulls":7},"Malagasy Ariary","Iraimbilanja","Ar","MGA","Malagasy Ariary"]
[null,"2017-09-01",3,{"$nulls":6},{"$f":"'2-Programmer les activités'!F99","v":0},{"$f":"'2-Programmer les activités'!G99","v":0},{"$nulls":21},{"$f":"IF('2-Programmer les activités'!K100=\"\",\"\",'2-Programmer les activités'!K100)","v":""},"","","","","-","","","","X",null,"","","","",null,"","","","",null,"","","","",null,null,{"$f":"IFERROR(IF($BH$3=\"\",\"\",'1_Lister les activités'!D96),\"\")","v":{"v":0,"d":"0.00"}},{"$f":"IFERROR(IF($BH$3=\"\",\"\",'1_Lister les activités'!A96),\"\")","v":""},null,{"v":0,"d":"0.00"},{"$f":"IFERROR(IF($BH$3=\"\",\"\",'1_Lister les activités'!B96),\"\")","v":0},0,{"v":0,"d":"0.00"},{"$f":"IFERROR(IF($BH$3=\"\",\"\",'1_Lister les activités'!C96),\"\")","v":"Selectionner"},{"$nulls":3},"Multicountry Americas (OECS)",{"$nulls":7},"Malaysian Ringgit","Sen","RM","MYR","Malaysian Ringgit"]
[null,"2017-12-01",3,{"$nulls":6},{"$f":"'2-Programmer les activités'!F100","v":0},{"$f":"'2-Programmer les activités'!G100","v":0},{"$nulls":21},{"$f":"IF('2-Programmer les activités'!K101=\"\",\"\",'2-Programmer les activités'!K101)","v":""},"","","","","-","","","","X",null,"","","","",null,"","","","",null,"","","","",null,null,{"$f":"IFERROR(IF($BH$3=\"\",\"\",'1_Lister les activités'!D97),\"\")","v":{"v":0,"d":"0.00"}},{"$f":"IFERROR(IF($BH$3=\"\",\"\",'1_Lister les activités'!A97),\"\")","v":""},null,{"v":0,"d":"0.00"},{"$f":"IFERROR(IF($BH$3=\"\",\"\",'1_Lister les activités'!B97),\"\")","v":0},0,{"v":0,"d":"0.00"},{"$f":"IFERROR(IF($BH$3=\"\",\"\",'1_Lister les activités'!C97),\"\")","v":"Selectionner"},{"$nulls":3},"Multicountry Americas (REDCA+)",{"$nulls":7},"Mauritius Rupee","Cent","₨","MUR","Mauritius Rupee"]
[null,"2018-03-01",3,{"$nulls":6},{"$f":"'2-Programmer les activités'!F101","v":0},{"$f":"'2-Programmer les activités'!G101","v":0},{"$nulls":21},{"$f":"IF('2-Programmer les activités'!K102=\"\",\"\",'2-Programmer les activités'!K102)","v":""},"","","","","-","","","","X",null,"","","","",null,"","","","",null,"","","","",null,null,{"$f":"IFERROR(IF($BH$3=\"\",\"\",'1_Lister les activités'!D98),\"\")","v":{"v":0,"d":"0.00"}},{"$f":"IFERROR(IF($BH$3=\"\",\"\",'1_Lister les activités'!A98),\"\")","v":""},null,{"v":0,"d":"0.00"},{"$f":"IFERROR(IF($BH$3=\"\",\"\",'1_Lister les activités'!B98),\"\")","v":0},0,{"v":0,"d":"0.00"},{"$f":"IFERROR(IF($BH$3=\"\",\"\",'1_Lister les activités'!C98),\"\")","v":"Selectionner"},{"$nulls":3},"Multicountry Americas (REDTRASEX)",{"$nulls":7},"Mexican Peso","Centavo","$","MXN","Mexican Peso"]
[null,"2018-06-01",3,{"$nulls":6},{"$f":"'2-Programmer les activités'!F102","v":0},{"$f":"'2-Programmer les activités'!G102","v":0},{"$nulls":21},{"$f":"IF('2-Programmer les activités'!K103=\"\",\"\",'2-Programmer les activités'!K103)","v":""},"","","","","-","","","","X",null,"","","","",null,"","","","",null,"","","","",null,null,{"$f":"IFERROR(IF($BH$3=\"\",\"\",'1_Lister les activités'!D99),\"\")","v":{"v":0,"d":"0.00"}},{"$f":"IFERROR(IF($BH$3=\"\",\"\",'1_Lister les activités'!A99),\"\")","v":""},null,{"v":0,"d":"0.00"},{"$f":"IFERROR(IF($BH$3=\"\",\"\",'1_Lister les activités'!B99),\"\")","v":0},0,{"v":0,"d":"0.00"},{"$f":"IFERROR(IF($BH$3=\"\",\"\",'1_Lister les activités'!C99),\"\")","v":"Selectionner"},{"$nulls":3},"Multicountry East Asia and Pacific (APN+)",{"$nulls":7},"Mexican Unidad de Inversion (UDI)","-","-","MXV","Mexican Unidad de Inversion (UDI)"]
[null,"2018-09-01",3,{"$nulls":6},{"$f":"'2-Programmer les activités'!F103","v":0},{"$f":"'2-Programmer les activités'!G103","v":0},{"$nulls":21},{"$f":"IF('2-Programmer les activités'!K104=\"\",\"\",'2-Programmer les activités'!K104)","v":""},"","","","","-","","","","X",null,"","","","",null,"","","","",null,"","","","",null,null,{"$f":"IFERROR(IF($BH$3=\"\",\"\",'1_Lister les activités'!D100),\"\")","v":{"v":0,"d":"0.00"}},{"$f":"IFERROR(IF($BH$3=\"\",\"\",'1_Lister les activités'!A100),\"\")","v":""},null,{"v":0,"d":"0.00"},{"$f":"IFERROR(IF($BH$3=\"\",\"\",'1_Lister les activités'!B100),\"\")","v":0},0,{"v":0,"d":"0.00"},{"$f":"IFERROR(IF($BH$3=\"\",\"\",'1_Lister les activités'!C100),\"\")","v":"Selectionner"},{"$nulls":3},"Multicountry East Asia and Pacific (RAI)",{"$nulls":7},"Moldovan Leu","Ban","L","MDL","Moldovan Leu"]
[null,"2018-12-01",3,{"$nulls":6},{"$f":"'2-Programmer les activités'!F104","v":0},{"$f":"'2-Programmer les activités'!G104","v":0},{"$nulls":21},{"$f":"IF('2-Programmer les activités'!K105=\"\",\"\",'2-Programmer les activités'!K105)","v":""},"","","","","-","","","","X",null,"","","","",null,"","","","",null,"","","","",null,null,{"$f":"IFERROR(IF($BH$3=\"\",\"\",'1_Lister les activités'!D101),\"\")","v":{"v":0,"d":"0.00"}},{"$f":"IFERROR(IF($BH$3=\"\",\"\",'1_Lister les activités'!A101),\"\")","v":""},null,{"v":0,"d":"0.00"},{"$f":"IFERROR(IF($BH$3=\"\",\"\",'1_Lister les activités'!B101),\"\")","v":0},0,{"v":0,"d":"0.00"},{"$f":"IFERROR(IF($BH$3=\"\",\"\",'1_Lister les activités'!C101),\"\")","v":"Selectionner"},{"$nulls":3},"Multicountry East Asia and Pacific (SEAN-HIVOS)",{"$nulls":7},"Moroccan Dirham","Centime","د. م.","MAD","Moroccan Dirham"]
[{"$nulls":9},{"$f":"'2-Programmer les activités'!F105","v":0},{"$f":"'2-Programmer les activités'!G105","v":0},{"$nulls":21},{"$f":"IF('2-Programmer les activités'!K106=\"\",\"\",'2-Programmer les activités'!K106)","v":""},"","","","","-","","","","X",null,"","","","",null,"","","","",null,"","","","",null,null,{"$f":"IFERROR(IF($BH$3=\"\",\"\",'1_Lister les activités'!D102),\"\")","v":{"v":0,"d":"0.00"}},{"$f":"IFERROR(IF($BH$3=\"\",\"\",'1_Lister les activités'!A102),\"\")","v":""},null,{"v":0,"d":"0.00"},{"$f":"IFERROR(IF($BH$3=\"\",\"\",'1_Lister les activités'!B102),\"\")","v":0},0,{"v":0,"d":"0.00"},{"$f":"IFERROR(IF($BH$3=\"\",\"\",'1_Lister les activités'!C102),\"\")","v":"Selectionner"},{"$nulls":3},"Multicountry Eastern Europe- Central Aisa (EHRN)",{"$nulls":7},"Mozambique Metical","Centavo","MT","MZN","Mozambique Metical"]
[{"$nulls":9},{"$f":"'2-Programmer les activités'!F106","v":0},{"$f":"'2-Programmer les activités'!G106","v":0},{"$nulls":21},{"$f":"IF('2-Programmer les activités'!K107=\"\",\"\",'2-Programmer les activités'!K107)","v":""},"","","","","-","","","","X",null,"","","","",null,"","","","",null,"","","","",null,null,{"$f":"IFERROR(IF($BH$3=\"\",\"\",'1_Lister les activités'!D103),\"\")","v":{"v":0,"d":"0.00"}},{"$f":"IFERROR(IF($BH$3=\"\",\"\",'1_Lister les activités'!A103),\"\")","v":""},null,{"v":0,"d":"0.00"},{"$f":"IFERROR(IF($BH$3=\"\",\"\",'1_Lister les activités'!B103),\"\")","v":0},0,{"v":0,"d":"0.00"},{"$f":"IFERROR(IF($BH$3=\"\",\"\",'1_Lister les activités'!C103),\"\")","v":"Selectionner"},{"$nulls":3},"Multicountry Middle East-North Africa (MENAHRA)",{"$nulls":7},"Mvdol","-","-","BOV","Mvdol"]
[{"$nulls":9},{"$f":"'2-Programmer les activités'!F107","v":0},{"$f":"'2-Programmer les activités'!G107","v":0},{"$nulls":21},{"$f":"IF('2-Programmer les activités'!K108=\"\",\"\",'2-Programmer les activités'!K108)","v":""},"","","","","-","","","","X",null,"","","","",null,"","","","",null,"","","","",null,null,{"$f":"IFERROR(IF($BH$3=\"\",\"\",'1_Lister les activités'!D104),\"\")","v":{"v":0,"d":"0.00"}},{"$f":"IFERROR(IF($BH$3=\"\",\"\",'1_Lister les activités'!A104),\"\")","v":""},null,{"v":0,"d":"0.00"},{"$f":"IFERROR(IF($BH$3=\"\",\"\",'1_Lister les activités'!B104),\"\")","v":0},0,{"v":0,"d":"0.00"},{"$f":"IFERROR(IF($BH$3=\"\",\"\",'1_Lister les activités'!C104),\"\")","v":"Selectionner"},{"$nulls":3},"Multicountry South Asia",{"$nulls":7},"Naira","Kobo","₦","NGN","Naira"]
[{"$nulls":9},{"$f":"'2-Programmer les activités'!F108","v":0},{"$f":"'2-Programmer les activités'!G108","v":0},{"$nulls":21},{"$f":"IF('2-Programmer les activités'!K109=\"\",\"\",'2-Programmer les activités'!K109)","v":""},"","","","","-","","","","X",null,"","","","",null,"","","","",null,"","","","",null,null,{"$f":"IFERROR(IF($BH$3=\"\",\"\",'1_Lister les activités'!D105),\"\")","v":{"v":0,"d":"0.00"}},{"$f":"IFERROR(IF($BH$3=\"\",\"\",'1_Lister les activités'!A105),\"\")","v":""},null,{"v":0,"d":"0.00"},{"$f":"IFERROR(IF($BH$3=\"\",\"\",'1_Lister les activités'!B105),\"\")","v":0},0,{"v":0,"d":"0.00"},{"$f":"IFERROR(IF($BH$3=\"\",\"\",'1_Lister les activités'!C105),\"\")","v":"Selectionner"},{"$nulls":3},"Multicountry Western Pacific",{"$nulls":7},"Nakfa","Cent","Nfk","ERN","Nakfa"]
[{"$nulls":9},{"$f":"'2-Programmer les activités'!F109","v":0},{"$f":"'2-Programmer les activités'!G109","v":0},{"$nulls":21},{"$f":"IF('2-Programmer les activités'!K110=\"\",\"\",'2-Programmer les activités'!K110)","v":""},"","","","","-","","","","X",null,"","","","",null,"","","","",null,"","","","",null,null,{"$f":"IFERROR(IF($BH$3=\"\",\"\",'1_Lister les activités'!D106),\"\")","v":{"v":0,"d":"0.00"}},{"$f":"IFERROR(IF($BH$3=\"\",\"\",'1_Lister les activités'!A106),\"\")","v":""},null,{"v":0,"d":"0.00"},{"$f":"IFERROR(IF($BH$3=\"\",\"\",'1_Lister les activités'!B106),\"\")","v":0},0,{"v":0,"d":"0.00"},{"$f":"IFERROR(IF($BH$3=\"\",\"\",'1_Lister les activités'!C106),\"\")","v":"Selectionner"},{"$nulls":3},"Myanmar",{"$nulls":7},"Namibia Dollar","Cent","$","NAD","Namibia Dollar"]
[{"$nulls":9},{"$f":"'2-Programmer les activités'!F110","v":0},{"$f":"'2-Programmer les activités'!G110","v":0},{"$nulls":21},{"$f":"IF('2-Programmer les activités'!K111=\"\",\"\",'2-Programmer les activités'!K111)","v":""},"","","","","-","","","","X",null,"","","","",null,"","","","",null,"","","","",null,null,{"$f":"IFERROR(IF($BH$3=\"\",\"\",'1_Lister les activités'!D107),\"\")","v":{"v":0,"d":"0.00"}},{"$f":"IFERROR(IF($BH$3=\"\",\"\",'1_Lister les activités'!A107),\"\")","v":""},null,{"v":0,"d":"0.00"},{"$f":"IFERROR(IF($BH$3=\"\",\"\",'1_Lister les activités'!B107),\"\")","v":0},0,{"v":0,"d":"0.00"},{"$f":"IFERROR(IF($BH$3=\"\",\"\",'1_Lister les activités'!C107),\"\")","v":"Selectionner"},{"$nulls":3},"Namibia",{"$nulls":7},"Nepalese Rupee","Paisa","₨","NPR","Nepalese Rupee"]
[{"$nulls":9},{"$f":"'2-Programmer les activités'!F111","v":0},{"$f":"'2-Programmer les activités'!G111","v":0},{"$nulls":21},{"$f":"IF('2-Programmer les activités'!K112=\"\",\"\",'2-Programmer les activités'!K112)","v":""},"","","","","-","","","","X",null,"","","","",null,"","","","",null,"","","","",null,null,{"$f":"IFERROR(IF($BH$3=\"\",\"\",'1_Lister les activités'!D108),\"\")","v":{"v":0,"d":"0.00"}},{"$f":"IFERROR(IF($BH$3=\"\",\"\",'1_Lister les activités'!A108),\"\")","v":""},null,{"v":0,"d":"0.00"},{"$f":"IFERROR(IF($BH$3=\"\",\"\",'1_Lister les activités'!B108),\"\")","v":0},0,{"v":0,"d":"0.00"},{"$f":"IFERROR(IF($BH$3=\"\",\"\",'1_Lister les activités'!C108),\"\")","v":"Selectionner"},{"$nulls":3},"Nepal",{"$nulls":7},"Netherlands Antillean Guilder","Cent","ƒ","ANG","Netherlands Antillean Guilder"]
[{"$nulls":9},{"$f":"'2-Programmer les activités'!F112","v":0},{"$f":"'2-Programmer les activités'!G112","v":0},{"$nulls":21},{"$f":"IF('2-Programmer les activités'!K113=\"\",\"\",'2-Programmer les activités'!K113)","v":""},"","","","","-","","","","X",null,"","","","",null,"","","","",null,"","","","",null,null,{"$f":"IFERROR(IF($BH$3=\"\",\"\",'1_Lister les activités'!D109),\"\")","v":{"v":0,"d":"0.00"}},{"$f":"IFERROR(IF($BH$3=\"\",\"\",'1_Lister les activités'!A109),\"\")","v":""},null,{"v":0,"d":"0.00"},{"$f":"IFERROR(IF($BH$3=\"\",\"\",'1_Lister les activités'!B109),\"\")","v":0},0,{"v":0,"d":"0.00"},{"$f":"IFERROR(IF($BH$3=\"\",\"\",'1_Lister les activités'!C109),\"\")","v":"Selectionner"},{"$nulls":3},"Nicaragua",{"$nulls":7},"New Israeli Sheqel","Agora","₪","ILS","New Israeli Sheqel"]
[{"$nulls":9},{"$f":"'2-Programmer les activités'!F113","v":0},{"$f":"'2-Programmer les activités'!G113","v":0},{"$nulls":21},{"$f":"IF('2-Programmer les activités'!K114=\"\",\"\",'2-Programmer les activités'!K114)","v":""},"","","","","-","","","","X",null,"","","","",null,"","","","",null,"","","","",null,null,{"$f":"IFERROR(IF($BH$3=\"\",\"\",'1_Lister les activités'!D110),\"\")","v":{"v":0,"d":"0.00"}},{"$f":"IFERROR(IF($BH$3=\"\",\"\",'1_Lister les activités'!A110),\"\")","v":""},null,{"v":0,"d":"0.00"},{"$f":"IFERROR(IF($BH$3=\"\",\"\",'1_Lister les activités'!B110),\"\")","v":0},0,{"v":0,"d":"0.00"},{"$f":"IFERROR(IF($BH$3=\"\",\"\",'1_Lister les activités'!C110),\"\")","v":"Selectionner"},{"$nulls":3},"Niger",{"$nulls":7},"New Romanian Leu","Ban","L","RON","New Romanian Leu"]
[{"$nulls":9},{"$f":"'2-Programmer les activités'!F114","v":0},{"$f":"'2-Programmer les activités'!G114","v":0},{"$nulls":21},{"$f":"IF('2-Programmer les activités'!K115=\"\",\"\",'2-Programmer les activités'!K115)","v":""},"","","","","-","","","","X",null,"","","","",null,"","","","",null,"","","","",null,null,{"$f":"IFERROR(IF($BH$3=\"\",\"\",'1_Lister les activités'!D111),\"\")","v":{"v":0,"d":"0.00"}},{"$f":"IFERROR(IF($BH$3=\"\",\"\",'1_Lister les activités'!A111),\"\")","v":""},null,{"v":0,"d":"0.00"},{"$f":"IFERROR(IF($BH$3=\"\",\"\",'1_Lister les activités'!B111),\"\")","v":0},0,{"v":0,"d":"0.00"},{"$f":"IFERROR(IF($BH$3=\"\",\"\",'1_Lister les activités'!C111),\"\")","v":"Selectionner"},{"$nulls":3},"Nigeria",{"$nulls":7},"New Taiwan Dollar","Cent","$","TWD","New Taiwan Dollar"]
[1,"janv",{"$f":"MONTH(D110)","v":1},"2016-01-01",{"$nulls":5},{"$f":"'2-Programmer les activités'!F115","v":0},{"$f":"'2-Programmer les activités'!G115","v":0},{"$nulls":21},{"$f":"IF('2-Programmer les activités'!K116=\"\",\"\",'2-Programmer les activités'!K116)","v":""},"","",{"$f":"IF(AG110=\"\",\"\",DAY(AG110))","v":""},{"$f":"IFERROR(YEAR(AG110),\"\")","v":""},{"$f":"IFERROR(CONCATENATE(AI110,\"-\",AK110),\"\")","v":"-"},{"$f":"IF(AJ110<8,\"X\",\"\")","v":""},{"$f":"IF(AND(AJ110>7,AND(AJ110<15)),\"X\",\"\")","v":""},{"$f":"IF(AND(AJ110>14,AND(AJ110<22)),\"X\",\"\")","v":""},{"$f":"IF(AJ110>21,\"X\",\"\")","v":"X"},null,{"$f":"IF(AL110=$AR$4,AM110,\"\")","v":""},{"$f":"IF(AL110=$AR$4,AN110,\"\")","v":""},{"$f":"IF(AL110=$AR$4,AO110,\"\")","v":""},{"$f":"IF(AL110=$AR$4,AP110,\"\")","v":""},null,{"$f":"IF(AL110=$AW$4,AM110,\"\")","v":""},{"$f":"IF(AL110=$AW$4,AN110,\"\")","v":""},{"$f":"IF(AL110=$AW$4,AO110,\"\")","v":""},{"$f":"IF(AL110=$AW$4,AP110,\"\")","v":""},null,{"$f":"IF(AL110=$BB$4,AM110,\"\")","v":""},{"$f":"IF(AL110=$BB$4,AN110,\"\")","v":""},{"$f":"IF(AL110=$BB$4,AO110,\"\")","v":""},{"$f":"IF(AL110=$BB$4,AP110,\"\")","v":""},null,null,{"$f":"IFERROR(IF($BH$3=\"\",\"\",'1_Lister les activités'!D112),\"\")","v":{"v":0,"d":"0.00"}},{"$f":"IFERROR(IF($BH$3=\"\",\"\",'1_Lister les activités'!A112),\"\")","v":""},null,{"v":0,"d":"0.00"},{"$f":"IFERROR(IF($BH$3=\"\",\"\",'1_Lister les activités'!B112),\"\")","v":0},0,{"v":0,"d":"0.00"},{"$f":"IFERROR(IF($BH$3=\"\",\"\",'1_Lister les activités'!C112),\"\")","v":"Selectionner"},{"$nulls":3},"Pakistan",{"$nulls":7},"New Zealand Dollar","Cent","$","NZD","New Zealand Dollar"]
[2,"févr",null,"2016-02-01",{"$nulls":5},{"$f":"'2-Programmer les activités'!F116","v":0},{"$f":"'2-Programmer les activités'!G116","v":0},{"$nulls":21},{"$f":"IF('2-Programmer les activités'!K117=\"\",\"\",'2-Programmer les activités'!K117)","v":""},"","","","","-","","","","X",null,"","","","",null,"","","","",null,"","","","",null,null,{"$f":"IFERROR(IF($BH$3=\"\",\"\",'1_Lister les activités'!D113),\"\")","v":{"v":0,"d":"0.00"}},{"$f":"IFERROR(IF($BH$3=\"\",\"\",'1_Lister les activités'!A113),\"\")","v":""},null,{"v":0,"d":"0.00"},{"$f":"IFERROR(IF($BH$3=\"\",\"\",'1_Lister les activités'!B113),\"\")","v":0},0,{"v":0,"d":"0.00"},{"$f":"IFERROR(IF($BH$3=\"\",\"\",'1_Lister les activités'!C113),\"\")","v":"Selectionner"},{"$nulls":3},"Palestine",{"$nulls":7},"Ngultrum","Chetrum","Nu.","BTN","Ngultrum"]
[3,"mars",null,"2016-03-01",{"$nulls":5},{"$f":"'2-Programmer les activités'!F117","v":0},{"$f":"'2-Programmer les activités'!G117","v":0},{"$nulls":21},{"$f":"IF('2-Programmer les activités'!K118=\"\",\"\",'2-Programmer les activités'!K118)","v":""},"","","","","-","","","","X",null,"","","","",null,"","","","",null,"","","","",null,null,{"$f":"IFERROR(IF($BH$3=\"\",\"\",'1_Lister les activités'!D114),\"\")","v":{"v":0,"d":"0.00"}},{"$f":"IFERROR(IF($BH$3=\"\",\"\",'1_Lister les activités'!A114),\"\")","v":""},null,{"v":0,"d":"0.00"},{"$f":"IFERROR(IF($BH$3=\"\",\"\",'1_Lister les activités'!B114),\"\")","v":0},0,{"v":0,"d":"0.00"},{"$f":"IFERROR(IF($BH$3=\"\",\"\",'1_Lister les activités'!C114),\"\")","v":"Selectionner"},{"$nulls":3},"Panama",{"$nulls":7},"North Korean Won","Chon","₩","KPW","North Korean Won"]
[4,"avr",null,"2016-04-01",{"$nulls":5},{"$f":"'2-Programmer les activités'!F118","v":0},{"$f":"'2-Programmer les activités'!G118","v":0},{"$nulls":21},{"$f":"IF('2-Programmer les activités'!K119=\"\",\"\",'2-Programmer les activités'!K119)","v":""},"","","","","-","","","","X",null,"","","","",null,"","","","",null,"","","","",null,null,{"$f":"IFERROR(IF($BH$3=\"\",\"\",'1_Lister les activités'!D115),\"\")","v":{"v":0,"d":"0.00"}},{"$f":"IFERROR(IF($BH$3=\"\",\"\",'1_Lister les activités'!A115),\"\")","v":""},null,{"v":0,"d":"0.00"},{"$f":"IFERROR(IF($BH$3=\"\",\"\",'1_Lister les activités'!B115),\"\")","v":0},0,{"v":0,"d":"0.00"},{"$f":"IFERROR(IF($BH$3=\"\",\"\",'1_Lister les activités'!C115),\"\")","v":"Selectionner"},{"$nulls":3},"Papua New Guinea",{"$nulls":7},"Norwegian Krone","Øre","kr","NOK","Norwegian Krone"]
[5,"mai",{"$nulls":7},{"$f":"'2-Programmer les activités'!F119","v":0},{"$f":"'2-Programmer les activités'!G119","v":0},{"$nulls":21},{"$f":"IF('2-Programmer les activités'!K120=\"\",\"\",'2-Programmer les activités'!K120)","v":""},"","","","","-","","","","X",null,"","","","",null,"","","","",null,"","","","",null,null,{"$f":"IFERROR(IF($BH$3=\"\",\"\",'1_Lister les activités'!D116),\"\")","v":{"v":0,"d":"0.00"}},{"$f":"IFERROR(IF($BH$3=\"\",\"\",'1_Lister les activités'!A116),\"\")","v":""},null,{"v":0,"d":"0.00"},{"$f":"IFERROR(IF($BH$3=\"\",\"\",'1_Lister les activités'!B116),\"\")","v":0},0,{"v":0,"d":"0.00"},{"$f":"IFERROR(IF($BH$3=\"\",\"\",'1_Lister les activités'!C116),\"\")","v":"Selectionner"},{"$nulls":3},"Peru",{"$nulls":7},"Nuevo Sol","Céntimo","S/.","PEN","Nuevo Sol"]
[6,"juin",{"$nulls":7},{"$f":"'2-Programmer les activités'!F120","v":0},{"$f":"'2-Programmer les activités'!G120","v":0},{"$nulls":21},{"$f":"IF('2-Programmer les activités'!K121=\"\",\"\",'2-Programmer les activités'!K121)","v":""},"","","","","-","","","","X",null,"","","","",null,"","","","",null,"","","","",null,null,{"$f":"IFERROR(IF($BH$3=\"\",\"\",'1_Lister les activités'!D117),\"\")","v":{"v":0,"d":"0.00"}},{"$f":"IFERROR(IF($BH$3=\"\",\"\",'1_Lister les activités'!A117),\"\")","v":""},null,{"v":0,"d":"0.00"},{"$f":"IFERROR(IF($BH$3=\"\",\"\",'1_Lister les activités'!B117),\"\")","v":0},0,{"v":0,"d":"0.00"},{"$f":"IFERROR(IF($BH$3=\"\",\"\",'1_Lister les activités'!C117),\"\")","v":"Selectionner"},{"$nulls":3},"Philippines",{"$nulls":7},"Ouguiya","Khoums","UM","MRO","Ouguiya"]
[7,"juil",{"$nulls":7},{"$f":"'2-Programmer les activités'!F121","v":0},{"$f":"'2-Programmer les activités'!G121","v":0},{"$nulls":21},{"$f":"IF('2-Programmer les activités'!K122=\"\",\"\",'2-Programmer les activités'!K122)","v":""},"","","","","-","","","","X",null,"","","","",null,"","","","",null,"","","","",null,null,{"$f":"IFERROR(IF($BH$3=\"\",\"\",'1_Lister les activités'!D118),\"\")","v":{"v":0,"d":"0.00"}},{"$f":"IFERROR(IF($BH$3=\"\",\"\",'1_Lister les activités'!A118),\"\")","v":""},null,{"v":0,"d":"0.00"},{"$f":"IFERROR(IF($BH$3=\"\",\"\",'1_Lister les activités'!B118),\"\")","v":0},0,{"v":0,"d":"0.00"},{"$f":"IFERROR(IF($BH$3=\"\",\"\",'1_Lister les activités'!C118),\"\")","v":"Selectionner"},{"$nulls":3},"Romania",{"$nulls":7},"Pakistan Rupee","Paisa","₨","PKR","Pakistan Rupee"]
[8,"août",{"$nulls":7},{"$f":"'2-Programmer les activités'!F122","v":0},{"$f":"'2-Programmer les activités'!G122","v":0},{"$nulls":21},{"$f":"IF('2-Programmer les activités'!K123=\"\",\"\",'2-Programmer les activités'!K123)","v":""},"","","","","-","","","","X",null,"","","","",null,"","","","",null,"","","","",null,null,{"$f":"IFERROR(IF($BH$3=\"\",\"\",'1_Lister les activités'!D119),\"\")","v":{"v":0,"d":"0.00"}},{"$f":"IFERROR(IF($BH$3=\"\",\"\",'1_Lister les activités'!A119),\"\")","v":""},null,{"v":0,"d":"0.00"},{"$f":"IFERROR(IF($BH$3=\"\",\"\",'1_Lister les activités'!B119),\"\")","v":0},0,{"v":0,"d":"0.00"},{"$f":"IFERROR(IF($BH$3=\"\",\"\",'1_Lister les activités'!C119),\"\")","v":"Selectionner"},{"$nulls":3},"Russian Federation",{"$nulls":7},"Palladium","-","-","XPD","Palladium"]
[9,"sept",{"$nulls":7},{"$f":"'2-Programmer les activités'!F123","v":0},{"$f":"'2-Programmer les activités'!G123","v":0},{"$nulls":21},{"$f":"IF('2-Programmer les activités'!K124=\"\",\"\",'2-Programmer les activités'!K124)","v":""},"","","","","-","","","","X",null,"","","","",null,"","","","",null,"","","","",null,null,{"$f":"IFERROR(IF($BH$3=\"\",\"\",'1_Lister les activités'!D120),\"\")","v":{"v":0,"d":"0.00"}},{"$f":"IFERROR(IF($BH$3=\"\",\"\",'1_Lister les activités'!A120),\"\")","v":""},null,{"v":0,"d":"0.00"},{"$f":"IFERROR(IF($BH$3=\"\",\"\",'1_Lister les activités'!B120),\"\")","v":0},0,{"v":0,"d":"0.00"},{"$f":"IFERROR(IF($BH$3=\"\",\"\",'1_Lister les activités'!C120),\"\")","v":"Selectionner"},{"$nulls":3},"Rwanda",{"$nulls":7},"Pataca","Avo","P","MOP","Pataca"]
[10,"oct",{"$nulls":7},{"$f":"'2-Programmer les activités'!F124","v":0},{"$f":"'2-Programmer les activités'!G124","v":0},{"$nulls":21},{"$f":"IF('2-Programmer les activités'!K125=\"\",\"\",'2-Programmer les activités'!K125)","v":""},"","","","","-","","","","X",null,"","","","",null,"","","","",null,"","","","",null,null,{"$f":"IFERROR(IF($BH$3=\"\",\"\",'1_Lister les activités'!D121),\"\")","v":{"v":0,"d":"0.00"}},{"$f":"IFERROR(IF($BH$3=\"\",\"\",'1_Lister les activités'!A121),\"\")","v":""},null,{"v":0,"d":"0.00"},{"$f":"IFERROR(IF($BH$3=\"\",\"\",'1_Lister les activités'!B121),\"\")","v":0},0,{"v":0,"d":"0.00"},{"$f":"IFERROR(IF($BH$3=\"\",\"\",'1_Lister les activités'!C121),\"\")","v":"Selectionner"},{"$nulls":3},"Sao Tome and Principe",{"$nulls":7},"Pa’anga","Seniti","T$","TOP","Pa’anga"]
[11,"nov",{"$nulls":7},{"$f":"'2-Programmer les activités'!F125","v":0},{"$f":"'2-Programmer les activités'!G125","v":0},{"$nulls":21},{"$f":"IF('2-Programmer les activités'!K126=\"\",\"\",'2-Programmer les activités'!K126)","v":""},"","","","","-","","","","X",null,"","","","",null,"","","","",null,"","","","",null,null,{"$f":"IFERROR(IF($BH$3=\"\",\"\",'1_Lister les activités'!D122),\"\")","v":{"v":0,"d":"0.00"}},{"$f":"IFERROR(IF($BH$3=\"\",\"\",'1_Lister les activités'!A122),\"\")","v":""},null,{"v":0,"d":"0.00"},{"$f":"IFERROR(IF($BH$3=\"\",\"\",'1_Lister les activités'!B122),\"\")","v":0},0,{"v":0,"d":"0.00"},{"$f":"IFERROR(IF($BH$3=\"\",\"\",'1_Lister les activités'!C122),\"\")","v":"Selectionner"},{"$nulls":3},"Senegal",{"$nulls":7},"Peso Convertible","Centavo","$","CUC","Peso Convertible"]
[12,"déc",{"$nulls":7},{"$f":"'2-Programmer les activités'!F126","v":0},{"$f":"'2-Programmer les activités'!G126","v":0},{"$nulls":21},{"$f":"IF('2-Programmer les activités'!K127=\"\",\"\",'2-Programmer les activités'!K127)","v":""},"","","","","-","","","","X",null,"","","","",null,"","","","",null,"","","","",null,null,{"$f":"IFERROR(IF($BH$3=\"\",\"\",'1_Lister les activités'!D123),\"\")","v":{"v":0,"d":"0.00"}},{"$f":"IFERROR(IF($BH$3=\"\",\"\",'1_Lister les activités'!A123),\"\")","v":""},null,{"v":0,"d":"0.00"},{"$f":"IFERROR(IF($BH$3=\"\",\"\",'1_Lister les activités'!B123),\"\")","v":0},0,{"v":0,"d":"0.00"},{"$f":"IFERROR(IF($BH$3=\"\",\"\",'1_Lister les activités'!C123),\"\")","v":"Selectionner"},{"$nulls":3},"Serbia",{"$nulls":7},"Peso Uruguayo","Centésimo","$","UYU","Peso Uruguayo"]
[{"$nulls":9},{"$f":"'2-Programmer les activités'!F127","v":0},{"$f":"'2-Programmer les activités'!G127","v":0},{"$nulls":21},{"$f":"IF('2-Programmer les activités'!K128=\"\",\"\",'2-Programmer les activités'!K128)","v":""},"","","","","-","","","","X",null,"","","","",null,"","","","",null,"","","","",null,null,{"$f":"IFERROR(IF($BH$3=\"\",\"\",'1_Lister les activités'!D124),\"\")","v":{"v":0,"d":"0.00"}},{"$f":"IFERROR(IF($BH$3=\"\",\"\",'1_Lister les activités'!A124),\"\")","v":""},null,{"v":0,"d":"0.00"},{"$f":"IFERROR(IF($BH$3=\"\",\"\",'1_Lister les activités'!B124),\"\")","v":0},0,{"v":0,"d":"0.00"},{"$f":"IFERROR(IF($BH$3=\"\",\"\",'1_Lister les activités'!C124),\"\")","v":"Selectionner"},{"$nulls":3},"Sierra Leone",{"$nulls":7},"Philippine Peso","Centavo","₱","PHP","Philippine Peso"]
[{"$nulls":9},{"$f":"'2-Programmer les activités'!F128","v":0},{"$f":"'2-Programmer les activités'!G128","v":0},{"$nulls":21},{"$f":"IF('2-Programmer les activités'!K129=\"\",\"\",'2-Programmer les activités'!K129)","v":""},"","","","","-","","","","X",null,"","","","",null,"","","","",null,"","","","",null,null,{"$f":"IFERROR(IF($BH$3=\"\",\"\",'1_Lister les activités'!D125),\"\")","v":{"v":0,"d":"0.00"}},{"$f":"IFERROR(IF($BH$3=\"\",\"\",'1_Lister les activités'!A125),\"\")","v":""},null,{"v":0,"d":"0.00"},{"$f":"IFERROR(IF($BH$3=\"\",\"\",'1_Lister les activités'!B125),\"\")","v":0},0,{"v":0,"d":"0.00"},{"$f":"IFERROR(IF($BH$3=\"\",\"\",'1_Lister les activités'!C125),\"\")","v":"Selectionner"},{"$nulls":3},"Solomon Islands",{"$nulls":7},"Platinum","-","-","XPT","Platinum"]
[{"$nulls":9},{"$f":"'2-Programmer les activités'!F129","v":0},{"$f":"'2-Programmer les activités'!G129","v":0},{"$nulls":21},{"$f":"IF('2-Programmer les activités'!K130=\"\",\"\",'2-Programmer les activités'!K130)","v":""},"","","","","-","","","","X",null,"","","","",null,"","","","",null,"","","","",null,null,{"$f":"IFERROR(IF($BH$3=\"\",\"\",'1_Lister les activités'!D126),\"\")","v":{"v":0,"d":"0.00"}},{"$f":"IFERROR(IF($BH$3=\"\",\"\",'1_Lister les activités'!A126),\"\")","v":""},null,{"v":0,"d":"0.00"},{"$f":"IFERROR(IF($BH$3=\"\",\"\",'1_Lister les activités'!B126),\"\")","v":0},0,{"v":0,"d":"0.00"},{"$f":"IFERROR(IF($BH$3=\"\",\"\",'1_Lister les activités'!C126),\"\")","v":"Selectionner"},{"$nulls":3},"South Africa",{"$nulls":7},"Pound Sterling","Penny","£","GBP","Pound Sterling"]
[{"$nulls":9},{"$f":"'2-Programmer les activités'!F130","v":0},{"$f":"'2-Programmer les activités'!G130","v":0},{"$nulls":21},{"$f":"IF('2-Programmer les activités'!K131=\"\",\"\",'2-Programmer les activités'!K131)","v":""},"","","","","-","","","","X",null,"","","","",null,"","","","",null,"","","","",null,null,{"$f":"IFERROR(IF($BH$3=\"\",\"\",'1_Lister les activités'!D127),\"\")","v":{"v":0,"d":"0.00"}},{"$f":"IFERROR(IF($BH$3=\"\",\"\",'1_Lister les activités'!A127),\"\")","v":""},null,{"v":0,"d":"0.00"},{"$f":"IFERROR(IF($BH$3=\"\",\"\",'1_Lister les activités'!B127),\"\")","v":0},0,{"v":0,"d":"0.00"},{"$f":"IFERROR(IF($BH$3=\"\",\"\",'1_Lister les activités'!C127),\"\")","v":"Selectionner"},{"$nulls":3},"South Sudan",{"$nulls":7},"Pula","Thebe","P","BWP","Pula"]
[{"$nulls":9},{"$f":"'2-Programmer les activités'!F131","v":0},{"$f":"'2-Programmer les activités'!G131","v":0},{"$nulls":21},{"$f":"IF('2-Programmer les activités'!K132=\"\",\"\",'2-Programmer les activités'!K132)","v":""},"","","","","-","","","","X",null,"","","","",null,"","","","",null,"","","","",null,null,{"$f":"IFERROR(IF($BH$3=\"\",\"\",'1_Lister les activités'!D128),\"\")","v":{"v":0,"d":"0.00"}},{"$f":"IFERROR(IF($BH$3=\"\",\"\",'1_Lister les activités'!A128),\"\")","v":""},null,{"v":0,"d":"0.00"},{"$f":"IFERROR(IF($BH$3=\"\",\"\",'1_Lister les activités'!B128),\"\")","v":0},0,{"v":0,"d":"0.00"},{"$f":"IFERROR(IF($BH$3=\"\",\"\",'1_Lister les activités'!C128),\"\")","v":"Selectionner"},{"$nulls":3},"Sri Lanka",{"$nulls":7},"Qatari Rial","Dirham","ر.ق","QAR","Qatari Rial"]
[{"$nulls":9},{"$f":"'2-Programmer les activités'!F132","v":0},{"$f":"'2-Programmer les activités'!G132","v":0},{"$nulls":21},{"$f":"IF('2-Programmer les activités'!K133=\"\",\"\",'2-Programmer les activités'!K133)","v":""},"","","","","-","","","","X",null,"","","","",null,"","","","",null,"","","","",null,null,{"$f":"IFERROR(IF($BH$3=\"\",\"\",'1_Lister les activités'!D129),\"\")","v":{"v":0,"d":"0.00"}},{"$f":"IFERROR(IF($BH$3=\"\",\"\",'1_Lister les activités'!A129),\"\")","v":""},null,{"v":0,"d":"0.00"},{"$f":"IFERROR(IF($BH$3=\"\",\"\",'1_Lister les activités'!B129),\"\")","v":0},0,{"v":0,"d":"0.00"},{"$f":"IFERROR(IF($BH$3=\"\",\"\",'1_Lister les activités'!C129),\"\")","v":"Selectionner"},{"$nulls":3},"Sudan",{"$nulls":7},"Quetzal","Centavo","Q","GTQ","Quetzal"]
[{"$nulls":9},{"$f":"'2-Programmer les activités'!F133","v":0},{"$f":"'2-Programmer les activités'!G133","v":0},{"$nulls":21},{"$f":"IF('2-Programmer les activités'!K134=\"\",\"\",'2-Programmer les activités'!K134)","v":""},"","","","","-","","","","X",null,"","","","",null,"","","","",null,"","","","",null,null,{"$f":"IFERROR(IF($BH$3=\"\",\"\",'1_Lister les activités'!D130),\"\")","v":{"v":0,"d":"0.00"}},{"$f":"IFERROR(IF($BH$3=\"\",\"\",'1_Lister les activités'!A130),\"\")","v":""},null,{"v":0,"d":"0.00"},{"$f":"IFERROR(IF($BH$3=\"\",\"\",'1_Lister les activités'!B130),\"\")","v":0},0,{"v":0,"d":"0.00"},{"$f":"IFERROR(IF($BH$3=\"\",\"\",'1_Lister les activités'!C130),\"\")","v":"Selectionner"},{"$nulls":3},"Suriname",{"$nulls":7},"Rand","Cent","R","ZAR","Rand"]
[{"$nulls":9},{"$f":"'2-Programmer les activités'!F134","v":0},{"$f":"'2-Programmer les activités'!G134","v":0},{"$nulls":21},{"$f":"IF('2-Programmer les activités'!K135=\"\",\"\",'2-Programmer les activités'!K135)","v":""},"","","","","-","","","","X",null,"","","","",null,"","","","",null,"","","","",null,null,{"$f":"IFERROR(IF($BH$3=\"\",\"\",'1_Lister les activités'!D131),\"\")","v":{"v":0,"d":"0.00"}},{"$f":"IFERROR(IF($BH$3=\"\",\"\",'1_Lister les activités'!A131),\"\")","v":""},null,{"v":0,"d":"0.00"},{"$f":"IFERROR(IF($BH$3=\"\",\"\",'1_Lister les activités'!B131),\"\")","v":0},0,{"v":0,"d":"0.00"},{"$f":"IFERROR(IF($BH$3=\"\",\"\",'1_Lister les activités'!C131),\"\")","v":"Selectionner"},{"$nulls":3},"Swaziland",{"$nulls":7},"Rial Omani","Baisa","ر.ع.","OMR","Rial Omani"]
[{"$nulls":9},{"$f":"'2-Programmer les activités'!F135","v":0},{"$f":"'2-Programmer les activités'!G135","v":0},{"$nulls":21},{"$f":"IF('2-Programmer les activités'!K136=\"\",\"\",'2-Programmer les activités'!K136)","v":""},"","","","","-","","","","X",null,"","","","",null,"","","","",null,"","","","",null,null,{"$f":"IFERROR(IF($BH$3=\"\",\"\",'1_Lister les activités'!D132),\"\")","v":{"v":0,"d":"0.00"}},{"$f":"IFERROR(IF($BH$3=\"\",\"\",'1_Lister les activités'!A132),\"\")","v":""},null,{"v":0,"d":"0.00"},{"$f":"IFERROR(IF($BH$3=\"\",\"\",'1_Lister les activités'!B132),\"\")","v":0},0,{"v":0,"d":"0.00"},{"$f":"IFERROR(IF($BH$3=\"\",\"\",'1_Lister les activités'!C132),\"\")","v":"Selectionner"},{"$nulls":3},"Switzerland",{"$nulls":7},"Riel","Sen","៛","KHR","Riel"]
[{"$nulls":9},{"$f":"'2-Programmer les activités'!F136","v":0},{"$f":"'2-Programmer les activités'!G136","v":0},{"$nulls":21},{"$f":"IF('2-Programmer les activités'!K137=\"\",\"\",'2-Programmer les activités'!K137)","v":""},"","","","","-","","","","X",null,"","","","",null,"","","","",null,"","","","",null,null,{"$f":"IFERROR(IF($BH$3=\"\",\"\",'1_Lister les activités'!D133),\"\")","v":{"v":0,"d":"0.00"}},{"$f":"IFERROR(IF($BH$3=\"\",\"\",'1_Lister les activités'!A133),\"\")","v":""},null,{"v":0,"d":"0.00"},{"$f":"IFERROR(IF($BH$3=\"\",\"\",'1_Lister les activités'!B133),\"\")","v":0},0,{"v":0,"d":"0.00"},{"$f":"IFERROR(IF($BH$3=\"\",\"\",'1_Lister les activités'!C133),\"\")","v":"Selectionner"},{"$nulls":3},"Syrian Arab Republic",{"$nulls":7},"Rufiyaa","Laari",".ރ","MVR","Rufiyaa"]
[{"$nulls":9},{"$f":"'2-Programmer les activités'!F137","v":0},{"$f":"'2-Programmer les activités'!G137","v":0},{"$nulls":21},{"$f":"IF('2-Programmer les activités'!K138=\"\",\"\",'2-Programmer les activités'!K138)","v":""},"","","","","-","","","","X",null,"","","","",null,"","","","",null,"","","","",null,null,{"$f":"IFERROR(IF($BH$3=\"\",\"\",'1_Lister les activités'!D134),\"\")","v":{"v":0,"d":"0.00"}},{"$f":"IFERROR(IF($BH$3=\"\",\"\",'1_Lister les activités'!A134),\"\")","v":""},null,{"v":0,"d":"0.00"},{"$f":"IFERROR(IF($BH$3=\"\",\"\",'1_Lister les activités'!B134),\"\")","v":0},0,{"v":0,"d":"0.00"},{"$f":"IFERROR(IF($BH$3=\"\",\"\",'1_Lister les activités'!C134),\"\")","v":"Selectionner"},{"$nulls":3},"Tajikistan",{"$nulls":7},"Rupiah","Sen","Rp","IDR","Rupiah"]
[{"$nulls":9},{"$f":"'2-Programmer les activités'!F138","v":0},{"$f":"'2-Programmer les activités'!G138","v":0},{"$nulls":21},{"$f":"IF('2-Programmer les activités'!K139=\"\",\"\",'2-Programmer les activités'!K139)","v":""},"","","","","-","","","","X",null,"","","","",null,"","","","",null,"","","","",null,null,{"$f":"IFERROR(IF($BH$3=\"\",\"\",'1_Lister les activités'!D135),\"\")","v":{"v":0,"d":"0.00"}},{"$f":"IFERROR(IF($BH$3=\"\",\"\",'1_Lister les activités'!A135),\"\")","v":""},null,{"v":0,"d":"0.00"},{"$f":"IFERROR(IF($BH$3=\"\",\"\",'1_Lister les activités'!B135),\"\")","v":0},0,{"v":0,"d":"0.00"},{"$f":"IFERROR(IF($BH$3=\"\",\"\",'1_Lister les activités'!C135),\"\")","v":"Selectionner"},{"$nulls":3},"Tanzania (United Republic)",{"$nulls":7},"Russian Ruble","Kopek","р.","RUB",{"$f":"CA133","v":"Russian Ruble"}]
[{"$nulls":9},{"$f":"'2-Programmer les activités'!F139","v":0},{"$f":"'2-Programmer les activités'!G139","v":0},{"$nulls":21},{"$f":"IF('2-Programmer les activités'!K140=\"\",\"\",'2-Programmer les activités'!K140)","v":""},"",{"$f":"IFERROR(VLOOKUP(AH134,$A$110:$B$121,2,FALSE),\"\")","v":""},"","","-","","","","X",null,"","","","",null,"","","","",null,"","","","",null,null,{"$f":"IFERROR(IF($BH$3=\"\",\"\",'1_Lister les activités'!D136),\"\")","v":{"v":0,"d":"0.00"}},{"$f":"IFERROR(IF($BH$3=\"\",\"\",'1_Lister les activités'!A136),\"\")","v":""},null,{"$f":"IFERROR(BH134,\"\")","v":{"v":0,"d":"0.00"}},{"$f":"IFERROR(IF($BH$3=\"\",\"\",'1_Lister les activités'!B136),\"\")","v":0},{"$f":"IFERROR(BL134,\"\")","v":0},{"$f":"IFERROR(BK134,\"\")","v":{"v":0,"d":"0.00"}},{"$f":"IFERROR(IF($BH$3=\"\",\"\",'1_Lister les activités'!C136),\"\")","v":"Selectionner"},{"$nulls":3},"Thailand",{"$nulls":7},"Rwanda Franc","Centime","Fr","RWF","Rwanda Franc"]
[{"$nulls":9},{"$f":"'2-Programmer les activités'!F140","v":0},{"$f":"'2-Programmer les activités'!G140","v":0},{"$nulls":21},{"$f":"IF('2-Programmer les activités'!K141=\"\",\"\",'2-Programmer les activités'!K141)","v":""},{"$f":"IF(AG135=\"\",\"\",MONTH(AG135))","v":""},"","","","-","","","","X",null,"","","","",null,"","","","",null,"","","","",null,null,{"$f":"IFERROR(IF($BH$3=\"\",\"\",'1_Lister les activités'!D137),\"\")","v":{"v":0,"d":"0.00"}},{"$f":"IFERROR(IF($BH$3=\"\",\"\",'1_Lister les activités'!A137),\"\")","v":""},null,{"v":0,"d":"0.00"},{"$f":"IFERROR(IF($BH$3=\"\",\"\",'1_Lister les activités'!B137),\"\")","v":0},0,{"v":0,"d":"0.00"},{"$f":"IFERROR(IF($BH$3=\"\",\"\",'1_Lister les activités'!C137),\"\")","v":"Selectionner"},{"$nulls":3},"Timor-Leste",{"$nulls":7},"Saint Helena Pound","Penny","£","SHP","Saint Helena Pound"]
[{"$nulls":9},{"$f":"'2-Programmer les activités'!F141","v":0},{"$f":"'2-Programmer les activités'!G141","v":0},{"$nulls":21},{"$f":"IF('2-Programmer les activités'!K142=\"\",\"\",'2-Programmer les activités'!K142)","v":""},"","","","","-","","","","X",null,"","","","",null,"","","","",null,"","","","",null,null,{"$f":"IFERROR(IF($BH$3=\"\",\"\",'1_Lister les activités'!D138),\"\")","v":{"v":0,"d":"0.00"}},{"$f":"IFERROR(IF($BH$3=\"\",\"\",'1_Lister les activités'!A138),\"\")","v":""},null,{"v":0,"d":"0.00"},{"$f":"IFERROR(IF($BH$3=\"\",\"\",'1_Lister les activités'!B138),\"\")","v":0},0,{"v":0,"d":"0.00"},{"$f":"IFERROR(IF($BH$3=\"\",\"\",'1_Lister les activités'!C138),\"\")","v":"Selectionner"},{"$nulls":3},"Togo",{"$nulls":7},"Saudi Riyal","Halala","ر.س","SAR","Saudi Riyal"]
[{"$nulls":9},{"$f":"'2-Programmer les activités'!F142","v":0},{"$f":"'2-Programmer les activités'!G142","v":0},{"$nulls":21},{"$f":"IF('2-Programmer les activités'!K143=\"\",\"\",'2-Programmer les activités'!K143)","v":""},"","","","","-","","","","X",null,"","","","",null,"","","","",null,"","","","",null,null,{"$f":"IFERROR(IF($BH$3=\"\",\"\",'1_Lister les activités'!D139),\"\")","v":{"v":0,"d":"0.00"}},{"$f":"IFERROR(IF($BH$3=\"\",\"\",'1_Lister les activités'!A139),\"\")","v":""},null,{"v":0,"d":"0.00"},{"$f":"IFERROR(IF($BH$3=\"\",\"\",'1_Lister les activités'!B139),\"\")","v":0},0,{"v":0,"d":"0.00"},{"$f":"IFERROR(IF($BH$3=\"\",\"\",'1_Lister les activités'!C139),\"\")","v":"Selectionner"},{"$nulls":3},"Tunusia",{"$nulls":7},"SDR (Special Drawing Right)","-","-","XDR","SDR (Special Drawing Right)"]
[{"$nulls":9},{"$f":"'2-Programmer les activités'!F143","v":0},{"$f":"'2-Programmer les activités'!G143","v":0},{"$nulls":21},{"$f":"IF('2-Programmer les activités'!K144=\"\",\"\",'2-Programmer les activités'!K144)","v":""},"","","","","-","","","","X",null,"","","","",null,"","","","",null,"","","","",null,null,{"$f":"IFERROR(IF($BH$3=\"\",\"\",'1_Lister les activités'!D140),\"\")","v":{"v":0,"d":"0.00"}},{"$f":"IFERROR(IF($BH$3=\"\",\"\",'1_Lister les activités'!A140),\"\")","v":""},null,{"v":0,"d":"0.00"},{"$f":"IFERROR(IF($BH$3=\"\",\"\",'1_Lister les activités'!B140),\"\")","v":0},0,{"v":0,"d":"0.00"},{"$f":"IFERROR(IF($BH$3=\"\",\"\",'1_Lister les activités'!C140),\"\")","v":"Selectionner"},{"$nulls":3},"Turkey",{"$nulls":7},"Serbian Dinar","Para","дин.","RSD","Serbian Dinar"]
[{"$nulls":9},{"$f":"'2-Programmer les activités'!F144","v":0},{"$f":"'2-Programmer les activités'!G144","v":0},{"$nulls":21},{"$f":"IF('2-Programmer les activités'!K145=\"\",\"\",'2-Programmer les activités'!K145)","v":""},"","","","","-","","","","X",null,"","","","",null,"","","","",null,"","","","",null,null,{"$f":"IFERROR(IF($BH$3=\"\",\"\",'1_Lister les activités'!D141),\"\")","v":{"v":0,"d":"0.00"}},{"$f":"IFERROR(IF($BH$3=\"\",\"\",'1_Lister les activités'!A141),\"\")","v":""},null,{"v":0,"d":"0.00"},{"$f":"IFERROR(IF($BH$3=\"\",\"\",'1_Lister les activités'!B141),\"\")","v":0},0,{"v":0,"d":"0.00"},{"$f":"IFERROR(IF($BH$3=\"\",\"\",'1_Lister les activités'!C141),\"\")","v":"Selectionner"},{"$nulls":3},"Turkmenistan",{"$nulls":7},"Seychelles Rupee","Cent","₨","SCR","Seychelles Rupee"]
[{"$nulls":9},{"$f":"'2-Programmer les activités'!F145","v":0},{"$f":"'2-Programmer les activités'!G145","v":0},{"$nulls":21},{"$f":"IF('2-Programmer les activités'!K146=\"\",\"\",'2-Programmer les activités'!K146)","v":""},"","","","","-","","","","X",null,"","","","",null,"","","","",null,"","","","",null,null,{"$f":"IFERROR(IF($BH$3=\"\",\"\",'1_Lister les activités'!D142),\"\")","v":{"v":0,"d":"0.00"}},{"$f":"IFERROR(IF($BH$3=\"\",\"\",'1_Lister les activités'!A142),\"\")","v":""},null,{"v":0,"d":"0.00"},{"$f":"IFERROR(IF($BH$3=\"\",\"\",'1_Lister les activités'!B142),\"\")","v":0},0,{"v":0,"d":"0.00"},{"$f":"IFERROR(IF($BH$3=\"\",\"\",'1_Lister les activités'!C142),\"\")","v":"Selectionner"},{"$nulls":3},"Uganda",{"$nulls":7},"Silver","-","-","XAG","Silver"]
[{"$nulls":9},{"$f":"'2-Programmer les activités'!F146","v":0},{"$f":"'2-Programmer les activités'!G146","v":0},{"$nulls":21},{"$f":"IF('2-Programmer les activités'!K147=\"\",\"\",'2-Programmer les activités'!K147)","v":""},"","","","","-","","","","X",null,"","","","",null,"","","","",null,"","","","",null,null,{"$f":"IFERROR(IF($BH$3=\"\",\"\",'1_Lister les activités'!D143),\"\")","v":{"v":0,"d":"0.00"}},{"$f":"IFERROR(IF($BH$3=\"\",\"\",'1_Lister les activités'!A143),\"\")","v":""},null,{"v":0,"d":"0.00"},{"$f":"IFERROR(IF($BH$3=\"\",\"\",'1_Lister les activités'!B143),\"\")","v":0},0,{"v":0,"d":"0.00"},{"$f":"IFERROR(IF($BH$3=\"\",\"\",'1_Lister les activités'!C143),\"\")","v":"Selectionner"},{"$nulls":3},"Ukraine",{"$nulls":7},"Singapore Dollar","Cent","$","SGD","Singapore Dollar"]
[{"$nulls":9},{"$f":"'2-Programmer les activités'!F147","v":0},{"$f":"'2-Programmer les activités'!G147","v":0},{"$nulls":21},{"$f":"IF('2-Programmer les activités'!K148=\"\",\"\",'2-Programmer les activités'!K148)","v":""},"","","","","-","","","","X",null,"","","","",null,"","","","",null,"","","","",null,null,{"$f":"IFERROR(IF($BH$3=\"\",\"\",'1_Lister les activités'!D144),\"\")","v":{"v":0,"d":"0.00"}},{"$f":"IFERROR(IF($BH$3=\"\",\"\",'1_Lister les activités'!A144),\"\")","v":""},null,{"v":0,"d":"0.00"},{"$f":"IFERROR(IF($BH$3=\"\",\"\",'1_Lister les activités'!B144),\"\")","v":0},0,{"v":0,"d":"0.00"},{"$f":"IFERROR(IF($BH$3=\"\",\"\",'1_Lister les activités'!C144),\"\")","v":"Selectionner"},{"$nulls":3},"Uruguay",{"$nulls":7},"Solomon Islands Dollar","Cent","$","SBD","Solomon Islands Dollar"]
[{"$nulls":9},{"$f":"'2-Programmer les activités'!F148","v":0},{"$f":"'2-Programmer les activités'!G148","v":0},{"$nulls":21},{"$f":"IF('2-Programmer les activités'!K149=\"\",\"\",'2-Programmer les activités'!K149)","v":""},"","","","","-","","","","X",null,"","","","",null,"","","","",null,"","","","",null,null,{"$f":"IFERROR(IF($BH$3=\"\",\"\",'1_Lister les activités'!D145),\"\")","v":{"v":0,"d":"0.00"}},{"$f":"IFERROR(IF($BH$3=\"\",\"\",'1_Lister les activités'!A145),\"\")","v":""},null,{"v":0,"d":"0.00"},{"$f":"IFERROR(IF($BH$3=\"\",\"\",'1_Lister les activités'!B145),\"\")","v":0},0,{"v":0,"d":"0.00"},{"$f":"IFERROR(IF($BH$3=\"\",\"\",'1_Lister les activités'!C145),\"\")","v":"Selectionner"},{"$nulls":3},"Uzbekistan",{"$nulls":7},"Som","Tyiyn","-","KGS","Som"]
[{"$nulls":9},{"$f":"'2-Programmer les activités'!F149","v":0},{"$f":"'2-Programmer les activités'!G149","v":0},{"$nulls":21},{"$f":"IF('2-Programmer les activités'!K150=\"\",\"\",'2-Programmer les activités'!K150)","v":""},"","","","","-","","","","X",null,"","","","",null,"","","","",null,"","","","",null,null,{"$f":"IFERROR(IF($BH$3=\"\",\"\",'1_Lister les activités'!D146),\"\")","v":{"v":0,"d":"0.00"}},{"$f":"IFERROR(IF($BH$3=\"\",\"\",'1_Lister les activités'!A146),\"\")","v":""},null,{"v":0,"d":"0.00"},{"$f":"IFERROR(IF($BH$3=\"\",\"\",'1_Lister les activités'!B146),\"\")","v":0},0,{"v":0,"d":"0.00"},{"$f":"IFERROR(IF($BH$3=\"\",\"\",'1_Lister les activités'!C146),\"\")","v":"Selectionner"},{"$nulls":3},"Viet Nam",{"$nulls":7},"Somali Shilling","Cent","Sh","SOS","Somali Shilling"]
[{"$nulls":9},{"$f":"'2-Programmer les activités'!F150","v":0},{"$f":"'2-Programmer les activités'!G150","v":0},{"$nulls":21},{"$f":"IF('2-Programmer les activités'!K151=\"\",\"\",'2-Programmer les activités'!K151)","v":""},"","","","","-","","","","X",null,"","","","",null,"","","","",null,"","","","",null,null,{"$f":"IFERROR(IF($BH$3=\"\",\"\",'1_Lister les activités'!D147),\"\")","v":{"v":0,"d":"0.00"}},{"$f":"IFERROR(IF($BH$3=\"\",\"\",'1_Lister les activités'!A147),\"\")","v":""},null,{"v":0,"d":"0.00"},{"$f":"IFERROR(IF($BH$3=\"\",\"\",'1_Lister les activités'!B147),\"\")","v":0},0,{"v":0,"d":"0.00"},{"$f":"IFERROR(IF($BH$3=\"\",\"\",'1_Lister les activités'!C147),\"\")","v":"Selectionner"},{"$nulls":3},"Yemen",{"$nulls":7},"Somoni","Diram","ЅМ","TJS","Somoni"]
[{"$nulls":9},{"$f":"'2-Programmer les activités'!F151","v":0},{"$f":"'2-Programmer les activités'!G151","v":0},{"$nulls":21},{"$f":"IF('2-Programmer les activités'!K152=\"\",\"\",'2-Programmer les activités'!K152)","v":""},"","","","","-","","","","X",null,"","","","",null,"","","","",null,"","","","",null,null,{"$f":"IFERROR(IF($BH$3=\"\",\"\",'1_Lister les activités'!D148),\"\")","v":{"v":0,"d":"0.00"}},{"$f":"IFERROR(IF($BH$3=\"\",\"\",'1_Lister les activités'!A148),\"\")","v":""},null,{"v":0,"d":"0.00"},{"$f":"IFERROR(IF($BH$3=\"\",\"\",'1_Lister les activités'!B148),\"\")","v":0},0,{"v":0,"d":"0.00"},{"$f":"IFERROR(IF($BH$3=\"\",\"\",'1_Lister les activités'!C148),\"\")","v":"Selectionner"},{"$nulls":3},"Zambia",{"$nulls":7},"South Sudanese Pound","Piastre","£","SSP","South Sudanese Pound"]
[{"$nulls":9},{"$f":"'2-Programmer les activités'!F152","v":0},{"$f":"'2-Programmer les activités'!G152","v":0},{"$nulls":21},{"$f":"IF('2-Programmer les activités'!K153=\"\",\"\",'2-Programmer les activités'!K153)","v":""},"","","","","-","","","","X",null,"","","","",null,"","","","",null,"","","","",null,null,{"$f":"IFERROR(IF($BH$3=\"\",\"\",'1_Lister les activités'!D149),\"\")","v":{"v":0,"d":"0.00"}},{"$f":"IFERROR(IF($BH$3=\"\",\"\",'1_Lister les activités'!A149),\"\")","v":""},null,{"v":0,"d":"0.00"},{"$f":"IFERROR(IF($BH$3=\"\",\"\",'1_Lister les activités'!B149),\"\")","v":0},0,{"v":0,"d":"0.00"},{"$f":"IFERROR(IF($BH$3=\"\",\"\",'1_Lister les activités'!C149),\"\")","v":"Selectionner"},{"$nulls":3},"Zanzibar",{"$nulls":7},"Sri Lanka Rupee","Cent","Rs","LKR","Sri Lanka Rupee"]
[{"$nulls":9},{"$f":"'2-Programmer les activités'!F153","v":0},{"$f":"'2-Programmer les activités'!G153","v":0},{"$nulls":21},{"$f":"IF('2-Programmer les activités'!K154=\"\",\"\",'2-Programmer les activités'!K154)","v":""},"","","","","-","","","","X",null,"","","","",null,"","","","",null,"","","","",null,null,{"$f":"IFERROR(IF($BH$3=\"\",\"\",'1_Lister les activités'!D150),\"\")","v":{"v":0,"d":"0.00"}},{"$f":"IFERROR(IF($BH$3=\"\",\"\",'1_Lister les activités'!A150),\"\")","v":""},null,{"v":0,"d":"0.00"},{"$f":"IFERROR(IF($BH$3=\"\",\"\",'1_Lister les activités'!B150),\"\")","v":0},0,{"v":0,"d":"0.00"},{"$f":"IFERROR(IF($BH$3=\"\",\"\",'1_Lister les activités'!C150),\"\")","v":"Selectionner"},{"$nulls":3},"Zimbabwe",{"$nulls":7},"Sucre","-","-","XSU","Sucre"]
[{"$nulls":9},{"$f":"'2-Programmer les activités'!F154","v":0},{"$f":"'2-Programmer les activités'!G154","v":0},{"$nulls":21},{"$f":"IF('2-Programmer les activités'!K155=\"\",\"\",'2-Programmer les activités'!K155)","v":""},"","","","","-","","","","X",null,"","","","",null,"","","","",null,"","","","",null,null,{"$f":"IFERROR(IF($BH$3=\"\",\"\",'1_Lister les activités'!D151),\"\")","v":{"v":0,"d":"0.00"}},{"$f":"IFERROR(IF($BH$3=\"\",\"\",'1_Lister les activités'!A151),\"\")","v":""},null,{"v":0,"d":"0.00"},{"$f":"IFERROR(IF($BH$3=\"\",\"\",'1_Lister les activités'!B151),\"\")","v":0},0,{"v":0,"d":"0.00"},{"$f":"IFERROR(IF($BH$3=\"\",\"\",'1_Lister les activités'!C151),\"\")","v":"Selectionner"},{"$nulls":11},"Sudanese Pound","Piastre","£","SDG","Sudanese Pound"]
[{"$nulls":9},{"$f":"'2-Programmer les activités'!F155","v":0},{"$f":"'2-Programmer les activités'!G155","v":0},{"$nulls":21},{"$f":"IF('2-Programmer les activités'!K156=\"\",\"\",'2-Programmer les activités'!K156)","v":""},"","","","","-","","","","X",null,"","","","",null,"","","","",null,"","","","",null,null,{"$f":"IFERROR(IF($BH$3=\"\",\"\",'1_Lister les activités'!D152),\"\")","v":{"v":0,"d":"0.00"}},{"$f":"IFERROR(IF($BH$3=\"\",\"\",'1_Lister les activités'!A152),\"\")","v":""},null,{"v":0,"d":"0.00"},{"$f":"IFERROR(IF($BH$3=\"\",\"\",'1_Lister les activités'!B152),\"\")","v":0},0,{"v":0,"d":"0.00"},{"$f":"IFERROR(IF($BH$3=\"\",\"\",'1_Lister les activités'!C152),\"\")","v":"Selectionner"},{"$nulls":11},"Surinam Dollar","Cent","$","SRD","Surinam Dollar"]
[{"$nulls":9},{"$f":"'2-Programmer les activités'!F156","v":0},{"$f":"'2-Programmer les activités'!G156","v":0},{"$nulls":21},{"$f":"IF('2-Programmer les activités'!K157=\"\",\"\",'2-Programmer les activités'!K157)","v":""},"","","","","-","","","","X",null,"","","","",null,"","","","",null,"","","","",null,null,{"$f":"IFERROR(IF($BH$3=\"\",\"\",'1_Lister les activités'!D153),\"\")","v":{"v":0,"d":"0.00"}},{"$f":"IFERROR(IF($BH$3=\"\",\"\",'1_Lister les activités'!A153),\"\")","v":""},null,{"v":0,"d":"0.00"},{"$f":"IFERROR(IF($BH$3=\"\",\"\",'1_Lister les activités'!B153),\"\")","v":0},0,{"v":0,"d":"0.00"},{"$f":"IFERROR(IF($BH$3=\"\",\"\",'1_Lister les activités'!C153),\"\")","v":"Selectionner"},{"$nulls":11},"Swedish Krona","Öre","kr","SEK","Swedish Krona"]
[{"$nulls":9},{"$f":"'2-Programmer les activités'!F157","v":0},{"$f":"'2-Programmer les activités'!G157","v":0},{"$nulls":21},{"$f":"IF('2-Programmer les activités'!K158=\"\",\"\",'2-Programmer les activités'!K158)","v":""},"","","","","-","","","","X",null,"","","","",null,"","","","",null,"","","","",null,null,{"$f":"IFERROR(IF($BH$3=\"\",\"\",'1_Lister les activités'!D154),\"\")","v":{"v":0,"d":"0.00"}},{"$f":"IFERROR(IF($BH$3=\"\",\"\",'1_Lister les activités'!A154),\"\")","v":""},null,{"v":0,"d":"0.00"},{"$f":"IFERROR(IF($BH$3=\"\",\"\",'1_Lister les activités'!B154),\"\")","v":0},0,{"v":0,"d":"0.00"},{"$f":"IFERROR(IF($BH$3=\"\",\"\",'1_Lister les activités'!C154),\"\")","v":"Selectionner"},{"$nulls":11},"Swiss Franc","Rappen","Fr","CHF","Swiss Franc"]
[{"$nulls":9},{"$f":"'2-Programmer les activités'!F158","v":0},{"$f":"'2-Programmer les activités'!G158","v":0},{"$nulls":21},{"$f":"IF('2-Programmer les activités'!K159=\"\",\"\",'2-Programmer les activités'!K159)","v":""},"","","","","-","","","","X",null,"","","","",null,"","","","",null,"","","","",null,null,{"$f":"IFERROR(IF($BH$3=\"\",\"\",'1_Lister les activités'!D155),\"\")","v":{"v":0,"d":"0.00"}},{"$f":"IFERROR(IF($BH$3=\"\",\"\",'1_Lister les activités'!A155),\"\")","v":""},null,{"v":0,"d":"0.00"},{"$f":"IFERROR(IF($BH$3=\"\",\"\",'1_Lister les activités'!B155),\"\")","v":0},0,{"v":0,"d":"0.00"},{"$f":"IFERROR(IF($BH$3=\"\",\"\",'1_Lister les activités'!C155),\"\")","v":"Selectionner"},{"$nulls":11},"Syrian Pound","Piastre","£","SYP","Syrian Pound"]
[{"$nulls":9},{"$f":"'2-Programmer les activités'!F159","v":0},{"$f":"'2-Programmer les activités'!G159","v":0},{"$nulls":21},{"$f":"IF('2-Programmer les activités'!K160=\"\",\"\",'2-Programmer les activités'!K160)","v":""},"","","","","-","","","","X",null,"","","","",null,"","","","",null,"","","","",null,null,{"$f":"IFERROR(IF($BH$3=\"\",\"\",'1_Lister les activités'!D156),\"\")","v":{"v":0,"d":"0.00"}},{"$f":"IFERROR(IF($BH$3=\"\",\"\",'1_Lister les activités'!A156),\"\")","v":""},null,{"v":0,"d":"0.00"},{"$f":"IFERROR(IF($BH$3=\"\",\"\",'1_Lister les activités'!B156),\"\")","v":0},0,{"v":0,"d":"0.00"},{"$f":"IFERROR(IF($BH$3=\"\",\"\",'1_Lister les activités'!C156),\"\")","v":"Selectionner"},{"$nulls":11},"Taka","Paisa","৳","BDT","Taka"]
[{"$nulls":9},{"$f":"'2-Programmer les activités'!F160","v":0},{"$f":"'2-Programmer les activités'!G160","v":0},{"$nulls":21},{"$f":"IF('2-Programmer les activités'!K161=\"\",\"\",'2-Programmer les activités'!K161)","v":""},"","","","","-","","","","X",null,"","","","",null,"","","","",null,"","","","",null,null,{"$f":"IFERROR(IF($BH$3=\"\",\"\",'1_Lister les activités'!D157),\"\")","v":{"v":0,"d":"0.00"}},{"$f":"IFERROR(IF($BH$3=\"\",\"\",'1_Lister les activités'!A157),\"\")","v":""},null,{"v":0,"d":"0.00"},{"$f":"IFERROR(IF($BH$3=\"\",\"\",'1_Lister les activités'!B157),\"\")","v":0},0,{"v":0,"d":"0.00"},{"$f":"IFERROR(IF($BH$3=\"\",\"\",'1_Lister les activités'!C157),\"\")","v":"Selectionner"},{"$nulls":11},"Tala","Sene","T","WST","Tala"]
[{"$nulls":9},{"$f":"'2-Programmer les activités'!F161","v":0},{"$f":"'2-Programmer les activités'!G161","v":0},{"$nulls":21},{"$f":"IF('2-Programmer les activités'!K162=\"\",\"\",'2-Programmer les activités'!K162)","v":""},"","","","","-","","","","X",null,"","","","",null,"","","","",null,"","","","",null,null,{"$f":"IFERROR(IF($BH$3=\"\",\"\",'1_Lister les activités'!D158),\"\")","v":{"v":0,"d":"0.00"}},{"$f":"IFERROR(IF($BH$3=\"\",\"\",'1_Lister les activités'!A158),\"\")","v":""},null,{"v":0,"d":"0.00"},{"$f":"IFERROR(IF($BH$3=\"\",\"\",'1_Lister les activités'!B158),\"\")","v":0},0,{"v":0,"d":"0.00"},{"$f":"IFERROR(IF($BH$3=\"\",\"\",'1_Lister les activités'!C158),\"\")","v":"Selectionner"},{"$nulls":11},"Tanzanian Shilling","Cent","Sh","TZS","Tanzanian Shilling"]
[{"$nulls":9},{"$f":"'2-Programmer les activités'!F162","v":0},{"$f":"'2-Programmer les activités'!G162","v":0},{"$nulls":21},{"$f":"IF('2-Programmer les activités'!K163=\"\",\"\",'2-Programmer les activités'!K163)","v":""},"","","","","-","","","","X",null,"","","","",null,"","","","",null,"","","","",null,null,{"$f":"IFERROR(IF($BH$3=\"\",\"\",'1_Lister les activités'!D159),\"\")","v":{"v":0,"d":"0.00"}},{"$f":"IFERROR(IF($BH$3=\"\",\"\",'1_Lister les activités'!A159),\"\")","v":""},null,{"v":0,"d":"0.00"},{"$f":"IFERROR(IF($BH$3=\"\",\"\",'1_Lister les activités'!B159),\"\")","v":0},0,{"v":0,"d":"0.00"},{"$f":"IFERROR(IF($BH$3=\"\",\"\",'1_Lister les activités'!C159),\"\")","v":"Selectionner"},{"$nulls":11},"Tenge","Tïın","₸","KZT","Tenge"]
[{"$nulls":9},{"$f":"'2-Programmer les activités'!F163","v":0},{"$f":"'2-Programmer les activités'!G163","v":0},{"$nulls":21},{"$f":"IF('2-Programmer les activités'!K164=\"\",\"\",'2-Programmer les activités'!K164)","v":""},"","","","","-","","","","X",null,"","","","",null,"","","","",null,"","","","",null,null,{"$f":"IFERROR(IF($BH$3=\"\",\"\",'1_Lister les activités'!D160),\"\")","v":{"v":0,"d":"0.00"}},{"$f":"IFERROR(IF($BH$3=\"\",\"\",'1_Lister les activités'!A160),\"\")","v":""},null,{"v":0,"d":"0.00"},{"$f":"IFERROR(IF($BH$3=\"\",\"\",'1_Lister les activités'!B160),\"\")","v":0},0,{"v":0,"d":"0.00"},{"$f":"IFERROR(IF($BH$3=\"\",\"\",'1_Lister les activités'!C160),\"\")","v":"Selectionner"},{"$nulls":11},"Trinidad and Tobago Dollar","Cent","$","TTD","Trinidad and Tobago Dollar"]
[{"$nulls":9},{"$f":"'2-Programmer les activités'!F164","v":0},{"$f":"'2-Programmer les activités'!G164","v":0},{"$nulls":21},{"$f":"IF('2-Programmer les activités'!K165=\"\",\"\",'2-Programmer les activités'!K165)","v":""},"","","","","-","","","","X",null,"","","","",null,"","","","",null,"","","","",null,null,{"$f":"IFERROR(IF($BH$3=\"\",\"\",'1_Lister les activités'!D161),\"\")","v":{"v":0,"d":"0.00"}},{"$f":"IFERROR(IF($BH$3=\"\",\"\",'1_Lister les activités'!A161),\"\")","v":""},null,{"v":0,"d":"0.00"},{"$f":"IFERROR(IF($BH$3=\"\",\"\",'1_Lister les activités'!B161),\"\")","v":0},0,{"v":0,"d":"0.00"},{"$f":"IFERROR(IF($BH$3=\"\",\"\",'1_Lister les activités'!C161),\"\")","v":"Selectionner"},{"$nulls":11},"Tugrik","Möngö","₮","MNT","Tugrik"]
[{"$nulls":9},{"$f":"'2-Programmer les activités'!F165","v":0},{"$f":"'2-Programmer les activités'!G165","v":0},{"$nulls":21},{"$f":"IF('2-Programmer les activités'!K166=\"\",\"\",'2-Programmer les activités'!K166)","v":""},"","","","","-","","","","X",null,"","","","",null,"","","","",null,"","","","",null,null,{"$f":"IFERROR(IF($BH$3=\"\",\"\",'1_Lister les activités'!D162),\"\")","v":{"v":0,"d":"0.00"}},{"$f":"IFERROR(IF($BH$3=\"\",\"\",'1_Lister les activités'!A162),\"\")","v":""},null,{"v":0,"d":"0.00"},{"$f":"IFERROR(IF($BH$3=\"\",\"\",'1_Lister les activités'!B162),\"\")","v":0},0,{"v":0,"d":"0.00"},{"$f":"IFERROR(IF($BH$3=\"\",\"\",'1_Lister les activités'!C162),\"\")","v":"Selectionner"},{"$nulls":11},"Tunisian Dinar","Millime","د.ت","TND","Tunisian Dinar"]
[{"$nulls":9},{"$f":"'2-Programmer les activités'!F166","v":0},{"$f":"'2-Programmer les activités'!G166","v":0},{"$nulls":21},{"$f":"IF('2-Programmer les activités'!K167=\"\",\"\",'2-Programmer les activités'!K167)","v":""},"","","","","-","","","","X",null,"","","","",null,"","","","",null,"","","","",null,null,{"$f":"IFERROR(IF($BH$3=\"\",\"\",'1_Lister les activités'!D163),\"\")","v":{"v":0,"d":"0.00"}},{"$f":"IFERROR(IF($BH$3=\"\",\"\",'1_Lister les activités'!A163),\"\")","v":""},null,{"v":0,"d":"0.00"},{"$f":"IFERROR(IF($BH$3=\"\",\"\",'1_Lister les activités'!B163),\"\")","v":0},0,{"v":0,"d":"0.00"},{"$f":"IFERROR(IF($BH$3=\"\",\"\",'1_Lister les activités'!C163),\"\")","v":"Selectionner"},{"$nulls":11},"Turkish Lira","Kuruş","-","TRY","Turkish Lira"]
[{"$nulls":9},{"$f":"'2-Programmer les activités'!F167","v":0},{"$f":"'2-Programmer les activités'!G167","v":0},{"$nulls":21},{"$f":"IF('2-Programmer les activités'!K168=\"\",\"\",'2-Programmer les activités'!K168)","v":""},"","","","","-","","","","X",null,"","","","",null,"","","","",null,"","","","",null,null,{"$f":"IFERROR(IF($BH$3=\"\",\"\",'1_Lister les activités'!D164),\"\")","v":{"v":0,"d":"0.00"}},{"$f":"IFERROR(IF($BH$3=\"\",\"\",'1_Lister les activités'!A164),\"\")","v":""},null,{"v":0,"d":"0.00"},{"$f":"IFERROR(IF($BH$3=\"\",\"\",'1_Lister les activités'!B164),\"\")","v":0},0,{"v":0,"d":"0.00"},{"$f":"IFERROR(IF($BH$3=\"\",\"\",'1_Lister les activités'!C164),\"\")","v":"Selectionner"},{"$nulls":11},"Turkmenistan New Manat","Tennesi","m","TMT","Turkmenistan New Manat"]
[{"$nulls":9},{"$f":"'2-Programmer les activités'!F168","v":0},{"$f":"'2-Programmer les activités'!G168","v":0},{"$nulls":21},{"$f":"IF('2-Programmer les activités'!K169=\"\",\"\",'2-Programmer les activités'!K169)","v":""},"","","","","-","","","","X",null,"","","","",null,"","","","",null,"","","","",null,null,{"$f":"IFERROR(IF($BH$3=\"\",\"\",'1_Lister les activités'!D165),\"\")","v":{"v":0,"d":"0.00"}},{"$f":"IFERROR(IF($BH$3=\"\",\"\",'1_Lister les activités'!A165),\"\")","v":""},null,{"v":0,"d":"0.00"},{"$f":"IFERROR(IF($BH$3=\"\",\"\",'1_Lister les activités'!B165),\"\")","v":0},0,{"v":0,"d":"0.00"},{"$f":"IFERROR(IF($BH$3=\"\",\"\",'1_Lister les activités'!C165),\"\")","v":"Selectionner"},{"$nulls":11},"UAE Dirham","Fils","د.إ","AED","UAE Dirham"]
[{"$nulls":9},{"$f":"'2-Programmer les activités'!F169","v":0},{"$f":"'2-Programmer les activités'!G169","v":0},{"$nulls":21},{"$f":"IF('2-Programmer les activités'!K170=\"\",\"\",'2-Programmer les activités'!K170)","v":""},"","","","","-","","","","X",null,"","","","",null,"","","","",null,"","","","",null,null,{"$f":"IFERROR(IF($BH$3=\"\",\"\",'1_Lister les activités'!D166),\"\")","v":{"v":0,"d":"0.00"}},{"$f":"IFERROR(IF($BH$3=\"\",\"\",'1_Lister les activités'!A166),\"\")","v":""},null,{"v":0,"d":"0.00"},{"$f":"IFERROR(IF($BH$3=\"\",\"\",'1_Lister les activités'!B166),\"\")","v":0},0,{"v":0,"d":"0.00"},{"$f":"IFERROR(IF($BH$3=\"\",\"\",'1_Lister les activités'!C166),\"\")","v":"Selectionner"},{"$nulls":11},"Uganda Shilling","Cent","Sh","UGX","Uganda Shilling"]
[{"$nulls":9},{"$f":"'2-Programmer les activités'!F170","v":0},{"$f":"'2-Programmer les activités'!G170","v":0},{"$nulls":21},{"$f":"IF('2-Programmer les activités'!K171=\"\",\"\",'2-Programmer les activités'!K171)","v":""},"","","","","-","","","","X",null,"","","","",null,"","","","",null,"","","","",null,null,{"$f":"IFERROR(IF($BH$3=\"\",\"\",'1_Lister les activités'!D167),\"\")","v":{"v":0,"d":"0.00"}},{"$f":"IFERROR(IF($BH$3=\"\",\"\",'1_Lister les activités'!A167),\"\")","v":""},null,{"v":0,"d":"0.00"},{"$f":"IFERROR(IF($BH$3=\"\",\"\",'1_Lister les activités'!B167),\"\")","v":0},0,{"v":0,"d":"0.00"},{"$f":"IFERROR(IF($BH$3=\"\",\"\",'1_Lister les activités'!C167),\"\")","v":"Selectionner"},{"$nulls":11},"UIC-Franc","-","-","XFU","UIC-Franc"]
[{"$nulls":9},{"$f":"'2-Programmer les activités'!F171","v":0},{"$f":"'2-Programmer les activités'!G171","v":0},{"$nulls":21},{"$f":"IF('2-Programmer les activités'!K172=\"\",\"\",'2-Programmer les activités'!K172)","v":""},"","","","","-","","","","X",null,"","","","",null,"","","","",null,"","","","",null,null,{"$f":"IFERROR(IF($BH$3=\"\",\"\",'1_Lister les activités'!D168),\"\")","v":{"v":0,"d":"0.00"}},{"$f":"IFERROR(IF($BH$3=\"\",\"\",'1_Lister les activités'!A168),\"\")","v":""},null,{"v":0,"d":"0.00"},{"$f":"IFERROR(IF($BH$3=\"\",\"\",'1_Lister les activités'!B168),\"\")","v":0},0,{"v":0,"d":"0.00"},{"$f":"IFERROR(IF($BH$3=\"\",\"\",'1_Lister les activités'!C168),\"\")","v":"Selectionner"},{"$nulls":11},"Unidad de Valor Real","-","-","COU","Unidad de Valor Real"]
[{"$nulls":9},{"$f":"'2-Programmer les activités'!F172","v":0},{"$f":"'2-Programmer les activités'!G172","v":0},{"$nulls":21},{"$f":"IF('2-Programmer les activités'!K173=\"\",\"\",'2-Programmer les activités'!K173)","v":""},"","","","","-","","","","X",null,"","","","",null,"","","","",null,"","","","",null,null,{"$f":"IFERROR(IF($BH$3=\"\",\"\",'1_Lister les activités'!D169),\"\")","v":{"v":0,"d":"0.00"}},{"$f":"IFERROR(IF($BH$3=\"\",\"\",'1_Lister les activités'!A169),\"\")","v":""},null,{"v":0,"d":"0.00"},{"$f":"IFERROR(IF($BH$3=\"\",\"\",'1_Lister les activités'!B169),\"\")","v":0},0,{"v":0,"d":"0.00"},{"$f":"IFERROR(IF($BH$3=\"\",\"\",'1_Lister les activités'!C169),\"\")","v":"Selectionner"},{"$nulls":11},"Unidades de fomento","-","-","CLF","Unidades de fomento"]
[{"$nulls":9},{"$f":"'2-Programmer les activités'!F173","v":0},{"$f":"'2-Programmer les activités'!G173","v":0},{"$nulls":21},{"$f":"IF('2-Programmer les activités'!K174=\"\",\"\",'2-Programmer les activités'!K174)","v":""},"","","","","-","","","","X",null,"","","","",null,"","","","",null,"","","","",null,null,{"$f":"IFERROR(IF($BH$3=\"\",\"\",'1_Lister les activités'!D170),\"\")","v":{"v":0,"d":"0.00"}},{"$f":"IFERROR(IF($BH$3=\"\",\"\",'1_Lister les activités'!A170),\"\")","v":""},null,{"v":0,"d":"0.00"},{"$f":"IFERROR(IF($BH$3=\"\",\"\",'1_Lister les activités'!B170),\"\")","v":0},0,{"v":0,"d":"0.00"},{"$f":"IFERROR(IF($BH$3=\"\",\"\",'1_Lister les activités'!C170),\"\")","v":"Selectionner"},{"$nulls":11},"Uruguay Peso en Unidades Indexadas (URUIURUI)","-","-","UYI","Uruguay Peso en Unidades Indexadas (URUIURUI)"]
[{"$nulls":9},{"$f":"'2-Programmer les activités'!F174","v":0},{"$f":"'2-Programmer les activités'!G174","v":0},{"$nulls":21},{"$f":"IF('2-Programmer les activités'!K175=\"\",\"\",'2-Programmer les activités'!K175)","v":""},"","","","","-","","","","X",null,"","","","",null,"","","","",null,"","","","",null,null,{"$f":"IFERROR(IF($BH$3=\"\",\"\",'1_Lister les activités'!D171),\"\")","v":{"v":0,"d":"0.00"}},{"$f":"IFERROR(IF($BH$3=\"\",\"\",'1_Lister les activités'!A171),\"\")","v":""},null,{"v":0,"d":"0.00"},{"$f":"IFERROR(IF($BH$3=\"\",\"\",'1_Lister les activités'!B171),\"\")","v":0},0,{"v":0,"d":"0.00"},{"$f":"IFERROR(IF($BH$3=\"\",\"\",'1_Lister les activités'!C171),\"\")","v":"Selectionner"},{"$nulls":11},"US Dollar","Cent","$","USD","US Dollar"]
[{"$nulls":9},{"$f":"'2-Programmer les activités'!F175","v":0},{"$f":"'2-Programmer les activités'!G175","v":0},{"$nulls":21},{"$f":"IF('2-Programmer les activités'!K176=\"\",\"\",'2-Programmer les activités'!K176)","v":""},"","","","","-","","","","X",null,"","","","",null,"","","","",null,"","","","",null,null,{"$f":"IFERROR(IF($BH$3=\"\",\"\",'1_Lister les activités'!D172),\"\")","v":{"v":0,"d":"0.00"}},{"$f":"IFERROR(IF($BH$3=\"\",\"\",'1_Lister les activités'!A172),\"\")","v":""},null,{"v":0,"d":"0.00"},{"$f":"IFERROR(IF($BH$3=\"\",\"\",'1_Lister les activités'!B172),\"\")","v":0},0,{"v":0,"d":"0.00"},{"$f":"IFERROR(IF($BH$3=\"\",\"\",'1_Lister les activités'!C172),\"\")","v":"Selectionner"},{"$nulls":11},"US Dollar (Next day)","-","-","USN","US Dollar (Next day)"]
[{"$nulls":9},{"$f":"'2-Programmer les activités'!F176","v":0},{"$f":"'2-Programmer les activités'!G176","v":0},{"$nulls":21},{"$f":"IF('2-Programmer les activités'!K177=\"\",\"\",'2-Programmer les activités'!K177)","v":""},"","","","","-","","","","X",null,"","","","",null,"","","","",null,"","","","",null,null,{"$f":"IFERROR(IF($BH$3=\"\",\"\",'1_Lister les activités'!D173),\"\")","v":{"v":0,"d":"0.00"}},{"$f":"IFERROR(IF($BH$3=\"\",\"\",'1_Lister les activités'!A173),\"\")","v":""},null,{"v":0,"d":"0.00"},{"$f":"IFERROR(IF($BH$3=\"\",\"\",'1_Lister les activités'!B173),\"\")","v":0},0,{"v":0,"d":"0.00"},{"$f":"IFERROR(IF($BH$3=\"\",\"\",'1_Lister les activités'!C173),\"\")","v":"Selectionner"},{"$nulls":11},"US Dollar (Same day)","-","-","USS","US Dollar (Same day)"]
[{"$nulls":9},{"$f":"'2-Programmer les activités'!F177","v":0},{"$f":"'2-Programmer les activités'!G177","v":0},{"$nulls":21},{"$f":"IF('2-Programmer les activités'!K178=\"\",\"\",'2-Programmer les activités'!K178)","v":""},"","","","","-","","","","X",null,"","","","",null,"","","","",null,"","","","",null,null,{"$f":"IFERROR(IF($BH$3=\"\",\"\",'1_Lister les activités'!D174),\"\")","v":{"v":0,"d":"0.00"}},{"$f":"IFERROR(IF($BH$3=\"\",\"\",'1_Lister les activités'!A174),\"\")","v":""},null,{"v":0,"d":"0.00"},{"$f":"IFERROR(IF($BH$3=\"\",\"\",'1_Lister les activités'!B174),\"\")","v":0},0,{"v":0,"d":"0.00"},{"$f":"IFERROR(IF($BH$3=\"\",\"\",'1_Lister les activités'!C174),\"\")","v":"Selectionner"},{"$nulls":11},"Uzbekistan Sum","Tiyin","-","UZS","Uzbekistan Sum"]
[{"$nulls":9},{"$f":"'2-Programmer les activités'!F178","v":0},{"$f":"'2-Programmer les activités'!G178","v":0},{"$nulls":21},{"$f":"IF('2-Programmer les activités'!K179=\"\",\"\",'2-Programmer les activités'!K179)","v":""},"","","","","-","","","","X",null,"","","","",null,"","","","",null,"","","","",null,null,{"$f":"IFERROR(IF($BH$3=\"\",\"\",'1_Lister les activités'!D175),\"\")","v":{"v":0,"d":"0.00"}},{"$f":"IFERROR(IF($BH$3=\"\",\"\",'1_Lister les activités'!A175),\"\")","v":""},null,{"v":0,"d":"0.00"},{"$f":"IFERROR(IF($BH$3=\"\",\"\",'1_Lister les activités'!B175),\"\")","v":0},0,{"v":0,"d":"0.00"},{"$f":"IFERROR(IF($BH$3=\"\",\"\",'1_Lister les activités'!C175),\"\")","v":"Selectionner"},{"$nulls":11},"Vatu","None","Vt","VUV","Vatu"]
[{"$nulls":9},{"$f":"'2-Programmer les activités'!F179","v":0},{"$f":"'2-Programmer les activités'!G179","v":0},{"$nulls":21},{"$f":"IF('2-Programmer les activités'!K180=\"\",\"\",'2-Programmer les activités'!K180)","v":""},"","",{"$f":"IF(AG174=\"\",\"\",DAY(AG174))","v":""},{"$f":"IFERROR(YEAR(AG174),\"\")","v":""},{"$f":"IFERROR(CONCATENATE(AI174,\"-\",AK174),\"\")","v":"-"},{"$f":"IF(AJ174<8,\"X\",\"\")","v":""},{"$f":"IF(AND(AJ174>7,AND(AJ174<15)),\"X\",\"\")","v":""},{"$f":"IF(AND(AJ174>14,AND(AJ174<22)),\"X\",\"\")","v":""},{"$f":"IF(AJ174>21,\"X\",\"\")","v":"X"},null,{"$f":"IF(AL174=$AR$4,AM174,\"\")","v":""},{"$f":"IF(AL174=$AR$4,AN174,\"\")","v":""},{"$f":"IF(AL174=$AR$4,AO174,\"\")","v":""},{"$f":"IF(AL174=$AR$4,AP174,\"\")","v":""},null,{"$f":"IF(AL174=$AW$4,AM174,\"\")","v":""},{"$f":"IF(AL174=$AW$4,AN174,\"\")","v":""},{"$f":"IF(AL174=$AW$4,AO174,\"\")","v":""},{"$f":"IF(AL174=$AW$4,AP174,\"\")","v":""},null,{"$f":"IF(AL174=$BB$4,AM174,\"\")","v":""},{"$f":"IF(AL174=$BB$4,AN174,\"\")","v":""},{"$f":"IF(AL174=$BB$4,AO174,\"\")","v":""},{"$f":"IF(AL174=$BB$4,AP174,\"\")","v":""},null,null,{"$f":"IFERROR(IF($BH$3=\"\",\"\",'1_Lister les activités'!D176),\"\")","v":{"v":0,"d":"0.00"}},{"$f":"IFERROR(IF($BH$3=\"\",\"\",'1_Lister les activités'!A176),\"\")","v":""},null,{"v":0,"d":"0.00"},{"$f":"IFERROR(IF($BH$3=\"\",\"\",'1_Lister les activités'!B176),\"\")","v":0},0,{"v":0,"d":"0.00"},{"$f":"IFERROR(IF($BH$3=\"\",\"\",'1_Lister les activités'!C176),\"\")","v":"Selectionner"},{"$nulls":11},"WIR Euro","-","-","CHE","WIR Euro"]
[{"$nulls":9},{"$f":"'2-Programmer les activités'!F180","v":0},{"$f":"'2-Programmer les activités'!G180","v":0},{"$nulls":21},{"$f":"IF('2-Programmer les activités'!K181=\"\",\"\",'2-Programmer les activités'!K181)","v":""},"","","","","-","","","","X",null,"","","","",null,"","","","",null,"","","","",null,null,{"$f":"IFERROR(IF($BH$3=\"\",\"\",'1_Lister les activités'!D177),\"\")","v":{"v":0,"d":"0.00"}},{"$f":"IFERROR(IF($BH$3=\"\",\"\",'1_Lister les activités'!A177),\"\")","v":""},null,{"v":0,"d":"0.00"},{"$f":"IFERROR(IF($BH$3=\"\",\"\",'1_Lister les activités'!B177),\"\")","v":0},0,{"v":0,"d":"0.00"},{"$f":"IFERROR(IF($BH$3=\"\",\"\",'1_Lister les activités'!C177),\"\")","v":"Selectionner"},{"$nulls":11},"WIR Franc","-","-","CHW","WIR Franc"]
[{"$nulls":9},{"$f":"'2-Programmer les activités'!F181","v":0},{"$f":"'2-Programmer les activités'!G181","v":0},{"$nulls":21},{"$f":"IF('2-Programmer les activités'!K182=\"\",\"\",'2-Programmer les activités'!K182)","v":""},"","","","","-","","","","X",null,"","","","",null,"","","","",null,"","","","",null,null,{"$f":"IFERROR(IF($BH$3=\"\",\"\",'1_Lister les activités'!D178),\"\")","v":{"v":0,"d":"0.00"}},{"$f":"IFERROR(IF($BH$3=\"\",\"\",'1_Lister les activités'!A178),\"\")","v":""},null,{"v":0,"d":"0.00"},{"$f":"IFERROR(IF($BH$3=\"\",\"\",'1_Lister les activités'!B178),\"\")","v":0},0,{"v":0,"d":"0.00"},{"$f":"IFERROR(IF($BH$3=\"\",\"\",'1_Lister les activités'!C178),\"\")","v":"Selectionner"},{"$nulls":11},"Won","Jeon","₩","KRW","Won"]
[{"$nulls":9},{"$f":"'2-Programmer les activités'!F182","v":0},{"$f":"'2-Programmer les activités'!G182","v":0},{"$nulls":21},{"$f":"IF('2-Programmer les activités'!K183=\"\",\"\",'2-Programmer les activités'!K183)","v":""},"","","","","-","","","","X",null,"","","","",null,"","","","",null,"","","","",null,null,{"$f":"IFERROR(IF($BH$3=\"\",\"\",'1_Lister les activités'!D179),\"\")","v":{"v":0,"d":"0.00"}},{"$f":"IFERROR(IF($BH$3=\"\",\"\",'1_Lister les activités'!A179),\"\")","v":""},null,{"v":0,"d":"0.00"},{"$f":"IFERROR(IF($BH$3=\"\",\"\",'1_Lister les activités'!B179),\"\")","v":0},0,{"v":0,"d":"0.00"},{"$f":"IFERROR(IF($BH$3=\"\",\"\",'1_Lister les activités'!C179),\"\")","v":"Selectionner"},{"$nulls":11},"Yemeni Rial","Fils","﷼","YER","Yemeni Rial"]
[{"$nulls":9},{"$f":"'2-Programmer les activités'!F183","v":0},{"$f":"'2-Programmer les activités'!G183","v":0},{"$nulls":21},{"$f":"IF('2-Programmer les activités'!K184=\"\",\"\",'2-Programmer les activités'!K184)","v":""},"","","","","-","","","","X",null,"","","","",null,"","","","",null,"","","","",null,null,{"$f":"IFERROR(IF($BH$3=\"\",\"\",'1_Lister les activités'!D180),\"\")","v":{"v":0,"d":"0.00"}},{"$f":"IFERROR(IF($BH$3=\"\",\"\",'1_Lister les activités'!A180),\"\")","v":""},null,{"v":0,"d":"0.00"},{"$f":"IFERROR(IF($BH$3=\"\",\"\",'1_Lister les activités'!B180),\"\")","v":0},0,{"v":0,"d":"0.00"},{"$f":"IFERROR(IF($BH$3=\"\",\"\",'1_Lister les activités'!C180),\"\")","v":"Selectionner"},{"$nulls":11},"Yen","Sen","¥","JPY","Yen"]
[{"$nulls":9},{"$f":"'2-Programmer les activités'!F184","v":0},{"$f":"'2-Programmer les activités'!G184","v":0},{"$nulls":21},{"$f":"IF('2-Programmer les activités'!K185=\"\",\"\",'2-Programmer les activités'!K185)","v":""},"","","","","-","","","","X",null,"","","","",null,"","","","",null,"","","","",null,null,{"$f":"IFERROR(IF($BH$3=\"\",\"\",'1_Lister les activités'!D181),\"\")","v":{"v":0,"d":"0.00"}},{"$f":"IFERROR(IF($BH$3=\"\",\"\",'1_Lister les activités'!A181),\"\")","v":""},null,{"v":0,"d":"0.00"},{"$f":"IFERROR(IF($BH$3=\"\",\"\",'1_Lister les activités'!B181),\"\")","v":0},0,{"v":0,"d":"0.00"},{"$f":"IFERROR(IF($BH$3=\"\",\"\",'1_Lister les activités'!C181),\"\")","v":"Selectionner"},{"$nulls":11},"Yuan Renminbi","Fen","¥","CNY","Yuan Renminbi"]
[{"$nulls":9},{"$f":"'2-Programmer les activités'!F185","v":0},{"$f":"'2-Programmer les activités'!G185","v":0},{"$nulls":21},{"$f":"IF('2-Programmer les activités'!K186=\"\",\"\",'2-Programmer les activités'!K186)","v":""},"","","","","-","","","","X",null,"","","","",null,"","","","",null,"","","","",null,null,{"$f":"IFERROR(IF($BH$3=\"\",\"\",'1_Lister les activités'!D182),\"\")","v":{"v":0,"d":"0.00"}},{"$f":"IFERROR(IF($BH$3=\"\",\"\",'1_Lister les activités'!A182),\"\")","v":""},null,{"v":0,"d":"0.00"},{"$f":"IFERROR(IF($BH$3=\"\",\"\",'1_Lister les activités'!B182),\"\")","v":0},0,{"v":0,"d":"0.00"},{"$f":"IFERROR(IF($BH$3=\"\",\"\",'1_Lister les activités'!C182),\"\")","v":"Selectionner"},{"$nulls":11},"Zambian Kwacha","Ngwee","ZK","ZMW","Zambian Kwacha"]
[{"$nulls":9},{"$f":"'2-Programmer les activités'!F186","v":0},{"$f":"'2-Programmer les activités'!G186","v":0},{"$nulls":21},{"$f":"IF('2-Programmer les activités'!K187=\"\",\"\",'2-Programmer les activités'!K187)","v":""},"","","","","-","","","","X",null,"","","","",null,"","","","",null,"","","","",null,null,{"$f":"IFERROR(IF($BH$3=\"\",\"\",'1_Lister les activités'!D183),\"\")","v":{"v":0,"d":"0.00"}},{"$f":"IFERROR(IF($BH$3=\"\",\"\",'1_Lister les activités'!A183),\"\")","v":""},null,{"v":0,"d":"0.00"},{"$f":"IFERROR(IF($BH$3=\"\",\"\",'1_Lister les activités'!B183),\"\")","v":0},0,{"v":0,"d":"0.00"},{"$f":"IFERROR(IF($BH$3=\"\",\"\",'1_Lister les activités'!C183),\"\")","v":"Selectionner"},{"$nulls":11},"Zimbabwe Dollar","-","-","ZWL","Zimbabwe Dollar"]
[{"$nulls":9},{"$f":"'2-Programmer les activités'!F187","v":0},{"$f":"'2-Programmer les activités'!G187","v":0},{"$nulls":21},{"$f":"IF('2-Programmer les activités'!K188=\"\",\"\",'2-Programmer les activités'!K188)","v":""},"","","","","-","","","","X",null,"","","","",null,"","","","",null,"","","","",null,null,{"$f":"IFERROR(IF($BH$3=\"\",\"\",'1_Lister les activités'!D184),\"\")","v":{"v":0,"d":"0.00"}},{"$f":"IFERROR(IF($BH$3=\"\",\"\",'1_Lister les activités'!A184),\"\")","v":""},null,{"v":0,"d":"0.00"},{"$f":"IFERROR(IF($BH$3=\"\",\"\",'1_Lister les activités'!B184),\"\")","v":0},0,{"v":0,"d":"0.00"},{"$f":"IFERROR(IF($BH$3=\"\",\"\",'1_Lister les activités'!C184),\"\")","v":"Selectionner"},{"$nulls":11},"Zloty","Grosz","zł","PLN","Zloty"]
[{"$nulls":9},{"$f":"'2-Programmer les activités'!F188","v":0},{"$f":"'2-Programmer les activités'!G188","v":0},{"$nulls":21},{"$f":"IF('2-Programmer les activités'!K189=\"\",\"\",'2-Programmer les activités'!K189)","v":""},"","","","","-","","","","X",null,"","","","",null,"","","","",null,"","","","",null,null,{"$f":"IFERROR(IF($BH$3=\"\",\"\",'1_Lister les activités'!D185),\"\")","v":{"v":0,"d":"0.00"}},{"$f":"IFERROR(IF($BH$3=\"\",\"\",'1_Lister les activités'!A185),\"\")","v":""},null,{"v":0,"d":"0.00"},{"$f":"IFERROR(IF($BH$3=\"\",\"\",'1_Lister les activités'!B185),\"\")","v":0},0,{"v":0,"d":"0.00"},{"$f":"IFERROR(IF($BH$3=\"\",\"\",'1_Lister les activités'!C185),\"\")","v":"Selectionner"}]
[{"$nulls":9},{"$f":"'2-Programmer les activités'!F189","v":0},{"$f":"'2-Programmer les activités'!G189","v":0},{"$nulls":21},{"$f":"IF('2-Programmer les activités'!K190=\"\",\"\",'2-Programmer les activités'!K190)","v":""},"","","","","-","","","","X",null,"","","","",null,"","","","",null,"","","","",null,null,{"$f":"IFERROR(IF($BH$3=\"\",\"\",'1_Lister les activités'!D186),\"\")","v":{"v":0,"d":"0.00"}},{"$f":"IFERROR(IF($BH$3=\"\",\"\",'1_Lister les activités'!A186),\"\")","v":""},null,{"v":0,"d":"0.00"},{"$f":"IFERROR(IF($BH$3=\"\",\"\",'1_Lister les activités'!B186),\"\")","v":0},0,{"v":0,"d":"0.00"},{"$f":"IFERROR(IF($BH$3=\"\",\"\",'1_Lister les activités'!C186),\"\")","v":"Selectionner"}]
[{"$nulls":9},{"$f":"'2-Programmer les activités'!F190","v":0},{"$f":"'2-Programmer les activités'!G190","v":0},{"$nulls":21},{"$f":"IF('2-Programmer les activités'!K191=\"\",\"\",'2-Programmer les activités'!K191)","v":""},"","","","","-","","","","X",null,"","","","",null,"","","","",null,"","","","",null,null,{"$f":"IFERROR(IF($BH$3=\"\",\"\",'1_Lister les activités'!D187),\"\")","v":{"v":0,"d":"0.00"}},{"$f":"IFERROR(IF($BH$3=\"\",\"\",'1_Lister les activités'!A187),\"\")","v":""},null,{"v":0,"d":"0.00"},{"$f":"IFERROR(IF($BH$3=\"\",\"\",'1_Lister les activités'!B187),\"\")","v":0},0,{"v":0,"d":"0.00"},{"$f":"IFERROR(IF($BH$3=\"\",\"\",'1_Lister les activités'!C187),\"\")","v":"Selectionner"}]
[{"$nulls":9},{"$f":"'2-Programmer les activités'!F191","v":0},{"$f":"'2-Programmer les activités'!G191","v":0},{"$nulls":21},{"$f":"IF('2-Programmer les activités'!K192=\"\",\"\",'2-Programmer les activités'!K192)","v":""},"","","","","-","","","","X",null,"","","","",null,"","","","",null,"","","","",null,null,{"$f":"IFERROR(IF($BH$3=\"\",\"\",'1_Lister les activités'!D188),\"\")","v":{"v":0,"d":"0.00"}},{"$f":"IFERROR(IF($BH$3=\"\",\"\",'1_Lister les activités'!A188),\"\")","v":""},null,{"v":0,"d":"0.00"},{"$f":"IFERROR(IF($BH$3=\"\",\"\",'1_Lister les activités'!B188),\"\")","v":0},0,{"v":0,"d":"0.00"},{"$f":"IFERROR(IF($BH$3=\"\",\"\",'1_Lister les activités'!C188),\"\")","v":"Selectionner"}]
[{"$nulls":9},{"$f":"'2-Programmer les activités'!F192","v":0},{"$f":"'2-Programmer les activités'!G192","v":0},{"$nulls":21},{"$f":"IF('2-Programmer les activités'!K193=\"\",\"\",'2-Programmer les activités'!K193)","v":""},"","","","","-","","","","X",null,"","","","",null,"","","","",null,"","","","",null,null,{"$f":"IFERROR(IF($BH$3=\"\",\"\",'1_Lister les activités'!D189),\"\")","v":{"v":0,"d":"0.00"}},{"$f":"IFERROR(IF($BH$3=\"\",\"\",'1_Lister les activités'!A189),\"\")","v":""},null,{"v":0,"d":"0.00"},{"$f":"IFERROR(IF($BH$3=\"\",\"\",'1_Lister les activités'!B189),\"\")","v":0},0,{"v":0,"d":"0.00"},{"$f":"IFERROR(IF($BH$3=\"\",\"\",'1_Lister les activités'!C189),\"\")","v":"Selectionner"}]
[{"$nulls":9},{"$f":"'2-Programmer les activités'!F193","v":0},{"$f":"'2-Programmer les activités'!G193","v":0},{"$nulls":21},{"$f":"IF('2-Programmer les activités'!K194=\"\",\"\",'2-Programmer les activités'!K194)","v":""},"","","","","-","","","","X",null,"","","","",null,"","","","",null,"","","","",null,null,{"$f":"IFERROR(IF($BH$3=\"\",\"\",'1_Lister les activités'!D190),\"\")","v":{"v":0,"d":"0.00"}},{"$f":"IFERROR(IF($BH$3=\"\",\"\",'1_Lister les activités'!A190),\"\")","v":""},null,{"v":0,"d":"0.00"},{"$f":"IFERROR(IF($BH$3=\"\",\"\",'1_Lister les activités'!B190),\"\")","v":0},0,{"v":0,"d":"0.00"},{"$f":"IFERROR(IF($BH$3=\"\",\"\",'1_Lister les activités'!C190),\"\")","v":"Selectionner"}]
[{"$nulls":9},{"$f":"'2-Programmer les activités'!F194","v":0},{"$f":"'2-Programmer les activités'!G194","v":0},{"$nulls":21},{"$f":"IF('2-Programmer les activités'!K195=\"\",\"\",'2-Programmer les activités'!K195)","v":""},"","","","","-","","","","X",null,"","","","",null,"","","","",null,"","","","",null,null,{"$f":"IFERROR(IF($BH$3=\"\",\"\",'1_Lister les activités'!D191),\"\")","v":{"v":0,"d":"0.00"}},{"$f":"IFERROR(IF($BH$3=\"\",\"\",'1_Lister les activités'!A191),\"\")","v":""},null,{"v":0,"d":"0.00"},{"$f":"IFERROR(IF($BH$3=\"\",\"\",'1_Lister les activités'!B191),\"\")","v":0},0,{"v":0,"d":"0.00"},{"$f":"IFERROR(IF($BH$3=\"\",\"\",'1_Lister les activités'!C191),\"\")","v":"Selectionner"}]
[{"$nulls":9},{"$f":"'2-Programmer les activités'!F195","v":0},{"$f":"'2-Programmer les activités'!G195","v":0},{"$nulls":21},{"$f":"IF('2-Programmer les activités'!K196=\"\",\"\",'2-Programmer les activités'!K196)","v":""},"","","","","-","","","","X",null,"","","","",null,"","","","",null,"","","","",null,null,{"$f":"IFERROR(IF($BH$3=\"\",\"\",'1_Lister les activités'!D192),\"\")","v":{"v":0,"d":"0.00"}},{"$f":"IFERROR(IF($BH$3=\"\",\"\",'1_Lister les activités'!A192),\"\")","v":""},null,{"v":0,"d":"0.00"},{"$f":"IFERROR(IF($BH$3=\"\",\"\",'1_Lister les activités'!B192),\"\")","v":0},0,{"v":0,"d":"0.00"},{"$f":"IFERROR(IF($BH$3=\"\",\"\",'1_Lister les activités'!C192),\"\")","v":"Selectionner"}]
[{"$nulls":9},{"$f":"'2-Programmer les activités'!F196","v":0},{"$f":"'2-Programmer les activités'!G196","v":0},{"$nulls":21},{"$f":"IF('2-Programmer les activités'!K197=\"\",\"\",'2-Programmer les activités'!K197)","v":""},"","","","","-","","","","X",null,"","","","",null,"","","","",null,"","","","",null,null,{"$f":"IFERROR(IF($BH$3=\"\",\"\",'1_Lister les activités'!D193),\"\")","v":{"v":0,"d":"0.00"}},{"$f":"IFERROR(IF($BH$3=\"\",\"\",'1_Lister les activités'!A193),\"\")","v":""},null,{"v":0,"d":"0.00"},{"$f":"IFERROR(IF($BH$3=\"\",\"\",'1_Lister les activités'!B193),\"\")","v":0},0,{"v":0,"d":"0.00"},{"$f":"IFERROR(IF($BH$3=\"\",\"\",'1_Lister les activités'!C193),\"\")","v":"Selectionner"}]
[{"$nulls":9},{"$f":"'2-Programmer les activités'!F197","v":0},{"$f":"'2-Programmer les activités'!G197","v":0},{"$nulls":21},{"$f":"IF('2-Programmer les activités'!K198=\"\",\"\",'2-Programmer les activités'!K198)","v":""},"","","","","-","","","","X",null,"","","","",null,"","","","",null,"","","","",null,null,{"$f":"IFERROR(IF($BH$3=\"\",\"\",'1_Lister les activités'!D194),\"\")","v":{"v":0,"d":"0.00"}},{"$f":"IFERROR(IF($BH$3=\"\",\"\",'1_Lister les activités'!A194),\"\")","v":""},null,{"v":0,"d":"0.00"},{"$f":"IFERROR(IF($BH$3=\"\",\"\",'1_Lister les activités'!B194),\"\")","v":0},0,{"v":0,"d":"0.00"},{"$f":"IFERROR(IF($BH$3=\"\",\"\",'1_Lister les activités'!C194),\"\")","v":"Selectionner"}]
[{"$nulls":9},{"$f":"'2-Programmer les activités'!F198","v":0},{"$f":"'2-Programmer les activités'!G198","v":0},{"$nulls":21},{"$f":"IF('2-Programmer les activités'!K199=\"\",\"\",'2-Programmer les activités'!K199)","v":""},"","","","","-","","","","X",null,"","","","",null,"","","","",null,"","","","",null,null,{"$f":"IFERROR(IF($BH$3=\"\",\"\",'1_Lister les activités'!D195),\"\")","v":{"v":0,"d":"0.00"}},{"$f":"IFERROR(IF($BH$3=\"\",\"\",'1_Lister les activités'!A195),\"\")","v":""},null,{"v":0,"d":"0.00"},{"$f":"IFERROR(IF($BH$3=\"\",\"\",'1_Lister les activités'!B195),\"\")","v":0},0,{"v":0,"d":"0.00"},{"$f":"IFERROR(IF($BH$3=\"\",\"\",'1_Lister les activités'!C195),\"\")","v":"Selectionner"}]
[{"$nulls":9},{"$f":"'2-Programmer les activités'!F199","v":0},{"$f":"'2-Programmer les activités'!G199","v":0},{"$nulls":21},{"$f":"IF('2-Programmer les activités'!K200=\"\",\"\",'2-Programmer les activités'!K200)","v":""},"","","","","-","","","","X",null,"","","","",null,"","","","",null,"","","","",null,null,{"$f":"IFERROR(IF($BH$3=\"\",\"\",'1_Lister les activités'!D196),\"\")","v":{"v":0,"d":"0.00"}},{"$f":"IFERROR(IF($BH$3=\"\",\"\",'1_Lister les activités'!A196),\"\")","v":""},null,{"v":0,"d":"0.00"},{"$f":"IFERROR(IF($BH$3=\"\",\"\",'1_Lister les activités'!B196),\"\")","v":0},0,{"v":0,"d":"0.00"},{"$f":"IFERROR(IF($BH$3=\"\",\"\",'1_Lister les activités'!C196),\"\")","v":"Selectionner"}]
[{"$nulls":9},{"$f":"'2-Programmer les activités'!F200","v":0},{"$f":"'2-Programmer les activités'!G200","v":0},{"$nulls":21},{"$f":"IF('2-Programmer les activités'!K201=\"\",\"\",'2-Programmer les activités'!K201)","v":""},"","","","","-","","","","X",null,"","","","",null,"","","","",null,"","","","",null,null,{"$f":"IFERROR(IF($BH$3=\"\",\"\",'1_Lister les activités'!D197),\"\")","v":{"v":0,"d":"0.00"}},{"$f":"IFERROR(IF($BH$3=\"\",\"\",'1_Lister les activités'!A197),\"\")","v":""},null,{"v":0,"d":"0.00"},{"$f":"IFERROR(IF($BH$3=\"\",\"\",'1_Lister les activités'!B197),\"\")","v":0},0,{"v":0,"d":"0.00"},{"$f":"IFERROR(IF($BH$3=\"\",\"\",'1_Lister les activités'!C197),\"\")","v":"Selectionner"}]
[{"$nulls":9},{"$f":"'2-Programmer les activités'!F201","v":0},{"$f":"'2-Programmer les activités'!G201","v":0},{"$nulls":21},{"$f":"IF('2-Programmer les activités'!K202=\"\",\"\",'2-Programmer les activités'!K202)","v":""},"","","","","-","","","","X",null,"","","","",null,"","","","",null,"","","","",null,null,{"$f":"IFERROR(IF($BH$3=\"\",\"\",'1_Lister les activités'!D198),\"\")","v":{"v":0,"d":"0.00"}},{"$f":"IFERROR(IF($BH$3=\"\",\"\",'1_Lister les activités'!A198),\"\")","v":""},null,{"v":0,"d":"0.00"},{"$f":"IFERROR(IF($BH$3=\"\",\"\",'1_Lister les activités'!B198),\"\")","v":0},0,{"v":0,"d":"0.00"},{"$f":"IFERROR(IF($BH$3=\"\",\"\",'1_Lister les activités'!C198),\"\")","v":"Selectionner"}]
[{"$nulls":9},{"$f":"'2-Programmer les activités'!F202","v":0},{"$f":"'2-Programmer les activités'!G202","v":0},{"$nulls":21},{"$f":"IF('2-Programmer les activités'!K203=\"\",\"\",'2-Programmer les activités'!K203)","v":""},"","","","","-","","","","X",null,"","","","",null,"","","","",null,"","","","",null,null,{"$f":"IFERROR(IF($BH$3=\"\",\"\",'1_Lister les activités'!D199),\"\")","v":{"v":0,"d":"0.00"}},{"$f":"IFERROR(IF($BH$3=\"\",\"\",'1_Lister les activités'!A199),\"\")","v":""},null,{"v":0,"d":"0.00"},{"$f":"IFERROR(IF($BH$3=\"\",\"\",'1_Lister les activités'!B199),\"\")","v":0},0,{"v":0,"d":"0.00"},{"$f":"IFERROR(IF($BH$3=\"\",\"\",'1_Lister les activités'!C199),\"\")","v":"Selectionner"}]
[{"$nulls":9},{"$f":"'2-Programmer les activités'!F203","v":0},{"$f":"'2-Programmer les activités'!G203","v":0},{"$nulls":21},{"$f":"IF('2-Programmer les activités'!K204=\"\",\"\",'2-Programmer les activités'!K204)","v":""},"",{"$f":"IFERROR(VLOOKUP(AH198,$A$110:$B$121,2,FALSE),\"\")","v":""},"","","-","","","","X",null,"","","","",null,"","","","",null,"","","","",null,null,{"$f":"IFERROR(IF($BH$3=\"\",\"\",'1_Lister les activités'!D200),\"\")","v":{"v":0,"d":"0.00"}},{"$f":"IFERROR(IF($BH$3=\"\",\"\",'1_Lister les activités'!A200),\"\")","v":""},null,{"$f":"IFERROR(BH198,\"\")","v":{"v":0,"d":"0.00"}},{"$f":"IFERROR(IF($BH$3=\"\",\"\",'1_Lister les activités'!B200),\"\")","v":0},{"$f":"IFERROR(BL198,\"\")","v":0},{"$f":"IFERROR(BK198,\"\")","v":{"v":0,"d":"0.00"}},{"$f":"IFERROR(IF($BH$3=\"\",\"\",'1_Lister les activités'!C200),\"\")","v":"Selectionner"}]
[{"$nulls":9},{"$f":"'2-Programmer les activités'!F204","v":0},{"$f":"'2-Programmer les activités'!G204","v":0},{"$nulls":21},{"$f":"IF('2-Programmer les activités'!K205=\"\",\"\",'2-Programmer les activités'!K205)","v":""},{"$f":"IF(AG199=\"\",\"\",MONTH(AG199))","v":""},"","","","-","","","","X",null,"","","","",null,"","","","",null,"","","","",null,null,{"$f":"IFERROR(IF($BH$3=\"\",\"\",'1_Lister les activités'!D201),\"\")","v":{"v":0,"d":"0.00"}},{"$f":"IFERROR(IF($BH$3=\"\",\"\",'1_Lister les activités'!A201),\"\")","v":""},null,{"v":0,"d":"0.00"},{"$f":"IFERROR(IF($BH$3=\"\",\"\",'1_Lister les activités'!B201),\"\")","v":0},0,{"v":0,"d":"0.00"},{"$f":"IFERROR(IF($BH$3=\"\",\"\",'1_Lister les activités'!C201),\"\")","v":"Selectionner"}]
[{"$nulls":9},{"$f":"'2-Programmer les activités'!F205","v":0},{"$f":"'2-Programmer les activités'!G205","v":0},{"$nulls":21},{"$f":"IF('2-Programmer les activités'!K206=\"\",\"\",'2-Programmer les activités'!K206)","v":""},"","","","","-","","","","X",null,"","","","",null,"","","","",null,"","","","",null,null,{"$f":"IFERROR(IF($BH$3=\"\",\"\",'1_Lister les activités'!D202),\"\")","v":{"v":0,"d":"0.00"}},{"$f":"IFERROR(IF($BH$3=\"\",\"\",'1_Lister les activités'!A202),\"\")","v":""},null,{"v":0,"d":"0.00"},{"$f":"IFERROR(IF($BH$3=\"\",\"\",'1_Lister les activités'!B202),\"\")","v":0},0,{"v":0,"d":"0.00"},{"$f":"IFERROR(IF($BH$3=\"\",\"\",'1_Lister les activités'!C202),\"\")","v":"Selectionner"}]
[{"$nulls":9},{"$f":"'2-Programmer les activités'!F206","v":0},{"$f":"'2-Programmer les activités'!G206","v":0},{"$nulls":21},{"$f":"IF('2-Programmer les activités'!K207=\"\",\"\",'2-Programmer les activités'!K207)","v":""},"","","","","-","","","","X",null,"","","","",null,"","","","",null,"","","","",null,null,{"$f":"IFERROR(IF($BH$3=\"\",\"\",'1_Lister les activités'!D203),\"\")","v":{"v":0,"d":"0.00"}},{"$f":"IFERROR(IF($BH$3=\"\",\"\",'1_Lister les activités'!A203),\"\")","v":""},null,{"v":0,"d":"0.00"},{"$f":"IFERROR(IF($BH$3=\"\",\"\",'1_Lister les activités'!B203),\"\")","v":0},0,{"v":0,"d":"0.00"},{"$f":"IFERROR(IF($BH$3=\"\",\"\",'1_Lister les activités'!C203),\"\")","v":"Selectionner"}]
[{"$nulls":9},{"$f":"'2-Programmer les activités'!F207","v":0},{"$f":"'2-Programmer les activités'!G207","v":0},{"$nulls":21},{"$f":"IF('2-Programmer les activités'!K208=\"\",\"\",'2-Programmer les activités'!K208)","v":""},"","","","","-","","","","X",null,"","","","",null,"","","","",null,"","","","",null,null,{"$f":"IFERROR(IF($BH$3=\"\",\"\",'1_Lister les activités'!D204),\"\")","v":{"v":0,"d":"0.00"}},{"$f":"IFERROR(IF($BH$3=\"\",\"\",'1_Lister les activités'!A204),\"\")","v":""},null,{"v":0,"d":"0.00"},{"$f":"IFERROR(IF($BH$3=\"\",\"\",'1_Lister les activités'!B204),\"\")","v":0},0,{"v":0,"d":"0.00"},{"$f":"IFERROR(IF($BH$3=\"\",\"\",'1_Lister les activités'!C204),\"\")","v":"Selectionner"}]
[{"$nulls":9},{"$f":"'2-Programmer les activités'!F208","v":0},{"$f":"'2-Programmer les activités'!G208","v":0},{"$nulls":21},{"$f":"IF('2-Programmer les activités'!K209=\"\",\"\",'2-Programmer les activités'!K209)","v":""},"","","","","-","","","","X",null,"","","","",null,"","","","",null,"","","","",null,null,{"$f":"IFERROR(IF($BH$3=\"\",\"\",'1_Lister les activités'!D205),\"\")","v":{"v":0,"d":"0.00"}},{"$f":"IFERROR(IF($BH$3=\"\",\"\",'1_Lister les activités'!A205),\"\")","v":""},null,{"v":0,"d":"0.00"},{"$f":"IFERROR(IF($BH$3=\"\",\"\",'1_Lister les activités'!B205),\"\")","v":0},0,{"v":0,"d":"0.00"},{"$f":"IFERROR(IF($BH$3=\"\",\"\",'1_Lister les activités'!C205),\"\")","v":"Selectionner"}]
[{"$nulls":9},{"$f":"'2-Programmer les activités'!F209","v":0},{"$f":"'2-Programmer les activités'!G209","v":0},{"$nulls":21},{"$f":"IF('2-Programmer les activités'!K210=\"\",\"\",'2-Programmer les activités'!K210)","v":""},"","","","","-","","","","X",null,"","","","",null,"","","","",null,"","","","",null,null,{"$f":"IFERROR(IF($BH$3=\"\",\"\",'1_Lister les activités'!D206),\"\")","v":{"v":0,"d":"0.00"}},{"$f":"IFERROR(IF($BH$3=\"\",\"\",'1_Lister les activités'!A206),\"\")","v":""},null,{"v":0,"d":"0.00"},{"$f":"IFERROR(IF($BH$3=\"\",\"\",'1_Lister les activités'!B206),\"\")","v":0},0,{"v":0,"d":"0.00"},{"$f":"IFERROR(IF($BH$3=\"\",\"\",'1_Lister les activités'!C206),\"\")","v":"Selectionner"}]
[{"$nulls":9},{"$f":"'2-Programmer les activités'!F210","v":0},{"$f":"'2-Programmer les activités'!G210","v":0},{"$nulls":21},{"$f":"IF('2-Programmer les activités'!K211=\"\",\"\",'2-Programmer les activités'!K211)","v":""},"","","","","-","","","","X",null,"","","","",null,"","","","",null,"","","","",null,null,{"$f":"IFERROR(IF($BH$3=\"\",\"\",'1_Lister les activités'!D207),\"\")","v":{"v":0,"d":"0.00"}},{"$f":"IFERROR(IF($BH$3=\"\",\"\",'1_Lister les activités'!A207),\"\")","v":""},null,{"v":0,"d":"0.00"},{"$f":"IFERROR(IF($BH$3=\"\",\"\",'1_Lister les activités'!B207),\"\")","v":0},0,{"v":0,"d":"0.00"},{"$f":"IFERROR(IF($BH$3=\"\",\"\",'1_Lister les activités'!C207),\"\")","v":"Selectionner"}]
[{"$nulls":9},{"$f":"'2-Programmer les activités'!F211","v":0},{"$f":"'2-Programmer les activités'!G211","v":0},{"$nulls":21},{"$f":"IF('2-Programmer les activités'!K212=\"\",\"\",'2-Programmer les activités'!K212)","v":""},"","","","","-","","","","X",null,"","","","",null,"","","","",null,"","","","",null,null,{"$f":"IFERROR(IF($BH$3=\"\",\"\",'1_Lister les activités'!D208),\"\")","v":{"v":0,"d":"0.00"}},{"$f":"IFERROR(IF($BH$3=\"\",\"\",'1_Lister les activités'!A208),\"\")","v":""},null,{"v":0,"d":"0.00"},{"$f":"IFERROR(IF($BH$3=\"\",\"\",'1_Lister les activités'!B208),\"\")","v":0},0,{"v":0,"d":"0.00"},{"$f":"IFERROR(IF($BH$3=\"\",\"\",'1_Lister les activités'!C208),\"\")","v":"Selectionner"}]
[{"$nulls":9},{"$f":"'2-Programmer les activités'!F212","v":0},{"$f":"'2-Programmer les activités'!G212","v":0},{"$nulls":21},{"$f":"IF('2-Programmer les activités'!K213=\"\",\"\",'2-Programmer les activités'!K213)","v":""},"","","","","-","","","","X",null,"","","","",null,"","","","",null,"","","","",null,null,{"$f":"IFERROR(IF($BH$3=\"\",\"\",'1_Lister les activités'!D209),\"\")","v":{"v":0,"d":"0.00"}},{"$f":"IFERROR(IF($BH$3=\"\",\"\",'1_Lister les activités'!A209),\"\")","v":""},null,{"v":0,"d":"0.00"},{"$f":"IFERROR(IF($BH$3=\"\",\"\",'1_Lister les activités'!B209),\"\")","v":0},0,{"v":0,"d":"0.00"},{"$f":"IFERROR(IF($BH$3=\"\",\"\",'1_Lister les activités'!C209),\"\")","v":"Selectionner"}]
[{"$nulls":9},{"$f":"'2-Programmer les activités'!F213","v":0},{"$f":"'2-Programmer les activités'!G213","v":0},{"$nulls":21},{"$f":"IF('2-Programmer les activités'!K214=\"\",\"\",'2-Programmer les activités'!K214)","v":""},"","","","","-","","","","X",null,"","","","",null,"","","","",null,"","","","",null,null,{"$f":"IFERROR(IF($BH$3=\"\",\"\",'1_Lister les activités'!D210),\"\")","v":{"v":0,"d":"0.00"}},{"$f":"IFERROR(IF($BH$3=\"\",\"\",'1_Lister les activités'!A210),\"\")","v":""},null,{"v":0,"d":"0.00"},{"$f":"IFERROR(IF($BH$3=\"\",\"\",'1_Lister les activités'!B210),\"\")","v":0},0,{"v":0,"d":"0.00"},{"$f":"IFERROR(IF($BH$3=\"\",\"\",'1_Lister les activités'!C210),\"\")","v":"Selectionner"}]
[{"$nulls":9},{"$f":"'2-Programmer les activités'!F214","v":0},{"$f":"'2-Programmer les activités'!G214","v":0},{"$nulls":21},{"$f":"IF('2-Programmer les activités'!K215=\"\",\"\",'2-Programmer les activités'!K215)","v":""},"","","","","-","","","","X",null,"","","","",null,"","","","",null,"","","","",null,null,{"$f":"IFERROR(IF($BH$3=\"\",\"\",'1_Lister les activités'!D211),\"\")","v":{"v":0,"d":"0.00"}},{"$f":"IFERROR(IF($BH$3=\"\",\"\",'1_Lister les activités'!A211),\"\")","v":""},null,{"v":0,"d":"0.00"},{"$f":"IFERROR(IF($BH$3=\"\",\"\",'1_Lister les activités'!B211),\"\")","v":0},0,{"v":0,"d":"0.00"},{"$f":"IFERROR(IF($BH$3=\"\",\"\",'1_Lister les activités'!C211),\"\")","v":"Selectionner"}]
[{"$nulls":9},{"$f":"'2-Programmer les activités'!F215","v":0},{"$f":"'2-Programmer les activités'!G215","v":0},{"$nulls":21},{"$f":"IF('2-Programmer les activités'!K216=\"\",\"\",'2-Programmer les activités'!K216)","v":""},"","","","","-","","","","X",null,"","","","",null,"","","","",null,"","","","",null,null,{"$f":"IFERROR(IF($BH$3=\"\",\"\",'1_Lister les activités'!D212),\"\")","v":{"v":0,"d":"0.00"}},{"$f":"IFERROR(IF($BH$3=\"\",\"\",'1_Lister les activités'!A212),\"\")","v":""},null,{"v":0,"d":"0.00"},{"$f":"IFERROR(IF($BH$3=\"\",\"\",'1_Lister les activités'!B212),\"\")","v":0},0,{"v":0,"d":"0.00"},{"$f":"IFERROR(IF($BH$3=\"\",\"\",'1_Lister les activités'!C212),\"\")","v":"Selectionner"}]
[{"$nulls":9},{"$f":"'2-Programmer les activités'!F216","v":0},{"$f":"'2-Programmer les activités'!G216","v":0},{"$nulls":21},{"$f":"IF('2-Programmer les activités'!K217=\"\",\"\",'2-Programmer les activités'!K217)","v":""},"","","","","-","","","","X",null,"","","","",null,"","","","",null,"","","","",null,null,{"$f":"IFERROR(IF($BH$3=\"\",\"\",'1_Lister les activités'!D213),\"\")","v":{"v":0,"d":"0.00"}},{"$f":"IFERROR(IF($BH$3=\"\",\"\",'1_Lister les activités'!A213),\"\")","v":""},null,{"v":0,"d":"0.00"},{"$f":"IFERROR(IF($BH$3=\"\",\"\",'1_Lister les activités'!B213),\"\")","v":0},0,{"v":0,"d":"0.00"},{"$f":"IFERROR(IF($BH$3=\"\",\"\",'1_Lister les activités'!C213),\"\")","v":"Selectionner"}]
[{"$nulls":9},{"$f":"'2-Programmer les activités'!F217","v":0},{"$f":"'2-Programmer les activités'!G217","v":0},{"$nulls":21},{"$f":"IF('2-Programmer les activités'!K218=\"\",\"\",'2-Programmer les activités'!K218)","v":""},"","","","","-","","","","X",null,"","","","",null,"","","","",null,"","","","",null,null,{"$f":"IFERROR(IF($BH$3=\"\",\"\",'1_Lister les activités'!D214),\"\")","v":{"v":0,"d":"0.00"}},{"$f":"IFERROR(IF($BH$3=\"\",\"\",'1_Lister les activités'!A214),\"\")","v":""},null,{"v":0,"d":"0.00"},{"$f":"IFERROR(IF($BH$3=\"\",\"\",'1_Lister les activités'!B214),\"\")","v":0},0,{"v":0,"d":"0.00"},{"$f":"IFERROR(IF($BH$3=\"\",\"\",'1_Lister les activités'!C214),\"\")","v":"Selectionner"}]
[{"$nulls":9},{"$f":"'2-Programmer les activités'!F218","v":0},{"$f":"'2-Programmer les activités'!G218","v":0},{"$nulls":21},{"$f":"IF('2-Programmer les activités'!K219=\"\",\"\",'2-Programmer les activités'!K219)","v":""},"","","","","-","","","","X",null,"","","","",null,"","","","",null,"","","","",null,null,{"$f":"IFERROR(IF($BH$3=\"\",\"\",'1_Lister les activités'!D215),\"\")","v":{"v":0,"d":"0.00"}},{"$f":"IFERROR(IF($BH$3=\"\",\"\",'1_Lister les activités'!A215),\"\")","v":""},null,{"v":0,"d":"0.00"},{"$f":"IFERROR(IF($BH$3=\"\",\"\",'1_Lister les activités'!B215),\"\")","v":0},0,{"v":0,"d":"0.00"},{"$f":"IFERROR(IF($BH$3=\"\",\"\",'1_Lister les activités'!C215),\"\")","v":"Selectionner"}]
[{"$nulls":9},{"$f":"'2-Programmer les activités'!F219","v":0},{"$f":"'2-Programmer les activités'!G219","v":0},{"$nulls":21},{"$f":"IF('2-Programmer les activités'!K220=\"\",\"\",'2-Programmer les activités'!K220)","v":""},"","","","","-","","","","X",null,"","","","",null,"","","","",null,"","","","",null,null,{"$f":"IFERROR(IF($BH$3=\"\",\"\",'1_Lister les activités'!D216),\"\")","v":{"v":0,"d":"0.00"}},{"$f":"IFERROR(IF($BH$3=\"\",\"\",'1_Lister les activités'!A216),\"\")","v":""},null,{"v":0,"d":"0.00"},{"$f":"IFERROR(IF($BH$3=\"\",\"\",'1_Lister les activités'!B216),\"\")","v":0},0,{"v":0,"d":"0.00"},{"$f":"IFERROR(IF($BH$3=\"\",\"\",'1_Lister les activités'!C216),\"\")","v":"Selectionner"}]
[{"$nulls":9},{"$f":"'2-Programmer les activités'!F220","v":0},{"$f":"'2-Programmer les activités'!G220","v":0},{"$nulls":21},{"$f":"IF('2-Programmer les activités'!K221=\"\",\"\",'2-Programmer les activités'!K221)","v":""},"","","","","-","","","","X",null,"","","","",null,"","","","",null,"","","","",null,null,{"$f":"IFERROR(IF($BH$3=\"\",\"\",'1_Lister les activités'!D217),\"\")","v":{"v":0,"d":"0.00"}},{"$f":"IFERROR(IF($BH$3=\"\",\"\",'1_Lister les activités'!A217),\"\")","v":""},null,{"v":0,"d":"0.00"},{"$f":"IFERROR(IF($BH$3=\"\",\"\",'1_Lister les activités'!B217),\"\")","v":0},0,{"v":0,"d":"0.00"},{"$f":"IFERROR(IF($BH$3=\"\",\"\",'1_Lister les activités'!C217),\"\")","v":"Selectionner"}]
[{"$nulls":9},{"$f":"'2-Programmer les activités'!F221","v":0},{"$f":"'2-Programmer les activités'!G221","v":0},{"$nulls":21},{"$f":"IF('2-Programmer les activités'!K222=\"\",\"\",'2-Programmer les activités'!K222)","v":""},"","","","","-","","","","X",null,"","","","",null,"","","","",null,"","","","",null,null,{"$f":"IFERROR(IF($BH$3=\"\",\"\",'1_Lister les activités'!D218),\"\")","v":{"v":0,"d":"0.00"}},{"$f":"IFERROR(IF($BH$3=\"\",\"\",'1_Lister les activités'!A218),\"\")","v":""},null,{"v":0,"d":"0.00"},{"$f":"IFERROR(IF($BH$3=\"\",\"\",'1_Lister les activités'!B218),\"\")","v":0},0,{"v":0,"d":"0.00"},{"$f":"IFERROR(IF($BH$3=\"\",\"\",'1_Lister les activités'!C218),\"\")","v":"Selectionner"}]
[{"$nulls":9},{"$f":"'2-Programmer les activités'!F222","v":0},{"$f":"'2-Programmer les activités'!G222","v":0},{"$nulls":21},{"$f":"IF('2-Programmer les activités'!K223=\"\",\"\",'2-Programmer les activités'!K223)","v":""},"","","","","-","","","","X",null,"","","","",null,"","","","",null,"","","","",null,null,{"$f":"IFERROR(IF($BH$3=\"\",\"\",'1_Lister les activités'!D219),\"\")","v":{"v":0,"d":"0.00"}},{"$f":"IFERROR(IF($BH$3=\"\",\"\",'1_Lister les activités'!A219),\"\")","v":""},null,{"v":0,"d":"0.00"},{"$f":"IFERROR(IF($BH$3=\"\",\"\",'1_Lister les activités'!B219),\"\")","v":0},0,{"v":0,"d":"0.00"},{"$f":"IFERROR(IF($BH$3=\"\",\"\",'1_Lister les activités'!C219),\"\")","v":"Selectionner"}]
[{"$nulls":9},{"$f":"'2-Programmer les activités'!F223","v":0},{"$f":"'2-Programmer les activités'!G223","v":0},{"$nulls":21},{"$f":"IF('2-Programmer les activités'!K224=\"\",\"\",'2-Programmer les activités'!K224)","v":""},"","","","","-","","","","X",null,"","","","",null,"","","","",null,"","","","",null,null,{"$f":"IFERROR(IF($BH$3=\"\",\"\",'1_Lister les activités'!D220),\"\")","v":{"v":0,"d":"0.00"}},{"$f":"IFERROR(IF($BH$3=\"\",\"\",'1_Lister les activités'!A220),\"\")","v":""},null,{"v":0,"d":"0.00"},{"$f":"IFERROR(IF($BH$3=\"\",\"\",'1_Lister les activités'!B220),\"\")","v":0},0,{"v":0,"d":"0.00"},{"$f":"IFERROR(IF($BH$3=\"\",\"\",'1_Lister les activités'!C220),\"\")","v":"Selectionner"}]
[{"$nulls":9},{"$f":"'2-Programmer les activités'!F224","v":0},{"$f":"'2-Programmer les activités'!G224","v":0},{"$nulls":21},{"$f":"IF('2-Programmer les activités'!K225=\"\",\"\",'2-Programmer les activités'!K225)","v":""},"","","","","-","","","","X",null,"","","","",null,"","","","",null,"","","","",null,null,{"$f":"IFERROR(IF($BH$3=\"\",\"\",'1_Lister les activités'!D221),\"\")","v":{"v":0,"d":"0.00"}},{"$f":"IFERROR(IF($BH$3=\"\",\"\",'1_Lister les activités'!A221),\"\")","v":""},null,{"v":0,"d":"0.00"},{"$f":"IFERROR(IF($BH$3=\"\",\"\",'1_Lister les activités'!B221),\"\")","v":0},0,{"v":0,"d":"0.00"},{"$f":"IFERROR(IF($BH$3=\"\",\"\",'1_Lister les activités'!C221),\"\")","v":"Selectionner"}]
[{"$nulls":9},{"$f":"'2-Programmer les activités'!F225","v":0},{"$f":"'2-Programmer les activités'!G225","v":0},{"$nulls":21},{"$f":"IF('2-Programmer les activités'!K226=\"\",\"\",'2-Programmer les activités'!K226)","v":""},"","","","","-","","","","X",null,"","","","",null,"","","","",null,"","","","",null,null,{"$f":"IFERROR(IF($BH$3=\"\",\"\",'1_Lister les activités'!D222),\"\")","v":{"v":0,"d":"0.00"}},{"$f":"IFERROR(IF($BH$3=\"\",\"\",'1_Lister les activités'!A222),\"\")","v":""},null,{"v":0,"d":"0.00"},{"$f":"IFERROR(IF($BH$3=\"\",\"\",'1_Lister les activités'!B222),\"\")","v":0},0,{"v":0,"d":"0.00"},{"$f":"IFERROR(IF($BH$3=\"\",\"\",'1_Lister les activités'!C222),\"\")","v":"Selectionner"}]
[{"$nulls":9},{"$f":"'2-Programmer les activités'!F226","v":0},{"$f":"'2-Programmer les activités'!G226","v":0},{"$nulls":21},{"$f":"IF('2-Programmer les activités'!K227=\"\",\"\",'2-Programmer les activités'!K227)","v":""},"","","","","-","","","","X",null,"","","","",null,"","","","",null,"","","","",null,null,{"$f":"IFERROR(IF($BH$3=\"\",\"\",'1_Lister les activités'!D223),\"\")","v":{"v":0,"d":"0.00"}},{"$f":"IFERROR(IF($BH$3=\"\",\"\",'1_Lister les activités'!A223),\"\")","v":""},null,{"v":0,"d":"0.00"},{"$f":"IFERROR(IF($BH$3=\"\",\"\",'1_Lister les activités'!B223),\"\")","v":0},0,{"v":0,"d":"0.00"},{"$f":"IFERROR(IF($BH$3=\"\",\"\",'1_Lister les activités'!C223),\"\")","v":"Selectionner"}]
[{"$nulls":9},{"$f":"'2-Programmer les activités'!F227","v":0},{"$f":"'2-Programmer les activités'!G227","v":0},{"$nulls":21},{"$f":"IF('2-Programmer les activités'!K228=\"\",\"\",'2-Programmer les activités'!K228)","v":""},"","","","","-","","","","X",null,"","","","",null,"","","","",null,"","","","",null,null,{"$f":"IFERROR(IF($BH$3=\"\",\"\",'1_Lister les activités'!D224),\"\")","v":{"v":0,"d":"0.00"}},{"$f":"IFERROR(IF($BH$3=\"\",\"\",'1_Lister les activités'!A224),\"\")","v":""},null,{"v":0,"d":"0.00"},{"$f":"IFERROR(IF($BH$3=\"\",\"\",'1_Lister les activités'!B224),\"\")","v":0},0,{"v":0,"d":"0.00"},{"$f":"IFERROR(IF($BH$3=\"\",\"\",'1_Lister les activités'!C224),\"\")","v":"Selectionner"}]
[{"$nulls":9},{"$f":"'2-Programmer les activités'!F228","v":0},{"$f":"'2-Programmer les activités'!G228","v":0},{"$nulls":21},{"$f":"IF('2-Programmer les activités'!K229=\"\",\"\",'2-Programmer les activités'!K229)","v":""},"","","","","-","","","","X",null,"","","","",null,"","","","",null,"","","","",null,null,{"$f":"IFERROR(IF($BH$3=\"\",\"\",'1_Lister les activités'!D225),\"\")","v":{"v":0,"d":"0.00"}},{"$f":"IFERROR(IF($BH$3=\"\",\"\",'1_Lister les activités'!A225),\"\")","v":""},null,{"v":0,"d":"0.00"},{"$f":"IFERROR(IF($BH$3=\"\",\"\",'1_Lister les activités'!B225),\"\")","v":0},0,{"v":0,"d":"0.00"},{"$f":"IFERROR(IF($BH$3=\"\",\"\",'1_Lister les activités'!C225),\"\")","v":"Selectionner"}]
[{"$nulls":9},{"$f":"'2-Programmer les activités'!F229","v":0},{"$f":"'2-Programmer les activités'!G229","v":0},{"$nulls":21},{"$f":"IF('2-Programmer les activités'!K230=\"\",\"\",'2-Programmer les activités'!K230)","v":""},"","","","","-","","","","X",null,"","","","",null,"","","","",null,"","","","",null,null,{"$f":"IFERROR(IF($BH$3=\"\",\"\",'1_Lister les activités'!D226),\"\")","v":{"v":0,"d":"0.00"}},{"$f":"IFERROR(IF($BH$3=\"\",\"\",'1_Lister les activités'!A226),\"\")","v":""},null,{"v":0,"d":"0.00"},{"$f":"IFERROR(IF($BH$3=\"\",\"\",'1_Lister les activités'!B226),\"\")","v":0},0,{"v":0,"d":"0.00"},{"$f":"IFERROR(IF($BH$3=\"\",\"\",'1_Lister les activités'!C226),\"\")","v":"Selectionner"}]
[{"$nulls":9},{"$f":"'2-Programmer les activités'!F230","v":0},{"$f":"'2-Programmer les activités'!G230","v":0},{"$nulls":21},{"$f":"IF('2-Programmer les activités'!K231=\"\",\"\",'2-Programmer les activités'!K231)","v":""},"","","","","-","","","","X",null,"","","","",null,"","","","",null,"","","","",null,null,{"$f":"IFERROR(IF($BH$3=\"\",\"\",'1_Lister les activités'!D227),\"\")","v":{"v":0,"d":"0.00"}},{"$f":"IFERROR(IF($BH$3=\"\",\"\",'1_Lister les activités'!A227),\"\")","v":""},null,{"v":0,"d":"0.00"},{"$f":"IFERROR(IF($BH$3=\"\",\"\",'1_Lister les activités'!B227),\"\")","v":0},0,{"v":0,"d":"0.00"},{"$f":"IFERROR(IF($BH$3=\"\",\"\",'1_Lister les activités'!C227),\"\")","v":"Selectionner"}]
[{"$nulls":9},{"$f":"'2-Programmer les activités'!F231","v":0},{"$f":"'2-Programmer les activités'!G231","v":0},{"$nulls":21},{"$f":"IF('2-Programmer les activités'!K232=\"\",\"\",'2-Programmer les activités'!K232)","v":""},"","","","","-","","","","X",null,"","","","",null,"","","","",null,"","","","",null,null,{"$f":"IFERROR(IF($BH$3=\"\",\"\",'1_Lister les activités'!D228),\"\")","v":{"v":0,"d":"0.00"}},{"$f":"IFERROR(IF($BH$3=\"\",\"\",'1_Lister les activités'!A228),\"\")","v":""},null,{"v":0,"d":"0.00"},{"$f":"IFERROR(IF($BH$3=\"\",\"\",'1_Lister les activités'!B228),\"\")","v":0},0,{"v":0,"d":"0.00"},{"$f":"IFERROR(IF($BH$3=\"\",\"\",'1_Lister les activités'!C228),\"\")","v":"Selectionner"}]
[{"$nulls":9},{"$f":"'2-Programmer les activités'!F232","v":0},{"$f":"'2-Programmer les activités'!G232","v":0},{"$nulls":21},{"$f":"IF('2-Programmer les activités'!K233=\"\",\"\",'2-Programmer les activités'!K233)","v":""},"","","","","-","","","","X",null,"","","","",null,"","","","",null,"","","","",null,null,{"$f":"IFERROR(IF($BH$3=\"\",\"\",'1_Lister les activités'!D229),\"\")","v":{"v":0,"d":"0.00"}},{"$f":"IFERROR(IF($BH$3=\"\",\"\",'1_Lister les activités'!A229),\"\")","v":""},null,{"v":0,"d":"0.00"},{"$f":"IFERROR(IF($BH$3=\"\",\"\",'1_Lister les activités'!B229),\"\")","v":0},0,{"v":0,"d":"0.00"},{"$f":"IFERROR(IF($BH$3=\"\",\"\",'1_Lister les activités'!C229),\"\")","v":"Selectionner"}]
[{"$nulls":9},{"$f":"'2-Programmer les activités'!F233","v":0},{"$f":"'2-Programmer les activités'!G233","v":0},{"$nulls":21},{"$f":"IF('2-Programmer les activités'!K234=\"\",\"\",'2-Programmer les activités'!K234)","v":""},"","","","","-","","","","X",null,"","","","",null,"","","","",null,"","","","",null,null,{"$f":"IFERROR(IF($BH$3=\"\",\"\",'1_Lister les activités'!D230),\"\")","v":{"v":0,"d":"0.00"}},{"$f":"IFERROR(IF($BH$3=\"\",\"\",'1_Lister les activités'!A230),\"\")","v":""},null,{"v":0,"d":"0.00"},{"$f":"IFERROR(IF($BH$3=\"\",\"\",'1_Lister les activités'!B230),\"\")","v":0},0,{"v":0,"d":"0.00"},{"$f":"IFERROR(IF($BH$3=\"\",\"\",'1_Lister les activités'!C230),\"\")","v":"Selectionner"}]
[{"$nulls":9},{"$f":"'2-Programmer les activités'!F234","v":0},{"$f":"'2-Programmer les activités'!G234","v":0},{"$nulls":21},{"$f":"IF('2-Programmer les activités'!K235=\"\",\"\",'2-Programmer les activités'!K235)","v":""},"","","","","-","","","","X",null,"","","","",null,"","","","",null,"","","","",null,null,{"$f":"IFERROR(IF($BH$3=\"\",\"\",'1_Lister les activités'!D231),\"\")","v":{"v":0,"d":"0.00"}},{"$f":"IFERROR(IF($BH$3=\"\",\"\",'1_Lister les activités'!A231),\"\")","v":""},null,{"v":0,"d":"0.00"},{"$f":"IFERROR(IF($BH$3=\"\",\"\",'1_Lister les activités'!B231),\"\")","v":0},0,{"v":0,"d":"0.00"},{"$f":"IFERROR(IF($BH$3=\"\",\"\",'1_Lister les activités'!C231),\"\")","v":"Selectionner"}]
[{"$nulls":9},{"$f":"'2-Programmer les activités'!F235","v":0},{"$f":"'2-Programmer les activités'!G235","v":0},{"$nulls":21},{"$f":"IF('2-Programmer les activités'!K236=\"\",\"\",'2-Programmer les activités'!K236)","v":""},"","","","","-","","","","X",null,"","","","",null,"","","","",null,"","","","",null,null,{"$f":"IFERROR(IF($BH$3=\"\",\"\",'1_Lister les activités'!D232),\"\")","v":{"v":0,"d":"0.00"}},{"$f":"IFERROR(IF($BH$3=\"\",\"\",'1_Lister les activités'!A232),\"\")","v":""},null,{"v":0,"d":"0.00"},{"$f":"IFERROR(IF($BH$3=\"\",\"\",'1_Lister les activités'!B232),\"\")","v":0},0,{"v":0,"d":"0.00"},{"$f":"IFERROR(IF($BH$3=\"\",\"\",'1_Lister les activités'!C232),\"\")","v":"Selectionner"}]
[{"$nulls":9},{"$f":"'2-Programmer les activités'!F236","v":0},{"$f":"'2-Programmer les activités'!G236","v":0},{"$nulls":21},{"$f":"IF('2-Programmer les activités'!K237=\"\",\"\",'2-Programmer les activités'!K237)","v":""},"","","","","-","","","","X",null,"","","","",null,"","","","",null,"","","","",null,null,{"$f":"IFERROR(IF($BH$3=\"\",\"\",'1_Lister les activités'!D233),\"\")","v":{"v":0,"d":"0.00"}},{"$f":"IFERROR(IF($BH$3=\"\",\"\",'1_Lister les activités'!A233),\"\")","v":""},null,{"v":0,"d":"0.00"},{"$f":"IFERROR(IF($BH$3=\"\",\"\",'1_Lister les activités'!B233),\"\")","v":0},0,{"v":0,"d":"0.00"},{"$f":"IFERROR(IF($BH$3=\"\",\"\",'1_Lister les activités'!C233),\"\")","v":"Selectionner"}]
[{"$nulls":9},{"$f":"'2-Programmer les activités'!F237","v":0},{"$f":"'2-Programmer les activités'!G237","v":0},{"$nulls":21},{"$f":"IF('2-Programmer les activités'!K238=\"\",\"\",'2-Programmer les activités'!K238)","v":""},"","","","","-","","","","X",null,"","","","",null,"","","","",null,"","","","",null,null,{"$f":"IFERROR(IF($BH$3=\"\",\"\",'1_Lister les activités'!D234),\"\")","v":{"v":0,"d":"0.00"}},{"$f":"IFERROR(IF($BH$3=\"\",\"\",'1_Lister les activités'!A234),\"\")","v":""},null,{"v":0,"d":"0.00"},{"$f":"IFERROR(IF($BH$3=\"\",\"\",'1_Lister les activités'!B234),\"\")","v":0},0,{"v":0,"d":"0.00"},{"$f":"IFERROR(IF($BH$3=\"\",\"\",'1_Lister les activités'!C234),\"\")","v":"Selectionner"}]
[{"$nulls":9},{"$f":"'2-Programmer les activités'!F238","v":0},{"$f":"'2-Programmer les activités'!G238","v":0},{"$nulls":21},{"$f":"IF('2-Programmer les activités'!K239=\"\",\"\",'2-Programmer les activités'!K239)","v":""},"","","","","-","","","","X",null,"","","","",null,"","","","",null,"","","","",null,null,{"$f":"IFERROR(IF($BH$3=\"\",\"\",'1_Lister les activités'!D235),\"\")","v":{"v":0,"d":"0.00"}},{"$f":"IFERROR(IF($BH$3=\"\",\"\",'1_Lister les activités'!A235),\"\")","v":""},null,{"v":0,"d":"0.00"},{"$f":"IFERROR(IF($BH$3=\"\",\"\",'1_Lister les activités'!B235),\"\")","v":0},0,{"v":0,"d":"0.00"},{"$f":"IFERROR(IF($BH$3=\"\",\"\",'1_Lister les activités'!C235),\"\")","v":"Selectionner"}]
[{"$nulls":9},{"$f":"'2-Programmer les activités'!F239","v":0},{"$f":"'2-Programmer les activités'!G239","v":0},{"$nulls":21},{"$f":"IF('2-Programmer les activités'!K240=\"\",\"\",'2-Programmer les activités'!K240)","v":""},"","","","","-","","","","X",null,"","","","",null,"","","","",null,"","","","",null,null,{"$f":"IFERROR(IF($BH$3=\"\",\"\",'1_Lister les activités'!D236),\"\")","v":{"v":0,"d":"0.00"}},{"$f":"IFERROR(IF($BH$3=\"\",\"\",'1_Lister les activités'!A236),\"\")","v":""},null,{"v":0,"d":"0.00"},{"$f":"IFERROR(IF($BH$3=\"\",\"\",'1_Lister les activités'!B236),\"\")","v":0},0,{"v":0,"d":"0.00"},{"$f":"IFERROR(IF($BH$3=\"\",\"\",'1_Lister les activités'!C236),\"\")","v":"Selectionner"}]
[{"$nulls":9},{"$f":"'2-Programmer les activités'!F240","v":0},{"$f":"'2-Programmer les activités'!G240","v":0},{"$nulls":21},{"$f":"IF('2-Programmer les activités'!K241=\"\",\"\",'2-Programmer les activités'!K241)","v":""},"","","","","-","","","","X",null,"","","","",null,"","","","",null,"","","","",null,null,{"$f":"IFERROR(IF($BH$3=\"\",\"\",'1_Lister les activités'!D237),\"\")","v":{"v":0,"d":"0.00"}},{"$f":"IFERROR(IF($BH$3=\"\",\"\",'1_Lister les activités'!A237),\"\")","v":""},null,{"v":0,"d":"0.00"},{"$f":"IFERROR(IF($BH$3=\"\",\"\",'1_Lister les activités'!B237),\"\")","v":0},0,{"v":0,"d":"0.00"},{"$f":"IFERROR(IF($BH$3=\"\",\"\",'1_Lister les activités'!C237),\"\")","v":"Selectionner"}]
[{"$nulls":9},{"$f":"'2-Programmer les activités'!F241","v":0},{"$f":"'2-Programmer les activités'!G241","v":0},{"$nulls":21},{"$f":"IF('2-Programmer les activités'!K242=\"\",\"\",'2-Programmer les activités'!K242)","v":""},"","","","","-","","","","X",null,"","","","",null,"","","","",null,"","","","",null,null,{"$f":"IFERROR(IF($BH$3=\"\",\"\",'1_Lister les activités'!D238),\"\")","v":{"v":0,"d":"0.00"}},{"$f":"IFERROR(IF($BH$3=\"\",\"\",'1_Lister les activités'!A238),\"\")","v":""},null,{"v":0,"d":"0.00"},{"$f":"IFERROR(IF($BH$3=\"\",\"\",'1_Lister les activités'!B238),\"\")","v":0},0,{"v":0,"d":"0.00"},{"$f":"IFERROR(IF($BH$3=\"\",\"\",'1_Lister les activités'!C238),\"\")","v":"Selectionner"}]
[{"$nulls":9},{"$f":"'2-Programmer les activités'!F242","v":0},{"$f":"'2-Programmer les activités'!G242","v":0},{"$nulls":21},{"$f":"IF('2-Programmer les activités'!K243=\"\",\"\",'2-Programmer les activités'!K243)","v":""},"","","","","-","","","","X",null,"","","","",null,"","","","",null,"","","","",null,null,{"$f":"IFERROR(IF($BH$3=\"\",\"\",'1_Lister les activités'!D239),\"\")","v":{"v":0,"d":"0.00"}},{"$f":"IFERROR(IF($BH$3=\"\",\"\",'1_Lister les activités'!A239),\"\")","v":""},null,{"v":0,"d":"0.00"},{"$f":"IFERROR(IF($BH$3=\"\",\"\",'1_Lister les activités'!B239),\"\")","v":0},0,{"v":0,"d":"0.00"},{"$f":"IFERROR(IF($BH$3=\"\",\"\",'1_Lister les activités'!C239),\"\")","v":"Selectionner"}]
[{"$nulls":9},{"$f":"'2-Programmer les activités'!F243","v":0},{"$f":"'2-Programmer les activités'!G243","v":0},{"$nulls":21},{"$f":"IF('2-Programmer les activités'!K244=\"\",\"\",'2-Programmer les activités'!K244)","v":""},"","",{"$f":"IF(AG238=\"\",\"\",DAY(AG238))","v":""},{"$f":"IFERROR(YEAR(AG238),\"\")","v":""},{"$f":"IFERROR(CONCATENATE(AI238,\"-\",AK238),\"\")","v":"-"},{"$f":"IF(AJ238<8,\"X\",\"\")","v":""},{"$f":"IF(AND(AJ238>7,AND(AJ238<15)),\"X\",\"\")","v":""},{"$f":"IF(AND(AJ238>14,AND(AJ238<22)),\"X\",\"\")","v":""},{"$f":"IF(AJ238>21,\"X\",\"\")","v":"X"},null,{"$f":"IF(AL238=$AR$4,AM238,\"\")","v":""},{"$f":"IF(AL238=$AR$4,AN238,\"\")","v":""},{"$f":"IF(AL238=$AR$4,AO238,\"\")","v":""},{"$f":"IF(AL238=$AR$4,AP238,\"\")","v":""},null,{"$f":"IF(AL238=$AW$4,AM238,\"\")","v":""},{"$f":"IF(AL238=$AW$4,AN238,\"\")","v":""},{"$f":"IF(AL238=$AW$4,AO238,\"\")","v":""},{"$f":"IF(AL238=$AW$4,AP238,\"\")","v":""},null,{"$f":"IF(AL238=$BB$4,AM238,\"\")","v":""},{"$f":"IF(AL238=$BB$4,AN238,\"\")","v":""},{"$f":"IF(AL238=$BB$4,AO238,\"\")","v":""},{"$f":"IF(AL238=$BB$4,AP238,\"\")","v":""},null,null,{"$f":"IFERROR(IF($BH$3=\"\",\"\",'1_Lister les activités'!D240),\"\")","v":{"v":0,"d":"0.00"}},{"$f":"IFERROR(IF($BH$3=\"\",\"\",'1_Lister les activités'!A240),\"\")","v":""},null,{"v":0,"d":"0.00"},{"$f":"IFERROR(IF($BH$3=\"\",\"\",'1_Lister les activités'!B240),\"\")","v":0},0,{"v":0,"d":"0.00"},{"$f":"IFERROR(IF($BH$3=\"\",\"\",'1_Lister les activités'!C240),\"\")","v":"Selectionner"}]
[{"$nulls":9},{"$f":"'2-Programmer les activités'!F244","v":0},{"$f":"'2-Programmer les activités'!G244","v":0},{"$nulls":21},{"$f":"IF('2-Programmer les activités'!K245=\"\",\"\",'2-Programmer les activités'!K245)","v":""},"","","","","-","","","","X",null,"","","","",null,"","","","",null,"","","","",null,null,{"$f":"IFERROR(IF($BH$3=\"\",\"\",'1_Lister les activités'!D241),\"\")","v":{"v":0,"d":"0.00"}},{"$f":"IFERROR(IF($BH$3=\"\",\"\",'1_Lister les activités'!A241),\"\")","v":""},null,{"v":0,"d":"0.00"},{"$f":"IFERROR(IF($BH$3=\"\",\"\",'1_Lister les activités'!B241),\"\")","v":0},0,{"v":0,"d":"0.00"},{"$f":"IFERROR(IF($BH$3=\"\",\"\",'1_Lister les activités'!C241),\"\")","v":"Selectionner"}]
[{"$nulls":9},{"$f":"'2-Programmer les activités'!F245","v":0},{"$f":"'2-Programmer les activités'!G245","v":0},{"$nulls":21},{"$f":"IF('2-Programmer les activités'!K246=\"\",\"\",'2-Programmer les activités'!K246)","v":""},"","","","","-","","","","X",null,"","","","",null,"","","","",null,"","","","",null,null,{"$f":"IFERROR(IF($BH$3=\"\",\"\",'1_Lister les activités'!D242),\"\")","v":{"v":0,"d":"0.00"}},{"$f":"IFERROR(IF($BH$3=\"\",\"\",'1_Lister les activités'!A242),\"\")","v":""},null,{"v":0,"d":"0.00"},{"$f":"IFERROR(IF($BH$3=\"\",\"\",'1_Lister les activités'!B242),\"\")","v":0},0,{"v":0,"d":"0.00"},{"$f":"IFERROR(IF($BH$3=\"\",\"\",'1_Lister les activités'!C242),\"\")","v":"Selectionner"}]
[{"$nulls":9},{"$f":"'2-Programmer les activités'!F246","v":0},{"$f":"'2-Programmer les activités'!G246","v":0},{"$nulls":21},{"$f":"IF('2-Programmer les activités'!K247=\"\",\"\",'2-Programmer les activités'!K247)","v":""},"","","","","-","","","","X",null,"","","","",null,"","","","",null,"","","","",null,null,{"$f":"IFERROR(IF($BH$3=\"\",\"\",'1_Lister les activités'!D243),\"\")","v":{"v":0,"d":"0.00"}},{"$f":"IFERROR(IF($BH$3=\"\",\"\",'1_Lister les activités'!A243),\"\")","v":""},null,{"v":0,"d":"0.00"},{"$f":"IFERROR(IF($BH$3=\"\",\"\",'1_Lister les activités'!B243),\"\")","v":0},0,{"v":0,"d":"0.00"},{"$f":"IFERROR(IF($BH$3=\"\",\"\",'1_Lister les activités'!C243),\"\")","v":"Selectionner"}]
[{"$nulls":9},{"$f":"'2-Programmer les activités'!F247","v":0},{"$f":"'2-Programmer les activités'!G247","v":0},{"$nulls":21},{"$f":"IF('2-Programmer les activités'!K248=\"\",\"\",'2-Programmer les activités'!K248)","v":""},"","","","","-","","","","X",null,"","","","",null,"","","","",null,"","","","",null,null,{"$f":"IFERROR(IF($BH$3=\"\",\"\",'1_Lister les activités'!D244),\"\")","v":{"v":0,"d":"0.00"}},{"$f":"IFERROR(IF($BH$3=\"\",\"\",'1_Lister les activités'!A244),\"\")","v":""},null,{"v":0,"d":"0.00"},{"$f":"IFERROR(IF($BH$3=\"\",\"\",'1_Lister les activités'!B244),\"\")","v":0},0,{"v":0,"d":"0.00"},{"$f":"IFERROR(IF($BH$3=\"\",\"\",'1_Lister les activités'!C244),\"\")","v":"Selectionner"}]
[{"$nulls":9},{"$f":"'2-Programmer les activités'!F248","v":0},{"$f":"'2-Programmer les activités'!G248","v":0},{"$nulls":21},{"$f":"IF('2-Programmer les activités'!K249=\"\",\"\",'2-Programmer les activités'!K249)","v":""},"","","","","-","","","","X",null,"","","","",null,"","","","",null,"","","","",null,null,{"$f":"IFERROR(IF($BH$3=\"\",\"\",'1_Lister les activités'!D245),\"\")","v":{"v":0,"d":"0.00"}},{"$f":"IFERROR(IF($BH$3=\"\",\"\",'1_Lister les activités'!A245),\"\")","v":""},null,{"v":0,"d":"0.00"},{"$f":"IFERROR(IF($BH$3=\"\",\"\",'1_Lister les activités'!B245),\"\")","v":0},0,{"v":0,"d":"0.00"},{"$f":"IFERROR(IF($BH$3=\"\",\"\",'1_Lister les activités'!C245),\"\")","v":"Selectionner"}]
[{"$nulls":9},{"$f":"'2-Programmer les activités'!F249","v":0},{"$f":"'2-Programmer les activités'!G249","v":0},{"$nulls":21},{"$f":"IF('2-Programmer les activités'!K250=\"\",\"\",'2-Programmer les activités'!K250)","v":""},"","","","","-","","","","X",null,"","","","",null,"","","","",null,"","","","",null,null,{"$f":"IFERROR(IF($BH$3=\"\",\"\",'1_Lister les activités'!D246),\"\")","v":{"v":0,"d":"0.00"}},{"$f":"IFERROR(IF($BH$3=\"\",\"\",'1_Lister les activités'!A246),\"\")","v":""},null,{"v":0,"d":"0.00"},{"$f":"IFERROR(IF($BH$3=\"\",\"\",'1_Lister les activités'!B246),\"\")","v":0},0,{"v":0,"d":"0.00"},{"$f":"IFERROR(IF($BH$3=\"\",\"\",'1_Lister les activités'!C246),\"\")","v":"Selectionner"}]
[{"$nulls":9},{"$f":"'2-Programmer les activités'!F250","v":0},{"$f":"'2-Programmer les activités'!G250","v":0},{"$nulls":21},{"$f":"IF('2-Programmer les activités'!K251=\"\",\"\",'2-Programmer les activités'!K251)","v":""},"","","","","-","","","","X",null,"","","","",null,"","","","",null,"","","","",null,null,{"$f":"IFERROR(IF($BH$3=\"\",\"\",'1_Lister les activités'!D247),\"\")","v":{"v":0,"d":"0.00"}},{"$f":"IFERROR(IF($BH$3=\"\",\"\",'1_Lister les activités'!A247),\"\")","v":""},null,{"v":0,"d":"0.00"},{"$f":"IFERROR(IF($BH$3=\"\",\"\",'1_Lister les activités'!B247),\"\")","v":0},0,{"v":0,"d":"0.00"},{"$f":"IFERROR(IF($BH$3=\"\",\"\",'1_Lister les activités'!C247),\"\")","v":"Selectionner"}]
[{"$nulls":9},{"$f":"'2-Programmer les activités'!F251","v":0},{"$f":"'2-Programmer les activités'!G251","v":0},{"$nulls":21},{"$f":"IF('2-Programmer les activités'!K252=\"\",\"\",'2-Programmer les activités'!K252)","v":""},"","","","","-","","","","X",null,"","","","",null,"","","","",null,"","","","",null,null,{"$f":"IFERROR(IF($BH$3=\"\",\"\",'1_Lister les activités'!D248),\"\")","v":{"v":0,"d":"0.00"}},{"$f":"IFERROR(IF($BH$3=\"\",\"\",'1_Lister les activités'!A248),\"\")","v":""},null,{"v":0,"d":"0.00"},{"$f":"IFERROR(IF($BH$3=\"\",\"\",'1_Lister les activités'!B248),\"\")","v":0},0,{"v":0,"d":"0.00"},{"$f":"IFERROR(IF($BH$3=\"\",\"\",'1_Lister les activités'!C248),\"\")","v":"Selectionner"}]
[{"$nulls":9},{"$f":"'2-Programmer les activités'!F252","v":0},{"$f":"'2-Programmer les activités'!G252","v":0},{"$nulls":21},{"$f":"IF('2-Programmer les activités'!K253=\"\",\"\",'2-Programmer les activités'!K253)","v":""},"","","","","-","","","","X",null,"","","","",null,"","","","",null,"","","","",null,null,{"$f":"IFERROR(IF($BH$3=\"\",\"\",'1_Lister les activités'!D249),\"\")","v":{"v":0,"d":"0.00"}},{"$f":"IFERROR(IF($BH$3=\"\",\"\",'1_Lister les activités'!A249),\"\")","v":""},null,{"v":0,"d":"0.00"},{"$f":"IFERROR(IF($BH$3=\"\",\"\",'1_Lister les activités'!B249),\"\")","v":0},0,{"v":0,"d":"0.00"},{"$f":"IFERROR(IF($BH$3=\"\",\"\",'1_Lister les activités'!C249),\"\")","v":"Selectionner"}]
[{"$nulls":9},{"$f":"'2-Programmer les activités'!F253","v":0},{"$f":"'2-Programmer les activités'!G253","v":0},{"$nulls":21},{"$f":"IF('2-Programmer les activités'!K254=\"\",\"\",'2-Programmer les activités'!K254)","v":""},"","","","","-","","","","X",null,"","","","",null,"","","","",null,"","","","",null,null,{"$f":"IFERROR(IF($BH$3=\"\",\"\",'1_Lister les activités'!D250),\"\")","v":{"v":0,"d":"0.00"}},{"$f":"IFERROR(IF($BH$3=\"\",\"\",'1_Lister les activités'!A250),\"\")","v":""},null,{"v":0,"d":"0.00"},{"$f":"IFERROR(IF($BH$3=\"\",\"\",'1_Lister les activités'!B250),\"\")","v":0},0,{"v":0,"d":"0.00"},{"$f":"IFERROR(IF($BH$3=\"\",\"\",'1_Lister les activités'!C250),\"\")","v":"Selectionner"}]
[{"$nulls":9},{"$f":"'2-Programmer les activités'!F254","v":0},{"$f":"'2-Programmer les activités'!G254","v":0},{"$nulls":21},{"$f":"IF('2-Programmer les activités'!K255=\"\",\"\",'2-Programmer les activités'!K255)","v":""},"","","","","-","","","","X",null,"","","","",null,"","","","",null,"","","","",null,null,{"$f":"IFERROR(IF($BH$3=\"\",\"\",'1_Lister les activités'!D251),\"\")","v":{"v":0,"d":"0.00"}},{"$f":"IFERROR(IF($BH$3=\"\",\"\",'1_Lister les activités'!A251),\"\")","v":""},null,{"v":0,"d":"0.00"},{"$f":"IFERROR(IF($BH$3=\"\",\"\",'1_Lister les activités'!B251),\"\")","v":0},0,{"v":0,"d":"0.00"},{"$f":"IFERROR(IF($BH$3=\"\",\"\",'1_Lister les activités'!C251),\"\")","v":"Selectionner"}]
[{"$nulls":9},{"$f":"'2-Programmer les activités'!F255","v":0},{"$f":"'2-Programmer les activités'!G255","v":0},{"$nulls":21},{"$f":"IF('2-Programmer les activités'!K256=\"\",\"\",'2-Programmer les activités'!K256)","v":""},"","","","","-","","","","X",null,"","","","",null,"","","","",null,"","","","",null,null,{"$f":"IFERROR(IF($BH$3=\"\",\"\",'1_Lister les activités'!D252),\"\")","v":{"v":0,"d":"0.00"}},{"$f":"IFERROR(IF($BH$3=\"\",\"\",'1_Lister les activités'!A252),\"\")","v":""},null,{"v":0,"d":"0.00"},{"$f":"IFERROR(IF($BH$3=\"\",\"\",'1_Lister les activités'!B252),\"\")","v":0},0,{"v":0,"d":"0.00"},{"$f":"IFERROR(IF($BH$3=\"\",\"\",'1_Lister les activités'!C252),\"\")","v":"Selectionner"}]
[{"$nulls":9},{"$f":"'2-Programmer les activités'!F256","v":0},{"$f":"'2-Programmer les activités'!G256","v":0},{"$nulls":21},{"$f":"IF('2-Programmer les activités'!K257=\"\",\"\",'2-Programmer les activités'!K257)","v":""},"","","","","-","","","","X",null,"","","","",null,"","","","",null,"","","","",null,null,{"$f":"IFERROR(IF($BH$3=\"\",\"\",'1_Lister les activités'!D253),\"\")","v":{"v":0,"d":"0.00"}},{"$f":"IFERROR(IF($BH$3=\"\",\"\",'1_Lister les activités'!A253),\"\")","v":""},null,{"v":0,"d":"0.00"},{"$f":"IFERROR(IF($BH$3=\"\",\"\",'1_Lister les activités'!B253),\"\")","v":0},0,{"v":0,"d":"0.00"},{"$f":"IFERROR(IF($BH$3=\"\",\"\",'1_Lister les activités'!C253),\"\")","v":"Selectionner"}]
[{"$nulls":9},{"$f":"'2-Programmer les activités'!F257","v":0},{"$f":"'2-Programmer les activités'!G257","v":0},{"$nulls":21},{"$f":"IF('2-Programmer les activités'!K258=\"\",\"\",'2-Programmer les activités'!K258)","v":""},"","","","","-","","","","X",null,"","","","",null,"","","","",null,"","","","",null,null,{"$f":"IFERROR(IF($BH$3=\"\",\"\",'1_Lister les activités'!D254),\"\")","v":{"v":0,"d":"0.00"}},{"$f":"IFERROR(IF($BH$3=\"\",\"\",'1_Lister les activités'!A254),\"\")","v":""},null,{"v":0,"d":"0.00"},{"$f":"IFERROR(IF($BH$3=\"\",\"\",'1_Lister les activités'!B254),\"\")","v":0},0,{"v":0,"d":"0.00"},{"$f":"IFERROR(IF($BH$3=\"\",\"\",'1_Lister les activités'!C254),\"\")","v":"Selectionner"}]
[{"$nulls":9},{"$f":"'2-Programmer les activités'!F258","v":0},{"$f":"'2-Programmer les activités'!G258","v":0},{"$nulls":21},{"$f":"IF('2-Programmer les activités'!K259=\"\",\"\",'2-Programmer les activités'!K259)","v":""},"","","","","-","","","","X",null,"","","","",null,"","","","",null,"","","","",null,null,{"$f":"IFERROR(IF($BH$3=\"\",\"\",'1_Lister les activités'!D255),\"\")","v":{"v":0,"d":"0.00"}},{"$f":"IFERROR(IF($BH$3=\"\",\"\",'1_Lister les activités'!A255),\"\")","v":""},null,{"v":0,"d":"0.00"},{"$f":"IFERROR(IF($BH$3=\"\",\"\",'1_Lister les activités'!B255),\"\")","v":0},0,{"v":0,"d":"0.00"},{"$f":"IFERROR(IF($BH$3=\"\",\"\",'1_Lister les activités'!C255),\"\")","v":"Selectionner"}]
[{"$nulls":9},{"$f":"'2-Programmer les activités'!F259","v":0},{"$f":"'2-Programmer les activités'!G259","v":0},{"$nulls":21},{"$f":"IF('2-Programmer les activités'!K260=\"\",\"\",'2-Programmer les activités'!K260)","v":""},"","","","","-","","","","X",null,"","","","",null,"","","","",null,"","","","",null,null,{"$f":"IFERROR(IF($BH$3=\"\",\"\",'1_Lister les activités'!D256),\"\")","v":{"v":0,"d":"0.00"}},{"$f":"IFERROR(IF($BH$3=\"\",\"\",'1_Lister les activités'!A256),\"\")","v":""},null,{"v":0,"d":"0.00"},{"$f":"IFERROR(IF($BH$3=\"\",\"\",'1_Lister les activités'!B256),\"\")","v":0},0,{"v":0,"d":"0.00"},{"$f":"IFERROR(IF($BH$3=\"\",\"\",'1_Lister les activités'!C256),\"\")","v":"Selectionner"}]
[{"$nulls":9},{"$f":"'2-Programmer les activités'!F260","v":0},{"$f":"'2-Programmer les activités'!G260","v":0},{"$nulls":21},{"$f":"IF('2-Programmer les activités'!K261=\"\",\"\",'2-Programmer les activités'!K261)","v":""},"","","","","-","","","","X",null,"","","","",null,"","","","",null,"","","","",null,null,{"$f":"IFERROR(IF($BH$3=\"\",\"\",'1_Lister les activités'!D257),\"\")","v":{"v":0,"d":"0.00"}},{"$f":"IFERROR(IF($BH$3=\"\",\"\",'1_Lister les activités'!A257),\"\")","v":""},null,{"v":0,"d":"0.00"},{"$f":"IFERROR(IF($BH$3=\"\",\"\",'1_Lister les activités'!B257),\"\")","v":0},0,{"v":0,"d":"0.00"},{"$f":"IFERROR(IF($BH$3=\"\",\"\",'1_Lister les activités'!C257),\"\")","v":"Selectionner"}]
[{"$nulls":9},{"$f":"'2-Programmer les activités'!F261","v":0},{"$f":"'2-Programmer les activités'!G261","v":0},{"$nulls":21},{"$f":"IF('2-Programmer les activités'!K262=\"\",\"\",'2-Programmer les activités'!K262)","v":""},"","","","","-","","","","X",null,"","","","",null,"","","","",null,"","","","",null,null,{"$f":"IFERROR(IF($BH$3=\"\",\"\",'1_Lister les activités'!D258),\"\")","v":{"v":0,"d":"0.00"}},{"$f":"IFERROR(IF($BH$3=\"\",\"\",'1_Lister les activités'!A258),\"\")","v":""},null,{"v":0,"d":"0.00"},{"$f":"IFERROR(IF($BH$3=\"\",\"\",'1_Lister les activités'!B258),\"\")","v":0},0,{"v":0,"d":"0.00"},{"$f":"IFERROR(IF($BH$3=\"\",\"\",'1_Lister les activités'!C258),\"\")","v":"Selectionner"}]
[{"$nulls":9},{"$f":"'2-Programmer les activités'!F262","v":0},{"$f":"'2-Programmer les activités'!G262","v":0},{"$nulls":21},{"$f":"IF('2-Programmer les activités'!K263=\"\",\"\",'2-Programmer les activités'!K263)","v":""},"","","","","-","","","","X",null,"","","","",null,"","","","",null,"","","","",null,null,{"$f":"IFERROR(IF($BH$3=\"\",\"\",'1_Lister les activités'!D259),\"\")","v":{"v":0,"d":"0.00"}},{"$f":"IFERROR(IF($BH$3=\"\",\"\",'1_Lister les activités'!A259),\"\")","v":""},null,{"v":0,"d":"0.00"},{"$f":"IFERROR(IF($BH$3=\"\",\"\",'1_Lister les activités'!B259),\"\")","v":0},0,{"v":0,"d":"0.00"},{"$f":"IFERROR(IF($BH$3=\"\",\"\",'1_Lister les activités'!C259),\"\")","v":"Selectionner"}]
[{"$nulls":9},{"$f":"'2-Programmer les activités'!F263","v":0},{"$f":"'2-Programmer les activités'!G263","v":0},{"$nulls":21},{"$f":"IF('2-Programmer les activités'!K264=\"\",\"\",'2-Programmer les activités'!K264)","v":""},"","","","","-","","","","X",null,"","","","",null,"","","","",null,"","","","",null,null,{"$f":"IFERROR(IF($BH$3=\"\",\"\",'1_Lister les activités'!D260),\"\")","v":{"v":0,"d":"0.00"}},{"$f":"IFERROR(IF($BH$3=\"\",\"\",'1_Lister les activités'!A260),\"\")","v":""},null,{"v":0,"d":"0.00"},{"$f":"IFERROR(IF($BH$3=\"\",\"\",'1_Lister les activités'!B260),\"\")","v":0},0,{"v":0,"d":"0.00"},{"$f":"IFERROR(IF($BH$3=\"\",\"\",'1_Lister les activités'!C260),\"\")","v":"Selectionner"}]
[{"$nulls":9},{"$f":"'2-Programmer les activités'!F264","v":0},{"$f":"'2-Programmer les activités'!G264","v":0},{"$nulls":21},{"$f":"IF('2-Programmer les activités'!K265=\"\",\"\",'2-Programmer les activités'!K265)","v":""},"","","","","-","","","","X",null,"","","","",null,"","","","",null,"","","","",null,null,{"$f":"IFERROR(IF($BH$3=\"\",\"\",'1_Lister les activités'!D261),\"\")","v":{"v":0,"d":"0.00"}},{"$f":"IFERROR(IF($BH$3=\"\",\"\",'1_Lister les activités'!A261),\"\")","v":""},null,{"v":0,"d":"0.00"},{"$f":"IFERROR(IF($BH$3=\"\",\"\",'1_Lister les activités'!B261),\"\")","v":0},0,{"v":0,"d":"0.00"},{"$f":"IFERROR(IF($BH$3=\"\",\"\",'1_Lister les activités'!C261),\"\")","v":"Selectionner"}]
[{"$nulls":9},{"$f":"'2-Programmer les activités'!F265","v":0},{"$f":"'2-Programmer les activités'!G265","v":0},{"$nulls":21},{"$f":"IF('2-Programmer les activités'!K266=\"\",\"\",'2-Programmer les activités'!K266)","v":""},"","","","","-","","","","X",null,"","","","",null,"","","","",null,"","","","",null,null,{"$f":"IFERROR(IF($BH$3=\"\",\"\",'1_Lister les activités'!D262),\"\")","v":{"v":0,"d":"0.00"}},{"$f":"IFERROR(IF($BH$3=\"\",\"\",'1_Lister les activités'!A262),\"\")","v":""},null,{"v":0,"d":"0.00"},{"$f":"IFERROR(IF($BH$3=\"\",\"\",'1_Lister les activités'!B262),\"\")","v":0},0,{"v":0,"d":"0.00"},{"$f":"IFERROR(IF($BH$3=\"\",\"\",'1_Lister les activités'!C262),\"\")","v":"Selectionner"}]
[{"$nulls":9},{"$f":"'2-Programmer les activités'!F266","v":0},{"$f":"'2-Programmer les activités'!G266","v":0},{"$nulls":21},{"$f":"IF('2-Programmer les activités'!K267=\"\",\"\",'2-Programmer les activités'!K267)","v":""},"","","","","-","","","","X",null,"","","","",null,"","","","",null,"","","","",null,null,{"$f":"IFERROR(IF($BH$3=\"\",\"\",'1_Lister les activités'!D263),\"\")","v":{"v":0,"d":"0.00"}},{"$f":"IFERROR(IF($BH$3=\"\",\"\",'1_Lister les activités'!A263),\"\")","v":""},null,{"v":0,"d":"0.00"},{"$f":"IFERROR(IF($BH$3=\"\",\"\",'1_Lister les activités'!B263),\"\")","v":0},0,{"v":0,"d":"0.00"},{"$f":"IFERROR(IF($BH$3=\"\",\"\",'1_Lister les activités'!C263),\"\")","v":"Selectionner"}]
[{"$nulls":9},{"$f":"'2-Programmer les activités'!F267","v":0},{"$f":"'2-Programmer les activités'!G267","v":0},{"$nulls":21},{"$f":"IF('2-Programmer les activités'!K268=\"\",\"\",'2-Programmer les activités'!K268)","v":""},"",{"$f":"IFERROR(VLOOKUP(AH262,$A$110:$B$121,2,FALSE),\"\")","v":""},"","","-","","","","X",null,"","","","",null,"","","","",null,"","","","",null,null,{"$f":"IFERROR(IF($BH$3=\"\",\"\",'1_Lister les activités'!D264),\"\")","v":{"v":0,"d":"0.00"}},{"$f":"IFERROR(IF($BH$3=\"\",\"\",'1_Lister les activités'!A264),\"\")","v":""},null,{"$f":"IFERROR(BH262,\"\")","v":{"v":0,"d":"0.00"}},{"$f":"IFERROR(IF($BH$3=\"\",\"\",'1_Lister les activités'!B264),\"\")","v":0},{"$f":"IFERROR(BL262,\"\")","v":0},{"$f":"IFERROR(BK262,\"\")","v":{"v":0,"d":"0.00"}},{"$f":"IFERROR(IF($BH$3=\"\",\"\",'1_Lister les activités'!C264),\"\")","v":"Selectionner"}]
[{"$nulls":9},{"$f":"'2-Programmer les activités'!F268","v":0},{"$f":"'2-Programmer les activités'!G268","v":0},{"$nulls":21},{"$f":"IF('2-Programmer les activités'!K269=\"\",\"\",'2-Programmer les activités'!K269)","v":""},{"$f":"IF(AG263=\"\",\"\",MONTH(AG263))","v":""},"","","","-","","","","X",null,"","","","",null,"","","","",null,"","","","",null,null,{"$f":"IFERROR(IF($BH$3=\"\",\"\",'1_Lister les activités'!D265),\"\")","v":{"v":0,"d":"0.00"}},{"$f":"IFERROR(IF($BH$3=\"\",\"\",'1_Lister les activités'!A265),\"\")","v":""},null,{"v":0,"d":"0.00"},{"$f":"IFERROR(IF($BH$3=\"\",\"\",'1_Lister les activités'!B265),\"\")","v":0},0,{"v":0,"d":"0.00"},{"$f":"IFERROR(IF($BH$3=\"\",\"\",'1_Lister les activités'!C265),\"\")","v":"Selectionner"}]
[{"$nulls":9},{"$f":"'2-Programmer les activités'!F269","v":0},{"$f":"'2-Programmer les activités'!G269","v":0},{"$nulls":21},{"$f":"IF('2-Programmer les activités'!K270=\"\",\"\",'2-Programmer les activités'!K270)","v":""},"","","","","-","","","","X",null,"","","","",null,"","","","",null,"","","","",null,null,{"$f":"IFERROR(IF($BH$3=\"\",\"\",'1_Lister les activités'!D266),\"\")","v":{"v":0,"d":"0.00"}},{"$f":"IFERROR(IF($BH$3=\"\",\"\",'1_Lister les activités'!A266),\"\")","v":""},null,{"v":0,"d":"0.00"},{"$f":"IFERROR(IF($BH$3=\"\",\"\",'1_Lister les activités'!B266),\"\")","v":0},0,{"v":0,"d":"0.00"},{"$f":"IFERROR(IF($BH$3=\"\",\"\",'1_Lister les activités'!C266),\"\")","v":"Selectionner"}]
[{"$nulls":9},{"$f":"'2-Programmer les activités'!F270","v":0},{"$f":"'2-Programmer les activités'!G270","v":0},{"$nulls":21},{"$f":"IF('2-Programmer les activités'!K271=\"\",\"\",'2-Programmer les activités'!K271)","v":""},"","","","","-","","","","X",null,"","","","",null,"","","","",null,"","","","",null,null,{"$f":"IFERROR(IF($BH$3=\"\",\"\",'1_Lister les activités'!D267),\"\")","v":{"v":0,"d":"0.00"}},{"$f":"IFERROR(IF($BH$3=\"\",\"\",'1_Lister les activités'!A267),\"\")","v":""},null,{"v":0,"d":"0.00"},{"$f":"IFERROR(IF($BH$3=\"\",\"\",'1_Lister les activités'!B267),\"\")","v":0},0,{"v":0,"d":"0.00"},{"$f":"IFERROR(IF($BH$3=\"\",\"\",'1_Lister les activités'!C267),\"\")","v":"Selectionner"}]
[{"$nulls":9},{"$f":"'2-Programmer les activités'!F271","v":0},{"$f":"'2-Programmer les activités'!G271","v":0},{"$nulls":21},{"$f":"IF('2-Programmer les activités'!K272=\"\",\"\",'2-Programmer les activités'!K272)","v":""},"","","","","-","","","","X",null,"","","","",null,"","","","",null,"","","","",null,null,{"$f":"IFERROR(IF($BH$3=\"\",\"\",'1_Lister les activités'!D268),\"\")","v":{"v":0,"d":"0.00"}},{"$f":"IFERROR(IF($BH$3=\"\",\"\",'1_Lister les activités'!A268),\"\")","v":""},null,{"v":0,"d":"0.00"},{"$f":"IFERROR(IF($BH$3=\"\",\"\",'1_Lister les activités'!B268),\"\")","v":0},0,{"v":0,"d":"0.00"},{"$f":"IFERROR(IF($BH$3=\"\",\"\",'1_Lister les activités'!C268),\"\")","v":"Selectionner"}]
[{"$nulls":9},{"$f":"'2-Programmer les activités'!F272","v":0},{"$f":"'2-Programmer les activités'!G272","v":0},{"$nulls":21},{"$f":"IF('2-Programmer les activités'!K273=\"\",\"\",'2-Programmer les activités'!K273)","v":""},"","","","","-","","","","X",null,"","","","",null,"","","","",null,"","","","",null,null,{"$f":"IFERROR(IF($BH$3=\"\",\"\",'1_Lister les activités'!D269),\"\")","v":{"v":0,"d":"0.00"}},{"$f":"IFERROR(IF($BH$3=\"\",\"\",'1_Lister les activités'!A269),\"\")","v":""},null,{"v":0,"d":"0.00"},{"$f":"IFERROR(IF($BH$3=\"\",\"\",'1_Lister les activités'!B269),\"\")","v":0},0,{"v":0,"d":"0.00"},{"$f":"IFERROR(IF($BH$3=\"\",\"\",'1_Lister les activités'!C269),\"\")","v":"Selectionner"}]
[{"$nulls":9},{"$f":"'2-Programmer les activités'!F273","v":0},{"$f":"'2-Programmer les activités'!G273","v":0},{"$nulls":21},{"$f":"IF('2-Programmer les activités'!K274=\"\",\"\",'2-Programmer les activités'!K274)","v":""},"","","","","-","","","","X",null,"","","","",null,"","","","",null,"","","","",null,null,{"$f":"IFERROR(IF($BH$3=\"\",\"\",'1_Lister les activités'!D270),\"\")","v":{"v":0,"d":"0.00"}},{"$f":"IFERROR(IF($BH$3=\"\",\"\",'1_Lister les activités'!A270),\"\")","v":""},null,{"v":0,"d":"0.00"},{"$f":"IFERROR(IF($BH$3=\"\",\"\",'1_Lister les activités'!B270),\"\")","v":0},0,{"v":0,"d":"0.00"},{"$f":"IFERROR(IF($BH$3=\"\",\"\",'1_Lister les activités'!C270),\"\")","v":"Selectionner"}]
[{"$nulls":9},{"$f":"'2-Programmer les activités'!F274","v":0},{"$f":"'2-Programmer les activités'!G274","v":0},{"$nulls":21},{"$f":"IF('2-Programmer les activités'!K275=\"\",\"\",'2-Programmer les activités'!K275)","v":""},"","","","","-","","","","X",null,"","","","",null,"","","","",null,"","","","",null,null,{"$f":"IFERROR(IF($BH$3=\"\",\"\",'1_Lister les activités'!D271),\"\")","v":{"v":0,"d":"0.00"}},{"$f":"IFERROR(IF($BH$3=\"\",\"\",'1_Lister les activités'!A271),\"\")","v":""},null,{"v":0,"d":"0.00"},{"$f":"IFERROR(IF($BH$3=\"\",\"\",'1_Lister les activités'!B271),\"\")","v":0},0,{"v":0,"d":"0.00"},{"$f":"IFERROR(IF($BH$3=\"\",\"\",'1_Lister les activités'!C271),\"\")","v":"Selectionner"}]
[{"$nulls":9},{"$f":"'2-Programmer les activités'!F275","v":0},{"$f":"'2-Programmer les activités'!G275","v":0},{"$nulls":21},{"$f":"IF('2-Programmer les activités'!K276=\"\",\"\",'2-Programmer les activités'!K276)","v":""},"","","","","-","","","","X",null,"","","","",null,"","","","",null,"","","","",null,null,{"$f":"IFERROR(IF($BH$3=\"\",\"\",'1_Lister les activités'!D272),\"\")","v":{"v":0,"d":"0.00"}},{"$f":"IFERROR(IF($BH$3=\"\",\"\",'1_Lister les activités'!A272),\"\")","v":""},null,{"v":0,"d":"0.00"},{"$f":"IFERROR(IF($BH$3=\"\",\"\",'1_Lister les activités'!B272),\"\")","v":0},0,{"v":0,"d":"0.00"},{"$f":"IFERROR(IF($BH$3=\"\",\"\",'1_Lister les activités'!C272),\"\")","v":"Selectionner"}]
[{"$nulls":9},{"$f":"'2-Programmer les activités'!F276","v":0},{"$f":"'2-Programmer les activités'!G276","v":0},{"$nulls":21},{"$f":"IF('2-Programmer les activités'!K277=\"\",\"\",'2-Programmer les activités'!K277)","v":""},"","","","","-","","","","X",null,"","","","",null,"","","","",null,"","","","",null,null,{"$f":"IFERROR(IF($BH$3=\"\",\"\",'1_Lister les activités'!D273),\"\")","v":{"v":0,"d":"0.00"}},{"$f":"IFERROR(IF($BH$3=\"\",\"\",'1_Lister les activités'!A273),\"\")","v":""},null,{"v":0,"d":"0.00"},{"$f":"IFERROR(IF($BH$3=\"\",\"\",'1_Lister les activités'!B273),\"\")","v":0},0,{"v":0,"d":"0.00"},{"$f":"IFERROR(IF($BH$3=\"\",\"\",'1_Lister les activités'!C273),\"\")","v":"Selectionner"}]
[{"$nulls":9},{"$f":"'2-Programmer les activités'!F277","v":0},{"$f":"'2-Programmer les activités'!G277","v":0},{"$nulls":21},{"$f":"IF('2-Programmer les activités'!K278=\"\",\"\",'2-Programmer les activités'!K278)","v":""},"","","","","-","","","","X",null,"","","","",null,"","","","",null,"","","","",null,null,{"$f":"IFERROR(IF($BH$3=\"\",\"\",'1_Lister les activités'!D274),\"\")","v":{"v":0,"d":"0.00"}},{"$f":"IFERROR(IF($BH$3=\"\",\"\",'1_Lister les activités'!A274),\"\")","v":""},null,{"v":0,"d":"0.00"},{"$f":"IFERROR(IF($BH$3=\"\",\"\",'1_Lister les activités'!B274),\"\")","v":0},0,{"v":0,"d":"0.00"},{"$f":"IFERROR(IF($BH$3=\"\",\"\",'1_Lister les activités'!C274),\"\")","v":"Selectionner"}]
[{"$nulls":9},{"$f":"'2-Programmer les activités'!F278","v":0},{"$f":"'2-Programmer les activités'!G278","v":0},{"$nulls":21},{"$f":"IF('2-Programmer les activités'!K279=\"\",\"\",'2-Programmer les activités'!K279)","v":""},"","","","","-","","","","X",null,"","","","",null,"","","","",null,"","","","",null,null,{"$f":"IFERROR(IF($BH$3=\"\",\"\",'1_Lister les activités'!D275),\"\")","v":{"v":0,"d":"0.00"}},{"$f":"IFERROR(IF($BH$3=\"\",\"\",'1_Lister les activités'!A275),\"\")","v":""},null,{"v":0,"d":"0.00"},{"$f":"IFERROR(IF($BH$3=\"\",\"\",'1_Lister les activités'!B275),\"\")","v":0},0,{"v":0,"d":"0.00"},{"$f":"IFERROR(IF($BH$3=\"\",\"\",'1_Lister les activités'!C275),\"\")","v":"Selectionner"}]
[{"$nulls":9},{"$f":"'2-Programmer les activités'!F279","v":0},{"$f":"'2-Programmer les activités'!G279","v":0},{"$nulls":21},{"$f":"IF('2-Programmer les activités'!K280=\"\",\"\",'2-Programmer les activités'!K280)","v":""},"","","","","-","","","","X",null,"","","","",null,"","","","",null,"","","","",null,null,{"$f":"IFERROR(IF($BH$3=\"\",\"\",'1_Lister les activités'!D276),\"\")","v":{"v":0,"d":"0.00"}},{"$f":"IFERROR(IF($BH$3=\"\",\"\",'1_Lister les activités'!A276),\"\")","v":""},null,{"v":0,"d":"0.00"},{"$f":"IFERROR(IF($BH$3=\"\",\"\",'1_Lister les activités'!B276),\"\")","v":0},0,{"v":0,"d":"0.00"},{"$f":"IFERROR(IF($BH$3=\"\",\"\",'1_Lister les activités'!C276),\"\")","v":"Selectionner"}]
[{"$nulls":9},{"$f":"'2-Programmer les activités'!F280","v":0},{"$f":"'2-Programmer les activités'!G280","v":0},{"$nulls":21},{"$f":"IF('2-Programmer les activités'!K281=\"\",\"\",'2-Programmer les activités'!K281)","v":""},"","","","","-","","","","X",null,"","","","",null,"","","","",null,"","","","",null,null,{"$f":"IFERROR(IF($BH$3=\"\",\"\",'1_Lister les activités'!D277),\"\")","v":{"v":0,"d":"0.00"}},{"$f":"IFERROR(IF($BH$3=\"\",\"\",'1_Lister les activités'!A277),\"\")","v":""},null,{"v":0,"d":"0.00"},{"$f":"IFERROR(IF($BH$3=\"\",\"\",'1_Lister les activités'!B277),\"\")","v":0},0,{"v":0,"d":"0.00"},{"$f":"IFERROR(IF($BH$3=\"\",\"\",'1_Lister les activités'!C277),\"\")","v":"Selectionner"}]
[{"$nulls":9},{"$f":"'2-Programmer les activités'!F281","v":0},{"$f":"'2-Programmer les activités'!G281","v":0},{"$nulls":21},{"$f":"IF('2-Programmer les activités'!K282=\"\",\"\",'2-Programmer les activités'!K282)","v":""},"","","","","-","","","","X",null,"","","","",null,"","","","",null,"","","","",null,null,{"$f":"IFERROR(IF($BH$3=\"\",\"\",'1_Lister les activités'!D278),\"\")","v":{"v":0,"d":"0.00"}},{"$f":"IFERROR(IF($BH$3=\"\",\"\",'1_Lister les activités'!A278),\"\")","v":""},null,{"v":0,"d":"0.00"},{"$f":"IFERROR(IF($BH$3=\"\",\"\",'1_Lister les activités'!B278),\"\")","v":0},0,{"v":0,"d":"0.00"},{"$f":"IFERROR(IF($BH$3=\"\",\"\",'1_Lister les activités'!C278),\"\")","v":"Selectionner"}]
[{"$nulls":9},{"$f":"'2-Programmer les activités'!F282","v":0},{"$f":"'2-Programmer les activités'!G282","v":0},{"$nulls":21},{"$f":"IF('2-Programmer les activités'!K283=\"\",\"\",'2-Programmer les activités'!K283)","v":""},"","","","","-","","","","X",null,"","","","",null,"","","","",null,"","","","",null,null,{"$f":"IFERROR(IF($BH$3=\"\",\"\",'1_Lister les activités'!D279),\"\")","v":{"v":0,"d":"0.00"}},{"$f":"IFERROR(IF($BH$3=\"\",\"\",'1_Lister les activités'!A279),\"\")","v":""},null,{"v":0,"d":"0.00"},{"$f":"IFERROR(IF($BH$3=\"\",\"\",'1_Lister les activités'!B279),\"\")","v":0},0,{"v":0,"d":"0.00"},{"$f":"IFERROR(IF($BH$3=\"\",\"\",'1_Lister les activités'!C279),\"\")","v":"Selectionner"}]
[{"$nulls":9},{"$f":"'2-Programmer les activités'!F283","v":0},{"$f":"'2-Programmer les activités'!G283","v":0},{"$nulls":21},{"$f":"IF('2-Programmer les activités'!K284=\"\",\"\",'2-Programmer les activités'!K284)","v":""},"","","","","-","","","","X",null,"","","","",null,"","","","",null,"","","","",null,null,{"$f":"IFERROR(IF($BH$3=\"\",\"\",'1_Lister les activités'!D280),\"\")","v":{"v":0,"d":"0.00"}},{"$f":"IFERROR(IF($BH$3=\"\",\"\",'1_Lister les activités'!A280),\"\")","v":""},null,{"v":0,"d":"0.00"},{"$f":"IFERROR(IF($BH$3=\"\",\"\",'1_Lister les activités'!B280),\"\")","v":0},0,{"v":0,"d":"0.00"},{"$f":"IFERROR(IF($BH$3=\"\",\"\",'1_Lister les activités'!C280),\"\")","v":"Selectionner"}]
[{"$nulls":9},{"$f":"'2-Programmer les activités'!F284","v":0},{"$f":"'2-Programmer les activités'!G284","v":0},{"$nulls":21},{"$f":"IF('2-Programmer les activités'!K285=\"\",\"\",'2-Programmer les activités'!K285)","v":""},"","","","","-","","","","X",null,"","","","",null,"","","","",null,"","","","",null,null,{"$f":"IFERROR(IF($BH$3=\"\",\"\",'1_Lister les activités'!D281),\"\")","v":{"v":0,"d":"0.00"}},{"$f":"IFERROR(IF($BH$3=\"\",\"\",'1_Lister les activités'!A281),\"\")","v":""},null,{"v":0,"d":"0.00"},{"$f":"IFERROR(IF($BH$3=\"\",\"\",'1_Lister les activités'!B281),\"\")","v":0},0,{"v":0,"d":"0.00"},{"$f":"IFERROR(IF($BH$3=\"\",\"\",'1_Lister les activités'!C281),\"\")","v":"Selectionner"}]
[{"$nulls":9},{"$f":"'2-Programmer les activités'!F285","v":0},{"$f":"'2-Programmer les activités'!G285","v":0},{"$nulls":21},{"$f":"IF('2-Programmer les activités'!K286=\"\",\"\",'2-Programmer les activités'!K286)","v":""},"","","","","-","","","","X",null,"","","","",null,"","","","",null,"","","","",null,null,{"$f":"IFERROR(IF($BH$3=\"\",\"\",'1_Lister les activités'!D282),\"\")","v":{"v":0,"d":"0.00"}},{"$f":"IFERROR(IF($BH$3=\"\",\"\",'1_Lister les activités'!A282),\"\")","v":""},null,{"v":0,"d":"0.00"},{"$f":"IFERROR(IF($BH$3=\"\",\"\",'1_Lister les activités'!B282),\"\")","v":0},0,{"v":0,"d":"0.00"},{"$f":"IFERROR(IF($BH$3=\"\",\"\",'1_Lister les activités'!C282),\"\")","v":"Selectionner"}]
[{"$nulls":9},{"$f":"'2-Programmer les activités'!F286","v":0},{"$f":"'2-Programmer les activités'!G286","v":0},{"$nulls":21},{"$f":"IF('2-Programmer les activités'!K287=\"\",\"\",'2-Programmer les activités'!K287)","v":""},"","","","","-","","","","X",null,"","","","",null,"","","","",null,"","","","",null,null,{"$f":"IFERROR(IF($BH$3=\"\",\"\",'1_Lister les activités'!D283),\"\")","v":{"v":0,"d":"0.00"}},{"$f":"IFERROR(IF($BH$3=\"\",\"\",'1_Lister les activités'!A283),\"\")","v":""},null,{"v":0,"d":"0.00"},{"$f":"IFERROR(IF($BH$3=\"\",\"\",'1_Lister les activités'!B283),\"\")","v":0},0,{"v":0,"d":"0.00"},{"$f":"IFERROR(IF($BH$3=\"\",\"\",'1_Lister les activités'!C283),\"\")","v":"Selectionner"}]
[{"$nulls":9},{"$f":"'2-Programmer les activités'!F287","v":0},{"$f":"'2-Programmer les activités'!G287","v":0},{"$nulls":21},{"$f":"IF('2-Programmer les activités'!K288=\"\",\"\",'2-Programmer les activités'!K288)","v":""},"","","","","-","","","","X",null,"","","","",null,"","","","",null,"","","","",null,null,{"$f":"IFERROR(IF($BH$3=\"\",\"\",'1_Lister les activités'!D284),\"\")","v":{"v":0,"d":"0.00"}},{"$f":"IFERROR(IF($BH$3=\"\",\"\",'1_Lister les activités'!A284),\"\")","v":""},null,{"v":0,"d":"0.00"},{"$f":"IFERROR(IF($BH$3=\"\",\"\",'1_Lister les activités'!B284),\"\")","v":0},0,{"v":0,"d":"0.00"},{"$f":"IFERROR(IF($BH$3=\"\",\"\",'1_Lister les activités'!C284),\"\")","v":"Selectionner"}]
[{"$nulls":9},{"$f":"'2-Programmer les activités'!F288","v":0},{"$f":"'2-Programmer les activités'!G288","v":0},{"$nulls":21},{"$f":"IF('2-Programmer les activités'!K289=\"\",\"\",'2-Programmer les activités'!K289)","v":""},"","","","","-","","","","X",null,"","","","",null,"","","","",null,"","","","",null,null,{"$f":"IFERROR(IF($BH$3=\"\",\"\",'1_Lister les activités'!D285),\"\")","v":{"v":0,"d":"0.00"}},{"$f":"IFERROR(IF($BH$3=\"\",\"\",'1_Lister les activités'!A285),\"\")","v":""},null,{"v":0,"d":"0.00"},{"$f":"IFERROR(IF($BH$3=\"\",\"\",'1_Lister les activités'!B285),\"\")","v":0},0,{"v":0,"d":"0.00"},{"$f":"IFERROR(IF($BH$3=\"\",\"\",'1_Lister les activités'!C285),\"\")","v":"Selectionner"}]
[{"$nulls":9},{"$f":"'2-Programmer les activités'!F289","v":0},{"$f":"'2-Programmer les activités'!G289","v":0},{"$nulls":21},{"$f":"IF('2-Programmer les activités'!K290=\"\",\"\",'2-Programmer les activités'!K290)","v":""},"","","","","-","","","","X",null,"","","","",null,"","","","",null,"","","","",null,null,{"$f":"IFERROR(IF($BH$3=\"\",\"\",'1_Lister les activités'!D286),\"\")","v":{"v":0,"d":"0.00"}},{"$f":"IFERROR(IF($BH$3=\"\",\"\",'1_Lister les activités'!A286),\"\")","v":""},null,{"v":0,"d":"0.00"},{"$f":"IFERROR(IF($BH$3=\"\",\"\",'1_Lister les activités'!B286),\"\")","v":0},0,{"v":0,"d":"0.00"},{"$f":"IFERROR(IF($BH$3=\"\",\"\",'1_Lister les activités'!C286),\"\")","v":"Selectionner"}]
[{"$nulls":9},{"$f":"'2-Programmer les activités'!F290","v":0},{"$f":"'2-Programmer les activités'!G290","v":0},{"$nulls":21},{"$f":"IF('2-Programmer les activités'!K291=\"\",\"\",'2-Programmer les activités'!K291)","v":""},"","","","","-","","","","X",null,"","","","",null,"","","","",null,"","","","",null,null,{"$f":"IFERROR(IF($BH$3=\"\",\"\",'1_Lister les activités'!D287),\"\")","v":{"v":0,"d":"0.00"}},{"$f":"IFERROR(IF($BH$3=\"\",\"\",'1_Lister les activités'!A287),\"\")","v":""},null,{"v":0,"d":"0.00"},{"$f":"IFERROR(IF($BH$3=\"\",\"\",'1_Lister les activités'!B287),\"\")","v":0},0,{"v":0,"d":"0.00"},{"$f":"IFERROR(IF($BH$3=\"\",\"\",'1_Lister les activités'!C287),\"\")","v":"Selectionner"}]
[{"$nulls":9},{"$f":"'2-Programmer les activités'!F291","v":0},{"$f":"'2-Programmer les activités'!G291","v":0},{"$nulls":21},{"$f":"IF('2-Programmer les activités'!K292=\"\",\"\",'2-Programmer les activités'!K292)","v":""},"","","","","-","","","","X",null,"","","","",null,"","","","",null,"","","","",null,null,{"$f":"IFERROR(IF($BH$3=\"\",\"\",'1_Lister les activités'!D288),\"\")","v":{"v":0,"d":"0.00"}},{"$f":"IFERROR(IF($BH$3=\"\",\"\",'1_Lister les activités'!A288),\"\")","v":""},null,{"v":0,"d":"0.00"},{"$f":"IFERROR(IF($BH$3=\"\",\"\",'1_Lister les activités'!B288),\"\")","v":0},0,{"v":0,"d":"0.00"},{"$f":"IFERROR(IF($BH$3=\"\",\"\",'1_Lister les activités'!C288),\"\")","v":"Selectionner"}]
[{"$nulls":9},{"$f":"'2-Programmer les activités'!F292","v":0},{"$f":"'2-Programmer les activités'!G292","v":0},{"$nulls":21},{"$f":"IF('2-Programmer les activités'!K293=\"\",\"\",'2-Programmer les activités'!K293)","v":""},"","","","","-","","","","X",null,"","","","",null,"","","","",null,"","","","",null,null,{"$f":"IFERROR(IF($BH$3=\"\",\"\",'1_Lister les activités'!D289),\"\")","v":{"v":0,"d":"0.00"}},{"$f":"IFERROR(IF($BH$3=\"\",\"\",'1_Lister les activités'!A289),\"\")","v":""},null,{"v":0,"d":"0.00"},{"$f":"IFERROR(IF($BH$3=\"\",\"\",'1_Lister les activités'!B289),\"\")","v":0},0,{"v":0,"d":"0.00"},{"$f":"IFERROR(IF($BH$3=\"\",\"\",'1_Lister les activités'!C289),\"\")","v":"Selectionner"}]
[{"$nulls":9},{"$f":"'2-Programmer les activités'!F293","v":0},{"$f":"'2-Programmer les activités'!G293","v":0},{"$nulls":21},{"$f":"IF('2-Programmer les activités'!K294=\"\",\"\",'2-Programmer les activités'!K294)","v":""},"","","","","-","","","","X",null,"","","","",null,"","","","",null,"","","","",null,null,{"$f":"IFERROR(IF($BH$3=\"\",\"\",'1_Lister les activités'!D290),\"\")","v":{"v":0,"d":"0.00"}},{"$f":"IFERROR(IF($BH$3=\"\",\"\",'1_Lister les activités'!A290),\"\")","v":""},null,{"v":0,"d":"0.00"},{"$f":"IFERROR(IF($BH$3=\"\",\"\",'1_Lister les activités'!B290),\"\")","v":0},0,{"v":0,"d":"0.00"},{"$f":"IFERROR(IF($BH$3=\"\",\"\",'1_Lister les activités'!C290),\"\")","v":"Selectionner"}]
[{"$nulls":9},{"$f":"'2-Programmer les activités'!F294","v":0},{"$f":"'2-Programmer les activités'!G294","v":0},{"$nulls":21},{"$f":"IF('2-Programmer les activités'!K295=\"\",\"\",'2-Programmer les activités'!K295)","v":""},"","","","","-","","","","X",null,"","","","",null,"","","","",null,"","","","",null,null,{"$f":"IFERROR(IF($BH$3=\"\",\"\",'1_Lister les activités'!D291),\"\")","v":{"v":0,"d":"0.00"}},{"$f":"IFERROR(IF($BH$3=\"\",\"\",'1_Lister les activités'!A291),\"\")","v":""},null,{"v":0,"d":"0.00"},{"$f":"IFERROR(IF($BH$3=\"\",\"\",'1_Lister les activités'!B291),\"\")","v":0},0,{"v":0,"d":"0.00"},{"$f":"IFERROR(IF($BH$3=\"\",\"\",'1_Lister les activités'!C291),\"\")","v":"Selectionner"}]
[{"$nulls":9},{"$f":"'2-Programmer les activités'!F295","v":0},{"$f":"'2-Programmer les activités'!G295","v":0},{"$nulls":21},{"$f":"IF('2-Programmer les activités'!K296=\"\",\"\",'2-Programmer les activités'!K296)","v":""},"","","","","-","","","","X",null,"","","","",null,"","","","",null,"","","","",null,null,{"$f":"IFERROR(IF($BH$3=\"\",\"\",'1_Lister les activités'!D292),\"\")","v":{"v":0,"d":"0.00"}},{"$f":"IFERROR(IF($BH$3=\"\",\"\",'1_Lister les activités'!A292),\"\")","v":""},null,{"v":0,"d":"0.00"},{"$f":"IFERROR(IF($BH$3=\"\",\"\",'1_Lister les activités'!B292),\"\")","v":0},0,{"v":0,"d":"0.00"},{"$f":"IFERROR(IF($BH$3=\"\",\"\",'1_Lister les activités'!C292),\"\")","v":"Selectionner"}]
[{"$nulls":9},{"$f":"'2-Programmer les activités'!F296","v":0},{"$f":"'2-Programmer les activités'!G296","v":0},{"$nulls":21},{"$f":"IF('2-Programmer les activités'!K297=\"\",\"\",'2-Programmer les activités'!K297)","v":""},"","","","","-","","","","X",null,"","","","",null,"","","","",null,"","","","",null,null,{"$f":"IFERROR(IF($BH$3=\"\",\"\",'1_Lister les activités'!D293),\"\")","v":{"v":0,"d":"0.00"}},{"$f":"IFERROR(IF($BH$3=\"\",\"\",'1_Lister les activités'!A293),\"\")","v":""},null,{"v":0,"d":"0.00"},{"$f":"IFERROR(IF($BH$3=\"\",\"\",'1_Lister les activités'!B293),\"\")","v":0},0,{"v":0,"d":"0.00"},{"$f":"IFERROR(IF($BH$3=\"\",\"\",'1_Lister les activités'!C293),\"\")","v":"Selectionner"}]
[{"$nulls":9},{"$f":"'2-Programmer les activités'!F297","v":0},{"$f":"'2-Programmer les activités'!G297","v":0},{"$nulls":21},{"$f":"IF('2-Programmer les activités'!K298=\"\",\"\",'2-Programmer les activités'!K298)","v":""},"","","","","-","","","","X",null,"","","","",null,"","","","",null,"","","","",null,null,{"$f":"IFERROR(IF($BH$3=\"\",\"\",'1_Lister les activités'!D294),\"\")","v":{"v":0,"d":"0.00"}},{"$f":"IFERROR(IF($BH$3=\"\",\"\",'1_Lister les activités'!A294),\"\")","v":""},null,{"v":0,"d":"0.00"},{"$f":"IFERROR(IF($BH$3=\"\",\"\",'1_Lister les activités'!B294),\"\")","v":0},0,{"v":0,"d":"0.00"},{"$f":"IFERROR(IF($BH$3=\"\",\"\",'1_Lister les activités'!C294),\"\")","v":"Selectionner"}]
[{"$nulls":9},{"$f":"'2-Programmer les activités'!F298","v":0},{"$f":"'2-Programmer les activités'!G298","v":0},{"$nulls":21},{"$f":"IF('2-Programmer les activités'!K299=\"\",\"\",'2-Programmer les activités'!K299)","v":""},"","","","","-","","","","X",null,"","","","",null,"","","","",null,"","","","",null,null,{"$f":"IFERROR(IF($BH$3=\"\",\"\",'1_Lister les activités'!D295),\"\")","v":{"v":0,"d":"0.00"}},{"$f":"IFERROR(IF($BH$3=\"\",\"\",'1_Lister les activités'!A295),\"\")","v":""},null,{"v":0,"d":"0.00"},{"$f":"IFERROR(IF($BH$3=\"\",\"\",'1_Lister les activités'!B295),\"\")","v":0},0,{"v":0,"d":"0.00"},{"$f":"IFERROR(IF($BH$3=\"\",\"\",'1_Lister les activités'!C295),\"\")","v":"Selectionner"}]
[{"$nulls":9},{"$f":"'2-Programmer les activités'!F299","v":0},{"$f":"'2-Programmer les activités'!G299","v":0},{"$nulls":21},{"$f":"IF('2-Programmer les activités'!K300=\"\",\"\",'2-Programmer les activités'!K300)","v":""},"","","","","-","","","","X",null,"","","","",null,"","","","",null,"","","","",null,null,{"$f":"IFERROR(IF($BH$3=\"\",\"\",'1_Lister les activités'!D296),\"\")","v":{"v":0,"d":"0.00"}},{"$f":"IFERROR(IF($BH$3=\"\",\"\",'1_Lister les activités'!A296),\"\")","v":""},null,{"v":0,"d":"0.00"},{"$f":"IFERROR(IF($BH$3=\"\",\"\",'1_Lister les activités'!B296),\"\")","v":0},0,{"v":0,"d":"0.00"},{"$f":"IFERROR(IF($BH$3=\"\",\"\",'1_Lister les activités'!C296),\"\")","v":"Selectionner"}]
[{"$nulls":9},{"$f":"'2-Programmer les activités'!F300","v":0},{"$f":"'2-Programmer les activités'!G300","v":0},{"$nulls":21},{"$f":"IF('2-Programmer les activités'!K301=\"\",\"\",'2-Programmer les activités'!K301)","v":""},"","","","","-","","","","X",null,"","","","",null,"","","","",null,"","","","",null,null,{"$f":"IFERROR(IF($BH$3=\"\",\"\",'1_Lister les activités'!D297),\"\")","v":{"v":0,"d":"0.00"}},{"$f":"IFERROR(IF($BH$3=\"\",\"\",'1_Lister les activités'!A297),\"\")","v":""},null,{"v":0,"d":"0.00"},{"$f":"IFERROR(IF($BH$3=\"\",\"\",'1_Lister les activités'!B297),\"\")","v":0},0,{"v":0,"d":"0.00"},{"$f":"IFERROR(IF($BH$3=\"\",\"\",'1_Lister les activités'!C297),\"\")","v":"Selectionner"}]
[{"$nulls":9},{"$f":"'2-Programmer les activités'!F301","v":0},{"$f":"'2-Programmer les activités'!G301","v":0},{"$nulls":21},{"$f":"IF('2-Programmer les activités'!K302=\"\",\"\",'2-Programmer les activités'!K302)","v":""},"","","","","-","","","","X",null,"","","","",null,"","","","",null,"","","","",null,null,{"$f":"IFERROR(IF($BH$3=\"\",\"\",'1_Lister les activités'!D298),\"\")","v":{"v":0,"d":"0.00"}},{"$f":"IFERROR(IF($BH$3=\"\",\"\",'1_Lister les activités'!A298),\"\")","v":""},null,{"v":0,"d":"0.00"},{"$f":"IFERROR(IF($BH$3=\"\",\"\",'1_Lister les activités'!B298),\"\")","v":0},0,{"v":0,"d":"0.00"},{"$f":"IFERROR(IF($BH$3=\"\",\"\",'1_Lister les activités'!C298),\"\")","v":"Selectionner"}]
[{"$nulls":9},{"$f":"'2-Programmer les activités'!F302","v":0},{"$f":"'2-Programmer les activités'!G302","v":0},{"$nulls":21},{"$f":"IF('2-Programmer les activités'!K303=\"\",\"\",'2-Programmer les activités'!K303)","v":""},"","","","","-","","","","X",null,"","","","",null,"","","","",null,"","","","",null,null,{"$f":"IFERROR(IF($BH$3=\"\",\"\",'1_Lister les activités'!D299),\"\")","v":{"v":0,"d":"0.00"}},{"$f":"IFERROR(IF($BH$3=\"\",\"\",'1_Lister les activités'!A299),\"\")","v":""},null,{"v":0,"d":"0.00"},{"$f":"IFERROR(IF($BH$3=\"\",\"\",'1_Lister les activités'!B299),\"\")","v":0},0,{"v":0,"d":"0.00"},{"$f":"IFERROR(IF($BH$3=\"\",\"\",'1_Lister les activités'!C299),\"\")","v":"Selectionner"}]
[{"$nulls":9},{"$f":"'2-Programmer les activités'!F303","v":0},{"$f":"'2-Programmer les activités'!G303","v":0},{"$nulls":21},{"$f":"IF('2-Programmer les activités'!K304=\"\",\"\",'2-Programmer les activités'!K304)","v":""},"","","","","-","","","","X",null,"","","","",null,"","","","",null,"","","","",null,null,{"$f":"IFERROR(IF($BH$3=\"\",\"\",'1_Lister les activités'!D300),\"\")","v":{"v":0,"d":"0.00"}},{"$f":"IFERROR(IF($BH$3=\"\",\"\",'1_Lister les activités'!A300),\"\")","v":""},null,{"v":0,"d":"0.00"},{"$f":"IFERROR(IF($BH$3=\"\",\"\",'1_Lister les activités'!B300),\"\")","v":0},0,{"v":0,"d":"0.00"},{"$f":"IFERROR(IF($BH$3=\"\",\"\",'1_Lister les activités'!C300),\"\")","v":"Selectionner"}]
[{"$nulls":9},{"$f":"'2-Programmer les activités'!F304","v":0},{"$f":"'2-Programmer les activités'!G304","v":0},{"$nulls":21},{"$f":"IF('2-Programmer les activités'!K305=\"\",\"\",'2-Programmer les activités'!K305)","v":""},"","","","","-","","","","X",null,"","","","",null,"","","","",null,"","","","",null,null,{"$f":"IFERROR(IF($BH$3=\"\",\"\",'1_Lister les activités'!D301),\"\")","v":{"v":0,"d":"0.00"}},{"$f":"IFERROR(IF($BH$3=\"\",\"\",'1_Lister les activités'!A301),\"\")","v":""},null,{"v":0,"d":"0.00"},{"$f":"IFERROR(IF($BH$3=\"\",\"\",'1_Lister les activités'!B301),\"\")","v":0},0,{"v":0,"d":"0.00"},{"$f":"IFERROR(IF($BH$3=\"\",\"\",'1_Lister les activités'!C301),\"\")","v":"Selectionner"}]
[{"$nulls":9},{"$f":"'2-Programmer les activités'!F305","v":0},{"$f":"'2-Programmer les activités'!G305","v":0},{"$nulls":21},{"$f":"IF('2-Programmer les activités'!K306=\"\",\"\",'2-Programmer les activités'!K306)","v":""},"","","","","-","","","","X",null,"","","","",null,"","","","",null,"","","","",null,null,{"$f":"IFERROR(IF($BH$3=\"\",\"\",'1_Lister les activités'!D302),\"\")","v":{"v":0,"d":"0.00"}},{"$f":"IFERROR(IF($BH$3=\"\",\"\",'1_Lister les activités'!A302),\"\")","v":""},null,{"v":0,"d":"0.00"},{"$f":"IFERROR(IF($BH$3=\"\",\"\",'1_Lister les activités'!B302),\"\")","v":0},0,{"v":0,"d":"0.00"},{"$f":"IFERROR(IF($BH$3=\"\",\"\",'1_Lister les activités'!C302),\"\")","v":"Selectionner"}]
[{"$nulls":9},{"$f":"'2-Programmer les activités'!F306","v":0},{"$f":"'2-Programmer les activités'!G306","v":0},{"$nulls":21},{"$f":"IF('2-Programmer les activités'!K307=\"\",\"\",'2-Programmer les activités'!K307)","v":""},"","","","","-","","","","X",null,"","","","",null,"","","","",null,"","","","",null,null,{"$f":"IFERROR(IF($BH$3=\"\",\"\",'1_Lister les activités'!D303),\"\")","v":{"v":0,"d":"0.00"}},{"$f":"IFERROR(IF($BH$3=\"\",\"\",'1_Lister les activités'!A303),\"\")","v":""},null,{"v":0,"d":"0.00"},{"$f":"IFERROR(IF($BH$3=\"\",\"\",'1_Lister les activités'!B303),\"\")","v":0},0,{"v":0,"d":"0.00"},{"$f":"IFERROR(IF($BH$3=\"\",\"\",'1_Lister les activités'!C303),\"\")","v":"Selectionner"}]
[{"$nulls":9},{"$f":"'2-Programmer les activités'!F307","v":0},{"$f":"'2-Programmer les activités'!G307","v":0},{"$nulls":21},{"$f":"IF('2-Programmer les activités'!K308=\"\",\"\",'2-Programmer les activités'!K308)","v":""},"","",{"$f":"IF(AG302=\"\",\"\",DAY(AG302))","v":""},{"$f":"IFERROR(YEAR(AG302),\"\")","v":""},{"$f":"IFERROR(CONCATENATE(AI302,\"-\",AK302),\"\")","v":"-"},{"$f":"IF(AJ302<8,\"X\",\"\")","v":""},{"$f":"IF(AND(AJ302>7,AND(AJ302<15)),\"X\",\"\")","v":""},{"$f":"IF(AND(AJ302>14,AND(AJ302<22)),\"X\",\"\")","v":""},{"$f":"IF(AJ302>21,\"X\",\"\")","v":"X"},null,{"$f":"IF(AL302=$AR$4,AM302,\"\")","v":""},{"$f":"IF(AL302=$AR$4,AN302,\"\")","v":""},{"$f":"IF(AL302=$AR$4,AO302,\"\")","v":""},{"$f":"IF(AL302=$AR$4,AP302,\"\")","v":""},null,{"$f":"IF(AL302=$AW$4,AM302,\"\")","v":""},{"$f":"IF(AL302=$AW$4,AN302,\"\")","v":""},{"$f":"IF(AL302=$AW$4,AO302,\"\")","v":""},{"$f":"IF(AL302=$AW$4,AP302,\"\")","v":""},null,{"$f":"IF(AL302=$BB$4,AM302,\"\")","v":""},{"$f":"IF(AL302=$BB$4,AN302,\"\")","v":""},{"$f":"IF(AL302=$BB$4,AO302,\"\")","v":""},{"$f":"IF(AL302=$BB$4,AP302,\"\")","v":""},null,null,{"$f":"IFERROR(IF($BH$3=\"\",\"\",'1_Lister les activités'!D304),\"\")","v":{"v":0,"d":"0.00"}},{"$f":"IFERROR(IF($BH$3=\"\",\"\",'1_Lister les activités'!A304),\"\")","v":""},null,{"v":0,"d":"0.00"},{"$f":"IFERROR(IF($BH$3=\"\",\"\",'1_Lister les activités'!B304),\"\")","v":0},0,{"v":0,"d":"0.00"},{"$f":"IFERROR(IF($BH$3=\"\",\"\",'1_Lister les activités'!C304),\"\")","v":"Selectionner"}]
[{"$nulls":9},{"$f":"'2-Programmer les activités'!F308","v":0},{"$f":"'2-Programmer les activités'!G308","v":0},{"$nulls":21},{"$f":"IF('2-Programmer les activités'!K309=\"\",\"\",'2-Programmer les activités'!K309)","v":""},"","","","","-","","","","X",null,"","","","",null,"","","","",null,"","","","",null,null,{"$f":"IFERROR(IF($BH$3=\"\",\"\",'1_Lister les activités'!D305),\"\")","v":{"v":0,"d":"0.00"}},{"$f":"IFERROR(IF($BH$3=\"\",\"\",'1_Lister les activités'!A305),\"\")","v":""},null,{"v":0,"d":"0.00"},{"$f":"IFERROR(IF($BH$3=\"\",\"\",'1_Lister les activités'!B305),\"\")","v":0},0,{"v":0,"d":"0.00"},{"$f":"IFERROR(IF($BH$3=\"\",\"\",'1_Lister les activités'!C305),\"\")","v":"Selectionner"}]
[{"$nulls":9},{"$f":"'2-Programmer les activités'!F309","v":0},{"$f":"'2-Programmer les activités'!G309","v":0},{"$nulls":21},{"$f":"IF('2-Programmer les activités'!K310=\"\",\"\",'2-Programmer les activités'!K310)","v":""},"","","","","-","","","","X",null,"","","","",null,"","","","",null,"","","","",null,null,{"$f":"IFERROR(IF($BH$3=\"\",\"\",'1_Lister les activités'!D306),\"\")","v":{"v":0,"d":"0.00"}},{"$f":"IFERROR(IF($BH$3=\"\",\"\",'1_Lister les activités'!A306),\"\")","v":""},null,{"v":0,"d":"0.00"},{"$f":"IFERROR(IF($BH$3=\"\",\"\",'1_Lister les activités'!B306),\"\")","v":0},0,{"v":0,"d":"0.00"},{"$f":"IFERROR(IF($BH$3=\"\",\"\",'1_Lister les activités'!C306),\"\")","v":"Selectionner"}]
[{"$nulls":9},{"$f":"'2-Programmer les activités'!F310","v":0},{"$f":"'2-Programmer les activités'!G310","v":0},{"$nulls":21},{"$f":"IF('2-Programmer les activités'!K311=\"\",\"\",'2-Programmer les activités'!K311)","v":""},"","","","","-","","","","X",null,"","","","",null,"","","","",null,"","","","",null,null,{"$f":"IFERROR(IF($BH$3=\"\",\"\",'1_Lister les activités'!D307),\"\")","v":{"v":0,"d":"0.00"}},{"$f":"IFERROR(IF($BH$3=\"\",\"\",'1_Lister les activités'!A307),\"\")","v":""},null,{"v":0,"d":"0.00"},{"$f":"IFERROR(IF($BH$3=\"\",\"\",'1_Lister les activités'!B307),\"\")","v":0},0,{"v":0,"d":"0.00"},{"$f":"IFERROR(IF($BH$3=\"\",\"\",'1_Lister les activités'!C307),\"\")","v":"Selectionner"}]
[{"$nulls":9},{"$f":"'2-Programmer les activités'!F311","v":0},{"$f":"'2-Programmer les activités'!G311","v":0},{"$nulls":21},{"$f":"IF('2-Programmer les activités'!K312=\"\",\"\",'2-Programmer les activités'!K312)","v":""},"","","","","-","","","","X",null,"","","","",null,"","","","",null,"","","","",null,null,{"$f":"IFERROR(IF($BH$3=\"\",\"\",'1_Lister les activités'!D308),\"\")","v":{"v":0,"d":"0.00"}},{"$f":"IFERROR(IF($BH$3=\"\",\"\",'1_Lister les activités'!A308),\"\")","v":""},null,{"v":0,"d":"0.00"},{"$f":"IFERROR(IF($BH$3=\"\",\"\",'1_Lister les activités'!B308),\"\")","v":0},0,{"v":0,"d":"0.00"},{"$f":"IFERROR(IF($BH$3=\"\",\"\",'1_Lister les activités'!C308),\"\")","v":"Selectionner"}]
[{"$nulls":9},{"$f":"'2-Programmer les activités'!F312","v":0},{"$f":"'2-Programmer les activités'!G312","v":0},{"$nulls":21},{"$f":"IF('2-Programmer les activités'!K313=\"\",\"\",'2-Programmer les activités'!K313)","v":""},"","","","","-","","","","X",null,"","","","",null,"","","","",null,"","","","",null,null,{"$f":"IFERROR(IF($BH$3=\"\",\"\",'1_Lister les activités'!D309),\"\")","v":{"v":0,"d":"0.00"}},{"$f":"IFERROR(IF($BH$3=\"\",\"\",'1_Lister les activités'!A309),\"\")","v":""},null,{"v":0,"d":"0.00"},{"$f":"IFERROR(IF($BH$3=\"\",\"\",'1_Lister les activités'!B309),\"\")","v":0},0,{"v":0,"d":"0.00"},{"$f":"IFERROR(IF($BH$3=\"\",\"\",'1_Lister les activités'!C309),\"\")","v":"Selectionner"}]
[{"$nulls":9},{"$f":"'2-Programmer les activités'!F313","v":0},{"$f":"'2-Programmer les activités'!G313","v":0},{"$nulls":21},{"$f":"IF('2-Programmer les activités'!K314=\"\",\"\",'2-Programmer les activités'!K314)","v":""},"","","","","-","","","","X",null,"","","","",null,"","","","",null,"","","","",null,null,{"$f":"IFERROR(IF($BH$3=\"\",\"\",'1_Lister les activités'!D310),\"\")","v":{"v":0,"d":"0.00"}},{"$f":"IFERROR(IF($BH$3=\"\",\"\",'1_Lister les activités'!A310),\"\")","v":""},null,{"v":0,"d":"0.00"},{"$f":"IFERROR(IF($BH$3=\"\",\"\",'1_Lister les activités'!B310),\"\")","v":0},0,{"v":0,"d":"0.00"},{"$f":"IFERROR(IF($BH$3=\"\",\"\",'1_Lister les activités'!C310),\"\")","v":"Selectionner"}]
[{"$nulls":9},{"$f":"'2-Programmer les activités'!F314","v":0},{"$f":"'2-Programmer les activités'!G314","v":0},{"$nulls":21},{"$f":"IF('2-Programmer les activités'!K315=\"\",\"\",'2-Programmer les activités'!K315)","v":""},"","","","","-","","","","X",null,"","","","",null,"","","","",null,"","","","",null,null,{"$f":"IFERROR(IF($BH$3=\"\",\"\",'1_Lister les activités'!D311),\"\")","v":{"v":0,"d":"0.00"}},{"$f":"IFERROR(IF($BH$3=\"\",\"\",'1_Lister les activités'!A311),\"\")","v":""},null,{"v":0,"d":"0.00"},{"$f":"IFERROR(IF($BH$3=\"\",\"\",'1_Lister les activités'!B311),\"\")","v":0},0,{"v":0,"d":"0.00"},{"$f":"IFERROR(IF($BH$3=\"\",\"\",'1_Lister les activités'!C311),\"\")","v":"Selectionner"}]
[{"$nulls":9},{"$f":"'2-Programmer les activités'!F315","v":0},{"$f":"'2-Programmer les activités'!G315","v":0},{"$nulls":21},{"$f":"IF('2-Programmer les activités'!K316=\"\",\"\",'2-Programmer les activités'!K316)","v":""},"","","","","-","","","","X",null,"","","","",null,"","","","",null,"","","","",null,null,{"$f":"IFERROR(IF($BH$3=\"\",\"\",'1_Lister les activités'!D312),\"\")","v":{"v":0,"d":"0.00"}},{"$f":"IFERROR(IF($BH$3=\"\",\"\",'1_Lister les activités'!A312),\"\")","v":""},null,{"v":0,"d":"0.00"},{"$f":"IFERROR(IF($BH$3=\"\",\"\",'1_Lister les activités'!B312),\"\")","v":0},0,{"v":0,"d":"0.00"},{"$f":"IFERROR(IF($BH$3=\"\",\"\",'1_Lister les activités'!C312),\"\")","v":"Selectionner"}]
[{"$nulls":9},{"$f":"'2-Programmer les activités'!F316","v":0},{"$f":"'2-Programmer les activités'!G316","v":0},{"$nulls":21},{"$f":"IF('2-Programmer les activités'!K317=\"\",\"\",'2-Programmer les activités'!K317)","v":""},"","","","","-","","","","X",null,"","","","",null,"","","","",null,"","","","",null,null,{"$f":"IFERROR(IF($BH$3=\"\",\"\",'1_Lister les activités'!D313),\"\")","v":{"v":0,"d":"0.00"}},{"$f":"IFERROR(IF($BH$3=\"\",\"\",'1_Lister les activités'!A313),\"\")","v":""},null,{"v":0,"d":"0.00"},{"$f":"IFERROR(IF($BH$3=\"\",\"\",'1_Lister les activités'!B313),\"\")","v":0},0,{"v":0,"d":"0.00"},{"$f":"IFERROR(IF($BH$3=\"\",\"\",'1_Lister les activités'!C313),\"\")","v":"Selectionner"}]
[{"$nulls":9},{"$f":"'2-Programmer les activités'!F317","v":0},{"$f":"'2-Programmer les activités'!G317","v":0},{"$nulls":21},{"$f":"IF('2-Programmer les activités'!K318=\"\",\"\",'2-Programmer les activités'!K318)","v":""},"","","","","-","","","","X",null,"","","","",null,"","","","",null,"","","","",null,null,{"$f":"IFERROR(IF($BH$3=\"\",\"\",'1_Lister les activités'!D314),\"\")","v":{"v":0,"d":"0.00"}},{"$f":"IFERROR(IF($BH$3=\"\",\"\",'1_Lister les activités'!A314),\"\")","v":""},null,{"v":0,"d":"0.00"},{"$f":"IFERROR(IF($BH$3=\"\",\"\",'1_Lister les activités'!B314),\"\")","v":0},0,{"v":0,"d":"0.00"},{"$f":"IFERROR(IF($BH$3=\"\",\"\",'1_Lister les activités'!C314),\"\")","v":"Selectionner"}]
[{"$nulls":9},{"$f":"'2-Programmer les activités'!F318","v":0},{"$f":"'2-Programmer les activités'!G318","v":0},{"$nulls":21},{"$f":"IF('2-Programmer les activités'!K319=\"\",\"\",'2-Programmer les activités'!K319)","v":""},"","","","","-","","","","X",null,"","","","",null,"","","","",null,"","","","",null,null,{"$f":"IFERROR(IF($BH$3=\"\",\"\",'1_Lister les activités'!D315),\"\")","v":{"v":0,"d":"0.00"}},{"$f":"IFERROR(IF($BH$3=\"\",\"\",'1_Lister les activités'!A315),\"\")","v":""},null,{"v":0,"d":"0.00"},{"$f":"IFERROR(IF($BH$3=\"\",\"\",'1_Lister les activités'!B315),\"\")","v":0},0,{"v":0,"d":"0.00"},{"$f":"IFERROR(IF($BH$3=\"\",\"\",'1_Lister les activités'!C315),\"\")","v":"Selectionner"}]
[{"$nulls":9},{"$f":"'2-Programmer les activités'!F319","v":0},{"$f":"'2-Programmer les activités'!G319","v":0},{"$nulls":21},{"$f":"IF('2-Programmer les activités'!K320=\"\",\"\",'2-Programmer les activités'!K320)","v":""},"","","","","-","","","","X",null,"","","","",null,"","","","",null,"","","","",null,null,{"$f":"IFERROR(IF($BH$3=\"\",\"\",'1_Lister les activités'!D316),\"\")","v":{"v":0,"d":"0.00"}},{"$f":"IFERROR(IF($BH$3=\"\",\"\",'1_Lister les activités'!A316),\"\")","v":""},null,{"v":0,"d":"0.00"},{"$f":"IFERROR(IF($BH$3=\"\",\"\",'1_Lister les activités'!B316),\"\")","v":0},0,{"v":0,"d":"0.00"},{"$f":"IFERROR(IF($BH$3=\"\",\"\",'1_Lister les activités'!C316),\"\")","v":"Selectionner"}]
[{"$nulls":9},{"$f":"'2-Programmer les activités'!F320","v":0},{"$f":"'2-Programmer les activités'!G320","v":0},{"$nulls":21},{"$f":"IF('2-Programmer les activités'!K321=\"\",\"\",'2-Programmer les activités'!K321)","v":""},"","","","","-","","","","X",null,"","","","",null,"","","","",null,"","","","",null,null,{"$f":"IFERROR(IF($BH$3=\"\",\"\",'1_Lister les activités'!D317),\"\")","v":{"v":0,"d":"0.00"}},{"$f":"IFERROR(IF($BH$3=\"\",\"\",'1_Lister les activités'!A317),\"\")","v":""},null,{"v":0,"d":"0.00"},{"$f":"IFERROR(IF($BH$3=\"\",\"\",'1_Lister les activités'!B317),\"\")","v":0},0,{"v":0,"d":"0.00"},{"$f":"IFERROR(IF($BH$3=\"\",\"\",'1_Lister les activités'!C317),\"\")","v":"Selectionner"}]
[{"$nulls":9},{"$f":"'2-Programmer les activités'!F321","v":0},{"$f":"'2-Programmer les activités'!G321","v":0},{"$nulls":21},{"$f":"IF('2-Programmer les activités'!K322=\"\",\"\",'2-Programmer les activités'!K322)","v":""},"","","","","-","","","","X",null,"","","","",null,"","","","",null,"","","","",null,null,{"$f":"IFERROR(IF($BH$3=\"\",\"\",'1_Lister les activités'!D318),\"\")","v":{"v":0,"d":"0.00"}},{"$f":"IFERROR(IF($BH$3=\"\",\"\",'1_Lister les activités'!A318),\"\")","v":""},null,{"v":0,"d":"0.00"},{"$f":"IFERROR(IF($BH$3=\"\",\"\",'1_Lister les activités'!B318),\"\")","v":0},0,{"v":0,"d":"0.00"},{"$f":"IFERROR(IF($BH$3=\"\",\"\",'1_Lister les activités'!C318),\"\")","v":"Selectionner"}]
[{"$nulls":9},{"$f":"'2-Programmer les activités'!F322","v":0},{"$f":"'2-Programmer les activités'!G322","v":0},{"$nulls":21},{"$f":"IF('2-Programmer les activités'!K323=\"\",\"\",'2-Programmer les activités'!K323)","v":""},"","","","","-","","","","X",null,"","","","",null,"","","","",null,"","","","",null,null,{"$f":"IFERROR(IF($BH$3=\"\",\"\",'1_Lister les activités'!D319),\"\")","v":{"v":0,"d":"0.00"}},{"$f":"IFERROR(IF($BH$3=\"\",\"\",'1_Lister les activités'!A319),\"\")","v":""},null,{"v":0,"d":"0.00"},{"$f":"IFERROR(IF($BH$3=\"\",\"\",'1_Lister les activités'!B319),\"\")","v":0},0,{"v":0,"d":"0.00"},{"$f":"IFERROR(IF($BH$3=\"\",\"\",'1_Lister les activités'!C319),\"\")","v":"Selectionner"}]
[{"$nulls":9},{"$f":"'2-Programmer les activités'!F323","v":0},{"$f":"'2-Programmer les activités'!G323","v":0},{"$nulls":21},{"$f":"IF('2-Programmer les activités'!K324=\"\",\"\",'2-Programmer les activités'!K324)","v":""},"","","","","-","","","","X",null,"","","","",null,"","","","",null,"","","","",null,null,{"$f":"IFERROR(IF($BH$3=\"\",\"\",'1_Lister les activités'!D320),\"\")","v":{"v":0,"d":"0.00"}},{"$f":"IFERROR(IF($BH$3=\"\",\"\",'1_Lister les activités'!A320),\"\")","v":""},null,{"v":0,"d":"0.00"},{"$f":"IFERROR(IF($BH$3=\"\",\"\",'1_Lister les activités'!B320),\"\")","v":0},0,{"v":0,"d":"0.00"},{"$f":"IFERROR(IF($BH$3=\"\",\"\",'1_Lister les activités'!C320),\"\")","v":"Selectionner"}]
[{"$nulls":9},{"$f":"'2-Programmer les activités'!F324","v":0},{"$f":"'2-Programmer les activités'!G324","v":0},{"$nulls":21},{"$f":"IF('2-Programmer les activités'!K325=\"\",\"\",'2-Programmer les activités'!K325)","v":""},"","","","","-","","","","X",null,"","","","",null,"","","","",null,"","","","",null,null,{"$f":"IFERROR(IF($BH$3=\"\",\"\",'1_Lister les activités'!D321),\"\")","v":{"v":0,"d":"0.00"}},{"$f":"IFERROR(IF($BH$3=\"\",\"\",'1_Lister les activités'!A321),\"\")","v":""},null,{"v":0,"d":"0.00"},{"$f":"IFERROR(IF($BH$3=\"\",\"\",'1_Lister les activités'!B321),\"\")","v":0},0,{"v":0,"d":"0.00"},{"$f":"IFERROR(IF($BH$3=\"\",\"\",'1_Lister les activités'!C321),\"\")","v":"Selectionner"}]
[{"$nulls":9},{"$f":"'2-Programmer les activités'!F325","v":0},{"$f":"'2-Programmer les activités'!G325","v":0},{"$nulls":21},{"$f":"IF('2-Programmer les activités'!K326=\"\",\"\",'2-Programmer les activités'!K326)","v":""},"","","","","-","","","","X",null,"","","","",null,"","","","",null,"","","","",null,null,{"$f":"IFERROR(IF($BH$3=\"\",\"\",'1_Lister les activités'!D322),\"\")","v":{"v":0,"d":"0.00"}},{"$f":"IFERROR(IF($BH$3=\"\",\"\",'1_Lister les activités'!A322),\"\")","v":""},null,{"v":0,"d":"0.00"},{"$f":"IFERROR(IF($BH$3=\"\",\"\",'1_Lister les activités'!B322),\"\")","v":0},0,{"v":0,"d":"0.00"},{"$f":"IFERROR(IF($BH$3=\"\",\"\",'1_Lister les activités'!C322),\"\")","v":"Selectionner"}]
[{"$nulls":9},{"$f":"'2-Programmer les activités'!F326","v":0},{"$f":"'2-Programmer les activités'!G326","v":0},{"$nulls":21},{"$f":"IF('2-Programmer les activités'!K327=\"\",\"\",'2-Programmer les activités'!K327)","v":""},"","","","","-","","","","X",null,"","","","",null,"","","","",null,"","","","",null,null,{"$f":"IFERROR(IF($BH$3=\"\",\"\",'1_Lister les activités'!D323),\"\")","v":{"v":0,"d":"0.00"}},{"$f":"IFERROR(IF($BH$3=\"\",\"\",'1_Lister les activités'!A323),\"\")","v":""},null,{"v":0,"d":"0.00"},{"$f":"IFERROR(IF($BH$3=\"\",\"\",'1_Lister les activités'!B323),\"\")","v":0},0,{"v":0,"d":"0.00"},{"$f":"IFERROR(IF($BH$3=\"\",\"\",'1_Lister les activités'!C323),\"\")","v":"Selectionner"}]
[{"$nulls":9},{"$f":"'2-Programmer les activités'!F327","v":0},{"$f":"'2-Programmer les activités'!G327","v":0},{"$nulls":21},{"$f":"IF('2-Programmer les activités'!K328=\"\",\"\",'2-Programmer les activités'!K328)","v":""},"","","","","-","","","","X",null,"","","","",null,"","","","",null,"","","","",null,null,{"$f":"IFERROR(IF($BH$3=\"\",\"\",'1_Lister les activités'!D324),\"\")","v":{"v":0,"d":"0.00"}},{"$f":"IFERROR(IF($BH$3=\"\",\"\",'1_Lister les activités'!A324),\"\")","v":""},null,{"v":0,"d":"0.00"},{"$f":"IFERROR(IF($BH$3=\"\",\"\",'1_Lister les activités'!B324),\"\")","v":0},0,{"v":0,"d":"0.00"},{"$f":"IFERROR(IF($BH$3=\"\",\"\",'1_Lister les activités'!C324),\"\")","v":"Selectionner"}]
[{"$nulls":9},{"$f":"'2-Programmer les activités'!F328","v":0},{"$f":"'2-Programmer les activités'!G328","v":0},{"$nulls":21},{"$f":"IF('2-Programmer les activités'!K329=\"\",\"\",'2-Programmer les activités'!K329)","v":""},"","","","","-","","","","X",null,"","","","",null,"","","","",null,"","","","",null,null,{"$f":"IFERROR(IF($BH$3=\"\",\"\",'1_Lister les activités'!D325),\"\")","v":{"v":0,"d":"0.00"}},{"$f":"IFERROR(IF($BH$3=\"\",\"\",'1_Lister les activités'!A325),\"\")","v":""},null,{"v":0,"d":"0.00"},{"$f":"IFERROR(IF($BH$3=\"\",\"\",'1_Lister les activités'!B325),\"\")","v":0},0,{"v":0,"d":"0.00"},{"$f":"IFERROR(IF($BH$3=\"\",\"\",'1_Lister les activités'!C325),\"\")","v":"Selectionner"}]
[{"$nulls":9},{"$f":"'2-Programmer les activités'!F329","v":0},{"$f":"'2-Programmer les activités'!G329","v":0},{"$nulls":21},{"$f":"IF('2-Programmer les activités'!K330=\"\",\"\",'2-Programmer les activités'!K330)","v":""},"","","","","-","","","","X",null,"","","","",null,"","","","",null,"","","","",null,null,{"$f":"IFERROR(IF($BH$3=\"\",\"\",'1_Lister les activités'!D326),\"\")","v":{"v":0,"d":"0.00"}},{"$f":"IFERROR(IF($BH$3=\"\",\"\",'1_Lister les activités'!A326),\"\")","v":""},null,{"v":0,"d":"0.00"},{"$f":"IFERROR(IF($BH$3=\"\",\"\",'1_Lister les activités'!B326),\"\")","v":0},0,{"v":0,"d":"0.00"},{"$f":"IFERROR(IF($BH$3=\"\",\"\",'1_Lister les activités'!C326),\"\")","v":"Selectionner"}]
[{"$nulls":9},{"$f":"'2-Programmer les activités'!F330","v":0},{"$f":"'2-Programmer les activités'!G330","v":0},{"$nulls":21},{"$f":"IF('2-Programmer les activités'!K331=\"\",\"\",'2-Programmer les activités'!K331)","v":""},"","","","","-","","","","X",null,"","","","",null,"","","","",null,"","","","",null,null,{"$f":"IFERROR(IF($BH$3=\"\",\"\",'1_Lister les activités'!D327),\"\")","v":{"v":0,"d":"0.00"}},{"$f":"IFERROR(IF($BH$3=\"\",\"\",'1_Lister les activités'!A327),\"\")","v":""},null,{"v":0,"d":"0.00"},{"$f":"IFERROR(IF($BH$3=\"\",\"\",'1_Lister les activités'!B327),\"\")","v":0},0,{"v":0,"d":"0.00"},{"$f":"IFERROR(IF($BH$3=\"\",\"\",'1_Lister les activités'!C327),\"\")","v":"Selectionner"}]
[{"$nulls":9},{"$f":"'2-Programmer les activités'!F331","v":0},{"$f":"'2-Programmer les activités'!G331","v":0},{"$nulls":21},{"$f":"IF('2-Programmer les activités'!K332=\"\",\"\",'2-Programmer les activités'!K332)","v":""},"",{"$f":"IFERROR(VLOOKUP(AH326,$A$110:$B$121,2,FALSE),\"\")","v":""},"","","-","","","","X",null,"","","","",null,"","","","",null,"","","","",null,null,{"$f":"IFERROR(IF($BH$3=\"\",\"\",'1_Lister les activités'!D328),\"\")","v":{"v":0,"d":"0.00"}},{"$f":"IFERROR(IF($BH$3=\"\",\"\",'1_Lister les activités'!A328),\"\")","v":""},null,{"$f":"IFERROR(BH326,\"\")","v":{"v":0,"d":"0.00"}},{"$f":"IFERROR(IF($BH$3=\"\",\"\",'1_Lister les activités'!B328),\"\")","v":0},{"$f":"IFERROR(BL326,\"\")","v":0},{"$f":"IFERROR(BK326,\"\")","v":{"v":0,"d":"0.00"}},{"$f":"IFERROR(IF($BH$3=\"\",\"\",'1_Lister les activités'!C328),\"\")","v":"Selectionner"}]
[{"$nulls":9},{"$f":"'2-Programmer les activités'!F332","v":0},{"$f":"'2-Programmer les activités'!G332","v":0},{"$nulls":21},{"$f":"IF('2-Programmer les activités'!K333=\"\",\"\",'2-Programmer les activités'!K333)","v":""},{"$f":"IF(AG327=\"\",\"\",MONTH(AG327))","v":""},"","","","-","","","","X",null,"","","","",null,"","","","",null,"","","","",null,null,{"$f":"IFERROR(IF($BH$3=\"\",\"\",'1_Lister les activités'!D329),\"\")","v":{"v":0,"d":"0.00"}},{"$f":"IFERROR(IF($BH$3=\"\",\"\",'1_Lister les activités'!A329),\"\")","v":""},null,{"v":0,"d":"0.00"},{"$f":"IFERROR(IF($BH$3=\"\",\"\",'1_Lister les activités'!B329),\"\")","v":0},0,{"v":0,"d":"0.00"},{"$f":"IFERROR(IF($BH$3=\"\",\"\",'1_Lister les activités'!C329),\"\")","v":"Selectionner"}]
[{"$nulls":9},{"$f":"'2-Programmer les activités'!F333","v":0},{"$f":"'2-Programmer les activités'!G333","v":0},{"$nulls":21},{"$f":"IF('2-Programmer les activités'!K334=\"\",\"\",'2-Programmer les activités'!K334)","v":""},"","","","","-","","","","X",null,"","","","",null,"","","","",null,"","","","",null,null,{"$f":"IFERROR(IF($BH$3=\"\",\"\",'1_Lister les activités'!D330),\"\")","v":{"v":0,"d":"0.00"}},{"$f":"IFERROR(IF($BH$3=\"\",\"\",'1_Lister les activités'!A330),\"\")","v":""},null,{"v":0,"d":"0.00"},{"$f":"IFERROR(IF($BH$3=\"\",\"\",'1_Lister les activités'!B330),\"\")","v":0},0,{"v":0,"d":"0.00"},{"$f":"IFERROR(IF($BH$3=\"\",\"\",'1_Lister les activités'!C330),\"\")","v":"Selectionner"}]
[{"$nulls":9},{"$f":"'2-Programmer les activités'!F334","v":0},{"$f":"'2-Programmer les activités'!G334","v":0},{"$nulls":21},{"$f":"IF('2-Programmer les activités'!K335=\"\",\"\",'2-Programmer les activités'!K335)","v":""},"","","","","-","","","","X",null,"","","","",null,"","","","",null,"","","","",null,null,{"$f":"IFERROR(IF($BH$3=\"\",\"\",'1_Lister les activités'!D331),\"\")","v":{"v":0,"d":"0.00"}},{"$f":"IFERROR(IF($BH$3=\"\",\"\",'1_Lister les activités'!A331),\"\")","v":""},null,{"v":0,"d":"0.00"},{"$f":"IFERROR(IF($BH$3=\"\",\"\",'1_Lister les activités'!B331),\"\")","v":0},0,{"v":0,"d":"0.00"},{"$f":"IFERROR(IF($BH$3=\"\",\"\",'1_Lister les activités'!C331),\"\")","v":"Selectionner"}]
[{"$nulls":9},{"$f":"'2-Programmer les activités'!F335","v":0},{"$f":"'2-Programmer les activités'!G335","v":0},{"$nulls":21},{"$f":"IF('2-Programmer les activités'!K336=\"\",\"\",'2-Programmer les activités'!K336)","v":""},"","","","","-","","","","X",null,"","","","",null,"","","","",null,"","","","",null,null,{"$f":"IFERROR(IF($BH$3=\"\",\"\",'1_Lister les activités'!D332),\"\")","v":{"v":0,"d":"0.00"}},{"$f":"IFERROR(IF($BH$3=\"\",\"\",'1_Lister les activités'!A332),\"\")","v":""},null,{"v":0,"d":"0.00"},{"$f":"IFERROR(IF($BH$3=\"\",\"\",'1_Lister les activités'!B332),\"\")","v":0},0,{"v":0,"d":"0.00"},{"$f":"IFERROR(IF($BH$3=\"\",\"\",'1_Lister les activités'!C332),\"\")","v":"Selectionner"}]
[{"$nulls":9},{"$f":"'2-Programmer les activités'!F336","v":0},{"$f":"'2-Programmer les activités'!G336","v":0},{"$nulls":21},{"$f":"IF('2-Programmer les activités'!K337=\"\",\"\",'2-Programmer les activités'!K337)","v":""},"","","","","-","","","","X",null,"","","","",null,"","","","",null,"","","","",null,null,{"$f":"IFERROR(IF($BH$3=\"\",\"\",'1_Lister les activités'!D333),\"\")","v":{"v":0,"d":"0.00"}},{"$f":"IFERROR(IF($BH$3=\"\",\"\",'1_Lister les activités'!A333),\"\")","v":""},null,{"v":0,"d":"0.00"},{"$f":"IFERROR(IF($BH$3=\"\",\"\",'1_Lister les activités'!B333),\"\")","v":0},0,{"v":0,"d":"0.00"},{"$f":"IFERROR(IF($BH$3=\"\",\"\",'1_Lister les activités'!C333),\"\")","v":"Selectionner"}]
[{"$nulls":9},{"$f":"'2-Programmer les activités'!F337","v":0},{"$f":"'2-Programmer les activités'!G337","v":0},{"$nulls":21},{"$f":"IF('2-Programmer les activités'!K338=\"\",\"\",'2-Programmer les activités'!K338)","v":""},"","","","","-","","","","X",null,"","","","",null,"","","","",null,"","","","",null,null,{"$f":"IFERROR(IF($BH$3=\"\",\"\",'1_Lister les activités'!D334),\"\")","v":{"v":0,"d":"0.00"}},{"$f":"IFERROR(IF($BH$3=\"\",\"\",'1_Lister les activités'!A334),\"\")","v":""},null,{"v":0,"d":"0.00"},{"$f":"IFERROR(IF($BH$3=\"\",\"\",'1_Lister les activités'!B334),\"\")","v":0},0,{"v":0,"d":"0.00"},{"$f":"IFERROR(IF($BH$3=\"\",\"\",'1_Lister les activités'!C334),\"\")","v":"Selectionner"}]
[{"$nulls":9},{"$f":"'2-Programmer les activités'!F338","v":0},{"$f":"'2-Programmer les activités'!G338","v":0},{"$nulls":21},{"$f":"IF('2-Programmer les activités'!K339=\"\",\"\",'2-Programmer les activités'!K339)","v":""},"","","","","-","","","","X",null,"","","","",null,"","","","",null,"","","","",null,null,{"$f":"IFERROR(IF($BH$3=\"\",\"\",'1_Lister les activités'!D335),\"\")","v":{"v":0,"d":"0.00"}},{"$f":"IFERROR(IF($BH$3=\"\",\"\",'1_Lister les activités'!A335),\"\")","v":""},null,{"v":0,"d":"0.00"},{"$f":"IFERROR(IF($BH$3=\"\",\"\",'1_Lister les activités'!B335),\"\")","v":0},0,{"v":0,"d":"0.00"},{"$f":"IFERROR(IF($BH$3=\"\",\"\",'1_Lister les activités'!C335),\"\")","v":"Selectionner"}]
[{"$nulls":9},{"$f":"'2-Programmer les activités'!F339","v":0},{"$f":"'2-Programmer les activités'!G339","v":0},{"$nulls":21},{"$f":"IF('2-Programmer les activités'!K340=\"\",\"\",'2-Programmer les activités'!K340)","v":""},"","","","","-","","","","X",null,"","","","",null,"","","","",null,"","","","",null,null,{"$f":"IFERROR(IF($BH$3=\"\",\"\",'1_Lister les activités'!D336),\"\")","v":{"v":0,"d":"0.00"}},{"$f":"IFERROR(IF($BH$3=\"\",\"\",'1_Lister les activités'!A336),\"\")","v":""},null,{"v":0,"d":"0.00"},{"$f":"IFERROR(IF($BH$3=\"\",\"\",'1_Lister les activités'!B336),\"\")","v":0},0,{"v":0,"d":"0.00"},{"$f":"IFERROR(IF($BH$3=\"\",\"\",'1_Lister les activités'!C336),\"\")","v":"Selectionner"}]
[{"$nulls":9},{"$f":"'2-Programmer les activités'!F340","v":0},{"$f":"'2-Programmer les activités'!G340","v":0},{"$nulls":21},{"$f":"IF('2-Programmer les activités'!K341=\"\",\"\",'2-Programmer les activités'!K341)","v":""},"","","","","-","","","","X",null,"","","","",null,"","","","",null,"","","","",null,null,{"$f":"IFERROR(IF($BH$3=\"\",\"\",'1_Lister les activités'!D337),\"\")","v":{"v":0,"d":"0.00"}},{"$f":"IFERROR(IF($BH$3=\"\",\"\",'1_Lister les activités'!A337),\"\")","v":""},null,{"v":0,"d":"0.00"},{"$f":"IFERROR(IF($BH$3=\"\",\"\",'1_Lister les activités'!B337),\"\")","v":0},0,{"v":0,"d":"0.00"},{"$f":"IFERROR(IF($BH$3=\"\",\"\",'1_Lister les activités'!C337),\"\")","v":"Selectionner"}]
[{"$nulls":9},{"$f":"'2-Programmer les activités'!F341","v":0},{"$f":"'2-Programmer les activités'!G341","v":0},{"$nulls":21},{"$f":"IF('2-Programmer les activités'!K342=\"\",\"\",'2-Programmer les activités'!K342)","v":""},"","","","","-","","","","X",null,"","","","",null,"","","","",null,"","","","",null,null,{"$f":"IFERROR(IF($BH$3=\"\",\"\",'1_Lister les activités'!D338),\"\")","v":{"v":0,"d":"0.00"}},{"$f":"IFERROR(IF($BH$3=\"\",\"\",'1_Lister les activités'!A338),\"\")","v":""},null,{"v":0,"d":"0.00"},{"$f":"IFERROR(IF($BH$3=\"\",\"\",'1_Lister les activités'!B338),\"\")","v":0},0,{"v":0,"d":"0.00"},{"$f":"IFERROR(IF($BH$3=\"\",\"\",'1_Lister les activités'!C338),\"\")","v":"Selectionner"}]
[{"$nulls":9},{"$f":"'2-Programmer les activités'!F342","v":0},{"$f":"'2-Programmer les activités'!G342","v":0},{"$nulls":21},{"$f":"IF('2-Programmer les activités'!K343=\"\",\"\",'2-Programmer les activités'!K343)","v":""},"","","","","-","","","","X",null,"","","","",null,"","","","",null,"","","","",null,null,{"$f":"IFERROR(IF($BH$3=\"\",\"\",'1_Lister les activités'!D339),\"\")","v":{"v":0,"d":"0.00"}},{"$f":"IFERROR(IF($BH$3=\"\",\"\",'1_Lister les activités'!A339),\"\")","v":""},null,{"v":0,"d":"0.00"},{"$f":"IFERROR(IF($BH$3=\"\",\"\",'1_Lister les activités'!B339),\"\")","v":0},0,{"v":0,"d":"0.00"},{"$f":"IFERROR(IF($BH$3=\"\",\"\",'1_Lister les activités'!C339),\"\")","v":"Selectionner"}]
[{"$nulls":9},{"$f":"'2-Programmer les activités'!F343","v":0},{"$f":"'2-Programmer les activités'!G343","v":0},{"$nulls":21},{"$f":"IF('2-Programmer les activités'!K344=\"\",\"\",'2-Programmer les activités'!K344)","v":""},"","","","","-","","","","X",null,"","","","",null,"","","","",null,"","","","",null,null,{"$f":"IFERROR(IF($BH$3=\"\",\"\",'1_Lister les activités'!D340),\"\")","v":{"v":0,"d":"0.00"}},{"$f":"IFERROR(IF($BH$3=\"\",\"\",'1_Lister les activités'!A340),\"\")","v":""},null,{"v":0,"d":"0.00"},{"$f":"IFERROR(IF($BH$3=\"\",\"\",'1_Lister les activités'!B340),\"\")","v":0},0,{"v":0,"d":"0.00"},{"$f":"IFERROR(IF($BH$3=\"\",\"\",'1_Lister les activités'!C340),\"\")","v":"Selectionner"}]
[{"$nulls":9},{"$f":"'2-Programmer les activités'!F344","v":0},{"$f":"'2-Programmer les activités'!G344","v":0},{"$nulls":21},{"$f":"IF('2-Programmer les activités'!K345=\"\",\"\",'2-Programmer les activités'!K345)","v":""},"","","","","-","","","","X",null,"","","","",null,"","","","",null,"","","","",null,null,{"$f":"IFERROR(IF($BH$3=\"\",\"\",'1_Lister les activités'!D341),\"\")","v":{"v":0,"d":"0.00"}},{"$f":"IFERROR(IF($BH$3=\"\",\"\",'1_Lister les activités'!A341),\"\")","v":""},null,{"v":0,"d":"0.00"},{"$f":"IFERROR(IF($BH$3=\"\",\"\",'1_Lister les activités'!B341),\"\")","v":0},0,{"v":0,"d":"0.00"},{"$f":"IFERROR(IF($BH$3=\"\",\"\",'1_Lister les activités'!C341),\"\")","v":"Selectionner"}]
[{"$nulls":9},{"$f":"'2-Programmer les activités'!F345","v":0},{"$f":"'2-Programmer les activités'!G345","v":0},{"$nulls":21},{"$f":"IF('2-Programmer les activités'!K346=\"\",\"\",'2-Programmer les activités'!K346)","v":""},"","","","","-","","","","X",null,"","","","",null,"","","","",null,"","","","",null,null,{"$f":"IFERROR(IF($BH$3=\"\",\"\",'1_Lister les activités'!D342),\"\")","v":{"v":0,"d":"0.00"}},{"$f":"IFERROR(IF($BH$3=\"\",\"\",'1_Lister les activités'!A342),\"\")","v":""},null,{"v":0,"d":"0.00"},{"$f":"IFERROR(IF($BH$3=\"\",\"\",'1_Lister les activités'!B342),\"\")","v":0},0,{"v":0,"d":"0.00"},{"$f":"IFERROR(IF($BH$3=\"\",\"\",'1_Lister les activités'!C342),\"\")","v":"Selectionner"}]
[{"$nulls":9},{"$f":"'2-Programmer les activités'!F346","v":0},{"$f":"'2-Programmer les activités'!G346","v":0},{"$nulls":21},{"$f":"IF('2-Programmer les activités'!K347=\"\",\"\",'2-Programmer les activités'!K347)","v":""},"","","","","-","","","","X",null,"","","","",null,"","","","",null,"","","","",null,null,{"$f":"IFERROR(IF($BH$3=\"\",\"\",'1_Lister les activités'!D343),\"\")","v":{"v":0,"d":"0.00"}},{"$f":"IFERROR(IF($BH$3=\"\",\"\",'1_Lister les activités'!A343),\"\")","v":""},null,{"v":0,"d":"0.00"},{"$f":"IFERROR(IF($BH$3=\"\",\"\",'1_Lister les activités'!B343),\"\")","v":0},0,{"v":0,"d":"0.00"},{"$f":"IFERROR(IF($BH$3=\"\",\"\",'1_Lister les activités'!C343),\"\")","v":"Selectionner"}]
[{"$nulls":9},{"$f":"'2-Programmer les activités'!F347","v":0},{"$f":"'2-Programmer les activités'!G347","v":0},{"$nulls":21},{"$f":"IF('2-Programmer les activités'!K348=\"\",\"\",'2-Programmer les activités'!K348)","v":""},"","","","","-","","","","X",null,"","","","",null,"","","","",null,"","","","",null,null,{"$f":"IFERROR(IF($BH$3=\"\",\"\",'1_Lister les activités'!D344),\"\")","v":{"v":0,"d":"0.00"}},{"$f":"IFERROR(IF($BH$3=\"\",\"\",'1_Lister les activités'!A344),\"\")","v":""},null,{"v":0,"d":"0.00"},{"$f":"IFERROR(IF($BH$3=\"\",\"\",'1_Lister les activités'!B344),\"\")","v":0},0,{"v":0,"d":"0.00"},{"$f":"IFERROR(IF($BH$3=\"\",\"\",'1_Lister les activités'!C344),\"\")","v":"Selectionner"}]
[{"$nulls":9},{"$f":"'2-Programmer les activités'!F348","v":0},{"$f":"'2-Programmer les activités'!G348","v":0},{"$nulls":21},{"$f":"IF('2-Programmer les activités'!K349=\"\",\"\",'2-Programmer les activités'!K349)","v":""},"","","","","-","","","","X",null,"","","","",null,"","","","",null,"","","","",null,null,{"$f":"IFERROR(IF($BH$3=\"\",\"\",'1_Lister les activités'!D345),\"\")","v":{"v":0,"d":"0.00"}},{"$f":"IFERROR(IF($BH$3=\"\",\"\",'1_Lister les activités'!A345),\"\")","v":""},null,{"v":0,"d":"0.00"},{"$f":"IFERROR(IF($BH$3=\"\",\"\",'1_Lister les activités'!B345),\"\")","v":0},0,{"v":0,"d":"0.00"},{"$f":"IFERROR(IF($BH$3=\"\",\"\",'1_Lister les activités'!C345),\"\")","v":"Selectionner"}]
[{"$nulls":9},{"$f":"'2-Programmer les activités'!F349","v":0},{"$f":"'2-Programmer les activités'!G349","v":0},{"$nulls":21},{"$f":"IF('2-Programmer les activités'!K350=\"\",\"\",'2-Programmer les activités'!K350)","v":""},"","","","","-","","","","X",null,"","","","",null,"","","","",null,"","","","",null,null,{"$f":"IFERROR(IF($BH$3=\"\",\"\",'1_Lister les activités'!D346),\"\")","v":{"v":0,"d":"0.00"}},{"$f":"IFERROR(IF($BH$3=\"\",\"\",'1_Lister les activités'!A346),\"\")","v":""},null,{"v":0,"d":"0.00"},{"$f":"IFERROR(IF($BH$3=\"\",\"\",'1_Lister les activités'!B346),\"\")","v":0},0,{"v":0,"d":"0.00"},{"$f":"IFERROR(IF($BH$3=\"\",\"\",'1_Lister les activités'!C346),\"\")","v":"Selectionner"}]
[{"$nulls":9},{"$f":"'2-Programmer les activités'!F350","v":0},{"$f":"'2-Programmer les activités'!G350","v":0},{"$nulls":21},{"$f":"IF('2-Programmer les activités'!K351=\"\",\"\",'2-Programmer les activités'!K351)","v":""},"","","","","-","","","","X",null,"","","","",null,"","","","",null,"","","","",null,null,{"$f":"IFERROR(IF($BH$3=\"\",\"\",'1_Lister les activités'!D347),\"\")","v":{"v":0,"d":"0.00"}},{"$f":"IFERROR(IF($BH$3=\"\",\"\",'1_Lister les activités'!A347),\"\")","v":""},null,{"v":0,"d":"0.00"},{"$f":"IFERROR(IF($BH$3=\"\",\"\",'1_Lister les activités'!B347),\"\")","v":0},0,{"v":0,"d":"0.00"},{"$f":"IFERROR(IF($BH$3=\"\",\"\",'1_Lister les activités'!C347),\"\")","v":"Selectionner"}]
[{"$nulls":9},{"$f":"'2-Programmer les activités'!F351","v":0},{"$f":"'2-Programmer les activités'!G351","v":0},{"$nulls":21},{"$f":"IF('2-Programmer les activités'!K352=\"\",\"\",'2-Programmer les activités'!K352)","v":""},"","","","","-","","","","X",null,"","","","",null,"","","","",null,"","","","",null,null,{"$f":"IFERROR(IF($BH$3=\"\",\"\",'1_Lister les activités'!D348),\"\")","v":{"v":0,"d":"0.00"}},{"$f":"IFERROR(IF($BH$3=\"\",\"\",'1_Lister les activités'!A348),\"\")","v":""},null,{"v":0,"d":"0.00"},{"$f":"IFERROR(IF($BH$3=\"\",\"\",'1_Lister les activités'!B348),\"\")","v":0},0,{"v":0,"d":"0.00"},{"$f":"IFERROR(IF($BH$3=\"\",\"\",'1_Lister les activités'!C348),\"\")","v":"Selectionner"}]
[{"$nulls":9},{"$f":"'2-Programmer les activités'!F352","v":0},{"$f":"'2-Programmer les activités'!G352","v":0},{"$nulls":21},{"$f":"IF('2-Programmer les activités'!K353=\"\",\"\",'2-Programmer les activités'!K353)","v":""},"","","","","-","","","","X",null,"","","","",null,"","","","",null,"","","","",null,null,{"$f":"IFERROR(IF($BH$3=\"\",\"\",'1_Lister les activités'!D349),\"\")","v":{"v":0,"d":"0.00"}},{"$f":"IFERROR(IF($BH$3=\"\",\"\",'1_Lister les activités'!A349),\"\")","v":""},null,{"v":0,"d":"0.00"},{"$f":"IFERROR(IF($BH$3=\"\",\"\",'1_Lister les activités'!B349),\"\")","v":0},0,{"v":0,"d":"0.00"},{"$f":"IFERROR(IF($BH$3=\"\",\"\",'1_Lister les activités'!C349),\"\")","v":"Selectionner"}]
[{"$nulls":9},{"$f":"'2-Programmer les activités'!F353","v":0},{"$f":"'2-Programmer les activités'!G353","v":0},{"$nulls":21},{"$f":"IF('2-Programmer les activités'!K354=\"\",\"\",'2-Programmer les activités'!K354)","v":""},"","","","","-","","","","X",null,"","","","",null,"","","","",null,"","","","",null,null,{"$f":"IFERROR(IF($BH$3=\"\",\"\",'1_Lister les activités'!D350),\"\")","v":{"v":0,"d":"0.00"}},{"$f":"IFERROR(IF($BH$3=\"\",\"\",'1_Lister les activités'!A350),\"\")","v":""},null,{"v":0,"d":"0.00"},{"$f":"IFERROR(IF($BH$3=\"\",\"\",'1_Lister les activités'!B350),\"\")","v":0},0,{"v":0,"d":"0.00"},{"$f":"IFERROR(IF($BH$3=\"\",\"\",'1_Lister les activités'!C350),\"\")","v":"Selectionner"}]
[{"$nulls":9},{"$f":"'2-Programmer les activités'!F354","v":0},{"$f":"'2-Programmer les activités'!G354","v":0},{"$nulls":21},{"$f":"IF('2-Programmer les activités'!K355=\"\",\"\",'2-Programmer les activités'!K355)","v":""},"","","","","-","","","","X",null,"","","","",null,"","","","",null,"","","","",null,null,{"$f":"IFERROR(IF($BH$3=\"\",\"\",'1_Lister les activités'!D351),\"\")","v":{"v":0,"d":"0.00"}},{"$f":"IFERROR(IF($BH$3=\"\",\"\",'1_Lister les activités'!A351),\"\")","v":""},null,{"v":0,"d":"0.00"},{"$f":"IFERROR(IF($BH$3=\"\",\"\",'1_Lister les activités'!B351),\"\")","v":0},0,{"v":0,"d":"0.00"},{"$f":"IFERROR(IF($BH$3=\"\",\"\",'1_Lister les activités'!C351),\"\")","v":"Selectionner"}]
[{"$nulls":9},{"$f":"'2-Programmer les activités'!F355","v":0},{"$f":"'2-Programmer les activités'!G355","v":0},{"$nulls":21},{"$f":"IF('2-Programmer les activités'!K356=\"\",\"\",'2-Programmer les activités'!K356)","v":""},"","","","","-","","","","X",null,"","","","",null,"","","","",null,"","","","",null,null,{"$f":"IFERROR(IF($BH$3=\"\",\"\",'1_Lister les activités'!D352),\"\")","v":{"v":0,"d":"0.00"}},{"$f":"IFERROR(IF($BH$3=\"\",\"\",'1_Lister les activités'!A352),\"\")","v":""},null,{"v":0,"d":"0.00"},{"$f":"IFERROR(IF($BH$3=\"\",\"\",'1_Lister les activités'!B352),\"\")","v":0},0,{"v":0,"d":"0.00"},{"$f":"IFERROR(IF($BH$3=\"\",\"\",'1_Lister les activités'!C352),\"\")","v":"Selectionner"}]
[{"$nulls":9},{"$f":"'2-Programmer les activités'!F356","v":0},{"$f":"'2-Programmer les activités'!G356","v":0},{"$nulls":21},{"$f":"IF('2-Programmer les activités'!K357=\"\",\"\",'2-Programmer les activités'!K357)","v":""},"","","","","-","","","","X",null,"","","","",null,"","","","",null,"","","","",null,null,{"$f":"IFERROR(IF($BH$3=\"\",\"\",'1_Lister les activités'!D353),\"\")","v":{"v":0,"d":"0.00"}},{"$f":"IFERROR(IF($BH$3=\"\",\"\",'1_Lister les activités'!A353),\"\")","v":""},null,{"v":0,"d":"0.00"},{"$f":"IFERROR(IF($BH$3=\"\",\"\",'1_Lister les activités'!B353),\"\")","v":0},0,{"v":0,"d":"0.00"},{"$f":"IFERROR(IF($BH$3=\"\",\"\",'1_Lister les activités'!C353),\"\")","v":"Selectionner"}]
[{"$nulls":9},{"$f":"'2-Programmer les activités'!F357","v":0},{"$f":"'2-Programmer les activités'!G357","v":0},{"$nulls":21},{"$f":"IF('2-Programmer les activités'!K358=\"\",\"\",'2-Programmer les activités'!K358)","v":""},"","","","","-","","","","X",null,"","","","",null,"","","","",null,"","","","",null,null,{"$f":"IFERROR(IF($BH$3=\"\",\"\",'1_Lister les activités'!D354),\"\")","v":{"v":0,"d":"0.00"}},{"$f":"IFERROR(IF($BH$3=\"\",\"\",'1_Lister les activités'!A354),\"\")","v":""},null,{"v":0,"d":"0.00"},{"$f":"IFERROR(IF($BH$3=\"\",\"\",'1_Lister les activités'!B354),\"\")","v":0},0,{"v":0,"d":"0.00"},{"$f":"IFERROR(IF($BH$3=\"\",\"\",'1_Lister les activités'!C354),\"\")","v":"Selectionner"}]
[{"$nulls":9},{"$f":"'2-Programmer les activités'!F358","v":0},{"$f":"'2-Programmer les activités'!G358","v":0},{"$nulls":21},{"$f":"IF('2-Programmer les activités'!K359=\"\",\"\",'2-Programmer les activités'!K359)","v":""},"","","","","-","","","","X",null,"","","","",null,"","","","",null,"","","","",null,null,{"$f":"IFERROR(IF($BH$3=\"\",\"\",'1_Lister les activités'!D355),\"\")","v":{"v":0,"d":"0.00"}},{"$f":"IFERROR(IF($BH$3=\"\",\"\",'1_Lister les activités'!A355),\"\")","v":""},null,{"v":0,"d":"0.00"},{"$f":"IFERROR(IF($BH$3=\"\",\"\",'1_Lister les activités'!B355),\"\")","v":0},0,{"v":0,"d":"0.00"},{"$f":"IFERROR(IF($BH$3=\"\",\"\",'1_Lister les activités'!C355),\"\")","v":"Selectionner"}]
[{"$nulls":9},{"$f":"'2-Programmer les activités'!F359","v":0},{"$f":"'2-Programmer les activités'!G359","v":0},{"$nulls":21},{"$f":"IF('2-Programmer les activités'!K360=\"\",\"\",'2-Programmer les activités'!K360)","v":""},"","","","","-","","","","X",null,"","","","",null,"","","","",null,"","","","",null,null,{"$f":"IFERROR(IF($BH$3=\"\",\"\",'1_Lister les activités'!D356),\"\")","v":{"v":0,"d":"0.00"}},{"$f":"IFERROR(IF($BH$3=\"\",\"\",'1_Lister les activités'!A356),\"\")","v":""},null,{"v":0,"d":"0.00"},{"$f":"IFERROR(IF($BH$3=\"\",\"\",'1_Lister les activités'!B356),\"\")","v":0},0,{"v":0,"d":"0.00"},{"$f":"IFERROR(IF($BH$3=\"\",\"\",'1_Lister les activités'!C356),\"\")","v":"Selectionner"}]
[{"$nulls":9},{"$f":"'2-Programmer les activités'!F360","v":0},{"$f":"'2-Programmer les activités'!G360","v":0},{"$nulls":21},{"$f":"IF('2-Programmer les activités'!K361=\"\",\"\",'2-Programmer les activités'!K361)","v":""},"","","","","-","","","","X",null,"","","","",null,"","","","",null,"","","","",null,null,{"$f":"IFERROR(IF($BH$3=\"\",\"\",'1_Lister les activités'!D357),\"\")","v":{"v":0,"d":"0.00"}},{"$f":"IFERROR(IF($BH$3=\"\",\"\",'1_Lister les activités'!A357),\"\")","v":""},null,{"v":0,"d":"0.00"},{"$f":"IFERROR(IF($BH$3=\"\",\"\",'1_Lister les activités'!B357),\"\")","v":0},0,{"v":0,"d":"0.00"},{"$f":"IFERROR(IF($BH$3=\"\",\"\",'1_Lister les activités'!C357),\"\")","v":"Selectionner"}]
[{"$nulls":9},{"$f":"'2-Programmer les activités'!F361","v":0},{"$f":"'2-Programmer les activités'!G361","v":0},{"$nulls":21},{"$f":"IF('2-Programmer les activités'!K362=\"\",\"\",'2-Programmer les activités'!K362)","v":""},"","","","","-","","","","X",null,"","","","",null,"","","","",null,"","","","",null,null,{"$f":"IFERROR(IF($BH$3=\"\",\"\",'1_Lister les activités'!D358),\"\")","v":{"v":0,"d":"0.00"}},{"$f":"IFERROR(IF($BH$3=\"\",\"\",'1_Lister les activités'!A358),\"\")","v":""},null,{"v":0,"d":"0.00"},{"$f":"IFERROR(IF($BH$3=\"\",\"\",'1_Lister les activités'!B358),\"\")","v":0},0,{"v":0,"d":"0.00"},{"$f":"IFERROR(IF($BH$3=\"\",\"\",'1_Lister les activités'!C358),\"\")","v":"Selectionner"}]
[{"$nulls":9},{"$f":"'2-Programmer les activités'!F362","v":0},{"$f":"'2-Programmer les activités'!G362","v":0},{"$nulls":21},{"$f":"IF('2-Programmer les activités'!K363=\"\",\"\",'2-Programmer les activités'!K363)","v":""},"","","","","-","","","","X",null,"","","","",null,"","","","",null,"","","","",null,null,{"$f":"IFERROR(IF($BH$3=\"\",\"\",'1_Lister les activités'!D359),\"\")","v":{"v":0,"d":"0.00"}},{"$f":"IFERROR(IF($BH$3=\"\",\"\",'1_Lister les activités'!A359),\"\")","v":""},null,{"v":0,"d":"0.00"},{"$f":"IFERROR(IF($BH$3=\"\",\"\",'1_Lister les activités'!B359),\"\")","v":0},0,{"v":0,"d":"0.00"},{"$f":"IFERROR(IF($BH$3=\"\",\"\",'1_Lister les activités'!C359),\"\")","v":"Selectionner"}]
[{"$nulls":9},{"$f":"'2-Programmer les activités'!F363","v":0},{"$f":"'2-Programmer les activités'!G363","v":0},{"$nulls":21},{"$f":"IF('2-Programmer les activités'!K364=\"\",\"\",'2-Programmer les activités'!K364)","v":""},"","","","","-","","","","X",null,"","","","",null,"","","","",null,"","","","",null,null,{"$f":"IFERROR(IF($BH$3=\"\",\"\",'1_Lister les activités'!D360),\"\")","v":{"v":0,"d":"0.00"}},{"$f":"IFERROR(IF($BH$3=\"\",\"\",'1_Lister les activités'!A360),\"\")","v":""},null,{"v":0,"d":"0.00"},{"$f":"IFERROR(IF($BH$3=\"\",\"\",'1_Lister les activités'!B360),\"\")","v":0},0,{"v":0,"d":"0.00"},{"$f":"IFERROR(IF($BH$3=\"\",\"\",'1_Lister les activités'!C360),\"\")","v":"Selectionner"}]
[{"$nulls":9},{"$f":"'2-Programmer les activités'!F364","v":0},{"$f":"'2-Programmer les activités'!G364","v":0},{"$nulls":21},{"$f":"IF('2-Programmer les activités'!K365=\"\",\"\",'2-Programmer les activités'!K365)","v":""},"","","","","-","","","","X",null,"","","","",null,"","","","",null,"","","","",null,null,{"$f":"IFERROR(IF($BH$3=\"\",\"\",'1_Lister les activités'!D361),\"\")","v":{"v":0,"d":"0.00"}},{"$f":"IFERROR(IF($BH$3=\"\",\"\",'1_Lister les activités'!A361),\"\")","v":""},null,{"v":0,"d":"0.00"},{"$f":"IFERROR(IF($BH$3=\"\",\"\",'1_Lister les activités'!B361),\"\")","v":0},0,{"v":0,"d":"0.00"},{"$f":"IFERROR(IF($BH$3=\"\",\"\",'1_Lister les activités'!C361),\"\")","v":"Selectionner"}]
[{"$nulls":9},{"$f":"'2-Programmer les activités'!F365","v":0},{"$f":"'2-Programmer les activités'!G365","v":0},{"$nulls":21},{"$f":"IF('2-Programmer les activités'!K366=\"\",\"\",'2-Programmer les activités'!K366)","v":""},"","","","","-","","","","X",null,"","","","",null,"","","","",null,"","","","",null,null,{"$f":"IFERROR(IF($BH$3=\"\",\"\",'1_Lister les activités'!D362),\"\")","v":{"v":0,"d":"0.00"}},{"$f":"IFERROR(IF($BH$3=\"\",\"\",'1_Lister les activités'!A362),\"\")","v":""},null,{"v":0,"d":"0.00"},{"$f":"IFERROR(IF($BH$3=\"\",\"\",'1_Lister les activités'!B362),\"\")","v":0},0,{"v":0,"d":"0.00"},{"$f":"IFERROR(IF($BH$3=\"\",\"\",'1_Lister les activités'!C362),\"\")","v":"Selectionner"}]
[{"$nulls":9},{"$f":"'2-Programmer les activités'!F366","v":0},{"$f":"'2-Programmer les activités'!G366","v":0},{"$nulls":21},{"$f":"IF('2-Programmer les activités'!K367=\"\",\"\",'2-Programmer les activités'!K367)","v":""},"","","","","-","","","","X",null,"","","","",null,"","","","",null,"","","","",null,null,{"$f":"IFERROR(IF($BH$3=\"\",\"\",'1_Lister les activités'!D363),\"\")","v":{"v":0,"d":"0.00"}},{"$f":"IFERROR(IF($BH$3=\"\",\"\",'1_Lister les activités'!A363),\"\")","v":""},null,{"v":0,"d":"0.00"},{"$f":"IFERROR(IF($BH$3=\"\",\"\",'1_Lister les activités'!B363),\"\")","v":0},0,{"v":0,"d":"0.00"},{"$f":"IFERROR(IF($BH$3=\"\",\"\",'1_Lister les activités'!C363),\"\")","v":"Selectionner"}]
[{"$nulls":9},{"$f":"'2-Programmer les activités'!F367","v":0},{"$f":"'2-Programmer les activités'!G367","v":0},{"$nulls":21},{"$f":"IF('2-Programmer les activités'!K368=\"\",\"\",'2-Programmer les activités'!K368)","v":""},"","","","","-","","","","X",null,"","","","",null,"","","","",null,"","","","",null,null,{"$f":"IFERROR(IF($BH$3=\"\",\"\",'1_Lister les activités'!D364),\"\")","v":{"v":0,"d":"0.00"}},{"$f":"IFERROR(IF($BH$3=\"\",\"\",'1_Lister les activités'!A364),\"\")","v":""},null,{"v":0,"d":"0.00"},{"$f":"IFERROR(IF($BH$3=\"\",\"\",'1_Lister les activités'!B364),\"\")","v":0},0,{"v":0,"d":"0.00"},{"$f":"IFERROR(IF($BH$3=\"\",\"\",'1_Lister les activités'!C364),\"\")","v":"Selectionner"}]
[{"$nulls":9},{"$f":"'2-Programmer les activités'!F368","v":0},{"$f":"'2-Programmer les activités'!G368","v":0},{"$nulls":21},{"$f":"IF('2-Programmer les activités'!K369=\"\",\"\",'2-Programmer les activités'!K369)","v":""},"","","","","-","","","","X",null,"","","","",null,"","","","",null,"","","","",null,null,{"$f":"IFERROR(IF($BH$3=\"\",\"\",'1_Lister les activités'!D365),\"\")","v":{"v":0,"d":"0.00"}},{"$f":"IFERROR(IF($BH$3=\"\",\"\",'1_Lister les activités'!A365),\"\")","v":""},null,{"v":0,"d":"0.00"},{"$f":"IFERROR(IF($BH$3=\"\",\"\",'1_Lister les activités'!B365),\"\")","v":0},0,{"v":0,"d":"0.00"},{"$f":"IFERROR(IF($BH$3=\"\",\"\",'1_Lister les activités'!C365),\"\")","v":"Selectionner"}]
[{"$nulls":9},{"$f":"'2-Programmer les activités'!F369","v":0},{"$f":"'2-Programmer les activités'!G369","v":0},{"$nulls":21},{"$f":"IF('2-Programmer les activités'!K370=\"\",\"\",'2-Programmer les activités'!K370)","v":""},"","","","","-","","","","X",null,"","","","",null,"","","","",null,"","","","",null,null,{"$f":"IFERROR(IF($BH$3=\"\",\"\",'1_Lister les activités'!D366),\"\")","v":{"v":0,"d":"0.00"}},{"$f":"IFERROR(IF($BH$3=\"\",\"\",'1_Lister les activités'!A366),\"\")","v":""},null,{"v":0,"d":"0.00"},{"$f":"IFERROR(IF($BH$3=\"\",\"\",'1_Lister les activités'!B366),\"\")","v":0},0,{"v":0,"d":"0.00"},{"$f":"IFERROR(IF($BH$3=\"\",\"\",'1_Lister les activités'!C366),\"\")","v":"Selectionner"}]
[{"$nulls":9},{"$f":"'2-Programmer les activités'!F370","v":0},{"$f":"'2-Programmer les activités'!G370","v":0},{"$nulls":21},{"$f":"IF('2-Programmer les activités'!K371=\"\",\"\",'2-Programmer les activités'!K371)","v":""},"","","","","-","","","","X",null,"","","","",null,"","","","",null,"","","","",null,null,{"$f":"IFERROR(IF($BH$3=\"\",\"\",'1_Lister les activités'!D367),\"\")","v":{"v":0,"d":"0.00"}},{"$f":"IFERROR(IF($BH$3=\"\",\"\",'1_Lister les activités'!A367),\"\")","v":""},null,{"v":0,"d":"0.00"},{"$f":"IFERROR(IF($BH$3=\"\",\"\",'1_Lister les activités'!B367),\"\")","v":0},0,{"v":0,"d":"0.00"},{"$f":"IFERROR(IF($BH$3=\"\",\"\",'1_Lister les activités'!C367),\"\")","v":"Selectionner"}]
[{"$nulls":9},{"$f":"'2-Programmer les activités'!F371","v":0},{"$f":"'2-Programmer les activités'!G371","v":0},{"$nulls":21},{"$f":"IF('2-Programmer les activités'!K372=\"\",\"\",'2-Programmer les activités'!K372)","v":""},"","",{"$f":"IF(AG366=\"\",\"\",DAY(AG366))","v":""},{"$f":"IFERROR(YEAR(AG366),\"\")","v":""},{"$f":"IFERROR(CONCATENATE(AI366,\"-\",AK366),\"\")","v":"-"},{"$f":"IF(AJ366<8,\"X\",\"\")","v":""},{"$f":"IF(AND(AJ366>7,AND(AJ366<15)),\"X\",\"\")","v":""},{"$f":"IF(AND(AJ366>14,AND(AJ366<22)),\"X\",\"\")","v":""},{"$f":"IF(AJ366>21,\"X\",\"\")","v":"X"},null,{"$f":"IF(AL366=$AR$4,AM366,\"\")","v":""},{"$f":"IF(AL366=$AR$4,AN366,\"\")","v":""},{"$f":"IF(AL366=$AR$4,AO366,\"\")","v":""},{"$f":"IF(AL366=$AR$4,AP366,\"\")","v":""},null,{"$f":"IF(AL366=$AW$4,AM366,\"\")","v":""},{"$f":"IF(AL366=$AW$4,AN366,\"\")","v":""},{"$f":"IF(AL366=$AW$4,AO366,\"\")","v":""},{"$f":"IF(AL366=$AW$4,AP366,\"\")","v":""},null,{"$f":"IF(AL366=$BB$4,AM366,\"\")","v":""},{"$f":"IF(AL366=$BB$4,AN366,\"\")","v":""},{"$f":"IF(AL366=$BB$4,AO366,\"\")","v":""},{"$f":"IF(AL366=$BB$4,AP366,\"\")","v":""},null,null,{"$f":"IFERROR(IF($BH$3=\"\",\"\",'1_Lister les activités'!D368),\"\")","v":{"v":0,"d":"0.00"}},{"$f":"IFERROR(IF($BH$3=\"\",\"\",'1_Lister les activités'!A368),\"\")","v":""},null,{"v":0,"d":"0.00"},{"$f":"IFERROR(IF($BH$3=\"\",\"\",'1_Lister les activités'!B368),\"\")","v":0},0,{"v":0,"d":"0.00"},{"$f":"IFERROR(IF($BH$3=\"\",\"\",'1_Lister les activités'!C368),\"\")","v":"Selectionner"}]
[{"$nulls":9},{"$f":"'2-Programmer les activités'!F372","v":0},{"$f":"'2-Programmer les activités'!G372","v":0},{"$nulls":21},{"$f":"IF('2-Programmer les activités'!K373=\"\",\"\",'2-Programmer les activités'!K373)","v":""},"","","","","-","","","","X",null,"","","","",null,"","","","",null,"","","","",null,null,{"$f":"IFERROR(IF($BH$3=\"\",\"\",'1_Lister les activités'!D369),\"\")","v":{"v":0,"d":"0.00"}},{"$f":"IFERROR(IF($BH$3=\"\",\"\",'1_Lister les activités'!A369),\"\")","v":""},null,{"v":0,"d":"0.00"},{"$f":"IFERROR(IF($BH$3=\"\",\"\",'1_Lister les activités'!B369),\"\")","v":0},0,{"v":0,"d":"0.00"},{"$f":"IFERROR(IF($BH$3=\"\",\"\",'1_Lister les activités'!C369),\"\")","v":"Selectionner"}]
[{"$nulls":9},{"$f":"'2-Programmer les activités'!F373","v":0},{"$f":"'2-Programmer les activités'!G373","v":0},{"$nulls":21},{"$f":"IF('2-Programmer les activités'!K374=\"\",\"\",'2-Programmer les activités'!K374)","v":""},"","","","","-","","","","X",null,"","","","",null,"","","","",null,"","","","",null,null,{"$f":"IFERROR(IF($BH$3=\"\",\"\",'1_Lister les activités'!D370),\"\")","v":{"v":0,"d":"0.00"}},{"$f":"IFERROR(IF($BH$3=\"\",\"\",'1_Lister les activités'!A370),\"\")","v":""},null,{"v":0,"d":"0.00"},{"$f":"IFERROR(IF($BH$3=\"\",\"\",'1_Lister les activités'!B370),\"\")","v":0},0,{"v":0,"d":"0.00"},{"$f":"IFERROR(IF($BH$3=\"\",\"\",'1_Lister les activités'!C370),\"\")","v":"Selectionner"}]
[{"$nulls":9},{"$f":"'2-Programmer les activités'!F374","v":0},{"$f":"'2-Programmer les activités'!G374","v":0},{"$nulls":21},{"$f":"IF('2-Programmer les activités'!K375=\"\",\"\",'2-Programmer les activités'!K375)","v":""},"","","","","-","","","","X",null,"","","","",null,"","","","",null,"","","","",null,null,{"$f":"IFERROR(IF($BH$3=\"\",\"\",'1_Lister les activités'!D371),\"\")","v":{"v":0,"d":"0.00"}},{"$f":"IFERROR(IF($BH$3=\"\",\"\",'1_Lister les activités'!A371),\"\")","v":""},null,{"v":0,"d":"0.00"},{"$f":"IFERROR(IF($BH$3=\"\",\"\",'1_Lister les activités'!B371),\"\")","v":0},0,{"v":0,"d":"0.00"},{"$f":"IFERROR(IF($BH$3=\"\",\"\",'1_Lister les activités'!C371),\"\")","v":"Selectionner"}]
[{"$nulls":9},{"$f":"'2-Programmer les activités'!F375","v":0},{"$f":"'2-Programmer les activités'!G375","v":0},{"$nulls":21},{"$f":"IF('2-Programmer les activités'!K376=\"\",\"\",'2-Programmer les activités'!K376)","v":""},"","","","","-","","","","X",null,"","","","",null,"","","","",null,"","","","",null,null,{"$f":"IFERROR(IF($BH$3=\"\",\"\",'1_Lister les activités'!D372),\"\")","v":{"v":0,"d":"0.00"}},{"$f":"IFERROR(IF($BH$3=\"\",\"\",'1_Lister les activités'!A372),\"\")","v":""},null,{"v":0,"d":"0.00"},{"$f":"IFERROR(IF($BH$3=\"\",\"\",'1_Lister les activités'!B372),\"\")","v":0},0,{"v":0,"d":"0.00"},{"$f":"IFERROR(IF($BH$3=\"\",\"\",'1_Lister les activités'!C372),\"\")","v":"Selectionner"}]
[{"$nulls":9},{"$f":"'2-Programmer les activités'!F376","v":0},{"$f":"'2-Programmer les activités'!G376","v":0},{"$nulls":21},{"$f":"IF('2-Programmer les activités'!K377=\"\",\"\",'2-Programmer les activités'!K377)","v":""},"","","","","-","","","","X",null,"","","","",null,"","","","",null,"","","","",null,null,{"$f":"IFERROR(IF($BH$3=\"\",\"\",'1_Lister les activités'!D373),\"\")","v":{"v":0,"d":"0.00"}},{"$f":"IFERROR(IF($BH$3=\"\",\"\",'1_Lister les activités'!A373),\"\")","v":""},null,{"v":0,"d":"0.00"},{"$f":"IFERROR(IF($BH$3=\"\",\"\",'1_Lister les activités'!B373),\"\")","v":0},0,{"v":0,"d":"0.00"},{"$f":"IFERROR(IF($BH$3=\"\",\"\",'1_Lister les activités'!C373),\"\")","v":"Selectionner"}]
[{"$nulls":9},{"$f":"'2-Programmer les activités'!F377","v":0},{"$f":"'2-Programmer les activités'!G377","v":0},{"$nulls":21},{"$f":"IF('2-Programmer les activités'!K378=\"\",\"\",'2-Programmer les activités'!K378)","v":""},"","","","","-","","","","X",null,"","","","",null,"","","","",null,"","","","",null,null,{"$f":"IFERROR(IF($BH$3=\"\",\"\",'1_Lister les activités'!D374),\"\")","v":{"v":0,"d":"0.00"}},{"$f":"IFERROR(IF($BH$3=\"\",\"\",'1_Lister les activités'!A374),\"\")","v":""},null,{"v":0,"d":"0.00"},{"$f":"IFERROR(IF($BH$3=\"\",\"\",'1_Lister les activités'!B374),\"\")","v":0},0,{"v":0,"d":"0.00"},{"$f":"IFERROR(IF($BH$3=\"\",\"\",'1_Lister les activités'!C374),\"\")","v":"Selectionner"}]
[{"$nulls":9},{"$f":"'2-Programmer les activités'!F378","v":0},{"$f":"'2-Programmer les activités'!G378","v":0},{"$nulls":21},{"$f":"IF('2-Programmer les activités'!K379=\"\",\"\",'2-Programmer les activités'!K379)","v":""},"","","","","-","","","","X",null,"","","","",null,"","","","",null,"","","","",null,null,{"$f":"IFERROR(IF($BH$3=\"\",\"\",'1_Lister les activités'!D375),\"\")","v":{"v":0,"d":"0.00"}},{"$f":"IFERROR(IF($BH$3=\"\",\"\",'1_Lister les activités'!A375),\"\")","v":""},null,{"v":0,"d":"0.00"},{"$f":"IFERROR(IF($BH$3=\"\",\"\",'1_Lister les activités'!B375),\"\")","v":0},0,{"v":0,"d":"0.00"},{"$f":"IFERROR(IF($BH$3=\"\",\"\",'1_Lister les activités'!C375),\"\")","v":"Selectionner"}]
[{"$nulls":9},{"$f":"'2-Programmer les activités'!F379","v":0},{"$f":"'2-Programmer les activités'!G379","v":0},{"$nulls":21},{"$f":"IF('2-Programmer les activités'!K380=\"\",\"\",'2-Programmer les activités'!K380)","v":""},"","","","","-","","","","X",null,"","","","",null,"","","","",null,"","","","",null,null,{"$f":"IFERROR(IF($BH$3=\"\",\"\",'1_Lister les activités'!D376),\"\")","v":{"v":0,"d":"0.00"}},{"$f":"IFERROR(IF($BH$3=\"\",\"\",'1_Lister les activités'!A376),\"\")","v":""},null,{"v":0,"d":"0.00"},{"$f":"IFERROR(IF($BH$3=\"\",\"\",'1_Lister les activités'!B376),\"\")","v":0},0,{"v":0,"d":"0.00"},{"$f":"IFERROR(IF($BH$3=\"\",\"\",'1_Lister les activités'!C376),\"\")","v":"Selectionner"}]
[{"$nulls":9},{"$f":"'2-Programmer les activités'!F380","v":0},{"$f":"'2-Programmer les activités'!G380","v":0},{"$nulls":21},{"$f":"IF('2-Programmer les activités'!K381=\"\",\"\",'2-Programmer les activités'!K381)","v":""},"","","","","-","","","","X",null,"","","","",null,"","","","",null,"","","","",null,null,{"$f":"IFERROR(IF($BH$3=\"\",\"\",'1_Lister les activités'!D377),\"\")","v":{"v":0,"d":"0.00"}},{"$f":"IFERROR(IF($BH$3=\"\",\"\",'1_Lister les activités'!A377),\"\")","v":""},null,{"v":0,"d":"0.00"},{"$f":"IFERROR(IF($BH$3=\"\",\"\",'1_Lister les activités'!B377),\"\")","v":0},0,{"v":0,"d":"0.00"},{"$f":"IFERROR(IF($BH$3=\"\",\"\",'1_Lister les activités'!C377),\"\")","v":"Selectionner"}]
[{"$nulls":9},{"$f":"'2-Programmer les activités'!F381","v":0},{"$f":"'2-Programmer les activités'!G381","v":0},{"$nulls":21},{"$f":"IF('2-Programmer les activités'!K382=\"\",\"\",'2-Programmer les activités'!K382)","v":""},"","","","","-","","","","X",null,"","","","",null,"","","","",null,"","","","",null,null,{"$f":"IFERROR(IF($BH$3=\"\",\"\",'1_Lister les activités'!D378),\"\")","v":{"v":0,"d":"0.00"}},{"$f":"IFERROR(IF($BH$3=\"\",\"\",'1_Lister les activités'!A378),\"\")","v":""},null,{"v":0,"d":"0.00"},{"$f":"IFERROR(IF($BH$3=\"\",\"\",'1_Lister les activités'!B378),\"\")","v":0},0,{"v":0,"d":"0.00"},{"$f":"IFERROR(IF($BH$3=\"\",\"\",'1_Lister les activités'!C378),\"\")","v":"Selectionner"}]
[{"$nulls":9},{"$f":"'2-Programmer les activités'!F382","v":0},{"$f":"'2-Programmer les activités'!G382","v":0},{"$nulls":21},{"$f":"IF('2-Programmer les activités'!K383=\"\",\"\",'2-Programmer les activités'!K383)","v":""},"","","","","-","","","","X",null,"","","","",null,"","","","",null,"","","","",null,null,{"$f":"IFERROR(IF($BH$3=\"\",\"\",'1_Lister les activités'!D379),\"\")","v":{"v":0,"d":"0.00"}},{"$f":"IFERROR(IF($BH$3=\"\",\"\",'1_Lister les activités'!A379),\"\")","v":""},null,{"v":0,"d":"0.00"},{"$f":"IFERROR(IF($BH$3=\"\",\"\",'1_Lister les activités'!B379),\"\")","v":0},0,{"v":0,"d":"0.00"},{"$f":"IFERROR(IF($BH$3=\"\",\"\",'1_Lister les activités'!C379),\"\")","v":"Selectionner"}]
[{"$nulls":9},{"$f":"'2-Programmer les activités'!F383","v":0},{"$f":"'2-Programmer les activités'!G383","v":0},{"$nulls":21},{"$f":"IF('2-Programmer les activités'!K384=\"\",\"\",'2-Programmer les activités'!K384)","v":""},"","","","","-","","","","X",null,"","","","",null,"","","","",null,"","","","",null,null,{"$f":"IFERROR(IF($BH$3=\"\",\"\",'1_Lister les activités'!D380),\"\")","v":{"v":0,"d":"0.00"}},{"$f":"IFERROR(IF($BH$3=\"\",\"\",'1_Lister les activités'!A380),\"\")","v":""},null,{"v":0,"d":"0.00"},{"$f":"IFERROR(IF($BH$3=\"\",\"\",'1_Lister les activités'!B380),\"\")","v":0},0,{"v":0,"d":"0.00"},{"$f":"IFERROR(IF($BH$3=\"\",\"\",'1_Lister les activités'!C380),\"\")","v":"Selectionner"}]
[{"$nulls":9},{"$f":"'2-Programmer les activités'!F384","v":0},{"$f":"'2-Programmer les activités'!G384","v":0},{"$nulls":21},{"$f":"IF('2-Programmer les activités'!K385=\"\",\"\",'2-Programmer les activités'!K385)","v":""},"","","","","-","","","","X",null,"","","","",null,"","","","",null,"","","","",null,null,{"$f":"IFERROR(IF($BH$3=\"\",\"\",'1_Lister les activités'!D381),\"\")","v":{"v":0,"d":"0.00"}},{"$f":"IFERROR(IF($BH$3=\"\",\"\",'1_Lister les activités'!A381),\"\")","v":""},null,{"v":0,"d":"0.00"},{"$f":"IFERROR(IF($BH$3=\"\",\"\",'1_Lister les activités'!B381),\"\")","v":0},0,{"v":0,"d":"0.00"},{"$f":"IFERROR(IF($BH$3=\"\",\"\",'1_Lister les activités'!C381),\"\")","v":"Selectionner"}]
[{"$nulls":9},{"$f":"'2-Programmer les activités'!F385","v":0},{"$f":"'2-Programmer les activités'!G385","v":0},{"$nulls":21},{"$f":"IF('2-Programmer les activités'!K386=\"\",\"\",'2-Programmer les activités'!K386)","v":""},"","","","","-","","","","X",null,"","","","",null,"","","","",null,"","","","",null,null,{"$f":"IFERROR(IF($BH$3=\"\",\"\",'1_Lister les activités'!D382),\"\")","v":{"v":0,"d":"0.00"}},{"$f":"IFERROR(IF($BH$3=\"\",\"\",'1_Lister les activités'!A382),\"\")","v":""},null,{"v":0,"d":"0.00"},{"$f":"IFERROR(IF($BH$3=\"\",\"\",'1_Lister les activités'!B382),\"\")","v":0},0,{"v":0,"d":"0.00"},{"$f":"IFERROR(IF($BH$3=\"\",\"\",'1_Lister les activités'!C382),\"\")","v":"Selectionner"}]
[{"$nulls":9},{"$f":"'2-Programmer les activités'!F386","v":0},{"$f":"'2-Programmer les activités'!G386","v":0},{"$nulls":21},{"$f":"IF('2-Programmer les activités'!K387=\"\",\"\",'2-Programmer les activités'!K387)","v":""},"","","","","-","","","","X",null,"","","","",null,"","","","",null,"","","","",null,null,{"$f":"IFERROR(IF($BH$3=\"\",\"\",'1_Lister les activités'!D383),\"\")","v":{"v":0,"d":"0.00"}},{"$f":"IFERROR(IF($BH$3=\"\",\"\",'1_Lister les activités'!A383),\"\")","v":""},null,{"v":0,"d":"0.00"},{"$f":"IFERROR(IF($BH$3=\"\",\"\",'1_Lister les activités'!B383),\"\")","v":0},0,{"v":0,"d":"0.00"},{"$f":"IFERROR(IF($BH$3=\"\",\"\",'1_Lister les activités'!C383),\"\")","v":"Selectionner"}]
[{"$nulls":9},{"$f":"'2-Programmer les activités'!F387","v":0},{"$f":"'2-Programmer les activités'!G387","v":0},{"$nulls":21},{"$f":"IF('2-Programmer les activités'!K388=\"\",\"\",'2-Programmer les activités'!K388)","v":""},"","","","","-","","","","X",null,"","","","",null,"","","","",null,"","","","",null,null,{"$f":"IFERROR(IF($BH$3=\"\",\"\",'1_Lister les activités'!D384),\"\")","v":{"v":0,"d":"0.00"}},{"$f":"IFERROR(IF($BH$3=\"\",\"\",'1_Lister les activités'!A384),\"\")","v":""},null,{"v":0,"d":"0.00"},{"$f":"IFERROR(IF($BH$3=\"\",\"\",'1_Lister les activités'!B384),\"\")","v":0},0,{"v":0,"d":"0.00"},{"$f":"IFERROR(IF($BH$3=\"\",\"\",'1_Lister les activités'!C384),\"\")","v":"Selectionner"}]
[{"$nulls":9},{"$f":"'2-Programmer les activités'!F388","v":0},{"$f":"'2-Programmer les activités'!G388","v":0},{"$nulls":21},{"$f":"IF('2-Programmer les activités'!K389=\"\",\"\",'2-Programmer les activités'!K389)","v":""},"","","","","-","","","","X",null,"","","","",null,"","","","",null,"","","","",null,null,{"$f":"IFERROR(IF($BH$3=\"\",\"\",'1_Lister les activités'!D385),\"\")","v":{"v":0,"d":"0.00"}},{"$f":"IFERROR(IF($BH$3=\"\",\"\",'1_Lister les activités'!A385),\"\")","v":""},null,{"v":0,"d":"0.00"},{"$f":"IFERROR(IF($BH$3=\"\",\"\",'1_Lister les activités'!B385),\"\")","v":0},0,{"v":0,"d":"0.00"},{"$f":"IFERROR(IF($BH$3=\"\",\"\",'1_Lister les activités'!C385),\"\")","v":"Selectionner"}]
[{"$nulls":9},{"$f":"'2-Programmer les activités'!F389","v":0},{"$f":"'2-Programmer les activités'!G389","v":0},{"$nulls":21},{"$f":"IF('2-Programmer les activités'!K390=\"\",\"\",'2-Programmer les activités'!K390)","v":""},"","","","","-","","","","X",null,"","","","",null,"","","","",null,"","","","",null,null,{"$f":"IFERROR(IF($BH$3=\"\",\"\",'1_Lister les activités'!D386),\"\")","v":{"v":0,"d":"0.00"}},{"$f":"IFERROR(IF($BH$3=\"\",\"\",'1_Lister les activités'!A386),\"\")","v":""},null,{"v":0,"d":"0.00"},{"$f":"IFERROR(IF($BH$3=\"\",\"\",'1_Lister les activités'!B386),\"\")","v":0},0,{"v":0,"d":"0.00"},{"$f":"IFERROR(IF($BH$3=\"\",\"\",'1_Lister les activités'!C386),\"\")","v":"Selectionner"}]
[{"$nulls":9},{"$f":"'2-Programmer les activités'!F390","v":0},{"$f":"'2-Programmer les activités'!G390","v":0},{"$nulls":21},{"$f":"IF('2-Programmer les activités'!K391=\"\",\"\",'2-Programmer les activités'!K391)","v":""},"","","","","-","","","","X",null,"","","","",null,"","","","",null,"","","","",null,null,{"$f":"IFERROR(IF($BH$3=\"\",\"\",'1_Lister les activités'!D387),\"\")","v":{"v":0,"d":"0.00"}},{"$f":"IFERROR(IF($BH$3=\"\",\"\",'1_Lister les activités'!A387),\"\")","v":""},null,{"v":0,"d":"0.00"},{"$f":"IFERROR(IF($BH$3=\"\",\"\",'1_Lister les activités'!B387),\"\")","v":0},0,{"v":0,"d":"0.00"},{"$f":"IFERROR(IF($BH$3=\"\",\"\",'1_Lister les activités'!C387),\"\")","v":"Selectionner"}]
[{"$nulls":9},{"$f":"'2-Programmer les activités'!F391","v":0},{"$f":"'2-Programmer les activités'!G391","v":0},{"$nulls":21},{"$f":"IF('2-Programmer les activités'!K392=\"\",\"\",'2-Programmer les activités'!K392)","v":""},"","","","","-","","","","X",null,"","","","",null,"","","","",null,"","","","",null,null,{"$f":"IFERROR(IF($BH$3=\"\",\"\",'1_Lister les activités'!D388),\"\")","v":{"v":0,"d":"0.00"}},{"$f":"IFERROR(IF($BH$3=\"\",\"\",'1_Lister les activités'!A388),\"\")","v":""},null,{"v":0,"d":"0.00"},{"$f":"IFERROR(IF($BH$3=\"\",\"\",'1_Lister les activités'!B388),\"\")","v":0},0,{"v":0,"d":"0.00"},{"$f":"IFERROR(IF($BH$3=\"\",\"\",'1_Lister les activités'!C388),\"\")","v":"Selectionner"}]
[{"$nulls":9},{"$f":"'2-Programmer les activités'!F392","v":0},{"$f":"'2-Programmer les activités'!G392","v":0},{"$nulls":21},{"$f":"IF('2-Programmer les activités'!K393=\"\",\"\",'2-Programmer les activités'!K393)","v":""},"","","","","-","","","","X",null,"","","","",null,"","","","",null,"","","","",null,null,{"$f":"IFERROR(IF($BH$3=\"\",\"\",'1_Lister les activités'!D389),\"\")","v":{"v":0,"d":"0.00"}},{"$f":"IFERROR(IF($BH$3=\"\",\"\",'1_Lister les activités'!A389),\"\")","v":""},null,{"v":0,"d":"0.00"},{"$f":"IFERROR(IF($BH$3=\"\",\"\",'1_Lister les activités'!B389),\"\")","v":0},0,{"v":0,"d":"0.00"},{"$f":"IFERROR(IF($BH$3=\"\",\"\",'1_Lister les activités'!C389),\"\")","v":"Selectionner"}]
[{"$nulls":9},{"$f":"'2-Programmer les activités'!F393","v":0},{"$f":"'2-Programmer les activités'!G393","v":0},{"$nulls":21},{"$f":"IF('2-Programmer les activités'!K394=\"\",\"\",'2-Programmer les activités'!K394)","v":""},"","","","","-","","","","X",null,"","","","",null,"","","","",null,"","","","",null,null,{"$f":"IFERROR(IF($BH$3=\"\",\"\",'1_Lister les activités'!D390),\"\")","v":{"v":0,"d":"0.00"}},{"$f":"IFERROR(IF($BH$3=\"\",\"\",'1_Lister les activités'!A390),\"\")","v":""},null,{"v":0,"d":"0.00"},{"$f":"IFERROR(IF($BH$3=\"\",\"\",'1_Lister les activités'!B390),\"\")","v":0},0,{"v":0,"d":"0.00"},{"$f":"IFERROR(IF($BH$3=\"\",\"\",'1_Lister les activités'!C390),\"\")","v":"Selectionner"}]
[{"$nulls":9},{"$f":"'2-Programmer les activités'!F394","v":0},{"$f":"'2-Programmer les activités'!G394","v":0},{"$nulls":21},{"$f":"IF('2-Programmer les activités'!K395=\"\",\"\",'2-Programmer les activités'!K395)","v":""},"","","","","-","","","","X",null,"","","","",null,"","","","",null,"","","","",null,null,{"$f":"IFERROR(IF($BH$3=\"\",\"\",'1_Lister les activités'!D391),\"\")","v":{"v":0,"d":"0.00"}},{"$f":"IFERROR(IF($BH$3=\"\",\"\",'1_Lister les activités'!A391),\"\")","v":""},null,{"v":0,"d":"0.00"},{"$f":"IFERROR(IF($BH$3=\"\",\"\",'1_Lister les activités'!B391),\"\")","v":0},0,{"v":0,"d":"0.00"},{"$f":"IFERROR(IF($BH$3=\"\",\"\",'1_Lister les activités'!C391),\"\")","v":"Selectionner"}]
[{"$nulls":9},{"$f":"'2-Programmer les activités'!F395","v":0},{"$f":"'2-Programmer les activités'!G395","v":0},{"$nulls":21},{"$f":"IF('2-Programmer les activités'!K396=\"\",\"\",'2-Programmer les activités'!K396)","v":""},"",{"$f":"IFERROR(VLOOKUP(AH390,$A$110:$B$121,2,FALSE),\"\")","v":""},"","","-","","","","X",null,"","","","",null,"","","","",null,"","","","",null,null,{"$f":"IFERROR(IF($BH$3=\"\",\"\",'1_Lister les activités'!D392),\"\")","v":{"v":0,"d":"0.00"}},{"$f":"IFERROR(IF($BH$3=\"\",\"\",'1_Lister les activités'!A392),\"\")","v":""},null,{"$f":"IFERROR(BH390,\"\")","v":{"v":0,"d":"0.00"}},{"$f":"IFERROR(IF($BH$3=\"\",\"\",'1_Lister les activités'!B392),\"\")","v":0},{"$f":"IFERROR(BL390,\"\")","v":0},{"$f":"IFERROR(BK390,\"\")","v":{"v":0,"d":"0.00"}},{"$f":"IFERROR(IF($BH$3=\"\",\"\",'1_Lister les activités'!C392),\"\")","v":"Selectionner"}]
[{"$nulls":9},{"$f":"'2-Programmer les activités'!F396","v":0},{"$f":"'2-Programmer les activités'!G396","v":0},{"$nulls":21},{"$f":"IF('2-Programmer les activités'!K397=\"\",\"\",'2-Programmer les activités'!K397)","v":""},{"$f":"IF(AG391=\"\",\"\",MONTH(AG391))","v":""},"","","","-","","","","X",null,"","","","",null,"","","","",null,"","","","",null,null,{"$f":"IFERROR(IF($BH$3=\"\",\"\",'1_Lister les activités'!D393),\"\")","v":{"v":0,"d":"0.00"}},{"$f":"IFERROR(IF($BH$3=\"\",\"\",'1_Lister les activités'!A393),\"\")","v":""},null,{"v":0,"d":"0.00"},{"$f":"IFERROR(IF($BH$3=\"\",\"\",'1_Lister les activités'!B393),\"\")","v":0},0,{"v":0,"d":"0.00"},{"$f":"IFERROR(IF($BH$3=\"\",\"\",'1_Lister les activités'!C393),\"\")","v":"Selectionner"}]
[{"$nulls":9},{"$f":"'2-Programmer les activités'!F397","v":0},{"$f":"'2-Programmer les activités'!G397","v":0},{"$nulls":21},{"$f":"IF('2-Programmer les activités'!K398=\"\",\"\",'2-Programmer les activités'!K398)","v":""},"","","","","-","","","","X",null,"","","","",null,"","","","",null,"","","","",null,null,{"$f":"IFERROR(IF($BH$3=\"\",\"\",'1_Lister les activités'!D394),\"\")","v":{"v":0,"d":"0.00"}},{"$f":"IFERROR(IF($BH$3=\"\",\"\",'1_Lister les activités'!A394),\"\")","v":""},null,{"v":0,"d":"0.00"},{"$f":"IFERROR(IF($BH$3=\"\",\"\",'1_Lister les activités'!B394),\"\")","v":0},0,{"v":0,"d":"0.00"},{"$f":"IFERROR(IF($BH$3=\"\",\"\",'1_Lister les activités'!C394),\"\")","v":"Selectionner"}]
[{"$nulls":9},{"$f":"'2-Programmer les activités'!F398","v":0},{"$f":"'2-Programmer les activités'!G398","v":0},{"$nulls":21},{"$f":"IF('2-Programmer les activités'!K399=\"\",\"\",'2-Programmer les activités'!K399)","v":""},"","","","","-","","","","X",null,"","","","",null,"","","","",null,"","","","",null,null,{"$f":"IFERROR(IF($BH$3=\"\",\"\",'1_Lister les activités'!D395),\"\")","v":{"v":0,"d":"0.00"}},{"$f":"IFERROR(IF($BH$3=\"\",\"\",'1_Lister les activités'!A395),\"\")","v":""},null,{"v":0,"d":"0.00"},{"$f":"IFERROR(IF($BH$3=\"\",\"\",'1_Lister les activités'!B395),\"\")","v":0},0,{"v":0,"d":"0.00"},{"$f":"IFERROR(IF($BH$3=\"\",\"\",'1_Lister les activités'!C395),\"\")","v":"Selectionner"}]
[{"$nulls":9},{"$f":"'2-Programmer les activités'!F399","v":0},{"$f":"'2-Programmer les activités'!G399","v":0},{"$nulls":21},{"$f":"IF('2-Programmer les activités'!K400=\"\",\"\",'2-Programmer les activités'!K400)","v":""},"","","","","-","","","","X",null,"","","","",null,"","","","",null,"","","","",null,null,{"$f":"IFERROR(IF($BH$3=\"\",\"\",'1_Lister les activités'!D396),\"\")","v":{"v":0,"d":"0.00"}},{"$f":"IFERROR(IF($BH$3=\"\",\"\",'1_Lister les activités'!A396),\"\")","v":""},null,{"v":0,"d":"0.00"},{"$f":"IFERROR(IF($BH$3=\"\",\"\",'1_Lister les activités'!B396),\"\")","v":0},0,{"v":0,"d":"0.00"},{"$f":"IFERROR(IF($BH$3=\"\",\"\",'1_Lister les activités'!C396),\"\")","v":"Selectionner"}]
[{"$nulls":9},{"$f":"'2-Programmer les activités'!F400","v":0},{"$f":"'2-Programmer les activités'!G400","v":0},{"$nulls":21},{"$f":"IF('2-Programmer les activités'!K401=\"\",\"\",'2-Programmer les activités'!K401)","v":""},"","","","","-","","","","X",null,"","","","",null,"","","","",null,"","","","",null,null,{"$f":"IFERROR(IF($BH$3=\"\",\"\",'1_Lister les activités'!D397),\"\")","v":{"v":0,"d":"0.00"}},{"$f":"IFERROR(IF($BH$3=\"\",\"\",'1_Lister les activités'!A397),\"\")","v":""},null,{"v":0,"d":"0.00"},{"$f":"IFERROR(IF($BH$3=\"\",\"\",'1_Lister les activités'!B397),\"\")","v":0},0,{"v":0,"d":"0.00"},{"$f":"IFERROR(IF($BH$3=\"\",\"\",'1_Lister les activités'!C397),\"\")","v":"Selectionner"}]
[{"$nulls":9},{"$f":"'2-Programmer les activités'!F401","v":0},{"$f":"'2-Programmer les activités'!G401","v":0},{"$nulls":21},{"$f":"IF('2-Programmer les activités'!K402=\"\",\"\",'2-Programmer les activités'!K402)","v":""},"","","","","-","","","","X",null,"","","","",null,"","","","",null,"","","","",null,null,{"$f":"IFERROR(IF($BH$3=\"\",\"\",'1_Lister les activités'!D398),\"\")","v":{"v":0,"d":"0.00"}},{"$f":"IFERROR(IF($BH$3=\"\",\"\",'1_Lister les activités'!A398),\"\")","v":""},null,{"v":0,"d":"0.00"},{"$f":"IFERROR(IF($BH$3=\"\",\"\",'1_Lister les activités'!B398),\"\")","v":0},0,{"v":0,"d":"0.00"},{"$f":"IFERROR(IF($BH$3=\"\",\"\",'1_Lister les activités'!C398),\"\")","v":"Selectionner"}]
[{"$nulls":9},{"$f":"'2-Programmer les activités'!F402","v":0},{"$f":"'2-Programmer les activités'!G402","v":0},{"$nulls":21},{"$f":"IF('2-Programmer les activités'!K403=\"\",\"\",'2-Programmer les activités'!K403)","v":""},"","","","","-","","","","X",null,"","","","",null,"","","","",null,"","","","",null,null,{"$f":"IFERROR(IF($BH$3=\"\",\"\",'1_Lister les activités'!D399),\"\")","v":{"v":0,"d":"0.00"}},{"$f":"IFERROR(IF($BH$3=\"\",\"\",'1_Lister les activités'!A399),\"\")","v":""},null,{"v":0,"d":"0.00"},{"$f":"IFERROR(IF($BH$3=\"\",\"\",'1_Lister les activités'!B399),\"\")","v":0},0,{"v":0,"d":"0.00"},{"$f":"IFERROR(IF($BH$3=\"\",\"\",'1_Lister les activités'!C399),\"\")","v":"Selectionner"}]
[{"$nulls":9},{"$f":"'2-Programmer les activités'!F403","v":0},{"$f":"'2-Programmer les activités'!G403","v":0},{"$nulls":21},{"$f":"IF('2-Programmer les activités'!K404=\"\",\"\",'2-Programmer les activités'!K404)","v":""},"","","","","-","","","","X",null,"","","","",null,"","","","",null,"","","","",null,null,{"$f":"IFERROR(IF($BH$3=\"\",\"\",'1_Lister les activités'!D400),\"\")","v":{"v":0,"d":"0.00"}},{"$f":"IFERROR(IF($BH$3=\"\",\"\",'1_Lister les activités'!A400),\"\")","v":""},null,{"v":0,"d":"0.00"},{"$f":"IFERROR(IF($BH$3=\"\",\"\",'1_Lister les activités'!B400),\"\")","v":0},0,{"v":0,"d":"0.00"},{"$f":"IFERROR(IF($BH$3=\"\",\"\",'1_Lister les activités'!C400),\"\")","v":"Selectionner"}]
[{"$nulls":9},{"$f":"'2-Programmer les activités'!F404","v":0},{"$f":"'2-Programmer les activités'!G404","v":0},{"$nulls":21},{"$f":"IF('2-Programmer les activités'!K405=\"\",\"\",'2-Programmer les activités'!K405)","v":""},"","","","","-","","","","X",null,"","","","",null,"","","","",null,"","","","",null,null,{"$f":"IFERROR(IF($BH$3=\"\",\"\",'1_Lister les activités'!D401),\"\")","v":{"v":0,"d":"0.00"}},{"$f":"IFERROR(IF($BH$3=\"\",\"\",'1_Lister les activités'!A401),\"\")","v":""},null,{"v":0,"d":"0.00"},{"$f":"IFERROR(IF($BH$3=\"\",\"\",'1_Lister les activités'!B401),\"\")","v":0},0,{"v":0,"d":"0.00"},{"$f":"IFERROR(IF($BH$3=\"\",\"\",'1_Lister les activités'!C401),\"\")","v":"Selectionner"}]
[{"$nulls":9},{"$f":"'2-Programmer les activités'!F405","v":0},{"$f":"'2-Programmer les activités'!G405","v":0},{"$nulls":21},{"$f":"IF('2-Programmer les activités'!K406=\"\",\"\",'2-Programmer les activités'!K406)","v":""},"","","","","-","","","","X",null,"","","","",null,"","","","",null,"","","","",null,null,{"$f":"IFERROR(IF($BH$3=\"\",\"\",'1_Lister les activités'!D402),\"\")","v":{"v":0,"d":"0.00"}},{"$f":"IFERROR(IF($BH$3=\"\",\"\",'1_Lister les activités'!A402),\"\")","v":""},null,{"v":0,"d":"0.00"},{"$f":"IFERROR(IF($BH$3=\"\",\"\",'1_Lister les activités'!B402),\"\")","v":0},0,{"v":0,"d":"0.00"},{"$f":"IFERROR(IF($BH$3=\"\",\"\",'1_Lister les activités'!C402),\"\")","v":"Selectionner"}]
[{"$nulls":9},{"$f":"'2-Programmer les activités'!F406","v":0},{"$f":"'2-Programmer les activités'!G406","v":0},{"$nulls":21},{"$f":"IF('2-Programmer les activités'!K407=\"\",\"\",'2-Programmer les activités'!K407)","v":""},"","","","","-","","","","X",null,"","","","",null,"","","","",null,"","","","",null,null,{"$f":"IFERROR(IF($BH$3=\"\",\"\",'1_Lister les activités'!D403),\"\")","v":{"v":0,"d":"0.00"}},{"$f":"IFERROR(IF($BH$3=\"\",\"\",'1_Lister les activités'!A403),\"\")","v":""},null,{"v":0,"d":"0.00"},{"$f":"IFERROR(IF($BH$3=\"\",\"\",'1_Lister les activités'!B403),\"\")","v":0},0,{"v":0,"d":"0.00"},{"$f":"IFERROR(IF($BH$3=\"\",\"\",'1_Lister les activités'!C403),\"\")","v":"Selectionner"}]
[{"$nulls":9},{"$f":"'2-Programmer les activités'!F407","v":0},{"$f":"'2-Programmer les activités'!G407","v":0},{"$nulls":21},{"$f":"IF('2-Programmer les activités'!K408=\"\",\"\",'2-Programmer les activités'!K408)","v":""},"","","","","-","","","","X",null,"","","","",null,"","","","",null,"","","","",null,null,{"$f":"IFERROR(IF($BH$3=\"\",\"\",'1_Lister les activités'!D404),\"\")","v":{"v":0,"d":"0.00"}},{"$f":"IFERROR(IF($BH$3=\"\",\"\",'1_Lister les activités'!A404),\"\")","v":""},null,{"v":0,"d":"0.00"},{"$f":"IFERROR(IF($BH$3=\"\",\"\",'1_Lister les activités'!B404),\"\")","v":0},0,{"v":0,"d":"0.00"},{"$f":"IFERROR(IF($BH$3=\"\",\"\",'1_Lister les activités'!C404),\"\")","v":"Selectionner"}]
[{"$nulls":9},{"$f":"'2-Programmer les activités'!F408","v":0},{"$f":"'2-Programmer les activités'!G408","v":0},{"$nulls":21},{"$f":"IF('2-Programmer les activités'!K409=\"\",\"\",'2-Programmer les activités'!K409)","v":""},"","","","","-","","","","X",null,"","","","",null,"","","","",null,"","","","",null,null,{"$f":"IFERROR(IF($BH$3=\"\",\"\",'1_Lister les activités'!D405),\"\")","v":{"v":0,"d":"0.00"}},{"$f":"IFERROR(IF($BH$3=\"\",\"\",'1_Lister les activités'!A405),\"\")","v":""},null,{"v":0,"d":"0.00"},{"$f":"IFERROR(IF($BH$3=\"\",\"\",'1_Lister les activités'!B405),\"\")","v":0},0,{"v":0,"d":"0.00"},{"$f":"IFERROR(IF($BH$3=\"\",\"\",'1_Lister les activités'!C405),\"\")","v":"Selectionner"}]
[{"$nulls":9},{"$f":"'2-Programmer les activités'!F409","v":0},{"$f":"'2-Programmer les activités'!G409","v":0},{"$nulls":21},{"$f":"IF('2-Programmer les activités'!K410=\"\",\"\",'2-Programmer les activités'!K410)","v":""},"","","","","-","","","","X",null,"","","","",null,"","","","",null,"","","","",null,null,{"$f":"IFERROR(IF($BH$3=\"\",\"\",'1_Lister les activités'!D406),\"\")","v":{"v":0,"d":"0.00"}},{"$f":"IFERROR(IF($BH$3=\"\",\"\",'1_Lister les activités'!A406),\"\")","v":""},null,{"v":0,"d":"0.00"},{"$f":"IFERROR(IF($BH$3=\"\",\"\",'1_Lister les activités'!B406),\"\")","v":0},0,{"v":0,"d":"0.00"},{"$f":"IFERROR(IF($BH$3=\"\",\"\",'1_Lister les activités'!C406),\"\")","v":"Selectionner"}]
[{"$nulls":9},{"$f":"'2-Programmer les activités'!F410","v":0},{"$f":"'2-Programmer les activités'!G410","v":0},{"$nulls":21},{"$f":"IF('2-Programmer les activités'!K411=\"\",\"\",'2-Programmer les activités'!K411)","v":""},"","","","","-","","","","X",null,"","","","",null,"","","","",null,"","","","",null,null,{"$f":"IFERROR(IF($BH$3=\"\",\"\",'1_Lister les activités'!D407),\"\")","v":{"v":0,"d":"0.00"}},{"$f":"IFERROR(IF($BH$3=\"\",\"\",'1_Lister les activités'!A407),\"\")","v":""},null,{"v":0,"d":"0.00"},{"$f":"IFERROR(IF($BH$3=\"\",\"\",'1_Lister les activités'!B407),\"\")","v":0},0,{"v":0,"d":"0.00"},{"$f":"IFERROR(IF($BH$3=\"\",\"\",'1_Lister les activités'!C407),\"\")","v":"Selectionner"}]
[{"$nulls":9},{"$f":"'2-Programmer les activités'!F411","v":0},{"$f":"'2-Programmer les activités'!G411","v":0},{"$nulls":21},{"$f":"IF('2-Programmer les activités'!K412=\"\",\"\",'2-Programmer les activités'!K412)","v":""},"","","","","-","","","","X",null,"","","","",null,"","","","",null,"","","","",null,null,{"$f":"IFERROR(IF($BH$3=\"\",\"\",'1_Lister les activités'!D408),\"\")","v":{"v":0,"d":"0.00"}},{"$f":"IFERROR(IF($BH$3=\"\",\"\",'1_Lister les activités'!A408),\"\")","v":""},null,{"v":0,"d":"0.00"},{"$f":"IFERROR(IF($BH$3=\"\",\"\",'1_Lister les activités'!B408),\"\")","v":0},0,{"v":0,"d":"0.00"},{"$f":"IFERROR(IF($BH$3=\"\",\"\",'1_Lister les activités'!C408),\"\")","v":"Selectionner"}]
[{"$nulls":9},{"$f":"'2-Programmer les activités'!F412","v":0},{"$f":"'2-Programmer les activités'!G412","v":0},{"$nulls":21},{"$f":"IF('2-Programmer les activités'!K413=\"\",\"\",'2-Programmer les activités'!K413)","v":""},"","","","","-","","","","X",null,"","","","",null,"","","","",null,"","","","",null,null,{"$f":"IFERROR(IF($BH$3=\"\",\"\",'1_Lister les activités'!D409),\"\")","v":{"v":0,"d":"0.00"}},{"$f":"IFERROR(IF($BH$3=\"\",\"\",'1_Lister les activités'!A409),\"\")","v":""},null,{"v":0,"d":"0.00"},{"$f":"IFERROR(IF($BH$3=\"\",\"\",'1_Lister les activités'!B409),\"\")","v":0},0,{"v":0,"d":"0.00"},{"$f":"IFERROR(IF($BH$3=\"\",\"\",'1_Lister les activités'!C409),\"\")","v":"Selectionner"}]
[{"$nulls":9},{"$f":"'2-Programmer les activités'!F413","v":0},{"$f":"'2-Programmer les activités'!G413","v":0},{"$nulls":21},{"$f":"IF('2-Programmer les activités'!K414=\"\",\"\",'2-Programmer les activités'!K414)","v":""},"","","","","-","","","","X",null,"","","","",null,"","","","",null,"","","","",null,null,{"$f":"IFERROR(IF($BH$3=\"\",\"\",'1_Lister les activités'!D410),\"\")","v":{"v":0,"d":"0.00"}},{"$f":"IFERROR(IF($BH$3=\"\",\"\",'1_Lister les activités'!A410),\"\")","v":""},null,{"v":0,"d":"0.00"},{"$f":"IFERROR(IF($BH$3=\"\",\"\",'1_Lister les activités'!B410),\"\")","v":0},0,{"v":0,"d":"0.00"},{"$f":"IFERROR(IF($BH$3=\"\",\"\",'1_Lister les activités'!C410),\"\")","v":"Selectionner"}]
[{"$nulls":9},{"$f":"'2-Programmer les activités'!F414","v":0},{"$f":"'2-Programmer les activités'!G414","v":0},{"$nulls":21},{"$f":"IF('2-Programmer les activités'!K415=\"\",\"\",'2-Programmer les activités'!K415)","v":""},"","","","","-","","","","X",null,"","","","",null,"","","","",null,"","","","",null,null,{"$f":"IFERROR(IF($BH$3=\"\",\"\",'1_Lister les activités'!D411),\"\")","v":{"v":0,"d":"0.00"}},{"$f":"IFERROR(IF($BH$3=\"\",\"\",'1_Lister les activités'!A411),\"\")","v":""},null,{"v":0,"d":"0.00"},{"$f":"IFERROR(IF($BH$3=\"\",\"\",'1_Lister les activités'!B411),\"\")","v":0},0,{"v":0,"d":"0.00"},{"$f":"IFERROR(IF($BH$3=\"\",\"\",'1_Lister les activités'!C411),\"\")","v":"Selectionner"}]
[{"$nulls":9},{"$f":"'2-Programmer les activités'!F415","v":0},{"$f":"'2-Programmer les activités'!G415","v":0},{"$nulls":21},{"$f":"IF('2-Programmer les activités'!K416=\"\",\"\",'2-Programmer les activités'!K416)","v":""},"","","","","-","","","","X",null,"","","","",null,"","","","",null,"","","","",null,null,{"$f":"IFERROR(IF($BH$3=\"\",\"\",'1_Lister les activités'!D412),\"\")","v":{"v":0,"d":"0.00"}},{"$f":"IFERROR(IF($BH$3=\"\",\"\",'1_Lister les activités'!A412),\"\")","v":""},null,{"v":0,"d":"0.00"},{"$f":"IFERROR(IF($BH$3=\"\",\"\",'1_Lister les activités'!B412),\"\")","v":0},0,{"v":0,"d":"0.00"},{"$f":"IFERROR(IF($BH$3=\"\",\"\",'1_Lister les activités'!C412),\"\")","v":"Selectionner"}]
[{"$nulls":9},{"$f":"'2-Programmer les activités'!F416","v":0},{"$f":"'2-Programmer les activités'!G416","v":0},{"$nulls":21},{"$f":"IF('2-Programmer les activités'!K417=\"\",\"\",'2-Programmer les activités'!K417)","v":""},"","","","","-","","","","X",null,"","","","",null,"","","","",null,"","","","",null,null,{"$f":"IFERROR(IF($BH$3=\"\",\"\",'1_Lister les activités'!D413),\"\")","v":{"v":0,"d":"0.00"}},{"$f":"IFERROR(IF($BH$3=\"\",\"\",'1_Lister les activités'!A413),\"\")","v":""},null,{"v":0,"d":"0.00"},{"$f":"IFERROR(IF($BH$3=\"\",\"\",'1_Lister les activités'!B413),\"\")","v":0},0,{"v":0,"d":"0.00"},{"$f":"IFERROR(IF($BH$3=\"\",\"\",'1_Lister les activités'!C413),\"\")","v":"Selectionner"}]
[{"$nulls":9},{"$f":"'2-Programmer les activités'!F417","v":0},{"$f":"'2-Programmer les activités'!G417","v":0},{"$nulls":21},{"$f":"IF('2-Programmer les activités'!K418=\"\",\"\",'2-Programmer les activités'!K418)","v":""},"","","","","-","","","","X",null,"","","","",null,"","","","",null,"","","","",null,null,{"$f":"IFERROR(IF($BH$3=\"\",\"\",'1_Lister les activités'!D414),\"\")","v":{"v":0,"d":"0.00"}},{"$f":"IFERROR(IF($BH$3=\"\",\"\",'1_Lister les activités'!A414),\"\")","v":""},null,{"v":0,"d":"0.00"},{"$f":"IFERROR(IF($BH$3=\"\",\"\",'1_Lister les activités'!B414),\"\")","v":0},0,{"v":0,"d":"0.00"},{"$f":"IFERROR(IF($BH$3=\"\",\"\",'1_Lister les activités'!C414),\"\")","v":"Selectionner"}]
[{"$nulls":9},{"$f":"'2-Programmer les activités'!F418","v":0},{"$f":"'2-Programmer les activités'!G418","v":0},{"$nulls":21},{"$f":"IF('2-Programmer les activités'!K419=\"\",\"\",'2-Programmer les activités'!K419)","v":""},"","","","","-","","","","X",null,"","","","",null,"","","","",null,"","","","",null,null,{"$f":"IFERROR(IF($BH$3=\"\",\"\",'1_Lister les activités'!D415),\"\")","v":{"v":0,"d":"0.00"}},{"$f":"IFERROR(IF($BH$3=\"\",\"\",'1_Lister les activités'!A415),\"\")","v":""},null,{"v":0,"d":"0.00"},{"$f":"IFERROR(IF($BH$3=\"\",\"\",'1_Lister les activités'!B415),\"\")","v":0},0,{"v":0,"d":"0.00"},{"$f":"IFERROR(IF($BH$3=\"\",\"\",'1_Lister les activités'!C415),\"\")","v":"Selectionner"}]
[{"$nulls":9},{"$f":"'2-Programmer les activités'!F419","v":0},{"$f":"'2-Programmer les activités'!G419","v":0},{"$nulls":21},{"$f":"IF('2-Programmer les activités'!K420=\"\",\"\",'2-Programmer les activités'!K420)","v":""},"","","","","-","","","","X",null,"","","","",null,"","","","",null,"","","","",null,null,{"$f":"IFERROR(IF($BH$3=\"\",\"\",'1_Lister les activités'!D416),\"\")","v":{"v":0,"d":"0.00"}},{"$f":"IFERROR(IF($BH$3=\"\",\"\",'1_Lister les activités'!A416),\"\")","v":""},null,{"v":0,"d":"0.00"},{"$f":"IFERROR(IF($BH$3=\"\",\"\",'1_Lister les activités'!B416),\"\")","v":0},0,{"v":0,"d":"0.00"},{"$f":"IFERROR(IF($BH$3=\"\",\"\",'1_Lister les activités'!C416),\"\")","v":"Selectionner"}]
[{"$nulls":9},{"$f":"'2-Programmer les activités'!F420","v":0},{"$f":"'2-Programmer les activités'!G420","v":0},{"$nulls":21},{"$f":"IF('2-Programmer les activités'!K421=\"\",\"\",'2-Programmer les activités'!K421)","v":""},"","","","","-","","","","X",null,"","","","",null,"","","","",null,"","","","",null,null,{"$f":"IFERROR(IF($BH$3=\"\",\"\",'1_Lister les activités'!D417),\"\")","v":{"v":0,"d":"0.00"}},{"$f":"IFERROR(IF($BH$3=\"\",\"\",'1_Lister les activités'!A417),\"\")","v":""},null,{"v":0,"d":"0.00"},{"$f":"IFERROR(IF($BH$3=\"\",\"\",'1_Lister les activités'!B417),\"\")","v":0},0,{"v":0,"d":"0.00"},{"$f":"IFERROR(IF($BH$3=\"\",\"\",'1_Lister les activités'!C417),\"\")","v":"Selectionner"}]
[{"$nulls":9},{"$f":"'2-Programmer les activités'!F421","v":0},{"$f":"'2-Programmer les activités'!G421","v":0},{"$nulls":21},{"$f":"IF('2-Programmer les activités'!K422=\"\",\"\",'2-Programmer les activités'!K422)","v":""},"","","","","-","","","","X",null,"","","","",null,"","","","",null,"","","","",null,null,{"$f":"IFERROR(IF($BH$3=\"\",\"\",'1_Lister les activités'!D418),\"\")","v":{"v":0,"d":"0.00"}},{"$f":"IFERROR(IF($BH$3=\"\",\"\",'1_Lister les activités'!A418),\"\")","v":""},null,{"v":0,"d":"0.00"},{"$f":"IFERROR(IF($BH$3=\"\",\"\",'1_Lister les activités'!B418),\"\")","v":0},0,{"v":0,"d":"0.00"},{"$f":"IFERROR(IF($BH$3=\"\",\"\",'1_Lister les activités'!C418),\"\")","v":"Selectionner"}]
[{"$nulls":9},{"$f":"'2-Programmer les activités'!F422","v":0},{"$f":"'2-Programmer les activités'!G422","v":0},{"$nulls":21},{"$f":"IF('2-Programmer les activités'!K423=\"\",\"\",'2-Programmer les activités'!K423)","v":""},"","","","","-","","","","X",null,"","","","",null,"","","","",null,"","","","",null,null,{"$f":"IFERROR(IF($BH$3=\"\",\"\",'1_Lister les activités'!D419),\"\")","v":{"v":0,"d":"0.00"}},{"$f":"IFERROR(IF($BH$3=\"\",\"\",'1_Lister les activités'!A419),\"\")","v":""},null,{"v":0,"d":"0.00"},{"$f":"IFERROR(IF($BH$3=\"\",\"\",'1_Lister les activités'!B419),\"\")","v":0},0,{"v":0,"d":"0.00"},{"$f":"IFERROR(IF($BH$3=\"\",\"\",'1_Lister les activités'!C419),\"\")","v":"Selectionner"}]
[{"$nulls":9},{"$f":"'2-Programmer les activités'!F423","v":0},{"$f":"'2-Programmer les activités'!G423","v":0},{"$nulls":21},{"$f":"IF('2-Programmer les activités'!K424=\"\",\"\",'2-Programmer les activités'!K424)","v":""},"","","","","-","","","","X",null,"","","","",null,"","","","",null,"","","","",null,null,{"$f":"IFERROR(IF($BH$3=\"\",\"\",'1_Lister les activités'!D420),\"\")","v":{"v":0,"d":"0.00"}},{"$f":"IFERROR(IF($BH$3=\"\",\"\",'1_Lister les activités'!A420),\"\")","v":""},null,{"v":0,"d":"0.00"},{"$f":"IFERROR(IF($BH$3=\"\",\"\",'1_Lister les activités'!B420),\"\")","v":0},0,{"v":0,"d":"0.00"},{"$f":"IFERROR(IF($BH$3=\"\",\"\",'1_Lister les activités'!C420),\"\")","v":"Selectionner"}]
[{"$nulls":9},{"$f":"'2-Programmer les activités'!F424","v":0},{"$f":"'2-Programmer les activités'!G424","v":0},{"$nulls":21},{"$f":"IF('2-Programmer les activités'!K425=\"\",\"\",'2-Programmer les activités'!K425)","v":""},"","","","","-","","","","X",null,"","","","",null,"","","","",null,"","","","",null,null,{"$f":"IFERROR(IF($BH$3=\"\",\"\",'1_Lister les activités'!D421),\"\")","v":{"v":0,"d":"0.00"}},{"$f":"IFERROR(IF($BH$3=\"\",\"\",'1_Lister les activités'!A421),\"\")","v":""},null,{"v":0,"d":"0.00"},{"$f":"IFERROR(IF($BH$3=\"\",\"\",'1_Lister les activités'!B421),\"\")","v":0},0,{"v":0,"d":"0.00"},{"$f":"IFERROR(IF($BH$3=\"\",\"\",'1_Lister les activités'!C421),\"\")","v":"Selectionner"}]
[{"$nulls":9},{"$f":"'2-Programmer les activités'!F425","v":0},{"$f":"'2-Programmer les activités'!G425","v":0},{"$nulls":21},{"$f":"IF('2-Programmer les activités'!K426=\"\",\"\",'2-Programmer les activités'!K426)","v":""},"","","","","-","","","","X",null,"","","","",null,"","","","",null,"","","","",null,null,{"$f":"IFERROR(IF($BH$3=\"\",\"\",'1_Lister les activités'!D422),\"\")","v":{"v":0,"d":"0.00"}},{"$f":"IFERROR(IF($BH$3=\"\",\"\",'1_Lister les activités'!A422),\"\")","v":""},null,{"v":0,"d":"0.00"},{"$f":"IFERROR(IF($BH$3=\"\",\"\",'1_Lister les activités'!B422),\"\")","v":0},0,{"v":0,"d":"0.00"},{"$f":"IFERROR(IF($BH$3=\"\",\"\",'1_Lister les activités'!C422),\"\")","v":"Selectionner"}]
[{"$nulls":9},{"$f":"'2-Programmer les activités'!F426","v":0},{"$f":"'2-Programmer les activités'!G426","v":0},{"$nulls":21},{"$f":"IF('2-Programmer les activités'!K427=\"\",\"\",'2-Programmer les activités'!K427)","v":""},"","","","","-","","","","X",null,"","","","",null,"","","","",null,"","","","",null,null,{"$f":"IFERROR(IF($BH$3=\"\",\"\",'1_Lister les activités'!D423),\"\")","v":{"v":0,"d":"0.00"}},{"$f":"IFERROR(IF($BH$3=\"\",\"\",'1_Lister les activités'!A423),\"\")","v":""},null,{"v":0,"d":"0.00"},{"$f":"IFERROR(IF($BH$3=\"\",\"\",'1_Lister les activités'!B423),\"\")","v":0},0,{"v":0,"d":"0.00"},{"$f":"IFERROR(IF($BH$3=\"\",\"\",'1_Lister les activités'!C423),\"\")","v":"Selectionner"}]
[{"$nulls":9},{"$f":"'2-Programmer les activités'!F427","v":0},{"$f":"'2-Programmer les activités'!G427","v":0},{"$nulls":21},{"$f":"IF('2-Programmer les activités'!K428=\"\",\"\",'2-Programmer les activités'!K428)","v":""},"","","","","-","","","","X",null,"","","","",null,"","","","",null,"","","","",null,null,{"$f":"IFERROR(IF($BH$3=\"\",\"\",'1_Lister les activités'!D424),\"\")","v":{"v":0,"d":"0.00"}},{"$f":"IFERROR(IF($BH$3=\"\",\"\",'1_Lister les activités'!A424),\"\")","v":""},null,{"v":0,"d":"0.00"},{"$f":"IFERROR(IF($BH$3=\"\",\"\",'1_Lister les activités'!B424),\"\")","v":0},0,{"v":0,"d":"0.00"},{"$f":"IFERROR(IF($BH$3=\"\",\"\",'1_Lister les activités'!C424),\"\")","v":"Selectionner"}]
[{"$nulls":9},{"$f":"'2-Programmer les activités'!F428","v":0},{"$f":"'2-Programmer les activités'!G428","v":0},{"$nulls":21},{"$f":"IF('2-Programmer les activités'!K429=\"\",\"\",'2-Programmer les activités'!K429)","v":""},"","","","","-","","","","X",null,"","","","",null,"","","","",null,"","","","",null,null,{"$f":"IFERROR(IF($BH$3=\"\",\"\",'1_Lister les activités'!D425),\"\")","v":{"v":0,"d":"0.00"}},{"$f":"IFERROR(IF($BH$3=\"\",\"\",'1_Lister les activités'!A425),\"\")","v":""},null,{"v":0,"d":"0.00"},{"$f":"IFERROR(IF($BH$3=\"\",\"\",'1_Lister les activités'!B425),\"\")","v":0},0,{"v":0,"d":"0.00"},{"$f":"IFERROR(IF($BH$3=\"\",\"\",'1_Lister les activités'!C425),\"\")","v":"Selectionner"}]
[{"$nulls":9},{"$f":"'2-Programmer les activités'!F429","v":0},{"$f":"'2-Programmer les activités'!G429","v":0},{"$nulls":21},{"$f":"IF('2-Programmer les activités'!K430=\"\",\"\",'2-Programmer les activités'!K430)","v":""},"","","","","-","","","","X",null,"","","","",null,"","","","",null,"","","","",null,null,{"$f":"IFERROR(IF($BH$3=\"\",\"\",'1_Lister les activités'!D426),\"\")","v":{"v":0,"d":"0.00"}},{"$f":"IFERROR(IF($BH$3=\"\",\"\",'1_Lister les activités'!A426),\"\")","v":""},null,{"v":0,"d":"0.00"},{"$f":"IFERROR(IF($BH$3=\"\",\"\",'1_Lister les activités'!B426),\"\")","v":0},0,{"v":0,"d":"0.00"},{"$f":"IFERROR(IF($BH$3=\"\",\"\",'1_Lister les activités'!C426),\"\")","v":"Selectionner"}]
[{"$nulls":9},{"$f":"'2-Programmer les activités'!F430","v":0},{"$f":"'2-Programmer les activités'!G430","v":0},{"$nulls":21},{"$f":"IF('2-Programmer les activités'!K431=\"\",\"\",'2-Programmer les activités'!K431)","v":""},"","","","","-","","","","X",null,"","","","",null,"","","","",null,"","","","",null,null,{"$f":"IFERROR(IF($BH$3=\"\",\"\",'1_Lister les activités'!D427),\"\")","v":{"v":0,"d":"0.00"}},{"$f":"IFERROR(IF($BH$3=\"\",\"\",'1_Lister les activités'!A427),\"\")","v":""},null,{"v":0,"d":"0.00"},{"$f":"IFERROR(IF($BH$3=\"\",\"\",'1_Lister les activités'!B427),\"\")","v":0},0,{"v":0,"d":"0.00"},{"$f":"IFERROR(IF($BH$3=\"\",\"\",'1_Lister les activités'!C427),\"\")","v":"Selectionner"}]
[{"$nulls":9},{"$f":"'2-Programmer les activités'!F431","v":0},{"$f":"'2-Programmer les activités'!G431","v":0},{"$nulls":21},{"$f":"IF('2-Programmer les activités'!K432=\"\",\"\",'2-Programmer les activités'!K432)","v":""},"","","","","-","","","","X",null,"","","","",null,"","","","",null,"","","","",null,null,{"$f":"IFERROR(IF($BH$3=\"\",\"\",'1_Lister les activités'!D428),\"\")","v":{"v":0,"d":"0.00"}},{"$f":"IFERROR(IF($BH$3=\"\",\"\",'1_Lister les activités'!A428),\"\")","v":""},null,{"v":0,"d":"0.00"},{"$f":"IFERROR(IF($BH$3=\"\",\"\",'1_Lister les activités'!B428),\"\")","v":0},0,{"v":0,"d":"0.00"},{"$f":"IFERROR(IF($BH$3=\"\",\"\",'1_Lister les activités'!C428),\"\")","v":"Selectionner"}]
[{"$nulls":9},{"$f":"'2-Programmer les activités'!F432","v":0},{"$f":"'2-Programmer les activités'!G432","v":0},{"$nulls":21},{"$f":"IF('2-Programmer les activités'!K433=\"\",\"\",'2-Programmer les activités'!K433)","v":""},"","","","","-","","","","X",null,"","","","",null,"","","","",null,"","","","",null,null,{"$f":"IFERROR(IF($BH$3=\"\",\"\",'1_Lister les activités'!D429),\"\")","v":{"v":0,"d":"0.00"}},{"$f":"IFERROR(IF($BH$3=\"\",\"\",'1_Lister les activités'!A429),\"\")","v":""},null,{"v":0,"d":"0.00"},{"$f":"IFERROR(IF($BH$3=\"\",\"\",'1_Lister les activités'!B429),\"\")","v":0},0,{"v":0,"d":"0.00"},{"$f":"IFERROR(IF($BH$3=\"\",\"\",'1_Lister les activités'!C429),\"\")","v":"Selectionner"}]
[{"$nulls":9},{"$f":"'2-Programmer les activités'!F433","v":0},{"$f":"'2-Programmer les activités'!G433","v":0},{"$nulls":21},{"$f":"IF('2-Programmer les activités'!K434=\"\",\"\",'2-Programmer les activités'!K434)","v":""},"","","","","-","","","","X",null,"","","","",null,"","","","",null,"","","","",null,null,{"$f":"IFERROR(IF($BH$3=\"\",\"\",'1_Lister les activités'!D430),\"\")","v":{"v":0,"d":"0.00"}},{"$f":"IFERROR(IF($BH$3=\"\",\"\",'1_Lister les activités'!A430),\"\")","v":""},null,{"v":0,"d":"0.00"},{"$f":"IFERROR(IF($BH$3=\"\",\"\",'1_Lister les activités'!B430),\"\")","v":0},0,{"v":0,"d":"0.00"},{"$f":"IFERROR(IF($BH$3=\"\",\"\",'1_Lister les activités'!C430),\"\")","v":"Selectionner"}]
[{"$nulls":9},{"$f":"'2-Programmer les activités'!F434","v":0},{"$f":"'2-Programmer les activités'!G434","v":0},{"$nulls":21},{"$f":"IF('2-Programmer les activités'!K435=\"\",\"\",'2-Programmer les activités'!K435)","v":""},"","","","","-","","","","X",null,"","","","",null,"","","","",null,"","","","",null,null,{"$f":"IFERROR(IF($BH$3=\"\",\"\",'1_Lister les activités'!D431),\"\")","v":{"v":0,"d":"0.00"}},{"$f":"IFERROR(IF($BH$3=\"\",\"\",'1_Lister les activités'!A431),\"\")","v":""},null,{"v":0,"d":"0.00"},{"$f":"IFERROR(IF($BH$3=\"\",\"\",'1_Lister les activités'!B431),\"\")","v":0},0,{"v":0,"d":"0.00"},{"$f":"IFERROR(IF($BH$3=\"\",\"\",'1_Lister les activités'!C431),\"\")","v":"Selectionner"}]
[{"$nulls":9},{"$f":"'2-Programmer les activités'!F435","v":0},{"$f":"'2-Programmer les activités'!G435","v":0},{"$nulls":21},{"$f":"IF('2-Programmer les activités'!K436=\"\",\"\",'2-Programmer les activités'!K436)","v":""},"","",{"$f":"IF(AG430=\"\",\"\",DAY(AG430))","v":""},{"$f":"IFERROR(YEAR(AG430),\"\")","v":""},{"$f":"IFERROR(CONCATENATE(AI430,\"-\",AK430),\"\")","v":"-"},{"$f":"IF(AJ430<8,\"X\",\"\")","v":""},{"$f":"IF(AND(AJ430>7,AND(AJ430<15)),\"X\",\"\")","v":""},{"$f":"IF(AND(AJ430>14,AND(AJ430<22)),\"X\",\"\")","v":""},{"$f":"IF(AJ430>21,\"X\",\"\")","v":"X"},null,{"$f":"IF(AL430=$AR$4,AM430,\"\")","v":""},{"$f":"IF(AL430=$AR$4,AN430,\"\")","v":""},{"$f":"IF(AL430=$AR$4,AO430,\"\")","v":""},{"$f":"IF(AL430=$AR$4,AP430,\"\")","v":""},null,{"$f":"IF(AL430=$AW$4,AM430,\"\")","v":""},{"$f":"IF(AL430=$AW$4,AN430,\"\")","v":""},{"$f":"IF(AL430=$AW$4,AO430,\"\")","v":""},{"$f":"IF(AL430=$AW$4,AP430,\"\")","v":""},null,{"$f":"IF(AL430=$BB$4,AM430,\"\")","v":""},{"$f":"IF(AL430=$BB$4,AN430,\"\")","v":""},{"$f":"IF(AL430=$BB$4,AO430,\"\")","v":""},{"$f":"IF(AL430=$BB$4,AP430,\"\")","v":""},null,null,{"$f":"IFERROR(IF($BH$3=\"\",\"\",'1_Lister les activités'!D432),\"\")","v":{"v":0,"d":"0.00"}},{"$f":"IFERROR(IF($BH$3=\"\",\"\",'1_Lister les activités'!A432),\"\")","v":""},null,{"v":0,"d":"0.00"},{"$f":"IFERROR(IF($BH$3=\"\",\"\",'1_Lister les activités'!B432),\"\")","v":0},0,{"v":0,"d":"0.00"},{"$f":"IFERROR(IF($BH$3=\"\",\"\",'1_Lister les activités'!C432),\"\")","v":"Selectionner"}]
[{"$nulls":9},{"$f":"'2-Programmer les activités'!F436","v":0},{"$f":"'2-Programmer les activités'!G436","v":0},{"$nulls":21},{"$f":"IF('2-Programmer les activités'!K437=\"\",\"\",'2-Programmer les activités'!K437)","v":""},"","","","","-","","","","X",null,"","","","",null,"","","","",null,"","","","",null,null,{"$f":"IFERROR(IF($BH$3=\"\",\"\",'1_Lister les activités'!D433),\"\")","v":{"v":0,"d":"0.00"}},{"$f":"IFERROR(IF($BH$3=\"\",\"\",'1_Lister les activités'!A433),\"\")","v":""},null,{"v":0,"d":"0.00"},{"$f":"IFERROR(IF($BH$3=\"\",\"\",'1_Lister les activités'!B433),\"\")","v":0},0,{"v":0,"d":"0.00"},{"$f":"IFERROR(IF($BH$3=\"\",\"\",'1_Lister les activités'!C433),\"\")","v":"Selectionner"}]
[{"$nulls":9},{"$f":"'2-Programmer les activités'!F437","v":0},{"$f":"'2-Programmer les activités'!G437","v":0},{"$nulls":21},{"$f":"IF('2-Programmer les activités'!K438=\"\",\"\",'2-Programmer les activités'!K438)","v":""},"","","","","-","","","","X",null,"","","","",null,"","","","",null,"","","","",null,null,{"$f":"IFERROR(IF($BH$3=\"\",\"\",'1_Lister les activités'!D434),\"\")","v":{"v":0,"d":"0.00"}},{"$f":"IFERROR(IF($BH$3=\"\",\"\",'1_Lister les activités'!A434),\"\")","v":""},null,{"v":0,"d":"0.00"},{"$f":"IFERROR(IF($BH$3=\"\",\"\",'1_Lister les activités'!B434),\"\")","v":0},0,{"v":0,"d":"0.00"},{"$f":"IFERROR(IF($BH$3=\"\",\"\",'1_Lister les activités'!C434),\"\")","v":"Selectionner"}]
[{"$nulls":9},{"$f":"'2-Programmer les activités'!F438","v":0},{"$f":"'2-Programmer les activités'!G438","v":0},{"$nulls":21},{"$f":"IF('2-Programmer les activités'!K439=\"\",\"\",'2-Programmer les activités'!K439)","v":""},"","","","","-","","","","X",null,"","","","",null,"","","","",null,"","","","",null,null,{"$f":"IFERROR(IF($BH$3=\"\",\"\",'1_Lister les activités'!D435),\"\")","v":{"v":0,"d":"0.00"}},{"$f":"IFERROR(IF($BH$3=\"\",\"\",'1_Lister les activités'!A435),\"\")","v":""},null,{"v":0,"d":"0.00"},{"$f":"IFERROR(IF($BH$3=\"\",\"\",'1_Lister les activités'!B435),\"\")","v":0},0,{"v":0,"d":"0.00"},{"$f":"IFERROR(IF($BH$3=\"\",\"\",'1_Lister les activités'!C435),\"\")","v":"Selectionner"}]
[{"$nulls":9},{"$f":"'2-Programmer les activités'!F439","v":0},{"$f":"'2-Programmer les activités'!G439","v":0},{"$nulls":21},{"$f":"IF('2-Programmer les activités'!K440=\"\",\"\",'2-Programmer les activités'!K440)","v":""},"","","","","-","","","","X",null,"","","","",null,"","","","",null,"","","","",null,null,{"$f":"IFERROR(IF($BH$3=\"\",\"\",'1_Lister les activités'!D436),\"\")","v":{"v":0,"d":"0.00"}},{"$f":"IFERROR(IF($BH$3=\"\",\"\",'1_Lister les activités'!A436),\"\")","v":""},null,{"v":0,"d":"0.00"},{"$f":"IFERROR(IF($BH$3=\"\",\"\",'1_Lister les activités'!B436),\"\")","v":0},0,{"v":0,"d":"0.00"},{"$f":"IFERROR(IF($BH$3=\"\",\"\",'1_Lister les activités'!C436),\"\")","v":"Selectionner"}]
[{"$nulls":9},{"$f":"'2-Programmer les activités'!F440","v":0},{"$f":"'2-Programmer les activités'!G440","v":0},{"$nulls":21},{"$f":"IF('2-Programmer les activités'!K441=\"\",\"\",'2-Programmer les activités'!K441)","v":""},"","","","","-","","","","X",null,"","","","",null,"","","","",null,"","","","",null,null,{"$f":"IFERROR(IF($BH$3=\"\",\"\",'1_Lister les activités'!D437),\"\")","v":{"v":0,"d":"0.00"}},{"$f":"IFERROR(IF($BH$3=\"\",\"\",'1_Lister les activités'!A437),\"\")","v":""},null,{"v":0,"d":"0.00"},{"$f":"IFERROR(IF($BH$3=\"\",\"\",'1_Lister les activités'!B437),\"\")","v":0},0,{"v":0,"d":"0.00"},{"$f":"IFERROR(IF($BH$3=\"\",\"\",'1_Lister les activités'!C437),\"\")","v":"Selectionner"}]
[{"$nulls":9},{"$f":"'2-Programmer les activités'!F441","v":0},{"$f":"'2-Programmer les activités'!G441","v":0},{"$nulls":21},{"$f":"IF('2-Programmer les activités'!K442=\"\",\"\",'2-Programmer les activités'!K442)","v":""},"","","","","-","","","","X",null,"","","","",null,"","","","",null,"","","","",null,null,{"$f":"IFERROR(IF($BH$3=\"\",\"\",'1_Lister les activités'!D438),\"\")","v":{"v":0,"d":"0.00"}},{"$f":"IFERROR(IF($BH$3=\"\",\"\",'1_Lister les activités'!A438),\"\")","v":""},null,{"v":0,"d":"0.00"},{"$f":"IFERROR(IF($BH$3=\"\",\"\",'1_Lister les activités'!B438),\"\")","v":0},0,{"v":0,"d":"0.00"},{"$f":"IFERROR(IF($BH$3=\"\",\"\",'1_Lister les activités'!C438),\"\")","v":"Selectionner"}]
[{"$nulls":9},{"$f":"'2-Programmer les activités'!F442","v":0},{"$f":"'2-Programmer les activités'!G442","v":0},{"$nulls":21},{"$f":"IF('2-Programmer les activités'!K443=\"\",\"\",'2-Programmer les activités'!K443)","v":""},"","","","","-","","","","X",null,"","","","",null,"","","","",null,"","","","",null,null,{"$f":"IFERROR(IF($BH$3=\"\",\"\",'1_Lister les activités'!D439),\"\")","v":{"v":0,"d":"0.00"}},{"$f":"IFERROR(IF($BH$3=\"\",\"\",'1_Lister les activités'!A439),\"\")","v":""},null,{"v":0,"d":"0.00"},{"$f":"IFERROR(IF($BH$3=\"\",\"\",'1_Lister les activités'!B439),\"\")","v":0},0,{"v":0,"d":"0.00"},{"$f":"IFERROR(IF($BH$3=\"\",\"\",'1_Lister les activités'!C439),\"\")","v":"Selectionner"}]
[{"$nulls":9},{"$f":"'2-Programmer les activités'!F443","v":0},{"$f":"'2-Programmer les activités'!G443","v":0},{"$nulls":21},{"$f":"IF('2-Programmer les activités'!K444=\"\",\"\",'2-Programmer les activités'!K444)","v":""},"","","","","-","","","","X",null,"","","","",null,"","","","",null,"","","","",null,null,{"$f":"IFERROR(IF($BH$3=\"\",\"\",'1_Lister les activités'!D440),\"\")","v":{"v":0,"d":"0.00"}},{"$f":"IFERROR(IF($BH$3=\"\",\"\",'1_Lister les activités'!A440),\"\")","v":""},null,{"v":0,"d":"0.00"},{"$f":"IFERROR(IF($BH$3=\"\",\"\",'1_Lister les activités'!B440),\"\")","v":0},0,{"v":0,"d":"0.00"},{"$f":"IFERROR(IF($BH$3=\"\",\"\",'1_Lister les activités'!C440),\"\")","v":"Selectionner"}]
[{"$nulls":9},{"$f":"'2-Programmer les activités'!F444","v":0},{"$f":"'2-Programmer les activités'!G444","v":0},{"$nulls":21},{"$f":"IF('2-Programmer les activités'!K445=\"\",\"\",'2-Programmer les activités'!K445)","v":""},"","","","","-","","","","X",null,"","","","",null,"","","","",null,"","","","",null,null,{"$f":"IFERROR(IF($BH$3=\"\",\"\",'1_Lister les activités'!D441),\"\")","v":{"v":0,"d":"0.00"}},{"$f":"IFERROR(IF($BH$3=\"\",\"\",'1_Lister les activités'!A441),\"\")","v":""},null,{"v":0,"d":"0.00"},{"$f":"IFERROR(IF($BH$3=\"\",\"\",'1_Lister les activités'!B441),\"\")","v":0},0,{"v":0,"d":"0.00"},{"$f":"IFERROR(IF($BH$3=\"\",\"\",'1_Lister les activités'!C441),\"\")","v":"Selectionner"}]
[{"$nulls":9},{"$f":"'2-Programmer les activités'!F445","v":0},{"$f":"'2-Programmer les activités'!G445","v":0},{"$nulls":21},{"$f":"IF('2-Programmer les activités'!K446=\"\",\"\",'2-Programmer les activités'!K446)","v":""},"","","","","-","","","","X",null,"","","","",null,"","","","",null,"","","","",null,null,{"$f":"IFERROR(IF($BH$3=\"\",\"\",'1_Lister les activités'!D442),\"\")","v":{"v":0,"d":"0.00"}},{"$f":"IFERROR(IF($BH$3=\"\",\"\",'1_Lister les activités'!A442),\"\")","v":""},null,{"v":0,"d":"0.00"},{"$f":"IFERROR(IF($BH$3=\"\",\"\",'1_Lister les activités'!B442),\"\")","v":0},0,{"v":0,"d":"0.00"},{"$f":"IFERROR(IF($BH$3=\"\",\"\",'1_Lister les activités'!C442),\"\")","v":"Selectionner"}]
[{"$nulls":9},{"$f":"'2-Programmer les activités'!F446","v":0},{"$f":"'2-Programmer les activités'!G446","v":0},{"$nulls":21},{"$f":"IF('2-Programmer les activités'!K447=\"\",\"\",'2-Programmer les activités'!K447)","v":""},"","","","","-","","","","X",null,"","","","",null,"","","","",null,"","","","",null,null,{"$f":"IFERROR(IF($BH$3=\"\",\"\",'1_Lister les activités'!D443),\"\")","v":{"v":0,"d":"0.00"}},{"$f":"IFERROR(IF($BH$3=\"\",\"\",'1_Lister les activités'!A443),\"\")","v":""},null,{"v":0,"d":"0.00"},{"$f":"IFERROR(IF($BH$3=\"\",\"\",'1_Lister les activités'!B443),\"\")","v":0},0,{"v":0,"d":"0.00"},{"$f":"IFERROR(IF($BH$3=\"\",\"\",'1_Lister les activités'!C443),\"\")","v":"Selectionner"}]
[{"$nulls":9},{"$f":"'2-Programmer les activités'!F447","v":0},{"$f":"'2-Programmer les activités'!G447","v":0},{"$nulls":21},{"$f":"IF('2-Programmer les activités'!K448=\"\",\"\",'2-Programmer les activités'!K448)","v":""},"","","","","-","","","","X",null,"","","","",null,"","","","",null,"","","","",null,null,{"$f":"IFERROR(IF($BH$3=\"\",\"\",'1_Lister les activités'!D444),\"\")","v":{"v":0,"d":"0.00"}},{"$f":"IFERROR(IF($BH$3=\"\",\"\",'1_Lister les activités'!A444),\"\")","v":""},null,{"v":0,"d":"0.00"},{"$f":"IFERROR(IF($BH$3=\"\",\"\",'1_Lister les activités'!B444),\"\")","v":0},0,{"v":0,"d":"0.00"},{"$f":"IFERROR(IF($BH$3=\"\",\"\",'1_Lister les activités'!C444),\"\")","v":"Selectionner"}]
[{"$nulls":9},{"$f":"'2-Programmer les activités'!F448","v":0},{"$f":"'2-Programmer les activités'!G448","v":0},{"$nulls":21},{"$f":"IF('2-Programmer les activités'!K449=\"\",\"\",'2-Programmer les activités'!K449)","v":""},"","","","","-","","","","X",null,"","","","",null,"","","","",null,"","","","",null,null,{"$f":"IFERROR(IF($BH$3=\"\",\"\",'1_Lister les activités'!D445),\"\")","v":{"v":0,"d":"0.00"}},{"$f":"IFERROR(IF($BH$3=\"\",\"\",'1_Lister les activités'!A445),\"\")","v":""},null,{"v":0,"d":"0.00"},{"$f":"IFERROR(IF($BH$3=\"\",\"\",'1_Lister les activités'!B445),\"\")","v":0},0,{"v":0,"d":"0.00"},{"$f":"IFERROR(IF($BH$3=\"\",\"\",'1_Lister les activités'!C445),\"\")","v":"Selectionner"}]
[{"$nulls":9},{"$f":"'2-Programmer les activités'!F449","v":0},{"$f":"'2-Programmer les activités'!G449","v":0},{"$nulls":21},{"$f":"IF('2-Programmer les activités'!K450=\"\",\"\",'2-Programmer les activités'!K450)","v":""},"","","","","-","","","","X",null,"","","","",null,"","","","",null,"","","","",null,null,{"$f":"IFERROR(IF($BH$3=\"\",\"\",'1_Lister les activités'!D446),\"\")","v":{"v":0,"d":"0.00"}},{"$f":"IFERROR(IF($BH$3=\"\",\"\",'1_Lister les activités'!A446),\"\")","v":""},null,{"v":0,"d":"0.00"},{"$f":"IFERROR(IF($BH$3=\"\",\"\",'1_Lister les activités'!B446),\"\")","v":0},0,{"v":0,"d":"0.00"},{"$f":"IFERROR(IF($BH$3=\"\",\"\",'1_Lister les activités'!C446),\"\")","v":"Selectionner"}]
[{"$nulls":9},{"$f":"'2-Programmer les activités'!F450","v":0},{"$f":"'2-Programmer les activités'!G450","v":0},{"$nulls":21},{"$f":"IF('2-Programmer les activités'!K451=\"\",\"\",'2-Programmer les activités'!K451)","v":""},"","","","","-","","","","X",null,"","","","",null,"","","","",null,"","","","",null,null,{"$f":"IFERROR(IF($BH$3=\"\",\"\",'1_Lister les activités'!D447),\"\")","v":{"v":0,"d":"0.00"}},{"$f":"IFERROR(IF($BH$3=\"\",\"\",'1_Lister les activités'!A447),\"\")","v":""},null,{"v":0,"d":"0.00"},{"$f":"IFERROR(IF($BH$3=\"\",\"\",'1_Lister les activités'!B447),\"\")","v":0},0,{"v":0,"d":"0.00"},{"$f":"IFERROR(IF($BH$3=\"\",\"\",'1_Lister les activités'!C447),\"\")","v":"Selectionner"}]
[{"$nulls":9},{"$f":"'2-Programmer les activités'!F451","v":0},{"$f":"'2-Programmer les activités'!G451","v":0},{"$nulls":21},{"$f":"IF('2-Programmer les activités'!K452=\"\",\"\",'2-Programmer les activités'!K452)","v":""},"","","","","-","","","","X",null,"","","","",null,"","","","",null,"","","","",null,null,{"$f":"IFERROR(IF($BH$3=\"\",\"\",'1_Lister les activités'!D448),\"\")","v":{"v":0,"d":"0.00"}},{"$f":"IFERROR(IF($BH$3=\"\",\"\",'1_Lister les activités'!A448),\"\")","v":""},null,{"v":0,"d":"0.00"},{"$f":"IFERROR(IF($BH$3=\"\",\"\",'1_Lister les activités'!B448),\"\")","v":0},0,{"v":0,"d":"0.00"},{"$f":"IFERROR(IF($BH$3=\"\",\"\",'1_Lister les activités'!C448),\"\")","v":"Selectionner"}]
[{"$nulls":9},{"$f":"'2-Programmer les activités'!F452","v":0},{"$f":"'2-Programmer les activités'!G452","v":0},{"$nulls":21},{"$f":"IF('2-Programmer les activités'!K453=\"\",\"\",'2-Programmer les activités'!K453)","v":""},"","","","","-","","","","X",null,"","","","",null,"","","","",null,"","","","",null,null,{"$f":"IFERROR(IF($BH$3=\"\",\"\",'1_Lister les activités'!D449),\"\")","v":{"v":0,"d":"0.00"}},{"$f":"IFERROR(IF($BH$3=\"\",\"\",'1_Lister les activités'!A449),\"\")","v":""},null,{"v":0,"d":"0.00"},{"$f":"IFERROR(IF($BH$3=\"\",\"\",'1_Lister les activités'!B449),\"\")","v":0},0,{"v":0,"d":"0.00"},{"$f":"IFERROR(IF($BH$3=\"\",\"\",'1_Lister les activités'!C449),\"\")","v":"Selectionner"}]
[{"$nulls":9},{"$f":"'2-Programmer les activités'!F453","v":0},{"$f":"'2-Programmer les activités'!G453","v":0},{"$nulls":21},{"$f":"IF('2-Programmer les activités'!K454=\"\",\"\",'2-Programmer les activités'!K454)","v":""},"","","","","-","","","","X",null,"","","","",null,"","","","",null,"","","","",null,null,{"$f":"IFERROR(IF($BH$3=\"\",\"\",'1_Lister les activités'!D450),\"\")","v":{"v":0,"d":"0.00"}},{"$f":"IFERROR(IF($BH$3=\"\",\"\",'1_Lister les activités'!A450),\"\")","v":""},null,{"v":0,"d":"0.00"},{"$f":"IFERROR(IF($BH$3=\"\",\"\",'1_Lister les activités'!B450),\"\")","v":0},0,{"v":0,"d":"0.00"},{"$f":"IFERROR(IF($BH$3=\"\",\"\",'1_Lister les activités'!C450),\"\")","v":"Selectionner"}]
[{"$nulls":9},{"$f":"'2-Programmer les activités'!F454","v":0},{"$f":"'2-Programmer les activités'!G454","v":0},{"$nulls":21},{"$f":"IF('2-Programmer les activités'!K455=\"\",\"\",'2-Programmer les activités'!K455)","v":""},"","","","","-","","","","X",null,"","","","",null,"","","","",null,"","","","",null,null,{"$f":"IFERROR(IF($BH$3=\"\",\"\",'1_Lister les activités'!D451),\"\")","v":{"v":0,"d":"0.00"}},{"$f":"IFERROR(IF($BH$3=\"\",\"\",'1_Lister les activités'!A451),\"\")","v":""},null,{"v":0,"d":"0.00"},{"$f":"IFERROR(IF($BH$3=\"\",\"\",'1_Lister les activités'!B451),\"\")","v":0},0,{"v":0,"d":"0.00"},{"$f":"IFERROR(IF($BH$3=\"\",\"\",'1_Lister les activités'!C451),\"\")","v":"Selectionner"}]
[{"$nulls":9},{"$f":"'2-Programmer les activités'!F455","v":0},{"$f":"'2-Programmer les activités'!G455","v":0},{"$nulls":21},{"$f":"IF('2-Programmer les activités'!K456=\"\",\"\",'2-Programmer les activités'!K456)","v":""},"","","","","-","","","","X",null,"","","","",null,"","","","",null,"","","","",null,null,{"$f":"IFERROR(IF($BH$3=\"\",\"\",'1_Lister les activités'!D452),\"\")","v":{"v":0,"d":"0.00"}},{"$f":"IFERROR(IF($BH$3=\"\",\"\",'1_Lister les activités'!A452),\"\")","v":""},null,{"v":0,"d":"0.00"},{"$f":"IFERROR(IF($BH$3=\"\",\"\",'1_Lister les activités'!B452),\"\")","v":0},0,{"v":0,"d":"0.00"},{"$f":"IFERROR(IF($BH$3=\"\",\"\",'1_Lister les activités'!C452),\"\")","v":"Selectionner"}]
[{"$nulls":9},{"$f":"'2-Programmer les activités'!F456","v":0},{"$f":"'2-Programmer les activités'!G456","v":0},{"$nulls":21},{"$f":"IF('2-Programmer les activités'!K457=\"\",\"\",'2-Programmer les activités'!K457)","v":""},"","","","","-","","","","X",null,"","","","",null,"","","","",null,"","","","",null,null,{"$f":"IFERROR(IF($BH$3=\"\",\"\",'1_Lister les activités'!D453),\"\")","v":{"v":0,"d":"0.00"}},{"$f":"IFERROR(IF($BH$3=\"\",\"\",'1_Lister les activités'!A453),\"\")","v":""},null,{"v":0,"d":"0.00"},{"$f":"IFERROR(IF($BH$3=\"\",\"\",'1_Lister les activités'!B453),\"\")","v":0},0,{"v":0,"d":"0.00"},{"$f":"IFERROR(IF($BH$3=\"\",\"\",'1_Lister les activités'!C453),\"\")","v":"Selectionner"}]
[{"$nulls":9},{"$f":"'2-Programmer les activités'!F457","v":0},{"$f":"'2-Programmer les activités'!G457","v":0},{"$nulls":21},{"$f":"IF('2-Programmer les activités'!K458=\"\",\"\",'2-Programmer les activités'!K458)","v":""},"","","","","-","","","","X",null,"","","","",null,"","","","",null,"","","","",null,null,{"$f":"IFERROR(IF($BH$3=\"\",\"\",'1_Lister les activités'!D454),\"\")","v":{"v":0,"d":"0.00"}},{"$f":"IFERROR(IF($BH$3=\"\",\"\",'1_Lister les activités'!A454),\"\")","v":""},null,{"v":0,"d":"0.00"},{"$f":"IFERROR(IF($BH$3=\"\",\"\",'1_Lister les activités'!B454),\"\")","v":0},0,{"v":0,"d":"0.00"},{"$f":"IFERROR(IF($BH$3=\"\",\"\",'1_Lister les activités'!C454),\"\")","v":"Selectionner"}]
[{"$nulls":9},{"$f":"'2-Programmer les activités'!F458","v":0},{"$f":"'2-Programmer les activités'!G458","v":0},{"$nulls":21},{"$f":"IF('2-Programmer les activités'!K459=\"\",\"\",'2-Programmer les activités'!K459)","v":""},"","","","","-","","","","X",null,"","","","",null,"","","","",null,"","","","",null,null,{"$f":"IFERROR(IF($BH$3=\"\",\"\",'1_Lister les activités'!D455),\"\")","v":{"v":0,"d":"0.00"}},{"$f":"IFERROR(IF($BH$3=\"\",\"\",'1_Lister les activités'!A455),\"\")","v":""},null,{"v":0,"d":"0.00"},{"$f":"IFERROR(IF($BH$3=\"\",\"\",'1_Lister les activités'!B455),\"\")","v":0},0,{"v":0,"d":"0.00"},{"$f":"IFERROR(IF($BH$3=\"\",\"\",'1_Lister les activités'!C455),\"\")","v":"Selectionner"}]
[{"$nulls":9},{"$f":"'2-Programmer les activités'!F459","v":0},{"$f":"'2-Programmer les activités'!G459","v":0},{"$nulls":21},{"$f":"IF('2-Programmer les activités'!K460=\"\",\"\",'2-Programmer les activités'!K460)","v":""},"",{"$f":"IFERROR(VLOOKUP(AH454,$A$110:$B$121,2,FALSE),\"\")","v":""},"","","-","","","","X",null,"","","","",null,"","","","",null,"","","","",null,null,{"$f":"IFERROR(IF($BH$3=\"\",\"\",'1_Lister les activités'!D456),\"\")","v":{"v":0,"d":"0.00"}},{"$f":"IFERROR(IF($BH$3=\"\",\"\",'1_Lister les activités'!A456),\"\")","v":""},null,{"$f":"IFERROR(BH454,\"\")","v":{"v":0,"d":"0.00"}},{"$f":"IFERROR(IF($BH$3=\"\",\"\",'1_Lister les activités'!B456),\"\")","v":0},{"$f":"IFERROR(BL454,\"\")","v":0},{"$f":"IFERROR(BK454,\"\")","v":{"v":0,"d":"0.00"}},{"$f":"IFERROR(IF($BH$3=\"\",\"\",'1_Lister les activités'!C456),\"\")","v":"Selectionner"}]
[{"$nulls":9},{"$f":"'2-Programmer les activités'!F460","v":0},{"$f":"'2-Programmer les activités'!G460","v":0},{"$nulls":21},{"$f":"IF('2-Programmer les activités'!K461=\"\",\"\",'2-Programmer les activités'!K461)","v":""},{"$f":"IF(AG455=\"\",\"\",MONTH(AG455))","v":""},"","","","-","","","","X",null,"","","","",null,"","","","",null,"","","","",null,null,{"$f":"IFERROR(IF($BH$3=\"\",\"\",'1_Lister les activités'!D457),\"\")","v":{"v":0,"d":"0.00"}},{"$f":"IFERROR(IF($BH$3=\"\",\"\",'1_Lister les activités'!A457),\"\")","v":""},null,{"v":0,"d":"0.00"},{"$f":"IFERROR(IF($BH$3=\"\",\"\",'1_Lister les activités'!B457),\"\")","v":0},0,{"v":0,"d":"0.00"},{"$f":"IFERROR(IF($BH$3=\"\",\"\",'1_Lister les activités'!C457),\"\")","v":"Selectionner"}]
[{"$nulls":9},{"$f":"'2-Programmer les activités'!F461","v":0},{"$f":"'2-Programmer les activités'!G461","v":0},{"$nulls":21},{"$f":"IF('2-Programmer les activités'!K462=\"\",\"\",'2-Programmer les activités'!K462)","v":""},"","","","","-","","","","X",null,"","","","",null,"","","","",null,"","","","",null,null,{"$f":"IFERROR(IF($BH$3=\"\",\"\",'1_Lister les activités'!D458),\"\")","v":{"v":0,"d":"0.00"}},{"$f":"IFERROR(IF($BH$3=\"\",\"\",'1_Lister les activités'!A458),\"\")","v":""},null,{"v":0,"d":"0.00"},{"$f":"IFERROR(IF($BH$3=\"\",\"\",'1_Lister les activités'!B458),\"\")","v":0},0,{"v":0,"d":"0.00"},{"$f":"IFERROR(IF($BH$3=\"\",\"\",'1_Lister les activités'!C458),\"\")","v":"Selectionner"}]
[{"$nulls":9},{"$f":"'2-Programmer les activités'!F462","v":0},{"$f":"'2-Programmer les activités'!G462","v":0},{"$nulls":21},{"$f":"IF('2-Programmer les activités'!K463=\"\",\"\",'2-Programmer les activités'!K463)","v":""},"","","","","-","","","","X",null,"","","","",null,"","","","",null,"","","","",null,null,{"$f":"IFERROR(IF($BH$3=\"\",\"\",'1_Lister les activités'!D459),\"\")","v":{"v":0,"d":"0.00"}},{"$f":"IFERROR(IF($BH$3=\"\",\"\",'1_Lister les activités'!A459),\"\")","v":""},null,{"v":0,"d":"0.00"},{"$f":"IFERROR(IF($BH$3=\"\",\"\",'1_Lister les activités'!B459),\"\")","v":0},0,{"v":0,"d":"0.00"},{"$f":"IFERROR(IF($BH$3=\"\",\"\",'1_Lister les activités'!C459),\"\")","v":"Selectionner"}]
[{"$nulls":9},{"$f":"'2-Programmer les activités'!F463","v":0},{"$f":"'2-Programmer les activités'!G463","v":0},{"$nulls":21},{"$f":"IF('2-Programmer les activités'!K464=\"\",\"\",'2-Programmer les activités'!K464)","v":""},"","","","","-","","","","X",null,"","","","",null,"","","","",null,"","","","",null,null,{"$f":"IFERROR(IF($BH$3=\"\",\"\",'1_Lister les activités'!D460),\"\")","v":{"v":0,"d":"0.00"}},{"$f":"IFERROR(IF($BH$3=\"\",\"\",'1_Lister les activités'!A460),\"\")","v":""},null,{"v":0,"d":"0.00"},{"$f":"IFERROR(IF($BH$3=\"\",\"\",'1_Lister les activités'!B460),\"\")","v":0},0,{"v":0,"d":"0.00"},{"$f":"IFERROR(IF($BH$3=\"\",\"\",'1_Lister les activités'!C460),\"\")","v":"Selectionner"}]
[{"$nulls":9},{"$f":"'2-Programmer les activités'!F464","v":0},{"$f":"'2-Programmer les activités'!G464","v":0},{"$nulls":21},{"$f":"IF('2-Programmer les activités'!K465=\"\",\"\",'2-Programmer les activités'!K465)","v":""},"","","","","-","","","","X",null,"","","","",null,"","","","",null,"","","","",null,null,{"$f":"IFERROR(IF($BH$3=\"\",\"\",'1_Lister les activités'!D461),\"\")","v":{"v":0,"d":"0.00"}},{"$f":"IFERROR(IF($BH$3=\"\",\"\",'1_Lister les activités'!A461),\"\")","v":""},null,{"v":0,"d":"0.00"},{"$f":"IFERROR(IF($BH$3=\"\",\"\",'1_Lister les activités'!B461),\"\")","v":0},0,{"v":0,"d":"0.00"},{"$f":"IFERROR(IF($BH$3=\"\",\"\",'1_Lister les activités'!C461),\"\")","v":"Selectionner"}]
[{"$nulls":9},{"$f":"'2-Programmer les activités'!F465","v":0},{"$f":"'2-Programmer les activités'!G465","v":0},{"$nulls":21},{"$f":"IF('2-Programmer les activités'!K466=\"\",\"\",'2-Programmer les activités'!K466)","v":""},"","","","","-","","","","X",null,"","","","",null,"","","","",null,"","","","",null,null,{"$f":"IFERROR(IF($BH$3=\"\",\"\",'1_Lister les activités'!D462),\"\")","v":{"v":0,"d":"0.00"}},{"$f":"IFERROR(IF($BH$3=\"\",\"\",'1_Lister les activités'!A462),\"\")","v":""},null,{"v":0,"d":"0.00"},{"$f":"IFERROR(IF($BH$3=\"\",\"\",'1_Lister les activités'!B462),\"\")","v":0},0,{"v":0,"d":"0.00"},{"$f":"IFERROR(IF($BH$3=\"\",\"\",'1_Lister les activités'!C462),\"\")","v":"Selectionner"}]
[{"$nulls":9},{"$f":"'2-Programmer les activités'!F466","v":0},{"$f":"'2-Programmer les activités'!G466","v":0},{"$nulls":21},{"$f":"IF('2-Programmer les activités'!K467=\"\",\"\",'2-Programmer les activités'!K467)","v":""},"","","","","-","","","","X",null,"","","","",null,"","","","",null,"","","","",null,null,{"$f":"IFERROR(IF($BH$3=\"\",\"\",'1_Lister les activités'!D463),\"\")","v":{"v":0,"d":"0.00"}},{"$f":"IFERROR(IF($BH$3=\"\",\"\",'1_Lister les activités'!A463),\"\")","v":""},null,{"v":0,"d":"0.00"},{"$f":"IFERROR(IF($BH$3=\"\",\"\",'1_Lister les activités'!B463),\"\")","v":0},0,{"v":0,"d":"0.00"},{"$f":"IFERROR(IF($BH$3=\"\",\"\",'1_Lister les activités'!C463),\"\")","v":"Selectionner"}]
[{"$nulls":9},{"$f":"'2-Programmer les activités'!F467","v":0},{"$f":"'2-Programmer les activités'!G467","v":0},{"$nulls":21},{"$f":"IF('2-Programmer les activités'!K468=\"\",\"\",'2-Programmer les activités'!K468)","v":""},"","","","","-","","","","X",null,"","","","",null,"","","","",null,"","","","",null,null,{"$f":"IFERROR(IF($BH$3=\"\",\"\",'1_Lister les activités'!D464),\"\")","v":{"v":0,"d":"0.00"}},{"$f":"IFERROR(IF($BH$3=\"\",\"\",'1_Lister les activités'!A464),\"\")","v":""},null,{"v":0,"d":"0.00"},{"$f":"IFERROR(IF($BH$3=\"\",\"\",'1_Lister les activités'!B464),\"\")","v":0},0,{"v":0,"d":"0.00"},{"$f":"IFERROR(IF($BH$3=\"\",\"\",'1_Lister les activités'!C464),\"\")","v":"Selectionner"}]
[{"$nulls":9},{"$f":"'2-Programmer les activités'!F468","v":0},{"$f":"'2-Programmer les activités'!G468","v":0},{"$nulls":21},{"$f":"IF('2-Programmer les activités'!K469=\"\",\"\",'2-Programmer les activités'!K469)","v":""},"","","","","-","","","","X",null,"","","","",null,"","","","",null,"","","","",null,null,{"$f":"IFERROR(IF($BH$3=\"\",\"\",'1_Lister les activités'!D465),\"\")","v":{"v":0,"d":"0.00"}},{"$f":"IFERROR(IF($BH$3=\"\",\"\",'1_Lister les activités'!A465),\"\")","v":""},null,{"v":0,"d":"0.00"},{"$f":"IFERROR(IF($BH$3=\"\",\"\",'1_Lister les activités'!B465),\"\")","v":0},0,{"v":0,"d":"0.00"},{"$f":"IFERROR(IF($BH$3=\"\",\"\",'1_Lister les activités'!C465),\"\")","v":"Selectionner"}]
[{"$nulls":9},{"$f":"'2-Programmer les activités'!F469","v":0},{"$f":"'2-Programmer les activités'!G469","v":0},{"$nulls":21},{"$f":"IF('2-Programmer les activités'!K470=\"\",\"\",'2-Programmer les activités'!K470)","v":""},"","","","","-","","","","X",null,"","","","",null,"","","","",null,"","","","",null,null,{"$f":"IFERROR(IF($BH$3=\"\",\"\",'1_Lister les activités'!D466),\"\")","v":{"v":0,"d":"0.00"}},{"$f":"IFERROR(IF($BH$3=\"\",\"\",'1_Lister les activités'!A466),\"\")","v":""},null,{"v":0,"d":"0.00"},{"$f":"IFERROR(IF($BH$3=\"\",\"\",'1_Lister les activités'!B466),\"\")","v":0},0,{"v":0,"d":"0.00"},{"$f":"IFERROR(IF($BH$3=\"\",\"\",'1_Lister les activités'!C466),\"\")","v":"Selectionner"}]
[{"$nulls":9},{"$f":"'2-Programmer les activités'!F470","v":0},{"$f":"'2-Programmer les activités'!G470","v":0},{"$nulls":21},{"$f":"IF('2-Programmer les activités'!K471=\"\",\"\",'2-Programmer les activités'!K471)","v":""},"","","","","-","","","","X",null,"","","","",null,"","","","",null,"","","","",null,null,{"$f":"IFERROR(IF($BH$3=\"\",\"\",'1_Lister les activités'!D467),\"\")","v":{"v":0,"d":"0.00"}},{"$f":"IFERROR(IF($BH$3=\"\",\"\",'1_Lister les activités'!A467),\"\")","v":""},null,{"v":0,"d":"0.00"},{"$f":"IFERROR(IF($BH$3=\"\",\"\",'1_Lister les activités'!B467),\"\")","v":0},0,{"v":0,"d":"0.00"},{"$f":"IFERROR(IF($BH$3=\"\",\"\",'1_Lister les activités'!C467),\"\")","v":"Selectionner"}]
[{"$nulls":9},{"$f":"'2-Programmer les activités'!F471","v":0},{"$f":"'2-Programmer les activités'!G471","v":0},{"$nulls":21},{"$f":"IF('2-Programmer les activités'!K472=\"\",\"\",'2-Programmer les activités'!K472)","v":""},"","","","","-","","","","X",null,"","","","",null,"","","","",null,"","","","",null,null,{"$f":"IFERROR(IF($BH$3=\"\",\"\",'1_Lister les activités'!D468),\"\")","v":{"v":0,"d":"0.00"}},{"$f":"IFERROR(IF($BH$3=\"\",\"\",'1_Lister les activités'!A468),\"\")","v":""},null,{"v":0,"d":"0.00"},{"$f":"IFERROR(IF($BH$3=\"\",\"\",'1_Lister les activités'!B468),\"\")","v":0},0,{"v":0,"d":"0.00"},{"$f":"IFERROR(IF($BH$3=\"\",\"\",'1_Lister les activités'!C468),\"\")","v":"Selectionner"}]
[{"$nulls":9},{"$f":"'2-Programmer les activités'!F472","v":0},{"$f":"'2-Programmer les activités'!G472","v":0},{"$nulls":21},{"$f":"IF('2-Programmer les activités'!K473=\"\",\"\",'2-Programmer les activités'!K473)","v":""},"","","","","-","","","","X",null,"","","","",null,"","","","",null,"","","","",null,null,{"$f":"IFERROR(IF($BH$3=\"\",\"\",'1_Lister les activités'!D469),\"\")","v":{"v":0,"d":"0.00"}},{"$f":"IFERROR(IF($BH$3=\"\",\"\",'1_Lister les activités'!A469),\"\")","v":""},null,{"v":0,"d":"0.00"},{"$f":"IFERROR(IF($BH$3=\"\",\"\",'1_Lister les activités'!B469),\"\")","v":0},0,{"v":0,"d":"0.00"},{"$f":"IFERROR(IF($BH$3=\"\",\"\",'1_Lister les activités'!C469),\"\")","v":"Selectionner"}]
[{"$nulls":9},{"$f":"'2-Programmer les activités'!F473","v":0},{"$f":"'2-Programmer les activités'!G473","v":0},{"$nulls":21},{"$f":"IF('2-Programmer les activités'!K474=\"\",\"\",'2-Programmer les activités'!K474)","v":""},"","","","","-","","","","X",null,"","","","",null,"","","","",null,"","","","",null,null,{"$f":"IFERROR(IF($BH$3=\"\",\"\",'1_Lister les activités'!D470),\"\")","v":{"v":0,"d":"0.00"}},{"$f":"IFERROR(IF($BH$3=\"\",\"\",'1_Lister les activités'!A470),\"\")","v":""},null,{"v":0,"d":"0.00"},{"$f":"IFERROR(IF($BH$3=\"\",\"\",'1_Lister les activités'!B470),\"\")","v":0},0,{"v":0,"d":"0.00"},{"$f":"IFERROR(IF($BH$3=\"\",\"\",'1_Lister les activités'!C470),\"\")","v":"Selectionner"}]
[{"$nulls":9},{"$f":"'2-Programmer les activités'!F474","v":0},{"$f":"'2-Programmer les activités'!G474","v":0},{"$nulls":21},{"$f":"IF('2-Programmer les activités'!K475=\"\",\"\",'2-Programmer les activités'!K475)","v":""},"","","","","-","","","","X",null,"","","","",null,"","","","",null,"","","","",null,null,{"$f":"IFERROR(IF($BH$3=\"\",\"\",'1_Lister les activités'!D471),\"\")","v":{"v":0,"d":"0.00"}},{"$f":"IFERROR(IF($BH$3=\"\",\"\",'1_Lister les activités'!A471),\"\")","v":""},null,{"v":0,"d":"0.00"},{"$f":"IFERROR(IF($BH$3=\"\",\"\",'1_Lister les activités'!B471),\"\")","v":0},0,{"v":0,"d":"0.00"},{"$f":"IFERROR(IF($BH$3=\"\",\"\",'1_Lister les activités'!C471),\"\")","v":"Selectionner"}]
[{"$nulls":9},{"$f":"'2-Programmer les activités'!F475","v":0},{"$f":"'2-Programmer les activités'!G475","v":0},{"$nulls":21},{"$f":"IF('2-Programmer les activités'!K476=\"\",\"\",'2-Programmer les activités'!K476)","v":""},"","","","","-","","","","X",null,"","","","",null,"","","","",null,"","","","",null,null,{"$f":"IFERROR(IF($BH$3=\"\",\"\",'1_Lister les activités'!D472),\"\")","v":{"v":0,"d":"0.00"}},{"$f":"IFERROR(IF($BH$3=\"\",\"\",'1_Lister les activités'!A472),\"\")","v":""},null,{"v":0,"d":"0.00"},{"$f":"IFERROR(IF($BH$3=\"\",\"\",'1_Lister les activités'!B472),\"\")","v":0},0,{"v":0,"d":"0.00"},{"$f":"IFERROR(IF($BH$3=\"\",\"\",'1_Lister les activités'!C472),\"\")","v":"Selectionner"}]
[{"$nulls":9},{"$f":"'2-Programmer les activités'!F476","v":0},{"$f":"'2-Programmer les activités'!G476","v":0},{"$nulls":21},{"$f":"IF('2-Programmer les activités'!K477=\"\",\"\",'2-Programmer les activités'!K477)","v":""},"","","","","-","","","","X",null,"","","","",null,"","","","",null,"","","","",null,null,{"$f":"IFERROR(IF($BH$3=\"\",\"\",'1_Lister les activités'!D473),\"\")","v":{"v":0,"d":"0.00"}},{"$f":"IFERROR(IF($BH$3=\"\",\"\",'1_Lister les activités'!A473),\"\")","v":""},null,{"v":0,"d":"0.00"},{"$f":"IFERROR(IF($BH$3=\"\",\"\",'1_Lister les activités'!B473),\"\")","v":0},0,{"v":0,"d":"0.00"},{"$f":"IFERROR(IF($BH$3=\"\",\"\",'1_Lister les activités'!C473),\"\")","v":"Selectionner"}]
[{"$nulls":9},{"$f":"'2-Programmer les activités'!F477","v":0},{"$f":"'2-Programmer les activités'!G477","v":0},{"$nulls":21},{"$f":"IF('2-Programmer les activités'!K478=\"\",\"\",'2-Programmer les activités'!K478)","v":""},"","","","","-","","","","X",null,"","","","",null,"","","","",null,"","","","",null,null,{"$f":"IFERROR(IF($BH$3=\"\",\"\",'1_Lister les activités'!D474),\"\")","v":{"v":0,"d":"0.00"}},{"$f":"IFERROR(IF($BH$3=\"\",\"\",'1_Lister les activités'!A474),\"\")","v":""},null,{"v":0,"d":"0.00"},{"$f":"IFERROR(IF($BH$3=\"\",\"\",'1_Lister les activités'!B474),\"\")","v":0},0,{"v":0,"d":"0.00"},{"$f":"IFERROR(IF($BH$3=\"\",\"\",'1_Lister les activités'!C474),\"\")","v":"Selectionner"}]
[{"$nulls":9},{"$f":"'2-Programmer les activités'!F478","v":0},{"$f":"'2-Programmer les activités'!G478","v":0},{"$nulls":21},{"$f":"IF('2-Programmer les activités'!K479=\"\",\"\",'2-Programmer les activités'!K479)","v":""},"","","","","-","","","","X",null,"","","","",null,"","","","",null,"","","","",null,null,{"$f":"IFERROR(IF($BH$3=\"\",\"\",'1_Lister les activités'!D475),\"\")","v":{"v":0,"d":"0.00"}},{"$f":"IFERROR(IF($BH$3=\"\",\"\",'1_Lister les activités'!A475),\"\")","v":""},null,{"v":0,"d":"0.00"},{"$f":"IFERROR(IF($BH$3=\"\",\"\",'1_Lister les activités'!B475),\"\")","v":0},0,{"v":0,"d":"0.00"},{"$f":"IFERROR(IF($BH$3=\"\",\"\",'1_Lister les activités'!C475),\"\")","v":"Selectionner"}]
[{"$nulls":9},{"$f":"'2-Programmer les activités'!F479","v":0},{"$f":"'2-Programmer les activités'!G479","v":0},{"$nulls":21},{"$f":"IF('2-Programmer les activités'!K480=\"\",\"\",'2-Programmer les activités'!K480)","v":""},"","","","","-","","","","X",null,"","","","",null,"","","","",null,"","","","",null,null,{"$f":"IFERROR(IF($BH$3=\"\",\"\",'1_Lister les activités'!D476),\"\")","v":{"v":0,"d":"0.00"}},{"$f":"IFERROR(IF($BH$3=\"\",\"\",'1_Lister les activités'!A476),\"\")","v":""},null,{"v":0,"d":"0.00"},{"$f":"IFERROR(IF($BH$3=\"\",\"\",'1_Lister les activités'!B476),\"\")","v":0},0,{"v":0,"d":"0.00"},{"$f":"IFERROR(IF($BH$3=\"\",\"\",'1_Lister les activités'!C476),\"\")","v":"Selectionner"}]
[{"$nulls":9},{"$f":"'2-Programmer les activités'!F480","v":0},{"$f":"'2-Programmer les activités'!G480","v":0},{"$nulls":21},{"$f":"IF('2-Programmer les activités'!K481=\"\",\"\",'2-Programmer les activités'!K481)","v":""},"","","","","-","","","","X",null,"","","","",null,"","","","",null,"","","","",null,null,{"$f":"IFERROR(IF($BH$3=\"\",\"\",'1_Lister les activités'!D477),\"\")","v":{"v":0,"d":"0.00"}},{"$f":"IFERROR(IF($BH$3=\"\",\"\",'1_Lister les activités'!A477),\"\")","v":""},null,{"v":0,"d":"0.00"},{"$f":"IFERROR(IF($BH$3=\"\",\"\",'1_Lister les activités'!B477),\"\")","v":0},0,{"v":0,"d":"0.00"},{"$f":"IFERROR(IF($BH$3=\"\",\"\",'1_Lister les activités'!C477),\"\")","v":"Selectionner"}]
[{"$nulls":9},{"$f":"'2-Programmer les activités'!F481","v":0},{"$f":"'2-Programmer les activités'!G481","v":0},{"$nulls":21},{"$f":"IF('2-Programmer les activités'!K482=\"\",\"\",'2-Programmer les activités'!K482)","v":""},"","","","","-","","","","X",null,"","","","",null,"","","","",null,"","","","",null,null,{"$f":"IFERROR(IF($BH$3=\"\",\"\",'1_Lister les activités'!D478),\"\")","v":{"v":0,"d":"0.00"}},{"$f":"IFERROR(IF($BH$3=\"\",\"\",'1_Lister les activités'!A478),\"\")","v":""},null,{"v":0,"d":"0.00"},{"$f":"IFERROR(IF($BH$3=\"\",\"\",'1_Lister les activités'!B478),\"\")","v":0},0,{"v":0,"d":"0.00"},{"$f":"IFERROR(IF($BH$3=\"\",\"\",'1_Lister les activités'!C478),\"\")","v":"Selectionner"}]
[{"$nulls":9},{"$f":"'2-Programmer les activités'!F482","v":0},{"$f":"'2-Programmer les activités'!G482","v":0},{"$nulls":21},{"$f":"IF('2-Programmer les activités'!K483=\"\",\"\",'2-Programmer les activités'!K483)","v":""},"","","","","-","","","","X",null,"","","","",null,"","","","",null,"","","","",null,null,{"$f":"IFERROR(IF($BH$3=\"\",\"\",'1_Lister les activités'!D479),\"\")","v":{"v":0,"d":"0.00"}},{"$f":"IFERROR(IF($BH$3=\"\",\"\",'1_Lister les activités'!A479),\"\")","v":""},null,{"v":0,"d":"0.00"},{"$f":"IFERROR(IF($BH$3=\"\",\"\",'1_Lister les activités'!B479),\"\")","v":0},0,{"v":0,"d":"0.00"},{"$f":"IFERROR(IF($BH$3=\"\",\"\",'1_Lister les activités'!C479),\"\")","v":"Selectionner"}]
[{"$nulls":9},{"$f":"'2-Programmer les activités'!F483","v":0},{"$f":"'2-Programmer les activités'!G483","v":0},{"$nulls":21},{"$f":"IF('2-Programmer les activités'!K484=\"\",\"\",'2-Programmer les activités'!K484)","v":""},"","","","","-","","","","X",null,"","","","",null,"","","","",null,"","","","",null,null,{"$f":"IFERROR(IF($BH$3=\"\",\"\",'1_Lister les activités'!D480),\"\")","v":{"v":0,"d":"0.00"}},{"$f":"IFERROR(IF($BH$3=\"\",\"\",'1_Lister les activités'!A480),\"\")","v":""},null,{"v":0,"d":"0.00"},{"$f":"IFERROR(IF($BH$3=\"\",\"\",'1_Lister les activités'!B480),\"\")","v":0},0,{"v":0,"d":"0.00"},{"$f":"IFERROR(IF($BH$3=\"\",\"\",'1_Lister les activités'!C480),\"\")","v":"Selectionner"}]