Workbook
Name Code_score: 'Plan d''action'!$B:$B
Name Label_score: 'Plan d''action'!$A:$A

Sheet Instructions
A1: GUIDE D'EVALUATION ET DE MONITORAGE DU SYSTÈME DE GESTION DES DONNEES
G22: Pour toute requête: | I22: direction@sapsapservices.com

Sheet Equipe
A1: PARTIES IMPLIQUEES ET LISTE DE PRESENCE
A3: =NOW() -> 44629.718
B5: Equipe d'appui | I5: Equipes de monitorage
B7: Nom | C7: Prénom | D7: Structure | E7: Fonction | F7: Contact | I7: Nom | J7: Prénom | K7: Structure | L7: Fonction | M7: Contact/E-mail

Sheet Equipe S&E
A1: A. Structuration et capacités du S&E
H2: Select
B3: Indicateurs | C3: Score/notation | D3: Eléments de preuves et commentaires | H3: 0
A4: 1 | B4: Organisation de la structure | H4: 0.5
A5: 1.1 | B5: Le responsable en charge des données est identifié | C5: Select | H5: 1
A6: 1.2 | B6: Le responsable des données ou le service en charge dispose des TDR/description de taches | C6: Select
A7: 1.3 | B7: Chaque membre connaît la mission des autres membres | C7: Select
A8: 1.4 | B8: Le responsable en charge des données (collecte, compilation, transmission) dispose de directives en la matière ou a été formé | C8: Select
A9: 1.5 | B9: Le responsable des données dispose d’un budget pour ses activités de collecte des données et de transmission des données | C9: Select
B10: Total section A.1. | C10: =SUM(C5:C9)/4 -> 0
A11: 2 | B11: Ressources humaines et capacités
A12: 2.1 | B12: Y a-t-il au moins une personne dédiée aux données (collecte, vérification, analyse et transmission) dans chacune des zones de sante responsabilité et au niveau du district | C12: Select
A13: 2.2 | B13: Le service en charge des données dispose d’un matériel informatique adéquat et fonctionnel | C13: Select
A14: 2.3 | B14: Au moins un des membres à une formation sur les données (collecte, vérification, analyse et transmission) ou le Suivi/évaluation | C14: Select
A15: 2.4 | B15: L’équipe dispose d’un plan de formation annuelle (Est-ce qu'il est prévu une formation en S&E pour les 12 prochains mois?) | C15: Select
A16: 2.5 | B16: Au moins 75% des membres de l’Equipe cadre de district ont bénéficié d’une formation les données (collecte, vérification, analyse et transmission) ou le Suivi/évaluation dans les 2 années précédentes | C16: Select
B17: Total section A.2. | C17: =SUM(C12:C16)/5 -> 0
A18: 3 | B18: Planification des activités
A19: 3.1 | B19: Existe-t-il un plan d'action ? | C19: Select
A20: 3.2 | B20: Les activités de collectes des données (collecte, vérification, analyse et transmission) y sont planifiées et mises en œuvre | C20: Select
A21: 3.3 | B21: Les activités de diffusion des donnees sont planifiées et mises en oeuvre | C21: Select
A22: 3.4 | B22: L’audit (verification) des données est programmé annuellement et mis en oeuvre | C22: Select
A23: 3.5 | B23: Est-ce qu'il est prevu des activites de rattrapage des donnees manquantes | C23: Select
B24: Total section A.3. | C24: =SUM(C19:C23)/5 -> 0
A25: 4 | B25: Partenariat
A26: 4.1 | B26: Le responsable des données dispose d’un partenariat avec les acteurs locaux notamment les communautaires et les partenaires de mise en œuvre | C26: Select
A27: 4.2 | B27: Le responsable participe à des réunions d’échanges au niveau local et national | C27: Select
A28: 4.3 | B28: Le responsable des données utilise les données pour engager des partenariats avec les communautés | C28: Select
A29: 4.4 | B29: Le responsable des données bénéficie d’un appui financier ou matériel extérieur | C29: Select
B30: Total section A.4. | C30: =SUM(C26:C29)/4 -> 0
B31: Total Section A | C31: =(C10+C17+C24+C30)/4 -> 0

Sheet Données&Système
A1: B. Données et système de gestion
H2: Select
B3: Indicateurs | C3: Score/notation | D3: Eléments de preuves et commentaires | H3: 0
A4: 5 | B4: Outils de collecte de donnees
A5: 5.1 | B5: Le responsable des données dispose d'outils de collecte des données harmonisées | C5: Select | I5: Select
A6: 5.2 | B6: Les outils de collecte des donnees sont disponibles dans toutes les formations sanitaires en quantite suffisante | C6: Select | I6: 0
A7: 5.3 | B7: Les outils de collecte des donnees sont disponibles aupres des partenaires de la societe civile en quantite suffisante | C7: Select | I7: 0.5
A8: 5.4 | B8: Les outils de collecte des donnees sont regulierement remplis | C8: Select | I8: 1
A9: 5.5 | B9: Les acteurs de collecte des donnees sont formes au remplissage de ces outils | C9: Select
A10: 5.6 | B10: Les outils de la collecte des donnees comportent des orientations/instructions pour la collecte des donnees qui permettent d'avoir des donnees completes et desagregees (definition des indicateurs, des numerateurs, des denominateurs ainsi que les modes de calcul..) | C10: Select
B11: Total section B.1. | C11: =SUM(C5:C10)/6 -> 0
A12: 6 | B12: Collecte des données
B13: Indicateurs | C13: Score | D13: Commentaires
A14: 6.1 | B14: Le responsable des données à disposition un manuel/guide de collecte de données | C14: Select
A15: 6.2 | B15: Les données collectées sont assez précises pour mesurer les indicateurs (genre, âge, …) | C15: Select
A16: 6.3 | B16: Les données collectées permettent de descendre à l'échelle plus fine (géographiquement) | C16: Select
A17: 6.4 | B17: La source des données collectées, la date, les formulaires et les outils sont mentionnées dans tous documents | C17: Select
A18: 6.5 | B18: Le charge de la collecte des donnees procède à la collecte de données sur le terrain selon le timing/chronogramme defini | C18: Select
A19: 6.6 | B19: Si le charge de la collecte des donnees procède à la collecte de données sur le terrain, les données de terrain sont immédiatement saisies dans la base de données | C19: Select
A20: 6.7 | B20: Il existe une directive écrite qui stipule clairement la durée pendant laquelle les documents sources doivent être conservés (ex : dossiers, registres, feuilles de présence aux formations, rapports récapitulatifs) | C20: Select
A21: 6.8 | B21: Une fois les donnees saisies/exploitees, les outils remplis font l'objet d'archivage (etiquettage, placement dans des chronos, rangement….) | C21: Select
B22: Total section B.2. | C22: =SUM(C14:C21)/8 -> 0
A23: 2 | B23: Implémentation & système de gestion de bases de données (SGBD)
A24: 2.1 | B24: L’équipe S&E a à disposition un manuel/guide d’utilisation du SGBD | C24: 0 | D24: Référence
A25: 2.2 | B25: Chaque base de données possède un jeu de métadonnées sur l’ensemble des champs, date de collecte, auteur, zone géographique | C25: 0
A26: 2.3 | B26: Dans le manuel, y-a-t-il une explication pour la vérification automatique des données | C26: 0
A27: 2.4 | B27: La base de données est sur format électronique et peut être exportée | C27: 1 | D27: Quel logiciel ? Excel
A28: 2.5 | B28: Si oui, un moyen de contrôle de saisie est implémenté dans le SGBD. | C28: 0
A29: 2.6 | B29: L’identifiant identique au questionnaire est conservé | C29: 0
A30: 2.7 | B30: Les utilisateurs ont accès à la base par un système de droits spécifiques | C30: 0
B31: Total section B.2. | C31: =SUM(C24:C30)/7 -> 0.14285714
A32: 7 | B32: Circuit de collecte/remontee des données
A33: 7.1 | B33: Un circuit de collecte des donnees est etabli et compris par tous les acteurs sante | C33: Select
A34: 7.2 | B34: Un circuit de collecte des donnees est etabli et compris par tous les acteurs communautaires | C34: Select
A35: 7.3 | B35: Les circuits de collecte des donnees sont -ils fonctionnels et respectes par tous les acteurs | C35: Select
A36: 7.4 | B36: Les donneestransmisses sont -elles toutes et regulierement completes | C36: Select
A37: 7.5 | B37: Les donnees sont -elles transmisses regulierement a temps | C37: Select
A38: 7.6 | B38: Les données sont vérifiées avant le reporting et l’exportation vers un niveau d’agréation supérieur | C38: Select
B39: Total section B.3. | C39: =SUM(C33:C38)/6 -> 0
B40: Total Section B | C40: =(C39+C22+C11)/3 -> 0

Sheet Données&Système (2)
A1: Fiche d'évaluation des système de de suivi de routine
A2: Date : | D2: ='Equipe S&E'!#REF! -> #REF!
A3: Nom d'Unité de S&E : | D3: ='Equipe S&E'!#REF! -> #REF!
A7: B. Données et système de gestion
A8: 1 | B8: Collecte des données
B9: Indicateurs | C9: Score | D9: Commentaires
A10: 1.1 | B10: L’équipe S&E a à disposition un manuel/guide de collecte de données | C10: 1
A11: 1.2 | B11: Les données collectées sont assez précises pour mesurer les indicateurs (genre, âge, …) | C11: 1
A12: 1.3 | B12: Les données collectées permettent de descendre à l'échelle plus fine (géographiquement) | C12: 1
A13: 1.4 | B13: La source des données collectées, la date, les formulaires et les outils sont mentionnées dans tous documents | C13: 0
A14: 1.5 | B14: Le S&E procède à la collecte de données sur le terrain | C14: 1
A15: 1.6 | B15: Si le S&E procède à la collecte de données sur le terrain, les données de terrain sont immédiatement saisies dans la base de données | C15: 1
B16: Total section B.1. | C16: =SUM(C10:C15)/6 -> 0.83333333
A17: 2 | B17: Implémentation & système de gestion de bases de données (SGBD)
A18: 2.1 | B18: L’équipe S&E a à disposition un manuel/guide d’utilisation du SGBD | C18: 0 | D18: Référence
A19: 2.2 | B19: Chaque base de données possède un jeu de métadonnées sur l’ensemble des champs, date de collecte, auteur, zone géographique | C19: 0
A20: 2.3 | B20: Dans le manuel, y-a-t-il une explication pour la vérification automatique des données | C20: 0
A21: 2.4 | B21: La base de données est sur format électronique et peut être exportée | C21: 1 | D21: Quel logiciel ? Excel
A22: 2.5 | B22: Si oui, un moyen de contrôle de saisie est implémenté dans le SGBD. | C22: 0
A23: 2.6 | B23: L’identifiant identique au questionnaire est conservé | C23: 0
A24: 2.7 | B24: Les utilisateurs ont accès à la base par un système de droits spécifiques | C24: 0
B25: Total section B.2. | C25: =SUM(C18:C24)/7 -> 0.14285714
A26: 3 | B26: Contrôle du système et sauvegarde
A27: 3.1 | B27: L’équipe S&E a à disposition un manuel/guide explicatif de l’agrégation et de manipulation des données | C27: 1 | D27: Référence : au niveau de l'IDEN
A28: 3.2 | B28: L’équipe S&E a à disposition un manuel/guide explicatif pour les procédures de supervision et de contrôle des données | C28: 0 | D28: Référence
A29: 3.3 | B29: Le système permet de croiser les données, d’éliminer les données erronées et de faciliter l’analyse des données | C29: 0
A30: 3.4 | B30: Les données sont vérifiées avant le reporting et l’exportation vers un niveau d’agréation supérieur | C30: 1
A31: 3.5 | B31: L’équipe S&E a à disposition un manuel/guide de procédures pour la sauvegarde et l’archivage des données | C31: 0 | D31: Référence
A32: 3.6 | B32: Les questionnaires/registres sont archivés selon les protocoles | C32: 0 | D32: Conserver pour 10 ans mais pas ordonné
A33: 3.7 | B33: Les bases de données ont un système de sauvegarde automatique amélioré (Sauvegarde programmée et distante) | C33: 0 | D33: Sauvegarde personnel
B34: Total section B.3. | C34: =SUM(C27:C33)/7 -> 0.28571429
B35: Total Section B | C35: =(C16+C25+C34)/3 -> 0.42063492

Sheet Validation&Diffusion
A1: C. Controle, Validation et transmission des données
H2: Select
B3: Indicateurs | C3: Score/notation | D3: Eléments de preuves et commentaires | H3: 0
A4: 8 | B4: Contrôle des données
A5: 8.1 | B5: L’équipe/service a à disposition des orientations pour le controle des donnees collectees | C5: Select | H5: Select
A6: 8.2 | B6: Les responsables de suivi evaluation verifie systematiquement les donnees avant de les transmettre | C6: Select | H6: 0
A7: 8.3 | B7: Est ce qu'il y a un superieur hierarchique qui approuve les donnes avant leur transmission | C7: Select | H7: 0.5
A8: 8.4 | B8: Les donnees font elle l'objet de validation periodique avec l'ensemble des acteurs (sante et societe civile) | C8: Select | H8: 1
B9: Total section C.1. | C9: =SUM(C5:C8)/4 -> 0
A10: 9 | B10: Transmission et feed-back
A11: 9.1 | B11: Les donnees sont elles regulierement transmises au niveau superieur | C11: Select
A12: 9.2 | B12: Les donnees sont transmises au niveau superieur apres validation | C12: Select
A13: 9.3 | B13: Les feed-back sont regulierement faits aux acteurs de la sante et de la societe civile | C13: Select
A14: 9.4 | B14: Des feed-back sont recus regulierement du niveau superieur | C14: Select
B15: Total section C.2. | C15: =SUM(C11:C14)/4 -> 0
A16: 10 | B16: Utilisation et diffusion
A17: 10.1 | B17: Les donnees sont utilisees pour faire le monitorage des interventions | C17: Select
A18: 10.2 | B18: Les donnees sont utilisees pour faire la prise de decision au niveau local | C18: Select
A19: 10.3 | B19: Les données sont partagées avec les collègues techniques, les partenaires de la societe civile | C19: Select
A20: 10.4 | B20: Les données sont diffusées périodiquement dans des rapports | C20: Select
B21: Total section C.3. | C21: =SUM(C17:C20)/4 -> 0
B22: Total Section C | C22: =(C9+C15+C21)/3 -> 0

Sheet Validation&Diffusion (2)
A1: Fiche d'évaluation des système de de suivi de routine
A2: Date : | D2: ='Equipe S&E'!#REF! -> #REF!
A3: Nom d'Unité de S&E : | D3: ='Equipe S&E'!#REF! -> #REF!
A4: Rapports (prochain niveau) :
A7: C. Validation et diffusion
A8: 10 | B8: Reporting
B9: Indicateurs | C9: Score | D9: Commentaires
A10: 10.1 | B10: L’équipe S&E a à disposition une notice précisant l’ensemble des documents, guides et rapports produits par le système | C10: 0 | D10: Référence
A11: 10.2 | B11: L’équipe S&E dispose d’un gabarit standardisé pour publier en routine des rapports statistiques directement depuis la base de données | C11: 0
A12: 10.3 | B12: Une périodicité de la publication des rapports existe | C12: 1 | D12: Précisez la périodicité : tous les deux mois vers l'IDEN
A13: 10.4 | B13: Les rapports sont précis, complets et respectant les fréquences de publication | C13: 0
A14: 10.5 | B14: Les rapports respectent les fréquences de publication | C14: 0
A15: 10.6 | B15: Les indicateurs pertinents sont insérés dans les rapports nationaux | C15: 1
B16: Total section B.1. | C16: =SUM(C10:C15)/6 -> 0.33333333
A17: 11 | B17: Evaluation des données
A18: 11.1 | B18: L’équipe S&E dispose d’un manuel de procédures d’évaluation des données collectées | C18: 0 | D18: Référence:
A19: 11.2 | B19: Un processus d’évaluation des données est planifié | C19: 0
A20: 11.3 | B20: Une évaluation de la qualité des données est réalisée périodiquement | C20: 0 | D20: Précisez la périodicité:
A21: 11.4 | B21: Les indicateurs font l’objet de recherche sur la pertinence et sont réévaluer | C21: 1 | D21: Indicateurs sur les abris provisoires
A22: 11.5 | B22: Les indicateurs ont été réévalués et modifiés | C22: 0
A23: 11.6 | B23: Les commentaires et corrections des rapports sont pris en compte et des mises à jour faites | C23: 1 | D23: Par le ministère mais pas régulièrement
B24: Total section C.2. | C24: =SUM(C18:C23)/6 -> 0.33333333
A25: 12 | B25: Diffusion et utilisation
A26: 12.1 | B26: Les données sont diffusées périodiquement | C26: 1 | D26: 2 fois par an
A27: 12.2 | B27: Les données sont diffusées sur des annuaires ou bulletins | C27: 0
A28: 12.3 | B28: Les données sont diffusées sur internet | C28: 0
A29: 12.4 | B29: L’utilisation des données par des parties tierces est recensée et renseignée | C29: 1 | D29: autres secteurs et partenaires
A30: 12.5 | B30: Les données sont partagées avec les collègues techniques | C30: 1
A31: 12.6 | B31: Les données sont partagées avec les partenaires techniques | C31: 1 | D31: Unicef, Aide et Action, WV
A32: 12.7 | B32: Les données sont utilisées dans des publications scientifiques | C32: 0
B33: Total section C.3. | C33: =SUM(C26:C32)/7 -> 0.57142857
B34: Total Section C | C34: =(C16+C24+C33)/3 -> 0.41269841

Sheet Matrice d'analyse
A1: Matrice d'analyse des performances
E2: Etat global des trois aspects évalués
F4: Unité | G4: Données et Système | H4: Validation et diffusion
F5: =AVERAGEA(J11:J14) -> 0 | G5: =AVERAGEA(J15:J17) -> 0 | H5: =AVERAGEA(J18:J20) -> 0
E7: Etat des performances spécifiques de chaque composante évaluée
F10: Eléments d'analyse | J10: Score | K10: Observations
E11: 1 | F11: Organisation de la structure | J11: =IF(('Equipe S&E'!C10=0),"",'Equipe S&E'!C10) | K11: =IF(ISBLANK(J11),"",IF((J11>0.7),"",(IF((J11<0),"","Actions fortes requises"))))
E12: 2 | F12: Ressources humaines et capacités | J12: =IF(('Equipe S&E'!C17=0),"",'Equipe S&E'!C17) | K12: =IF(ISBLANK(J12),"",IF((J12>0.7),"",(IF((J12<0),"","Actions fortes requises"))))
E13: 3 | F13: Planification des activités | J13: =IF(('Equipe S&E'!C24=0),"",'Equipe S&E'!C24) | K13: =IF(ISBLANK(J13),"",IF((J13>0.7),"",(IF((J13<0),"","Actions fortes requises"))))
E14: 4 | F14: Partenariat | J14: =IF(('Equipe S&E'!C30=0),"",'Equipe S&E'!C30) | K14: =IF(ISBLANK(J14),"",IF((J14>0.7),"",(IF((J14<0),"","Actions fortes requises"))))
E15: 5 | F15: Outils de collecte de donnees | J15: =IF(('Données&Système'!C11=0),"",'Données&Système'!C11) | K15: =IF(ISBLANK(J15),"",IF((J15>0.7),"",(IF((J15<0),"","Actions fortes requises"))))
E16: 6 | F16: Collecte des données | J16: =IF(('Données&Système'!C22=0),"",'Données&Système'!C22) | K16: =IF(ISBLANK(J16),"",IF((J16>0.7),"",(IF((J16<0),"","Actions fortes requises"))))
E17: 7 | F17: Circuit de collecte/remontee des données | J17: =IF(('Données&Système'!C39=0),"",'Données&Système'!C39) | K17: =IF(ISBLANK(J17),"",IF((J17>0.7),"",(IF((J17<0),"","Actions fortes requises"))))
E18: 8 | F18: Contrôle des données | J18: =IF(('Validation&Diffusion'!C9=0),"",'Validation&Diffusion'!C9) | K18: =IF(ISBLANK(J18),"",IF((J18>0.7),"",(IF((J18<0),"","Actions fortes requises"))))
E19: 9 | F19: Transmission et feed-back | J19: =IF(('Validation&Diffusion'!C15=0),"",'Validation&Diffusion'!C15) | K19: =IF(ISBLANK(J19),"",IF((J19>0.7),"",(IF((J19<0),"","Actions fortes requises"))))
E20: 10 | F20: Utilisation et diffusion | J20: =IF(('Validation&Diffusion'!C21=0),"",'Validation&Diffusion'!C21) | K20: =IF(ISBLANK(J20),"",IF((J20>0.7),"",(IF((J20<0),"","Actions fortes requises"))))

Sheet Matrice d'analyse (2)
B2: Eléments d'analyse | C2: Score | G2: Unité | H2: Données et Système | I2: Validation et diffusion
A3: 1 | B3: Organisation de la structure | C3: ='Equipe S&E'!C10 -> 0 | G3: =AVERAGEA(C3:C8) -> #REF! | H3: =AVERAGEA(C9:C11) -> 0.047619048 | I3: =AVERAGEA(C12:C14) -> #REF!
A4: 2 | B4: Ressources humaines et capacités | C4: ='Equipe S&E'!#REF! -> #REF!
A5: 3 | B5: Orientation stratégique | C5: ='Equipe S&E'!C17 -> 0
A6: 4 | B6: Planification des activités | C6: ='Equipe S&E'!C24 -> 0
A7: 5 | B7: Communication et valorisation | C7: ='Equipe S&E'!#REF! -> #REF!
A8: 6 | B8: Partenariat | C8: ='Equipe S&E'!C30 -> 0
A9: 7 | B9: Collecte des données | C9: ='Données&Système'!C11 -> 0
A10: 8 | B10: Implémentation & système de gestion de bases de données (SGBD) | C10: ='Données&Système'!C31 -> 0.14285714
A11: 9 | B11: Contrôle du système et sauvegarde | C11: ='Données&Système'!C39 -> 0
A12: 10 | B12: Reporting | C12: ='Validation&Diffusion'!#REF! -> #REF!
A13: 11 | B13: Evaluation des données | C13: ='Validation&Diffusion'!C15 -> 0
A14: 12 | B14: Diffusion et utilisation | C14: ='Validation&Diffusion'!C21 -> 0

Sheet Plan d'action
A1: PLAN D'ACTIONS D'AMELIORATION DE LA GESTION DES DONNEES
A3: =NOW() -> 44629.718
A5: Goulots identifiés | B5: Actions correctrices | C5: Délai de mise en oeuvre | D5: Responsable | E5: Coût

Sheet Sheet1
